{"text_format":"1","workbook":"xlsx","n_sheets":3,"sheets":["Report","mnt Data","Vol Calcs"],"not_rendered":{"charts":0,"images":0,"macros":1,"external_links":0,"defined_names":8,"comments":0,"pivot_tables":0},"unopened":[],"bounds":{"document_bytes":16777216,"sheet_cells":100000,"rows_first":2000,"rows_last":500,"rows_between":2000,"halvings":0,"cell_chars":16384,"cell_head_chars":4096},"cells_cut":0,"cells_raw":0,"read":"whole","date_system":"1900"}

{"sheet":"Report","index":0,"n_rows":55,"n_cols":74,"rows_kept":55,"cut":false,"hidden":false,"merged":[]}
[null,{"$f":"'Vol Calcs'!A1","v":"Test No:"},{"$f":"'Vol Calcs'!B1","v":"Ws"},{"$f":"'Vol Calcs'!C1","v":"Ww"},{"$f":"'Vol Calcs'!D1","v":"Vs"},{"$f":"'Vol Calcs'!E1","v":"Vw"},{"$f":"'Vol Calcs'!E1","v":"Vw"},{"$f":"'Vol Calcs'!F1","v":"Va"},{"$f":"'Vol Calcs'!G1","v":"Vv"},{"$f":"'Vol Calcs'!H1","v":"Degree of Sat"},{"$f":"'Vol Calcs'!I1","v":"Porosity"},{"$f":"'Vol Calcs'!J1","v":"Void Ratio"},{"$f":"'Vol Calcs'!K1","v":"D Rel"},{"$f":"'Vol Calcs'!L1","v":"Den Index"},{"$f":"'Vol Calcs'!M1","v":"Pass/Fail"},{"$f":"'Vol Calcs'!N1","v":0},{"$f":"'Vol Calcs'!O1","v":0},{"$f":"'Vol Calcs'!P1","v":0},{"$f":"'Vol Calcs'!Q1","v":0},{"$f":"'Vol Calcs'!R1","v":0},{"$f":"'Vol Calcs'!S1","v":0},{"$f":"'Vol Calcs'!T1","v":0},{"$f":"'Vol Calcs'!U1","v":0},{"$f":"'Vol Calcs'!V1","v":0},{"$f":"'Vol Calcs'!W1","v":0},{"$f":"'Vol Calcs'!X1","v":0},{"$f":"'Vol Calcs'!Y1","v":0},{"$f":"'Vol Calcs'!Z1","v":0},{"$f":"'Vol Calcs'!AA1","v":0},{"$f":"'Vol Calcs'!AB1","v":0},{"$f":"'Vol Calcs'!AC1","v":0},{"$f":"'Vol Calcs'!AD1","v":0},{"$f":"'Vol Calcs'!AE1","v":0},{"$f":"'Vol Calcs'!AF1","v":0},{"$f":"'Vol Calcs'!AG1","v":0},{"$f":"'Vol Calcs'!AH1","v":0},{"$f":"'Vol Calcs'!AI1","v":0},{"$f":"'Vol Calcs'!AJ1","v":0},{"$f":"'Vol Calcs'!AK1","v":0},{"$f":"'Vol Calcs'!AL1","v":0},{"$f":"'Vol Calcs'!AM1","v":0},{"$f":"'Vol Calcs'!AN1","v":0},{"$f":"'Vol Calcs'!AO1","v":0},{"$f":"'Vol Calcs'!AP1","v":0},{"$f":"'Vol Calcs'!AQ1","v":0},{"$f":"'Vol Calcs'!AR1","v":0},{"$f":"'Vol Calcs'!AS1","v":0},{"$f":"'Vol Calcs'!AT1","v":0},{"$f":"'Vol Calcs'!AU1","v":0},{"$f":"'Vol Calcs'!AV1","v":0},{"$f":"'Vol Calcs'!AW1","v":0},{"$f":"'Vol Calcs'!AX1","v":0},{"$f":"'Vol Calcs'!AY1","v":0},{"$f":"'Vol Calcs'!AZ1","v":0},{"$f":"'Vol Calcs'!BA1","v":0},{"$f":"'Vol Calcs'!BB1","v":0},{"$f":"'Vol Calcs'!BC1","v":0},{"$f":"'Vol Calcs'!BD1","v":0},{"$f":"'Vol Calcs'!BE1","v":0},{"$f":"'Vol Calcs'!BF1","v":0},{"$f":"'Vol Calcs'!BG1","v":0},{"$f":"'Vol Calcs'!BH1","v":0},{"$f":"'Vol Calcs'!BI1","v":0},{"$f":"'Vol Calcs'!BJ1","v":0},{"$f":"'Vol Calcs'!BK1","v":0},{"$f":"'Vol Calcs'!BL1","v":0},{"$f":"'Vol Calcs'!BM1","v":0},{"$f":"'Vol Calcs'!BN1","v":0},{"$f":"'Vol Calcs'!BO1","v":0},{"$f":"'Vol Calcs'!BP1","v":0},{"$f":"'mnt Data'!BN4","v":0},{"$f":"'mnt Data'!BO4","v":0},{"$f":"'mnt Data'!BP4","v":0},{"$f":"'mnt Data'!BQ4","v":0}]
[null,null,null,null,null,"Soil Compaction report"]
[null,"Client:",{"$f":"'mnt Data'!N5","v":0},null,null,null,null,null,"Date:",{"$f":"'mnt Data'!H5","v":"00:00:00"}]
[null,"Contractor:",{"$f":"'mnt Data'!Q5","v":0},null,null,null,null,null,"Report No:"]
[null,"Project:",{"$f":"'mnt Data'!O5","v":0},null,null,null,null,null,"Proj No:"]
[null,"Gauge:",{"$f":"'mnt Data'!B3","v":0},null,null,null,null,null,"Weather:"]
[null,"Min Comp:",95,"Max Comp:",105,null,null,null,"Gs (Assumed):","NA"]
[null,"ρMax:","NA","ρMin:","NA"]
[null,"Test No:","%Moisture","Wet Density","Dry Density","Opt Moist","Max DD","% Compaction","Pass/Fail","Test Location"]
[{"$f":"IF('mnt Data'!A5=0,0,1)","v":0},{"$f":"IF($A10=0,,HLOOKUP(B$9,'Vol Calcs'!$1:$1048576,$A10+1,FALSE))","v":0},{"$f":"IF($A10=0,,HLOOKUP(C$9,'Vol Calcs'!$1:$1048576,$A10+1,FALSE))","v":0},{"$f":"IF($A10=0,,HLOOKUP(D$9,'Vol Calcs'!$1:$1048576,$A10+1,FALSE))","v":0},{"$f":"IF($A10=0,,HLOOKUP(E$9,'Vol Calcs'!$1:$1048576,$A10+1,FALSE))","v":0},{"$f":"IF($A10=0,,HLOOKUP(F$9,'Vol Calcs'!$1:$1048576,$A10+1,FALSE))","v":0},{"$f":"IF($A10=0,,HLOOKUP(G$9,'Vol Calcs'!$1:$1048576,$A10+1,FALSE))","v":0},{"$f":"IF($A10=0,,HLOOKUP(H$9,'Vol Calcs'!$1:$1048576,$A10+1,FALSE))","v":0},{"$f":"IF($A10=0,,HLOOKUP(I$9,'Vol Calcs'!$1:$1048576,$A10+1,FALSE))","v":0},{"$f":"IF($A10=0,,HLOOKUP(J$9,'Vol Calcs'!$1:$1048576,$A10+1,FALSE))","v":0}]
[{"$f":"IF('mnt Data'!A6=0,0,A10+1)","v":0},{"$f":"IF($A11=0,,HLOOKUP(B$9,'Vol Calcs'!$1:$1048576,$A11+1,FALSE))","v":0},{"$f":"IF($A11=0,,HLOOKUP(C$9,'Vol Calcs'!$1:$1048576,$A11+1,FALSE))","v":0},{"$f":"IF($A11=0,,HLOOKUP(D$9,'Vol Calcs'!$1:$1048576,$A11+1,FALSE))","v":0},{"$f":"IF($A11=0,,HLOOKUP(E$9,'Vol Calcs'!$1:$1048576,$A11+1,FALSE))","v":0},{"$f":"IF($A11=0,,HLOOKUP(F$9,'Vol Calcs'!$1:$1048576,$A11+1,FALSE))","v":0},{"$f":"IF($A11=0,,HLOOKUP(G$9,'Vol Calcs'!$1:$1048576,$A11+1,FALSE))","v":0},{"$f":"IF($A11=0,,HLOOKUP(H$9,'Vol Calcs'!$1:$1048576,$A11+1,FALSE))","v":0},{"$f":"IF($A11=0,,HLOOKUP(I$9,'Vol Calcs'!$1:$1048576,$A11+1,FALSE))","v":0},{"$f":"IF($A11=0,,HLOOKUP(J$9,'Vol Calcs'!$1:$1048576,$A11+1,FALSE))","v":0}]
[{"$f":"IF('mnt Data'!A7=0,0,A11+1)","v":0},{"$f":"IF($A12=0,,HLOOKUP(B$9,'Vol Calcs'!$1:$1048576,$A12+1,FALSE))","v":0},{"$f":"IF($A12=0,,HLOOKUP(C$9,'Vol Calcs'!$1:$1048576,$A12+1,FALSE))","v":0},{"$f":"IF($A12=0,,HLOOKUP(D$9,'Vol Calcs'!$1:$1048576,$A12+1,FALSE))","v":0},{"$f":"IF($A12=0,,HLOOKUP(E$9,'Vol Calcs'!$1:$1048576,$A12+1,FALSE))","v":0},{"$f":"IF($A12=0,,HLOOKUP(F$9,'Vol Calcs'!$1:$1048576,$A12+1,FALSE))","v":0},{"$f":"IF($A12=0,,HLOOKUP(G$9,'Vol Calcs'!$1:$1048576,$A12+1,FALSE))","v":0},{"$f":"IF($A12=0,,HLOOKUP(H$9,'Vol Calcs'!$1:$1048576,$A12+1,FALSE))","v":0},{"$f":"IF($A12=0,,HLOOKUP(I$9,'Vol Calcs'!$1:$1048576,$A12+1,FALSE))","v":0},{"$f":"IF($A12=0,,HLOOKUP(J$9,'Vol Calcs'!$1:$1048576,$A12+1,FALSE))","v":0}]
[{"$f":"IF('mnt Data'!A8=0,0,A12+1)","v":0},{"$f":"IF($A13=0,,HLOOKUP(B$9,'Vol Calcs'!$1:$1048576,$A13+1,FALSE))","v":0},{"$f":"IF($A13=0,,HLOOKUP(C$9,'Vol Calcs'!$1:$1048576,$A13+1,FALSE))","v":0},{"$f":"IF($A13=0,,HLOOKUP(D$9,'Vol Calcs'!$1:$1048576,$A13+1,FALSE))","v":0},{"$f":"IF($A13=0,,HLOOKUP(E$9,'Vol Calcs'!$1:$1048576,$A13+1,FALSE))","v":0},{"$f":"IF($A13=0,,HLOOKUP(F$9,'Vol Calcs'!$1:$1048576,$A13+1,FALSE))","v":0},{"$f":"IF($A13=0,,HLOOKUP(G$9,'Vol Calcs'!$1:$1048576,$A13+1,FALSE))","v":0},{"$f":"IF($A13=0,,HLOOKUP(H$9,'Vol Calcs'!$1:$1048576,$A13+1,FALSE))","v":0},{"$f":"IF($A13=0,,HLOOKUP(I$9,'Vol Calcs'!$1:$1048576,$A13+1,FALSE))","v":0},{"$f":"IF($A13=0,,HLOOKUP(J$9,'Vol Calcs'!$1:$1048576,$A13+1,FALSE))","v":0}]
[{"$f":"IF('mnt Data'!A9=0,0,A13+1)","v":0},{"$f":"IF($A14=0,,HLOOKUP(B$9,'Vol Calcs'!$1:$1048576,$A14+1,FALSE))","v":0},{"$f":"IF($A14=0,,HLOOKUP(C$9,'Vol Calcs'!$1:$1048576,$A14+1,FALSE))","v":0},{"$f":"IF($A14=0,,HLOOKUP(D$9,'Vol Calcs'!$1:$1048576,$A14+1,FALSE))","v":0},{"$f":"IF($A14=0,,HLOOKUP(E$9,'Vol Calcs'!$1:$1048576,$A14+1,FALSE))","v":0},{"$f":"IF($A14=0,,HLOOKUP(F$9,'Vol Calcs'!$1:$1048576,$A14+1,FALSE))","v":0},{"$f":"IF($A14=0,,HLOOKUP(G$9,'Vol Calcs'!$1:$1048576,$A14+1,FALSE))","v":0},{"$f":"IF($A14=0,,HLOOKUP(H$9,'Vol Calcs'!$1:$1048576,$A14+1,FALSE))","v":0},{"$f":"IF($A14=0,,HLOOKUP(I$9,'Vol Calcs'!$1:$1048576,$A14+1,FALSE))","v":0},{"$f":"IF($A14=0,,HLOOKUP(J$9,'Vol Calcs'!$1:$1048576,$A14+1,FALSE))","v":0}]
[{"$f":"IF('mnt Data'!A10=0,0,A14+1)","v":0},{"$f":"IF($A15=0,,HLOOKUP(B$9,'Vol Calcs'!$1:$1048576,$A15+1,FALSE))","v":0},{"$f":"IF($A15=0,,HLOOKUP(C$9,'Vol Calcs'!$1:$1048576,$A15+1,FALSE))","v":0},{"$f":"IF($A15=0,,HLOOKUP(D$9,'Vol Calcs'!$1:$1048576,$A15+1,FALSE))","v":0},{"$f":"IF($A15=0,,HLOOKUP(E$9,'Vol Calcs'!$1:$1048576,$A15+1,FALSE))","v":0},{"$f":"IF($A15=0,,HLOOKUP(F$9,'Vol Calcs'!$1:$1048576,$A15+1,FALSE))","v":0},{"$f":"IF($A15=0,,HLOOKUP(G$9,'Vol Calcs'!$1:$1048576,$A15+1,FALSE))","v":0},{"$f":"IF($A15=0,,HLOOKUP(H$9,'Vol Calcs'!$1:$1048576,$A15+1,FALSE))","v":0},{"$f":"IF($A15=0,,HLOOKUP(I$9,'Vol Calcs'!$1:$1048576,$A15+1,FALSE))","v":0},{"$f":"IF($A15=0,,HLOOKUP(J$9,'Vol Calcs'!$1:$1048576,$A15+1,FALSE))","v":0}]
[{"$f":"IF('mnt Data'!A11=0,0,A15+1)","v":0},{"$f":"IF($A16=0,,HLOOKUP(B$9,'Vol Calcs'!$1:$1048576,$A16+1,FALSE))","v":0},{"$f":"IF($A16=0,,HLOOKUP(C$9,'Vol Calcs'!$1:$1048576,$A16+1,FALSE))","v":0},{"$f":"IF($A16=0,,HLOOKUP(D$9,'Vol Calcs'!$1:$1048576,$A16+1,FALSE))","v":0},{"$f":"IF($A16=0,,HLOOKUP(E$9,'Vol Calcs'!$1:$1048576,$A16+1,FALSE))","v":0},{"$f":"IF($A16=0,,HLOOKUP(F$9,'Vol Calcs'!$1:$1048576,$A16+1,FALSE))","v":0},{"$f":"IF($A16=0,,HLOOKUP(G$9,'Vol Calcs'!$1:$1048576,$A16+1,FALSE))","v":0},{"$f":"IF($A16=0,,HLOOKUP(H$9,'Vol Calcs'!$1:$1048576,$A16+1,FALSE))","v":0},{"$f":"IF($A16=0,,HLOOKUP(I$9,'Vol Calcs'!$1:$1048576,$A16+1,FALSE))","v":0},{"$f":"IF($A16=0,,HLOOKUP(J$9,'Vol Calcs'!$1:$1048576,$A16+1,FALSE))","v":0}]
[{"$f":"IF('mnt Data'!A12=0,0,A16+1)","v":0},{"$f":"IF($A17=0,,HLOOKUP(B$9,'Vol Calcs'!$1:$1048576,$A17+1,FALSE))","v":0},{"$f":"IF($A17=0,,HLOOKUP(C$9,'Vol Calcs'!$1:$1048576,$A17+1,FALSE))","v":0},{"$f":"IF($A17=0,,HLOOKUP(D$9,'Vol Calcs'!$1:$1048576,$A17+1,FALSE))","v":0},{"$f":"IF($A17=0,,HLOOKUP(E$9,'Vol Calcs'!$1:$1048576,$A17+1,FALSE))","v":0},{"$f":"IF($A17=0,,HLOOKUP(F$9,'Vol Calcs'!$1:$1048576,$A17+1,FALSE))","v":0},{"$f":"IF($A17=0,,HLOOKUP(G$9,'Vol Calcs'!$1:$1048576,$A17+1,FALSE))","v":0},{"$f":"IF($A17=0,,HLOOKUP(H$9,'Vol Calcs'!$1:$1048576,$A17+1,FALSE))","v":0},{"$f":"IF($A17=0,,HLOOKUP(I$9,'Vol Calcs'!$1:$1048576,$A17+1,FALSE))","v":0},{"$f":"IF($A17=0,,HLOOKUP(J$9,'Vol Calcs'!$1:$1048576,$A17+1,FALSE))","v":0}]
[{"$f":"IF('mnt Data'!A13=0,0,A17+1)","v":0},{"$f":"IF($A18=0,,HLOOKUP(B$9,'Vol Calcs'!$1:$1048576,$A18+1,FALSE))","v":0},{"$f":"IF($A18=0,,HLOOKUP(C$9,'Vol Calcs'!$1:$1048576,$A18+1,FALSE))","v":0},{"$f":"IF($A18=0,,HLOOKUP(D$9,'Vol Calcs'!$1:$1048576,$A18+1,FALSE))","v":0},{"$f":"IF($A18=0,,HLOOKUP(E$9,'Vol Calcs'!$1:$1048576,$A18+1,FALSE))","v":0},{"$f":"IF($A18=0,,HLOOKUP(F$9,'Vol Calcs'!$1:$1048576,$A18+1,FALSE))","v":0},{"$f":"IF($A18=0,,HLOOKUP(G$9,'Vol Calcs'!$1:$1048576,$A18+1,FALSE))","v":0},{"$f":"IF($A18=0,,HLOOKUP(H$9,'Vol Calcs'!$1:$1048576,$A18+1,FALSE))","v":0},{"$f":"IF($A18=0,,HLOOKUP(I$9,'Vol Calcs'!$1:$1048576,$A18+1,FALSE))","v":0},{"$f":"IF($A18=0,,HLOOKUP(J$9,'Vol Calcs'!$1:$1048576,$A18+1,FALSE))","v":0}]
[{"$f":"IF('mnt Data'!A14=0,0,A18+1)","v":0},{"$f":"IF($A19=0,,HLOOKUP(B$9,'Vol Calcs'!$1:$1048576,$A19+1,FALSE))","v":0},{"$f":"IF($A19=0,,HLOOKUP(C$9,'Vol Calcs'!$1:$1048576,$A19+1,FALSE))","v":0},{"$f":"IF($A19=0,,HLOOKUP(D$9,'Vol Calcs'!$1:$1048576,$A19+1,FALSE))","v":0},{"$f":"IF($A19=0,,HLOOKUP(E$9,'Vol Calcs'!$1:$1048576,$A19+1,FALSE))","v":0},{"$f":"IF($A19=0,,HLOOKUP(F$9,'Vol Calcs'!$1:$1048576,$A19+1,FALSE))","v":0},{"$f":"IF($A19=0,,HLOOKUP(G$9,'Vol Calcs'!$1:$1048576,$A19+1,FALSE))","v":0},{"$f":"IF($A19=0,,HLOOKUP(H$9,'Vol Calcs'!$1:$1048576,$A19+1,FALSE))","v":0},{"$f":"IF($A19=0,,HLOOKUP(I$9,'Vol Calcs'!$1:$1048576,$A19+1,FALSE))","v":0},{"$f":"IF($A19=0,,HLOOKUP(J$9,'Vol Calcs'!$1:$1048576,$A19+1,FALSE))","v":0}]
[{"$f":"IF('mnt Data'!A15=0,0,A19+1)","v":0},{"$f":"IF($A20=0,,HLOOKUP(B$9,'Vol Calcs'!$1:$1048576,$A20+1,FALSE))","v":0},{"$f":"IF($A20=0,,HLOOKUP(C$9,'Vol Calcs'!$1:$1048576,$A20+1,FALSE))","v":0},{"$f":"IF($A20=0,,HLOOKUP(D$9,'Vol Calcs'!$1:$1048576,$A20+1,FALSE))","v":0},{"$f":"IF($A20=0,,HLOOKUP(E$9,'Vol Calcs'!$1:$1048576,$A20+1,FALSE))","v":0},{"$f":"IF($A20=0,,HLOOKUP(F$9,'Vol Calcs'!$1:$1048576,$A20+1,FALSE))","v":0},{"$f":"IF($A20=0,,HLOOKUP(G$9,'Vol Calcs'!$1:$1048576,$A20+1,FALSE))","v":0},{"$f":"IF($A20=0,,HLOOKUP(H$9,'Vol Calcs'!$1:$1048576,$A20+1,FALSE))","v":0},{"$f":"IF($A20=0,,HLOOKUP(I$9,'Vol Calcs'!$1:$1048576,$A20+1,FALSE))","v":0},{"$f":"IF($A20=0,,HLOOKUP(J$9,'Vol Calcs'!$1:$1048576,$A20+1,FALSE))","v":0}]
[{"$f":"IF('mnt Data'!A16=0,0,A20+1)","v":0},{"$f":"IF($A21=0,,HLOOKUP(B$9,'Vol Calcs'!$1:$1048576,$A21+1,FALSE))","v":0},{"$f":"IF($A21=0,,HLOOKUP(C$9,'Vol Calcs'!$1:$1048576,$A21+1,FALSE))","v":0},{"$f":"IF($A21=0,,HLOOKUP(D$9,'Vol Calcs'!$1:$1048576,$A21+1,FALSE))","v":0},{"$f":"IF($A21=0,,HLOOKUP(E$9,'Vol Calcs'!$1:$1048576,$A21+1,FALSE))","v":0},{"$f":"IF($A21=0,,HLOOKUP(F$9,'Vol Calcs'!$1:$1048576,$A21+1,FALSE))","v":0},{"$f":"IF($A21=0,,HLOOKUP(G$9,'Vol Calcs'!$1:$1048576,$A21+1,FALSE))","v":0},{"$f":"IF($A21=0,,HLOOKUP(H$9,'Vol Calcs'!$1:$1048576,$A21+1,FALSE))","v":0},{"$f":"IF($A21=0,,HLOOKUP(I$9,'Vol Calcs'!$1:$1048576,$A21+1,FALSE))","v":0},{"$f":"IF($A21=0,,HLOOKUP(J$9,'Vol Calcs'!$1:$1048576,$A21+1,FALSE))","v":0}]
[{"$f":"IF('mnt Data'!A17=0,0,A21+1)","v":0},{"$f":"IF($A22=0,,HLOOKUP(B$9,'Vol Calcs'!$1:$1048576,$A22+1,FALSE))","v":0},{"$f":"IF($A22=0,,HLOOKUP(C$9,'Vol Calcs'!$1:$1048576,$A22+1,FALSE))","v":0},{"$f":"IF($A22=0,,HLOOKUP(D$9,'Vol Calcs'!$1:$1048576,$A22+1,FALSE))","v":0},{"$f":"IF($A22=0,,HLOOKUP(E$9,'Vol Calcs'!$1:$1048576,$A22+1,FALSE))","v":0},{"$f":"IF($A22=0,,HLOOKUP(F$9,'Vol Calcs'!$1:$1048576,$A22+1,FALSE))","v":0},{"$f":"IF($A22=0,,HLOOKUP(G$9,'Vol Calcs'!$1:$1048576,$A22+1,FALSE))","v":0},{"$f":"IF($A22=0,,HLOOKUP(H$9,'Vol Calcs'!$1:$1048576,$A22+1,FALSE))","v":0},{"$f":"IF($A22=0,,HLOOKUP(I$9,'Vol Calcs'!$1:$1048576,$A22+1,FALSE))","v":0},{"$f":"IF($A22=0,,HLOOKUP(J$9,'Vol Calcs'!$1:$1048576,$A22+1,FALSE))","v":0}]
[{"$f":"IF('mnt Data'!A18=0,0,A22+1)","v":0},{"$f":"IF($A23=0,,HLOOKUP(B$9,'Vol Calcs'!$1:$1048576,$A23+1,FALSE))","v":0},{"$f":"IF($A23=0,,HLOOKUP(C$9,'Vol Calcs'!$1:$1048576,$A23+1,FALSE))","v":0},{"$f":"IF($A23=0,,HLOOKUP(D$9,'Vol Calcs'!$1:$1048576,$A23+1,FALSE))","v":0},{"$f":"IF($A23=0,,HLOOKUP(E$9,'Vol Calcs'!$1:$1048576,$A23+1,FALSE))","v":0},{"$f":"IF($A23=0,,HLOOKUP(F$9,'Vol Calcs'!$1:$1048576,$A23+1,FALSE))","v":0},{"$f":"IF($A23=0,,HLOOKUP(G$9,'Vol Calcs'!$1:$1048576,$A23+1,FALSE))","v":0},{"$f":"IF($A23=0,,HLOOKUP(H$9,'Vol Calcs'!$1:$1048576,$A23+1,FALSE))","v":0},{"$f":"IF($A23=0,,HLOOKUP(I$9,'Vol Calcs'!$1:$1048576,$A23+1,FALSE))","v":0},{"$f":"IF($A23=0,,HLOOKUP(J$9,'Vol Calcs'!$1:$1048576,$A23+1,FALSE))","v":0}]
[{"$f":"IF('mnt Data'!A19=0,0,A23+1)","v":0},{"$f":"IF($A24=0,,HLOOKUP(B$9,'Vol Calcs'!$1:$1048576,$A24+1,FALSE))","v":0},{"$f":"IF($A24=0,,HLOOKUP(C$9,'Vol Calcs'!$1:$1048576,$A24+1,FALSE))","v":0},{"$f":"IF($A24=0,,HLOOKUP(D$9,'Vol Calcs'!$1:$1048576,$A24+1,FALSE))","v":0},{"$f":"IF($A24=0,,HLOOKUP(E$9,'Vol Calcs'!$1:$1048576,$A24+1,FALSE))","v":0},{"$f":"IF($A24=0,,HLOOKUP(F$9,'Vol Calcs'!$1:$1048576,$A24+1,FALSE))","v":0},{"$f":"IF($A24=0,,HLOOKUP(G$9,'Vol Calcs'!$1:$1048576,$A24+1,FALSE))","v":0},{"$f":"IF($A24=0,,HLOOKUP(H$9,'Vol Calcs'!$1:$1048576,$A24+1,FALSE))","v":0},{"$f":"IF($A24=0,,HLOOKUP(I$9,'Vol Calcs'!$1:$1048576,$A24+1,FALSE))","v":0},{"$f":"IF($A24=0,,HLOOKUP(J$9,'Vol Calcs'!$1:$1048576,$A24+1,FALSE))","v":0}]
[{"$f":"IF('mnt Data'!A20=0,0,A24+1)","v":0},{"$f":"IF($A25=0,,HLOOKUP(B$9,'Vol Calcs'!$1:$1048576,$A25+1,FALSE))","v":0},{"$f":"IF($A25=0,,HLOOKUP(C$9,'Vol Calcs'!$1:$1048576,$A25+1,FALSE))","v":0},{"$f":"IF($A25=0,,HLOOKUP(D$9,'Vol Calcs'!$1:$1048576,$A25+1,FALSE))","v":0},{"$f":"IF($A25=0,,HLOOKUP(E$9,'Vol Calcs'!$1:$1048576,$A25+1,FALSE))","v":0},{"$f":"IF($A25=0,,HLOOKUP(F$9,'Vol Calcs'!$1:$1048576,$A25+1,FALSE))","v":0},{"$f":"IF($A25=0,,HLOOKUP(G$9,'Vol Calcs'!$1:$1048576,$A25+1,FALSE))","v":0},{"$f":"IF($A25=0,,HLOOKUP(H$9,'Vol Calcs'!$1:$1048576,$A25+1,FALSE))","v":0},{"$f":"IF($A25=0,,HLOOKUP(I$9,'Vol Calcs'!$1:$1048576,$A25+1,FALSE))","v":0},{"$f":"IF($A25=0,,HLOOKUP(J$9,'Vol Calcs'!$1:$1048576,$A25+1,FALSE))","v":0}]
[{"$f":"IF('mnt Data'!A21=0,0,A25+1)","v":0},{"$f":"IF($A26=0,,HLOOKUP(B$9,'Vol Calcs'!$1:$1048576,$A26+1,FALSE))","v":0},{"$f":"IF($A26=0,,HLOOKUP(C$9,'Vol Calcs'!$1:$1048576,$A26+1,FALSE))","v":0},{"$f":"IF($A26=0,,HLOOKUP(D$9,'Vol Calcs'!$1:$1048576,$A26+1,FALSE))","v":0},{"$f":"IF($A26=0,,HLOOKUP(E$9,'Vol Calcs'!$1:$1048576,$A26+1,FALSE))","v":0},{"$f":"IF($A26=0,,HLOOKUP(F$9,'Vol Calcs'!$1:$1048576,$A26+1,FALSE))","v":0},{"$f":"IF($A26=0,,HLOOKUP(G$9,'Vol Calcs'!$1:$1048576,$A26+1,FALSE))","v":0},{"$f":"IF($A26=0,,HLOOKUP(H$9,'Vol Calcs'!$1:$1048576,$A26+1,FALSE))","v":0},{"$f":"IF($A26=0,,HLOOKUP(I$9,'Vol Calcs'!$1:$1048576,$A26+1,FALSE))","v":0},{"$f":"IF($A26=0,,HLOOKUP(J$9,'Vol Calcs'!$1:$1048576,$A26+1,FALSE))","v":0}]
[{"$f":"IF('mnt Data'!A22=0,0,A26+1)","v":0},{"$f":"IF($A27=0,,HLOOKUP(B$9,'Vol Calcs'!$1:$1048576,$A27+1,FALSE))","v":0},{"$f":"IF($A27=0,,HLOOKUP(C$9,'Vol Calcs'!$1:$1048576,$A27+1,FALSE))","v":0},{"$f":"IF($A27=0,,HLOOKUP(D$9,'Vol Calcs'!$1:$1048576,$A27+1,FALSE))","v":0},{"$f":"IF($A27=0,,HLOOKUP(E$9,'Vol Calcs'!$1:$1048576,$A27+1,FALSE))","v":0},{"$f":"IF($A27=0,,HLOOKUP(F$9,'Vol Calcs'!$1:$1048576,$A27+1,FALSE))","v":0},{"$f":"IF($A27=0,,HLOOKUP(G$9,'Vol Calcs'!$1:$1048576,$A27+1,FALSE))","v":0},{"$f":"IF($A27=0,,HLOOKUP(H$9,'Vol Calcs'!$1:$1048576,$A27+1,FALSE))","v":0},{"$f":"IF($A27=0,,HLOOKUP(I$9,'Vol Calcs'!$1:$1048576,$A27+1,FALSE))","v":0},{"$f":"IF($A27=0,,HLOOKUP(J$9,'Vol Calcs'!$1:$1048576,$A27+1,FALSE))","v":0}]
[{"$f":"IF('mnt Data'!A23=0,0,A27+1)","v":0},{"$f":"IF($A28=0,,HLOOKUP(B$9,'Vol Calcs'!$1:$1048576,$A28+1,FALSE))","v":0},{"$f":"IF($A28=0,,HLOOKUP(C$9,'Vol Calcs'!$1:$1048576,$A28+1,FALSE))","v":0},{"$f":"IF($A28=0,,HLOOKUP(D$9,'Vol Calcs'!$1:$1048576,$A28+1,FALSE))","v":0},{"$f":"IF($A28=0,,HLOOKUP(E$9,'Vol Calcs'!$1:$1048576,$A28+1,FALSE))","v":0},{"$f":"IF($A28=0,,HLOOKUP(F$9,'Vol Calcs'!$1:$1048576,$A28+1,FALSE))","v":0},{"$f":"IF($A28=0,,HLOOKUP(G$9,'Vol Calcs'!$1:$1048576,$A28+1,FALSE))","v":0},{"$f":"IF($A28=0,,HLOOKUP(H$9,'Vol Calcs'!$1:$1048576,$A28+1,FALSE))","v":0},{"$f":"IF($A28=0,,HLOOKUP(I$9,'Vol Calcs'!$1:$1048576,$A28+1,FALSE))","v":0},{"$f":"IF($A28=0,,HLOOKUP(J$9,'Vol Calcs'!$1:$1048576,$A28+1,FALSE))","v":0}]
[{"$f":"IF('mnt Data'!A24=0,0,A28+1)","v":0},{"$f":"IF($A29=0,,HLOOKUP(B$9,'Vol Calcs'!$1:$1048576,$A29+1,FALSE))","v":0},{"$f":"IF($A29=0,,HLOOKUP(C$9,'Vol Calcs'!$1:$1048576,$A29+1,FALSE))","v":0},{"$f":"IF($A29=0,,HLOOKUP(D$9,'Vol Calcs'!$1:$1048576,$A29+1,FALSE))","v":0},{"$f":"IF($A29=0,,HLOOKUP(E$9,'Vol Calcs'!$1:$1048576,$A29+1,FALSE))","v":0},{"$f":"IF($A29=0,,HLOOKUP(F$9,'Vol Calcs'!$1:$1048576,$A29+1,FALSE))","v":0},{"$f":"IF($A29=0,,HLOOKUP(G$9,'Vol Calcs'!$1:$1048576,$A29+1,FALSE))","v":0},{"$f":"IF($A29=0,,HLOOKUP(H$9,'Vol Calcs'!$1:$1048576,$A29+1,FALSE))","v":0},{"$f":"IF($A29=0,,HLOOKUP(I$9,'Vol Calcs'!$1:$1048576,$A29+1,FALSE))","v":0},{"$f":"IF($A29=0,,HLOOKUP(J$9,'Vol Calcs'!$1:$1048576,$A29+1,FALSE))","v":0}]
[{"$f":"IF('mnt Data'!A25=0,0,A29+1)","v":0},{"$f":"IF($A30=0,,HLOOKUP(B$9,'Vol Calcs'!$1:$1048576,$A30+1,FALSE))","v":0},{"$f":"IF($A30=0,,HLOOKUP(C$9,'Vol Calcs'!$1:$1048576,$A30+1,FALSE))","v":0},{"$f":"IF($A30=0,,HLOOKUP(D$9,'Vol Calcs'!$1:$1048576,$A30+1,FALSE))","v":0},{"$f":"IF($A30=0,,HLOOKUP(E$9,'Vol Calcs'!$1:$1048576,$A30+1,FALSE))","v":0},{"$f":"IF($A30=0,,HLOOKUP(F$9,'Vol Calcs'!$1:$1048576,$A30+1,FALSE))","v":0},{"$f":"IF($A30=0,,HLOOKUP(G$9,'Vol Calcs'!$1:$1048576,$A30+1,FALSE))","v":0},{"$f":"IF($A30=0,,HLOOKUP(H$9,'Vol Calcs'!$1:$1048576,$A30+1,FALSE))","v":0},{"$f":"IF($A30=0,,HLOOKUP(I$9,'Vol Calcs'!$1:$1048576,$A30+1,FALSE))","v":0},{"$f":"IF($A30=0,,HLOOKUP(J$9,'Vol Calcs'!$1:$1048576,$A30+1,FALSE))","v":0}]
[{"$f":"IF('mnt Data'!A26=0,0,A30+1)","v":0},{"$f":"IF($A31=0,,HLOOKUP(B$9,'Vol Calcs'!$1:$1048576,$A31+1,FALSE))","v":0},{"$f":"IF($A31=0,,HLOOKUP(C$9,'Vol Calcs'!$1:$1048576,$A31+1,FALSE))","v":0},{"$f":"IF($A31=0,,HLOOKUP(D$9,'Vol Calcs'!$1:$1048576,$A31+1,FALSE))","v":0},{"$f":"IF($A31=0,,HLOOKUP(E$9,'Vol Calcs'!$1:$1048576,$A31+1,FALSE))","v":0},{"$f":"IF($A31=0,,HLOOKUP(F$9,'Vol Calcs'!$1:$1048576,$A31+1,FALSE))","v":0},{"$f":"IF($A31=0,,HLOOKUP(G$9,'Vol Calcs'!$1:$1048576,$A31+1,FALSE))","v":0},{"$f":"IF($A31=0,,HLOOKUP(H$9,'Vol Calcs'!$1:$1048576,$A31+1,FALSE))","v":0},{"$f":"IF($A31=0,,HLOOKUP(I$9,'Vol Calcs'!$1:$1048576,$A31+1,FALSE))","v":0},{"$f":"IF($A31=0,,HLOOKUP(J$9,'Vol Calcs'!$1:$1048576,$A31+1,FALSE))","v":0}]
[{"$f":"IF('mnt Data'!A27=0,0,A31+1)","v":0},{"$f":"IF($A32=0,,HLOOKUP(B$9,'Vol Calcs'!$1:$1048576,$A32+1,FALSE))","v":0},{"$f":"IF($A32=0,,HLOOKUP(C$9,'Vol Calcs'!$1:$1048576,$A32+1,FALSE))","v":0},{"$f":"IF($A32=0,,HLOOKUP(D$9,'Vol Calcs'!$1:$1048576,$A32+1,FALSE))","v":0},{"$f":"IF($A32=0,,HLOOKUP(E$9,'Vol Calcs'!$1:$1048576,$A32+1,FALSE))","v":0},{"$f":"IF($A32=0,,HLOOKUP(F$9,'Vol Calcs'!$1:$1048576,$A32+1,FALSE))","v":0},{"$f":"IF($A32=0,,HLOOKUP(G$9,'Vol Calcs'!$1:$1048576,$A32+1,FALSE))","v":0},{"$f":"IF($A32=0,,HLOOKUP(H$9,'Vol Calcs'!$1:$1048576,$A32+1,FALSE))","v":0},{"$f":"IF($A32=0,,HLOOKUP(I$9,'Vol Calcs'!$1:$1048576,$A32+1,FALSE))","v":0},{"$f":"IF($A32=0,,HLOOKUP(J$9,'Vol Calcs'!$1:$1048576,$A32+1,FALSE))","v":0}]
[{"$f":"IF('mnt Data'!A28=0,0,A32+1)","v":0},{"$f":"IF($A33=0,,HLOOKUP(B$9,'Vol Calcs'!$1:$1048576,$A33+1,FALSE))","v":0},{"$f":"IF($A33=0,,HLOOKUP(C$9,'Vol Calcs'!$1:$1048576,$A33+1,FALSE))","v":0},{"$f":"IF($A33=0,,HLOOKUP(D$9,'Vol Calcs'!$1:$1048576,$A33+1,FALSE))","v":0},{"$f":"IF($A33=0,,HLOOKUP(E$9,'Vol Calcs'!$1:$1048576,$A33+1,FALSE))","v":0},{"$f":"IF($A33=0,,HLOOKUP(F$9,'Vol Calcs'!$1:$1048576,$A33+1,FALSE))","v":0},{"$f":"IF($A33=0,,HLOOKUP(G$9,'Vol Calcs'!$1:$1048576,$A33+1,FALSE))","v":0},{"$f":"IF($A33=0,,HLOOKUP(H$9,'Vol Calcs'!$1:$1048576,$A33+1,FALSE))","v":0},{"$f":"IF($A33=0,,HLOOKUP(I$9,'Vol Calcs'!$1:$1048576,$A33+1,FALSE))","v":0},{"$f":"IF($A33=0,,HLOOKUP(J$9,'Vol Calcs'!$1:$1048576,$A33+1,FALSE))","v":0}]
[{"$f":"IF('mnt Data'!A29=0,0,A33+1)","v":0},{"$f":"IF($A34=0,,HLOOKUP(B$9,'Vol Calcs'!$1:$1048576,$A34+1,FALSE))","v":0},{"$f":"IF($A34=0,,HLOOKUP(C$9,'Vol Calcs'!$1:$1048576,$A34+1,FALSE))","v":0},{"$f":"IF($A34=0,,HLOOKUP(D$9,'Vol Calcs'!$1:$1048576,$A34+1,FALSE))","v":0},{"$f":"IF($A34=0,,HLOOKUP(E$9,'Vol Calcs'!$1:$1048576,$A34+1,FALSE))","v":0},{"$f":"IF($A34=0,,HLOOKUP(F$9,'Vol Calcs'!$1:$1048576,$A34+1,FALSE))","v":0},{"$f":"IF($A34=0,,HLOOKUP(G$9,'Vol Calcs'!$1:$1048576,$A34+1,FALSE))","v":0},{"$f":"IF($A34=0,,HLOOKUP(H$9,'Vol Calcs'!$1:$1048576,$A34+1,FALSE))","v":0},{"$f":"IF($A34=0,,HLOOKUP(I$9,'Vol Calcs'!$1:$1048576,$A34+1,FALSE))","v":0},{"$f":"IF($A34=0,,HLOOKUP(J$9,'Vol Calcs'!$1:$1048576,$A34+1,FALSE))","v":0}]
[{"$f":"IF('mnt Data'!A30=0,0,A34+1)","v":0},{"$f":"IF($A35=0,,HLOOKUP(B$9,'Vol Calcs'!$1:$1048576,$A35+1,FALSE))","v":0},{"$f":"IF($A35=0,,HLOOKUP(C$9,'Vol Calcs'!$1:$1048576,$A35+1,FALSE))","v":0},{"$f":"IF($A35=0,,HLOOKUP(D$9,'Vol Calcs'!$1:$1048576,$A35+1,FALSE))","v":0},{"$f":"IF($A35=0,,HLOOKUP(E$9,'Vol Calcs'!$1:$1048576,$A35+1,FALSE))","v":0},{"$f":"IF($A35=0,,HLOOKUP(F$9,'Vol Calcs'!$1:$1048576,$A35+1,FALSE))","v":0},{"$f":"IF($A35=0,,HLOOKUP(G$9,'Vol Calcs'!$1:$1048576,$A35+1,FALSE))","v":0},{"$f":"IF($A35=0,,HLOOKUP(H$9,'Vol Calcs'!$1:$1048576,$A35+1,FALSE))","v":0},{"$f":"IF($A35=0,,HLOOKUP(I$9,'Vol Calcs'!$1:$1048576,$A35+1,FALSE))","v":0},{"$f":"IF($A35=0,,HLOOKUP(J$9,'Vol Calcs'!$1:$1048576,$A35+1,FALSE))","v":0}]
[{"$f":"IF('mnt Data'!A31=0,0,A35+1)","v":0},{"$f":"IF($A36=0,,HLOOKUP(B$9,'Vol Calcs'!$1:$1048576,$A36+1,FALSE))","v":0},{"$f":"IF($A36=0,,HLOOKUP(C$9,'Vol Calcs'!$1:$1048576,$A36+1,FALSE))","v":0},{"$f":"IF($A36=0,,HLOOKUP(D$9,'Vol Calcs'!$1:$1048576,$A36+1,FALSE))","v":0},{"$f":"IF($A36=0,,HLOOKUP(E$9,'Vol Calcs'!$1:$1048576,$A36+1,FALSE))","v":0},{"$f":"IF($A36=0,,HLOOKUP(F$9,'Vol Calcs'!$1:$1048576,$A36+1,FALSE))","v":0},{"$f":"IF($A36=0,,HLOOKUP(G$9,'Vol Calcs'!$1:$1048576,$A36+1,FALSE))","v":0},{"$f":"IF($A36=0,,HLOOKUP(H$9,'Vol Calcs'!$1:$1048576,$A36+1,FALSE))","v":0},{"$f":"IF($A36=0,,HLOOKUP(I$9,'Vol Calcs'!$1:$1048576,$A36+1,FALSE))","v":0},{"$f":"IF($A36=0,,HLOOKUP(J$9,'Vol Calcs'!$1:$1048576,$A36+1,FALSE))","v":0}]
[{"$f":"IF('mnt Data'!A32=0,0,A36+1)","v":0},{"$f":"IF($A37=0,,HLOOKUP(B$9,'Vol Calcs'!$1:$1048576,$A37+1,FALSE))","v":0},{"$f":"IF($A37=0,,HLOOKUP(C$9,'Vol Calcs'!$1:$1048576,$A37+1,FALSE))","v":0},{"$f":"IF($A37=0,,HLOOKUP(D$9,'Vol Calcs'!$1:$1048576,$A37+1,FALSE))","v":0},{"$f":"IF($A37=0,,HLOOKUP(E$9,'Vol Calcs'!$1:$1048576,$A37+1,FALSE))","v":0},{"$f":"IF($A37=0,,HLOOKUP(F$9,'Vol Calcs'!$1:$1048576,$A37+1,FALSE))","v":0},{"$f":"IF($A37=0,,HLOOKUP(G$9,'Vol Calcs'!$1:$1048576,$A37+1,FALSE))","v":0},{"$f":"IF($A37=0,,HLOOKUP(H$9,'Vol Calcs'!$1:$1048576,$A37+1,FALSE))","v":0},{"$f":"IF($A37=0,,HLOOKUP(I$9,'Vol Calcs'!$1:$1048576,$A37+1,FALSE))","v":0},{"$f":"IF($A37=0,,HLOOKUP(J$9,'Vol Calcs'!$1:$1048576,$A37+1,FALSE))","v":0}]
[{"$f":"IF('mnt Data'!A33=0,0,A37+1)","v":0},{"$f":"IF($A38=0,,HLOOKUP(B$9,'Vol Calcs'!$1:$1048576,$A38+1,FALSE))","v":0},{"$f":"IF($A38=0,,HLOOKUP(C$9,'Vol Calcs'!$1:$1048576,$A38+1,FALSE))","v":0},{"$f":"IF($A38=0,,HLOOKUP(D$9,'Vol Calcs'!$1:$1048576,$A38+1,FALSE))","v":0},{"$f":"IF($A38=0,,HLOOKUP(E$9,'Vol Calcs'!$1:$1048576,$A38+1,FALSE))","v":0},{"$f":"IF($A38=0,,HLOOKUP(F$9,'Vol Calcs'!$1:$1048576,$A38+1,FALSE))","v":0},{"$f":"IF($A38=0,,HLOOKUP(G$9,'Vol Calcs'!$1:$1048576,$A38+1,FALSE))","v":0},{"$f":"IF($A38=0,,HLOOKUP(H$9,'Vol Calcs'!$1:$1048576,$A38+1,FALSE))","v":0},{"$f":"IF($A38=0,,HLOOKUP(I$9,'Vol Calcs'!$1:$1048576,$A38+1,FALSE))","v":0},{"$f":"IF($A38=0,,HLOOKUP(J$9,'Vol Calcs'!$1:$1048576,$A38+1,FALSE))","v":0}]
[{"$f":"IF('mnt Data'!A34=0,0,A38+1)","v":0},{"$f":"IF($A39=0,,HLOOKUP(B$9,'Vol Calcs'!$1:$1048576,$A39+1,FALSE))","v":0},{"$f":"IF($A39=0,,HLOOKUP(C$9,'Vol Calcs'!$1:$1048576,$A39+1,FALSE))","v":0},{"$f":"IF($A39=0,,HLOOKUP(D$9,'Vol Calcs'!$1:$1048576,$A39+1,FALSE))","v":0},{"$f":"IF($A39=0,,HLOOKUP(E$9,'Vol Calcs'!$1:$1048576,$A39+1,FALSE))","v":0},{"$f":"IF($A39=0,,HLOOKUP(F$9,'Vol Calcs'!$1:$1048576,$A39+1,FALSE))","v":0},{"$f":"IF($A39=0,,HLOOKUP(G$9,'Vol Calcs'!$1:$1048576,$A39+1,FALSE))","v":0},{"$f":"IF($A39=0,,HLOOKUP(H$9,'Vol Calcs'!$1:$1048576,$A39+1,FALSE))","v":0},{"$f":"IF($A39=0,,HLOOKUP(I$9,'Vol Calcs'!$1:$1048576,$A39+1,FALSE))","v":0},{"$f":"IF($A39=0,,HLOOKUP(J$9,'Vol Calcs'!$1:$1048576,$A39+1,FALSE))","v":0}]
[{"$f":"IF('mnt Data'!A35=0,0,A39+1)","v":0},{"$f":"IF($A40=0,,HLOOKUP(B$9,'Vol Calcs'!$1:$1048576,$A40+1,FALSE))","v":0},{"$f":"IF($A40=0,,HLOOKUP(C$9,'Vol Calcs'!$1:$1048576,$A40+1,FALSE))","v":0},{"$f":"IF($A40=0,,HLOOKUP(D$9,'Vol Calcs'!$1:$1048576,$A40+1,FALSE))","v":0},{"$f":"IF($A40=0,,HLOOKUP(E$9,'Vol Calcs'!$1:$1048576,$A40+1,FALSE))","v":0},{"$f":"IF($A40=0,,HLOOKUP(F$9,'Vol Calcs'!$1:$1048576,$A40+1,FALSE))","v":0},{"$f":"IF($A40=0,,HLOOKUP(G$9,'Vol Calcs'!$1:$1048576,$A40+1,FALSE))","v":0},{"$f":"IF($A40=0,,HLOOKUP(H$9,'Vol Calcs'!$1:$1048576,$A40+1,FALSE))","v":0},{"$f":"IF($A40=0,,HLOOKUP(I$9,'Vol Calcs'!$1:$1048576,$A40+1,FALSE))","v":0},{"$f":"IF($A40=0,,HLOOKUP(J$9,'Vol Calcs'!$1:$1048576,$A40+1,FALSE))","v":0}]
[{"$f":"IF('mnt Data'!A36=0,0,A40+1)","v":0},{"$f":"IF($A41=0,,HLOOKUP(B$9,'Vol Calcs'!$1:$1048576,$A41+1,FALSE))","v":0},{"$f":"IF($A41=0,,HLOOKUP(C$9,'Vol Calcs'!$1:$1048576,$A41+1,FALSE))","v":0},{"$f":"IF($A41=0,,HLOOKUP(D$9,'Vol Calcs'!$1:$1048576,$A41+1,FALSE))","v":0},{"$f":"IF($A41=0,,HLOOKUP(E$9,'Vol Calcs'!$1:$1048576,$A41+1,FALSE))","v":0},{"$f":"IF($A41=0,,HLOOKUP(F$9,'Vol Calcs'!$1:$1048576,$A41+1,FALSE))","v":0},{"$f":"IF($A41=0,,HLOOKUP(G$9,'Vol Calcs'!$1:$1048576,$A41+1,FALSE))","v":0},{"$f":"IF($A41=0,,HLOOKUP(H$9,'Vol Calcs'!$1:$1048576,$A41+1,FALSE))","v":0},{"$f":"IF($A41=0,,HLOOKUP(I$9,'Vol Calcs'!$1:$1048576,$A41+1,FALSE))","v":0},{"$f":"IF($A41=0,,HLOOKUP(J$9,'Vol Calcs'!$1:$1048576,$A41+1,FALSE))","v":0}]
[{"$f":"IF('mnt Data'!A37=0,0,A41+1)","v":0},{"$f":"IF($A42=0,,HLOOKUP(B$9,'Vol Calcs'!$1:$1048576,$A42+1,FALSE))","v":0},{"$f":"IF($A42=0,,HLOOKUP(C$9,'Vol Calcs'!$1:$1048576,$A42+1,FALSE))","v":0},{"$f":"IF($A42=0,,HLOOKUP(D$9,'Vol Calcs'!$1:$1048576,$A42+1,FALSE))","v":0},{"$f":"IF($A42=0,,HLOOKUP(E$9,'Vol Calcs'!$1:$1048576,$A42+1,FALSE))","v":0},{"$f":"IF($A42=0,,HLOOKUP(F$9,'Vol Calcs'!$1:$1048576,$A42+1,FALSE))","v":0},{"$f":"IF($A42=0,,HLOOKUP(G$9,'Vol Calcs'!$1:$1048576,$A42+1,FALSE))","v":0},{"$f":"IF($A42=0,,HLOOKUP(H$9,'Vol Calcs'!$1:$1048576,$A42+1,FALSE))","v":0},{"$f":"IF($A42=0,,HLOOKUP(I$9,'Vol Calcs'!$1:$1048576,$A42+1,FALSE))","v":0},{"$f":"IF($A42=0,,HLOOKUP(J$9,'Vol Calcs'!$1:$1048576,$A42+1,FALSE))","v":0}]
[{"$f":"IF('mnt Data'!A38=0,0,A42+1)","v":0},{"$f":"IF($A43=0,,HLOOKUP(B$9,'Vol Calcs'!$1:$1048576,$A43+1,FALSE))","v":0},{"$f":"IF($A43=0,,HLOOKUP(C$9,'Vol Calcs'!$1:$1048576,$A43+1,FALSE))","v":0},{"$f":"IF($A43=0,,HLOOKUP(D$9,'Vol Calcs'!$1:$1048576,$A43+1,FALSE))","v":0},{"$f":"IF($A43=0,,HLOOKUP(E$9,'Vol Calcs'!$1:$1048576,$A43+1,FALSE))","v":0},{"$f":"IF($A43=0,,HLOOKUP(F$9,'Vol Calcs'!$1:$1048576,$A43+1,FALSE))","v":0},{"$f":"IF($A43=0,,HLOOKUP(G$9,'Vol Calcs'!$1:$1048576,$A43+1,FALSE))","v":0},{"$f":"IF($A43=0,,HLOOKUP(H$9,'Vol Calcs'!$1:$1048576,$A43+1,FALSE))","v":0},{"$f":"IF($A43=0,,HLOOKUP(I$9,'Vol Calcs'!$1:$1048576,$A43+1,FALSE))","v":0},{"$f":"IF($A43=0,,HLOOKUP(J$9,'Vol Calcs'!$1:$1048576,$A43+1,FALSE))","v":0}]
[{"$f":"IF('mnt Data'!A39=0,0,A43+1)","v":0},{"$f":"IF($A44=0,,HLOOKUP(B$9,'Vol Calcs'!$1:$1048576,$A44+1,FALSE))","v":0},{"$f":"IF($A44=0,,HLOOKUP(C$9,'Vol Calcs'!$1:$1048576,$A44+1,FALSE))","v":0},{"$f":"IF($A44=0,,HLOOKUP(D$9,'Vol Calcs'!$1:$1048576,$A44+1,FALSE))","v":0},{"$f":"IF($A44=0,,HLOOKUP(E$9,'Vol Calcs'!$1:$1048576,$A44+1,FALSE))","v":0},{"$f":"IF($A44=0,,HLOOKUP(F$9,'Vol Calcs'!$1:$1048576,$A44+1,FALSE))","v":0},{"$f":"IF($A44=0,,HLOOKUP(G$9,'Vol Calcs'!$1:$1048576,$A44+1,FALSE))","v":0},{"$f":"IF($A44=0,,HLOOKUP(H$9,'Vol Calcs'!$1:$1048576,$A44+1,FALSE))","v":0},{"$f":"IF($A44=0,,HLOOKUP(I$9,'Vol Calcs'!$1:$1048576,$A44+1,FALSE))","v":0},{"$f":"IF($A44=0,,HLOOKUP(J$9,'Vol Calcs'!$1:$1048576,$A44+1,FALSE))","v":0}]
[{"$f":"IF('mnt Data'!A40=0,0,A44+1)","v":0},{"$f":"IF($A45=0,,HLOOKUP(B$9,'Vol Calcs'!$1:$1048576,$A45+1,FALSE))","v":0},{"$f":"IF($A45=0,,HLOOKUP(C$9,'Vol Calcs'!$1:$1048576,$A45+1,FALSE))","v":0},{"$f":"IF($A45=0,,HLOOKUP(D$9,'Vol Calcs'!$1:$1048576,$A45+1,FALSE))","v":0},{"$f":"IF($A45=0,,HLOOKUP(E$9,'Vol Calcs'!$1:$1048576,$A45+1,FALSE))","v":0},{"$f":"IF($A45=0,,HLOOKUP(F$9,'Vol Calcs'!$1:$1048576,$A45+1,FALSE))","v":0},{"$f":"IF($A45=0,,HLOOKUP(G$9,'Vol Calcs'!$1:$1048576,$A45+1,FALSE))","v":0},{"$f":"IF($A45=0,,HLOOKUP(H$9,'Vol Calcs'!$1:$1048576,$A45+1,FALSE))","v":0},{"$f":"IF($A45=0,,HLOOKUP(I$9,'Vol Calcs'!$1:$1048576,$A45+1,FALSE))","v":0},{"$f":"IF($A45=0,,HLOOKUP(J$9,'Vol Calcs'!$1:$1048576,$A45+1,FALSE))","v":0}]
[{"$f":"IF('mnt Data'!A41=0,0,A45+1)","v":0},{"$f":"IF($A46=0,,HLOOKUP(B$9,'Vol Calcs'!$1:$1048576,$A46+1,FALSE))","v":0},{"$f":"IF($A46=0,,HLOOKUP(C$9,'Vol Calcs'!$1:$1048576,$A46+1,FALSE))","v":0},{"$f":"IF($A46=0,,HLOOKUP(D$9,'Vol Calcs'!$1:$1048576,$A46+1,FALSE))","v":0},{"$f":"IF($A46=0,,HLOOKUP(E$9,'Vol Calcs'!$1:$1048576,$A46+1,FALSE))","v":0},{"$f":"IF($A46=0,,HLOOKUP(F$9,'Vol Calcs'!$1:$1048576,$A46+1,FALSE))","v":0},{"$f":"IF($A46=0,,HLOOKUP(G$9,'Vol Calcs'!$1:$1048576,$A46+1,FALSE))","v":0},{"$f":"IF($A46=0,,HLOOKUP(H$9,'Vol Calcs'!$1:$1048576,$A46+1,FALSE))","v":0},{"$f":"IF($A46=0,,HLOOKUP(I$9,'Vol Calcs'!$1:$1048576,$A46+1,FALSE))","v":0},{"$f":"IF($A46=0,,HLOOKUP(J$9,'Vol Calcs'!$1:$1048576,$A46+1,FALSE))","v":0}]
[{"$f":"IF('mnt Data'!A42=0,0,A46+1)","v":0},{"$f":"IF($A47=0,,HLOOKUP(B$9,'Vol Calcs'!$1:$1048576,$A47+1,FALSE))","v":0},{"$f":"IF($A47=0,,HLOOKUP(C$9,'Vol Calcs'!$1:$1048576,$A47+1,FALSE))","v":0},{"$f":"IF($A47=0,,HLOOKUP(D$9,'Vol Calcs'!$1:$1048576,$A47+1,FALSE))","v":0},{"$f":"IF($A47=0,,HLOOKUP(E$9,'Vol Calcs'!$1:$1048576,$A47+1,FALSE))","v":0},{"$f":"IF($A47=0,,HLOOKUP(F$9,'Vol Calcs'!$1:$1048576,$A47+1,FALSE))","v":0},{"$f":"IF($A47=0,,HLOOKUP(G$9,'Vol Calcs'!$1:$1048576,$A47+1,FALSE))","v":0},{"$f":"IF($A47=0,,HLOOKUP(H$9,'Vol Calcs'!$1:$1048576,$A47+1,FALSE))","v":0},{"$f":"IF($A47=0,,HLOOKUP(I$9,'Vol Calcs'!$1:$1048576,$A47+1,FALSE))","v":0},{"$f":"IF($A47=0,,HLOOKUP(J$9,'Vol Calcs'!$1:$1048576,$A47+1,FALSE))","v":0}]
[{"$f":"IF('mnt Data'!A43=0,0,A47+1)","v":0},{"$f":"IF($A48=0,,HLOOKUP(B$9,'Vol Calcs'!$1:$1048576,$A48+1,FALSE))","v":0},{"$f":"IF($A48=0,,HLOOKUP(C$9,'Vol Calcs'!$1:$1048576,$A48+1,FALSE))","v":0},{"$f":"IF($A48=0,,HLOOKUP(D$9,'Vol Calcs'!$1:$1048576,$A48+1,FALSE))","v":0},{"$f":"IF($A48=0,,HLOOKUP(E$9,'Vol Calcs'!$1:$1048576,$A48+1,FALSE))","v":0},{"$f":"IF($A48=0,,HLOOKUP(F$9,'Vol Calcs'!$1:$1048576,$A48+1,FALSE))","v":0},{"$f":"IF($A48=0,,HLOOKUP(G$9,'Vol Calcs'!$1:$1048576,$A48+1,FALSE))","v":0},{"$f":"IF($A48=0,,HLOOKUP(H$9,'Vol Calcs'!$1:$1048576,$A48+1,FALSE))","v":0},{"$f":"IF($A48=0,,HLOOKUP(I$9,'Vol Calcs'!$1:$1048576,$A48+1,FALSE))","v":0},{"$f":"IF($A48=0,,HLOOKUP(J$9,'Vol Calcs'!$1:$1048576,$A48+1,FALSE))","v":0}]
[{"$f":"IF('mnt Data'!A44=0,0,A48+1)","v":0},{"$f":"IF($A49=0,,HLOOKUP(B$9,'Vol Calcs'!$1:$1048576,$A49+1,FALSE))","v":0},{"$f":"IF($A49=0,,HLOOKUP(C$9,'Vol Calcs'!$1:$1048576,$A49+1,FALSE))","v":0},{"$f":"IF($A49=0,,HLOOKUP(D$9,'Vol Calcs'!$1:$1048576,$A49+1,FALSE))","v":0},{"$f":"IF($A49=0,,HLOOKUP(E$9,'Vol Calcs'!$1:$1048576,$A49+1,FALSE))","v":0},{"$f":"IF($A49=0,,HLOOKUP(F$9,'Vol Calcs'!$1:$1048576,$A49+1,FALSE))","v":0},{"$f":"IF($A49=0,,HLOOKUP(G$9,'Vol Calcs'!$1:$1048576,$A49+1,FALSE))","v":0},{"$f":"IF($A49=0,,HLOOKUP(H$9,'Vol Calcs'!$1:$1048576,$A49+1,FALSE))","v":0},{"$f":"IF($A49=0,,HLOOKUP(I$9,'Vol Calcs'!$1:$1048576,$A49+1,FALSE))","v":0},{"$f":"IF($A49=0,,HLOOKUP(J$9,'Vol Calcs'!$1:$1048576,$A49+1,FALSE))","v":0}]
[{"$f":"IF('mnt Data'!A45=0,0,A49+1)","v":0},{"$f":"IF($A50=0,,HLOOKUP(B$9,'Vol Calcs'!$1:$1048576,$A50+1,FALSE))","v":0},{"$f":"IF($A50=0,,HLOOKUP(C$9,'Vol Calcs'!$1:$1048576,$A50+1,FALSE))","v":0},{"$f":"IF($A50=0,,HLOOKUP(D$9,'Vol Calcs'!$1:$1048576,$A50+1,FALSE))","v":0},{"$f":"IF($A50=0,,HLOOKUP(E$9,'Vol Calcs'!$1:$1048576,$A50+1,FALSE))","v":0},{"$f":"IF($A50=0,,HLOOKUP(F$9,'Vol Calcs'!$1:$1048576,$A50+1,FALSE))","v":0},{"$f":"IF($A50=0,,HLOOKUP(G$9,'Vol Calcs'!$1:$1048576,$A50+1,FALSE))","v":0},{"$f":"IF($A50=0,,HLOOKUP(H$9,'Vol Calcs'!$1:$1048576,$A50+1,FALSE))","v":0},{"$f":"IF($A50=0,,HLOOKUP(I$9,'Vol Calcs'!$1:$1048576,$A50+1,FALSE))","v":0},{"$f":"IF($A50=0,,HLOOKUP(J$9,'Vol Calcs'!$1:$1048576,$A50+1,FALSE))","v":0}]
[{"$f":"IF('mnt Data'!A46=0,0,A50+1)","v":0},{"$f":"IF($A51=0,,HLOOKUP(B$9,'Vol Calcs'!$1:$1048576,$A51+1,FALSE))","v":0},{"$f":"IF($A51=0,,HLOOKUP(C$9,'Vol Calcs'!$1:$1048576,$A51+1,FALSE))","v":0},{"$f":"IF($A51=0,,HLOOKUP(D$9,'Vol Calcs'!$1:$1048576,$A51+1,FALSE))","v":0},{"$f":"IF($A51=0,,HLOOKUP(E$9,'Vol Calcs'!$1:$1048576,$A51+1,FALSE))","v":0},{"$f":"IF($A51=0,,HLOOKUP(F$9,'Vol Calcs'!$1:$1048576,$A51+1,FALSE))","v":0},{"$f":"IF($A51=0,,HLOOKUP(G$9,'Vol Calcs'!$1:$1048576,$A51+1,FALSE))","v":0},{"$f":"IF($A51=0,,HLOOKUP(H$9,'Vol Calcs'!$1:$1048576,$A51+1,FALSE))","v":0},{"$f":"IF($A51=0,,HLOOKUP(I$9,'Vol Calcs'!$1:$1048576,$A51+1,FALSE))","v":0},{"$f":"IF($A51=0,,HLOOKUP(J$9,'Vol Calcs'!$1:$1048576,$A51+1,FALSE))","v":0}]
[{"$f":"IF('mnt Data'!A47=0,0,A51+1)","v":0},{"$f":"IF($A52=0,,HLOOKUP(B$9,'Vol Calcs'!$1:$1048576,$A52+1,FALSE))","v":0},{"$f":"IF($A52=0,,HLOOKUP(C$9,'Vol Calcs'!$1:$1048576,$A52+1,FALSE))","v":0},{"$f":"IF($A52=0,,HLOOKUP(D$9,'Vol Calcs'!$1:$1048576,$A52+1,FALSE))","v":0},{"$f":"IF($A52=0,,HLOOKUP(E$9,'Vol Calcs'!$1:$1048576,$A52+1,FALSE))","v":0},{"$f":"IF($A52=0,,HLOOKUP(F$9,'Vol Calcs'!$1:$1048576,$A52+1,FALSE))","v":0},{"$f":"IF($A52=0,,HLOOKUP(G$9,'Vol Calcs'!$1:$1048576,$A52+1,FALSE))","v":0},{"$f":"IF($A52=0,,HLOOKUP(H$9,'Vol Calcs'!$1:$1048576,$A52+1,FALSE))","v":0},{"$f":"IF($A52=0,,HLOOKUP(I$9,'Vol Calcs'!$1:$1048576,$A52+1,FALSE))","v":0},{"$f":"IF($A52=0,,HLOOKUP(J$9,'Vol Calcs'!$1:$1048576,$A52+1,FALSE))","v":0}]
[{"$f":"IF('mnt Data'!A48=0,0,A52+1)","v":0},{"$f":"IF($A53=0,,HLOOKUP(B$9,'Vol Calcs'!$1:$1048576,$A53+1,FALSE))","v":0},{"$f":"IF($A53=0,,HLOOKUP(C$9,'Vol Calcs'!$1:$1048576,$A53+1,FALSE))","v":0},{"$f":"IF($A53=0,,HLOOKUP(D$9,'Vol Calcs'!$1:$1048576,$A53+1,FALSE))","v":0},{"$f":"IF($A53=0,,HLOOKUP(E$9,'Vol Calcs'!$1:$1048576,$A53+1,FALSE))","v":0},{"$f":"IF($A53=0,,HLOOKUP(F$9,'Vol Calcs'!$1:$1048576,$A53+1,FALSE))","v":0},{"$f":"IF($A53=0,,HLOOKUP(G$9,'Vol Calcs'!$1:$1048576,$A53+1,FALSE))","v":0},{"$f":"IF($A53=0,,HLOOKUP(H$9,'Vol Calcs'!$1:$1048576,$A53+1,FALSE))","v":0},{"$f":"IF($A53=0,,HLOOKUP(I$9,'Vol Calcs'!$1:$1048576,$A53+1,FALSE))","v":0},{"$f":"IF($A53=0,,HLOOKUP(J$9,'Vol Calcs'!$1:$1048576,$A53+1,FALSE))","v":0}]
[{"$f":"IF('mnt Data'!A49=0,0,A53+1)","v":0},{"$f":"IF($A54=0,,HLOOKUP(B$9,'Vol Calcs'!$1:$1048576,$A54+1,FALSE))","v":0},{"$f":"IF($A54=0,,HLOOKUP(C$9,'Vol Calcs'!$1:$1048576,$A54+1,FALSE))","v":0},{"$f":"IF($A54=0,,HLOOKUP(D$9,'Vol Calcs'!$1:$1048576,$A54+1,FALSE))","v":0},{"$f":"IF($A54=0,,HLOOKUP(E$9,'Vol Calcs'!$1:$1048576,$A54+1,FALSE))","v":0},{"$f":"IF($A54=0,,HLOOKUP(F$9,'Vol Calcs'!$1:$1048576,$A54+1,FALSE))","v":0},{"$f":"IF($A54=0,,HLOOKUP(G$9,'Vol Calcs'!$1:$1048576,$A54+1,FALSE))","v":0},{"$f":"IF($A54=0,,HLOOKUP(H$9,'Vol Calcs'!$1:$1048576,$A54+1,FALSE))","v":0},{"$f":"IF($A54=0,,HLOOKUP(I$9,'Vol Calcs'!$1:$1048576,$A54+1,FALSE))","v":0},{"$f":"IF($A54=0,,HLOOKUP(J$9,'Vol Calcs'!$1:$1048576,$A54+1,FALSE))","v":0}]
[{"$f":"IF('mnt Data'!A50=0,0,A54+1)","v":0},{"$f":"IF($A55=0,,HLOOKUP(B$9,'Vol Calcs'!$1:$1048576,$A55+1,FALSE))","v":0},{"$f":"IF($A55=0,,HLOOKUP(C$9,'Vol Calcs'!$1:$1048576,$A55+1,FALSE))","v":0},{"$f":"IF($A55=0,,HLOOKUP(D$9,'Vol Calcs'!$1:$1048576,$A55+1,FALSE))","v":0},{"$f":"IF($A55=0,,HLOOKUP(E$9,'Vol Calcs'!$1:$1048576,$A55+1,FALSE))","v":0},{"$f":"IF($A55=0,,HLOOKUP(F$9,'Vol Calcs'!$1:$1048576,$A55+1,FALSE))","v":0},{"$f":"IF($A55=0,,HLOOKUP(G$9,'Vol Calcs'!$1:$1048576,$A55+1,FALSE))","v":0},{"$f":"IF($A55=0,,HLOOKUP(H$9,'Vol Calcs'!$1:$1048576,$A55+1,FALSE))","v":0},{"$f":"IF($A55=0,,HLOOKUP(I$9,'Vol Calcs'!$1:$1048576,$A55+1,FALSE))","v":0},{"$f":"IF($A55=0,,HLOOKUP(J$9,'Vol Calcs'!$1:$1048576,$A55+1,FALSE))","v":0}]

{"sheet":"mnt Data","index":1,"n_rows":0,"n_cols":0,"rows_kept":0,"cut":false,"hidden":false,"merged":[]}

{"sheet":"Vol Calcs","index":2,"n_rows":502,"n_cols":51,"rows_kept":502,"cut":false,"hidden":true,"merged":[]}
["Test No:","Ws","Ww","Vs","Vw","Va","Vv","Degree of Sat","Porosity","Void Ratio","D Rel","Den Index","Pass/Fail",null,{"$f":"'mnt Data'!A4","v":0},{"$f":"'mnt Data'!B4","v":0},{"$f":"'mnt Data'!C4","v":0},{"$f":"'mnt Data'!D4","v":0},{"$f":"'mnt Data'!E4","v":0},{"$f":"'mnt Data'!F4","v":0},{"$f":"'mnt Data'!G4","v":0},{"$f":"'mnt Data'!H4","v":0},{"$f":"'mnt Data'!I4","v":0},{"$f":"'mnt Data'!J4","v":0},{"$f":"'mnt Data'!K4","v":0},{"$f":"'mnt Data'!L4","v":0},{"$f":"'mnt Data'!M4","v":0},{"$f":"'mnt Data'!N4","v":0},{"$f":"'mnt Data'!O4","v":0},{"$f":"'mnt Data'!P4","v":0},{"$f":"'mnt Data'!Q4","v":0},{"$f":"'mnt Data'!R4","v":0},{"$f":"'mnt Data'!S4","v":0},{"$f":"'mnt Data'!T4","v":0},{"$f":"'mnt Data'!U4","v":0},{"$f":"'mnt Data'!V4","v":0},{"$f":"'mnt Data'!W4","v":0},{"$f":"'mnt Data'!X4","v":0},{"$f":"'mnt Data'!Y4","v":0},{"$f":"'mnt Data'!Z4","v":0},{"$f":"'mnt Data'!AA4","v":0},{"$f":"'mnt Data'!AB4","v":0},{"$f":"'mnt Data'!AC4","v":0},{"$f":"'mnt Data'!AD4","v":0},{"$f":"'mnt Data'!AE4","v":0},{"$f":"'mnt Data'!AF4","v":0},{"$f":"'mnt Data'!AG4","v":0},{"$f":"'mnt Data'!AH4","v":0},{"$f":"'mnt Data'!AI4","v":0},{"$f":"'mnt Data'!AJ4","v":0},{"$f":"'mnt Data'!AK4","v":0}]
[1,{"$f":"O2","v":0},{"$f":"O2*(Q2/100)","v":0},{"$f":"IFERROR(B2/(Gs*(IF(O2>1000,998,62.4))),\"No Gs\")","v":"No Gs"},{"$f":"C2/(IF(O2>1000,998,62.4))","v":0},{"$f":"IFERROR(1-D2-E2,\"No Gs\")","v":"No Gs"},{"$f":"IFERROR(E2+F2,\"No Gs\")","v":"No Gs"},{"$f":"IFERROR(E2/G2,\"Gs is needed\")","v":"Gs is needed"},{"$f":"IFERROR(G2/1,\"Gs is needed\")","v":"Gs is needed"},{"$f":"IFERROR(G2/D2,\"Gs is needed\")","v":"Gs is needed"},{"$f":"IFERROR((100*(DMax*(O2-DMin))/(O2*(DMax-DMin))),\"Need Max and Min\")","v":"Need Max and Min"},{"$f":"IF(K2=\"Need Max and Min\",K2,(100*((O2-DMin)/(DMax-DMin))))","v":"Need Max and Min"},{"$f":"IF((Min+Max)=0,\"Need Max and Min Density\",IF(AND(S2>Min,S2<Max),\"Pass\",\"Fail\"))","v":"Fail"},null,{"$f":"'mnt Data'!A5","v":0},{"$f":"'mnt Data'!B5","v":0},{"$f":"'mnt Data'!C5","v":0},{"$f":"'mnt Data'!D5","v":0},{"$f":"'mnt Data'!E5","v":0},{"$f":"'mnt Data'!F5","v":0},{"$f":"'mnt Data'!G5","v":0},{"$f":"'mnt Data'!H5","v":0},{"$f":"'mnt Data'!I5","v":0},{"$f":"'mnt Data'!J5","v":0},{"$f":"'mnt Data'!K5","v":0},{"$f":"'mnt Data'!L5","v":0},{"$f":"'mnt Data'!M5","v":0},{"$f":"'mnt Data'!N5","v":0},{"$f":"'mnt Data'!O5","v":0},{"$f":"'mnt Data'!P5","v":0},{"$f":"'mnt Data'!Q5","v":0},{"$f":"'mnt Data'!R5","v":0},{"$f":"'mnt Data'!S5","v":0},{"$f":"'mnt Data'!T5","v":0},{"$f":"'mnt Data'!U5","v":0},{"$f":"'mnt Data'!V5","v":0},{"$f":"'mnt Data'!W5","v":0},{"$f":"'mnt Data'!X5","v":0},{"$f":"'mnt Data'!Y5","v":0},{"$f":"'mnt Data'!Z5","v":0},{"$f":"'mnt Data'!AA5","v":0},{"$f":"'mnt Data'!AB5","v":0},{"$f":"'mnt Data'!AC5","v":0},{"$f":"'mnt Data'!AD5","v":0},{"$f":"'mnt Data'!AE5","v":0},{"$f":"'mnt Data'!AF5","v":0},{"$f":"'mnt Data'!AG5","v":0},{"$f":"'mnt Data'!AH5","v":0},{"$f":"'mnt Data'!AI5","v":0},{"$f":"'mnt Data'!AJ5","v":0},{"$f":"'mnt Data'!AK5","v":0}]
[2,{"$f":"O3","v":0},{"$f":"O3*(Q3/100)","v":0},"No Gs",{"$f":"C3/(IF(O3>1000,998,62.4))","v":0},{"$f":"IFERROR(1-D3-E3,\"No Gs\")","v":"No Gs"},{"$f":"IFERROR(E3+F3,\"No Gs\")","v":"No Gs"},{"$f":"IFERROR(E3/G3,\"Gs is needed\")","v":"Gs is needed"},{"$f":"IFERROR(G3/1,\"Gs is needed\")","v":"Gs is needed"},{"$f":"IFERROR(G3/D3,\"Gs is needed\")","v":"Gs is needed"},{"$f":"IFERROR((100*(DMax*(O3-DMin))/(O3*(DMax-DMin))),\"Need Max and Min\")","v":"Need Max and Min"},"Need Max and Min","Fail",null,{"$f":"'mnt Data'!A6","v":0},{"$f":"'mnt Data'!B6","v":0},{"$f":"'mnt Data'!C6","v":0},{"$f":"'mnt Data'!D6","v":0},{"$f":"'mnt Data'!E6","v":0},{"$f":"'mnt Data'!F6","v":0},{"$f":"'mnt Data'!G6","v":0},{"$f":"'mnt Data'!H6","v":0},{"$f":"'mnt Data'!I6","v":0},{"$f":"'mnt Data'!J6","v":0},{"$f":"'mnt Data'!K6","v":0},{"$f":"'mnt Data'!L6","v":0},{"$f":"'mnt Data'!M6","v":0},{"$f":"'mnt Data'!N6","v":0},{"$f":"'mnt Data'!O6","v":0},{"$f":"'mnt Data'!P6","v":0},{"$f":"'mnt Data'!Q6","v":0},{"$f":"'mnt Data'!R6","v":0},{"$f":"'mnt Data'!S6","v":0},{"$f":"'mnt Data'!T6","v":0},{"$f":"'mnt Data'!U6","v":0},{"$f":"'mnt Data'!V6","v":0},{"$f":"'mnt Data'!W6","v":0},{"$f":"'mnt Data'!X6","v":0},{"$f":"'mnt Data'!Y6","v":0},{"$f":"'mnt Data'!Z6","v":0},{"$f":"'mnt Data'!AA6","v":0},{"$f":"'mnt Data'!AB6","v":0},{"$f":"'mnt Data'!AC6","v":0},{"$f":"'mnt Data'!AD6","v":0},{"$f":"'mnt Data'!AE6","v":0},{"$f":"'mnt Data'!AF6","v":0},{"$f":"'mnt Data'!AG6","v":0},{"$f":"'mnt Data'!AH6","v":0},{"$f":"'mnt Data'!AI6","v":0},{"$f":"'mnt Data'!AJ6","v":0},{"$f":"'mnt Data'!AK6","v":0}]
[3,{"$f":"O4","v":0},{"$f":"O4*(Q4/100)","v":0},"No Gs",0,"No Gs","No Gs",{"$f":"IFERROR(E4/G4,\"Gs is needed\")","v":"Gs is needed"},{"$f":"IFERROR(G4/1,\"Gs is needed\")","v":"Gs is needed"},{"$f":"IFERROR(G4/D4,\"Gs is needed\")","v":"Gs is needed"},{"$f":"IFERROR((100*(DMax*(O4-DMin))/(O4*(DMax-DMin))),\"Need Max and Min\")","v":"Need Max and Min"},"Need Max and Min","Fail",null,{"$f":"'mnt Data'!A7","v":0},{"$f":"'mnt Data'!B7","v":0},{"$f":"'mnt Data'!C7","v":0},{"$f":"'mnt Data'!D7","v":0},{"$f":"'mnt Data'!E7","v":0},{"$f":"'mnt Data'!F7","v":0},{"$f":"'mnt Data'!G7","v":0},{"$f":"'mnt Data'!H7","v":0},{"$f":"'mnt Data'!I7","v":0},{"$f":"'mnt Data'!J7","v":0},{"$f":"'mnt Data'!K7","v":0},{"$f":"'mnt Data'!L7","v":0},{"$f":"'mnt Data'!M7","v":0},{"$f":"'mnt Data'!N7","v":0},{"$f":"'mnt Data'!O7","v":0},{"$f":"'mnt Data'!P7","v":0},{"$f":"'mnt Data'!Q7","v":0},{"$f":"'mnt Data'!R7","v":0},{"$f":"'mnt Data'!S7","v":0},{"$f":"'mnt Data'!T7","v":0},{"$f":"'mnt Data'!U7","v":0},{"$f":"'mnt Data'!V7","v":0},{"$f":"'mnt Data'!W7","v":0},{"$f":"'mnt Data'!X7","v":0},{"$f":"'mnt Data'!Y7","v":0},{"$f":"'mnt Data'!Z7","v":0},{"$f":"'mnt Data'!AA7","v":0},{"$f":"'mnt Data'!AB7","v":0},{"$f":"'mnt Data'!AC7","v":0},{"$f":"'mnt Data'!AD7","v":0},{"$f":"'mnt Data'!AE7","v":0},{"$f":"'mnt Data'!AF7","v":0},{"$f":"'mnt Data'!AG7","v":0},{"$f":"'mnt Data'!AH7","v":0},{"$f":"'mnt Data'!AI7","v":0},{"$f":"'mnt Data'!AJ7","v":0},{"$f":"'mnt Data'!AK7","v":0}]
[4,{"$f":"O5","v":0},{"$f":"O5*(Q5/100)","v":0},"No Gs",0,"No Gs","No Gs",{"$f":"IFERROR(E5/G5,\"Gs is needed\")","v":"Gs is needed"},{"$f":"IFERROR(G5/1,\"Gs is needed\")","v":"Gs is needed"},{"$f":"IFERROR(G5/D5,\"Gs is needed\")","v":"Gs is needed"},{"$f":"IFERROR((100*(DMax*(O5-DMin))/(O5*(DMax-DMin))),\"Need Max and Min\")","v":"Need Max and Min"},"Need Max and Min","Fail",null,{"$f":"'mnt Data'!A8","v":0},{"$f":"'mnt Data'!B8","v":0},{"$f":"'mnt Data'!C8","v":0},{"$f":"'mnt Data'!D8","v":0},{"$f":"'mnt Data'!E8","v":0},{"$f":"'mnt Data'!F8","v":0},{"$f":"'mnt Data'!G8","v":0},{"$f":"'mnt Data'!H8","v":0},{"$f":"'mnt Data'!I8","v":0},{"$f":"'mnt Data'!J8","v":0},{"$f":"'mnt Data'!K8","v":0},{"$f":"'mnt Data'!L8","v":0},{"$f":"'mnt Data'!M8","v":0},{"$f":"'mnt Data'!N8","v":0},{"$f":"'mnt Data'!O8","v":0},{"$f":"'mnt Data'!P8","v":0},{"$f":"'mnt Data'!Q8","v":0},{"$f":"'mnt Data'!R8","v":0},{"$f":"'mnt Data'!S8","v":0},{"$f":"'mnt Data'!T8","v":0},{"$f":"'mnt Data'!U8","v":0},{"$f":"'mnt Data'!V8","v":0},{"$f":"'mnt Data'!W8","v":0},{"$f":"'mnt Data'!X8","v":0},{"$f":"'mnt Data'!Y8","v":0},{"$f":"'mnt Data'!Z8","v":0},{"$f":"'mnt Data'!AA8","v":0},{"$f":"'mnt Data'!AB8","v":0},{"$f":"'mnt Data'!AC8","v":0},{"$f":"'mnt Data'!AD8","v":0},{"$f":"'mnt Data'!AE8","v":0},{"$f":"'mnt Data'!AF8","v":0},{"$f":"'mnt Data'!AG8","v":0},{"$f":"'mnt Data'!AH8","v":0},{"$f":"'mnt Data'!AI8","v":0},{"$f":"'mnt Data'!AJ8","v":0},{"$f":"'mnt Data'!AK8","v":0}]
[5,{"$f":"O6","v":0},{"$f":"O6*(Q6/100)","v":0},"No Gs",0,"No Gs","No Gs",{"$f":"IFERROR(E6/G6,\"Gs is needed\")","v":"Gs is needed"},{"$f":"IFERROR(G6/1,\"Gs is needed\")","v":"Gs is needed"},{"$f":"IFERROR(G6/D6,\"Gs is needed\")","v":"Gs is needed"},{"$f":"IFERROR((100*(DMax*(O6-DMin))/(O6*(DMax-DMin))),\"Need Max and Min\")","v":"Need Max and Min"},"Need Max and Min","Fail",null,{"$f":"'mnt Data'!A9","v":0},{"$f":"'mnt Data'!B9","v":0},{"$f":"'mnt Data'!C9","v":0},{"$f":"'mnt Data'!D9","v":0},{"$f":"'mnt Data'!E9","v":0},{"$f":"'mnt Data'!F9","v":0},{"$f":"'mnt Data'!G9","v":0},{"$f":"'mnt Data'!H9","v":0},{"$f":"'mnt Data'!I9","v":0},{"$f":"'mnt Data'!J9","v":0},{"$f":"'mnt Data'!K9","v":0},{"$f":"'mnt Data'!L9","v":0},{"$f":"'mnt Data'!M9","v":0},{"$f":"'mnt Data'!N9","v":0},{"$f":"'mnt Data'!O9","v":0},{"$f":"'mnt Data'!P9","v":0},{"$f":"'mnt Data'!Q9","v":0},{"$f":"'mnt Data'!R9","v":0},{"$f":"'mnt Data'!S9","v":0},{"$f":"'mnt Data'!T9","v":0},{"$f":"'mnt Data'!U9","v":0},{"$f":"'mnt Data'!V9","v":0},{"$f":"'mnt Data'!W9","v":0},{"$f":"'mnt Data'!X9","v":0},{"$f":"'mnt Data'!Y9","v":0},{"$f":"'mnt Data'!Z9","v":0},{"$f":"'mnt Data'!AA9","v":0},{"$f":"'mnt Data'!AB9","v":0},{"$f":"'mnt Data'!AC9","v":0},{"$f":"'mnt Data'!AD9","v":0},{"$f":"'mnt Data'!AE9","v":0},{"$f":"'mnt Data'!AF9","v":0},{"$f":"'mnt Data'!AG9","v":0},{"$f":"'mnt Data'!AH9","v":0},{"$f":"'mnt Data'!AI9","v":0},{"$f":"'mnt Data'!AJ9","v":0},{"$f":"'mnt Data'!AK9","v":0}]
[6,0,0,"No Gs",0,"No Gs","No Gs","Gs is needed","Gs is needed","Gs is needed","Need Max and Min","Need Max and Min","Fail",null,{"$f":"'mnt Data'!A10","v":0},{"$f":"'mnt Data'!B10","v":0},{"$f":"'mnt Data'!C10","v":0},{"$f":"'mnt Data'!D10","v":0},{"$f":"'mnt Data'!E10","v":0},{"$f":"'mnt Data'!F10","v":0},{"$f":"'mnt Data'!G10","v":0},{"$f":"'mnt Data'!H10","v":0},{"$f":"'mnt Data'!I10","v":0},{"$f":"'mnt Data'!J10","v":0},{"$f":"'mnt Data'!K10","v":0},{"$f":"'mnt Data'!L10","v":0},{"$f":"'mnt Data'!M10","v":0},{"$f":"'mnt Data'!N10","v":0},{"$f":"'mnt Data'!O10","v":0},{"$f":"'mnt Data'!P10","v":0},{"$f":"'mnt Data'!Q10","v":0},{"$f":"'mnt Data'!R10","v":0},{"$f":"'mnt Data'!S10","v":0},{"$f":"'mnt Data'!T10","v":0},{"$f":"'mnt Data'!U10","v":0},{"$f":"'mnt Data'!V10","v":0},{"$f":"'mnt Data'!W10","v":0},{"$f":"'mnt Data'!X10","v":0},{"$f":"'mnt Data'!Y10","v":0},{"$f":"'mnt Data'!Z10","v":0},{"$f":"'mnt Data'!AA10","v":0},{"$f":"'mnt Data'!AB10","v":0},{"$f":"'mnt Data'!AC10","v":0},{"$f":"'mnt Data'!AD10","v":0},{"$f":"'mnt Data'!AE10","v":0},{"$f":"'mnt Data'!AF10","v":0},{"$f":"'mnt Data'!AG10","v":0},{"$f":"'mnt Data'!AH10","v":0},{"$f":"'mnt Data'!AI10","v":0},{"$f":"'mnt Data'!AJ10","v":0},{"$f":"'mnt Data'!AK10","v":0}]
[7,0,0,"No Gs",0,"No Gs","No Gs","Gs is needed","Gs is needed","Gs is needed","Need Max and Min","Need Max and Min","Fail",null,{"$f":"'mnt Data'!A11","v":0},{"$f":"'mnt Data'!B11","v":0},{"$f":"'mnt Data'!C11","v":0},{"$f":"'mnt Data'!D11","v":0},{"$f":"'mnt Data'!E11","v":0},{"$f":"'mnt Data'!F11","v":0},{"$f":"'mnt Data'!G11","v":0},{"$f":"'mnt Data'!H11","v":0},{"$f":"'mnt Data'!I11","v":0},{"$f":"'mnt Data'!J11","v":0},{"$f":"'mnt Data'!K11","v":0},{"$f":"'mnt Data'!L11","v":0},{"$f":"'mnt Data'!M11","v":0},{"$f":"'mnt Data'!N11","v":0},{"$f":"'mnt Data'!O11","v":0},{"$f":"'mnt Data'!P11","v":0},{"$f":"'mnt Data'!Q11","v":0},{"$f":"'mnt Data'!R11","v":0},{"$f":"'mnt Data'!S11","v":0},{"$f":"'mnt Data'!T11","v":0},{"$f":"'mnt Data'!U11","v":0},{"$f":"'mnt Data'!V11","v":0},{"$f":"'mnt Data'!W11","v":0},{"$f":"'mnt Data'!X11","v":0},{"$f":"'mnt Data'!Y11","v":0},{"$f":"'mnt Data'!Z11","v":0},{"$f":"'mnt Data'!AA11","v":0},{"$f":"'mnt Data'!AB11","v":0},{"$f":"'mnt Data'!AC11","v":0},{"$f":"'mnt Data'!AD11","v":0},{"$f":"'mnt Data'!AE11","v":0},{"$f":"'mnt Data'!AF11","v":0},{"$f":"'mnt Data'!AG11","v":0},{"$f":"'mnt Data'!AH11","v":0},{"$f":"'mnt Data'!AI11","v":0},{"$f":"'mnt Data'!AJ11","v":0},{"$f":"'mnt Data'!AK11","v":0}]
[8,0,0,"No Gs",0,"No Gs","No Gs","Gs is needed","Gs is needed","Gs is needed","Need Max and Min","Need Max and Min","Fail",null,{"$f":"'mnt Data'!A12","v":0},{"$f":"'mnt Data'!B12","v":0},{"$f":"'mnt Data'!C12","v":0},{"$f":"'mnt Data'!D12","v":0},{"$f":"'mnt Data'!E12","v":0},{"$f":"'mnt Data'!F12","v":0},{"$f":"'mnt Data'!G12","v":0},{"$f":"'mnt Data'!H12","v":0},{"$f":"'mnt Data'!I12","v":0},{"$f":"'mnt Data'!J12","v":0},{"$f":"'mnt Data'!K12","v":0},{"$f":"'mnt Data'!L12","v":0},{"$f":"'mnt Data'!M12","v":0},{"$f":"'mnt Data'!N12","v":0},{"$f":"'mnt Data'!O12","v":0},{"$f":"'mnt Data'!P12","v":0},{"$f":"'mnt Data'!Q12","v":0},{"$f":"'mnt Data'!R12","v":0},{"$f":"'mnt Data'!S12","v":0},{"$f":"'mnt Data'!T12","v":0},{"$f":"'mnt Data'!U12","v":0},{"$f":"'mnt Data'!V12","v":0},{"$f":"'mnt Data'!W12","v":0},{"$f":"'mnt Data'!X12","v":0},{"$f":"'mnt Data'!Y12","v":0},{"$f":"'mnt Data'!Z12","v":0},{"$f":"'mnt Data'!AA12","v":0},{"$f":"'mnt Data'!AB12","v":0},{"$f":"'mnt Data'!AC12","v":0},{"$f":"'mnt Data'!AD12","v":0},{"$f":"'mnt Data'!AE12","v":0},{"$f":"'mnt Data'!AF12","v":0},{"$f":"'mnt Data'!AG12","v":0},{"$f":"'mnt Data'!AH12","v":0},{"$f":"'mnt Data'!AI12","v":0},{"$f":"'mnt Data'!AJ12","v":0},{"$f":"'mnt Data'!AK12","v":0}]
[9,0,0,"No Gs",0,"No Gs","No Gs","Gs is needed","Gs is needed","Gs is needed","Need Max and Min","Need Max and Min","Fail",null,{"$f":"'mnt Data'!A13","v":0},{"$f":"'mnt Data'!B13","v":0},{"$f":"'mnt Data'!C13","v":0},{"$f":"'mnt Data'!D13","v":0},{"$f":"'mnt Data'!E13","v":0},{"$f":"'mnt Data'!F13","v":0},{"$f":"'mnt Data'!G13","v":0},{"$f":"'mnt Data'!H13","v":0},{"$f":"'mnt Data'!I13","v":0},{"$f":"'mnt Data'!J13","v":0},{"$f":"'mnt Data'!K13","v":0},{"$f":"'mnt Data'!L13","v":0},{"$f":"'mnt Data'!M13","v":0},{"$f":"'mnt Data'!N13","v":0},{"$f":"'mnt Data'!O13","v":0},{"$f":"'mnt Data'!P13","v":0},{"$f":"'mnt Data'!Q13","v":0},{"$f":"'mnt Data'!R13","v":0},{"$f":"'mnt Data'!S13","v":0},{"$f":"'mnt Data'!T13","v":0},{"$f":"'mnt Data'!U13","v":0},{"$f":"'mnt Data'!V13","v":0},{"$f":"'mnt Data'!W13","v":0},{"$f":"'mnt Data'!X13","v":0},{"$f":"'mnt Data'!Y13","v":0},{"$f":"'mnt Data'!Z13","v":0},{"$f":"'mnt Data'!AA13","v":0},{"$f":"'mnt Data'!AB13","v":0},{"$f":"'mnt Data'!AC13","v":0},{"$f":"'mnt Data'!AD13","v":0},{"$f":"'mnt Data'!AE13","v":0},{"$f":"'mnt Data'!AF13","v":0},{"$f":"'mnt Data'!AG13","v":0},{"$f":"'mnt Data'!AH13","v":0},{"$f":"'mnt Data'!AI13","v":0},{"$f":"'mnt Data'!AJ13","v":0},{"$f":"'mnt Data'!AK13","v":0}]
[10,0,0,"No Gs",0,"No Gs","No Gs","Gs is needed","Gs is needed","Gs is needed","Need Max and Min","Need Max and Min","Fail",null,{"$f":"'mnt Data'!A14","v":0},{"$f":"'mnt Data'!B14","v":0},{"$f":"'mnt Data'!C14","v":0},{"$f":"'mnt Data'!D14","v":0},{"$f":"'mnt Data'!E14","v":0},{"$f":"'mnt Data'!F14","v":0},{"$f":"'mnt Data'!G14","v":0},{"$f":"'mnt Data'!H14","v":0},{"$f":"'mnt Data'!I14","v":0},{"$f":"'mnt Data'!J14","v":0},{"$f":"'mnt Data'!K14","v":0},{"$f":"'mnt Data'!L14","v":0},{"$f":"'mnt Data'!M14","v":0},{"$f":"'mnt Data'!N14","v":0},{"$f":"'mnt Data'!O14","v":0},{"$f":"'mnt Data'!P14","v":0},{"$f":"'mnt Data'!Q14","v":0},{"$f":"'mnt Data'!R14","v":0},{"$f":"'mnt Data'!S14","v":0},{"$f":"'mnt Data'!T14","v":0},{"$f":"'mnt Data'!U14","v":0},{"$f":"'mnt Data'!V14","v":0},{"$f":"'mnt Data'!W14","v":0},{"$f":"'mnt Data'!X14","v":0},{"$f":"'mnt Data'!Y14","v":0},{"$f":"'mnt Data'!Z14","v":0},{"$f":"'mnt Data'!AA14","v":0},{"$f":"'mnt Data'!AB14","v":0},{"$f":"'mnt Data'!AC14","v":0},{"$f":"'mnt Data'!AD14","v":0},{"$f":"'mnt Data'!AE14","v":0},{"$f":"'mnt Data'!AF14","v":0},{"$f":"'mnt Data'!AG14","v":0},{"$f":"'mnt Data'!AH14","v":0},{"$f":"'mnt Data'!AI14","v":0},{"$f":"'mnt Data'!AJ14","v":0},{"$f":"'mnt Data'!AK14","v":0}]
[11,0,0,"No Gs",0,"No Gs","No Gs","Gs is needed","Gs is needed","Gs is needed","Need Max and Min","Need Max and Min","Fail",null,{"$f":"'mnt Data'!A15","v":0},{"$f":"'mnt Data'!B15","v":0},{"$f":"'mnt Data'!C15","v":0},{"$f":"'mnt Data'!D15","v":0},{"$f":"'mnt Data'!E15","v":0},{"$f":"'mnt Data'!F15","v":0},{"$f":"'mnt Data'!G15","v":0},{"$f":"'mnt Data'!H15","v":0},{"$f":"'mnt Data'!I15","v":0},{"$f":"'mnt Data'!J15","v":0},{"$f":"'mnt Data'!K15","v":0},{"$f":"'mnt Data'!L15","v":0},{"$f":"'mnt Data'!M15","v":0},{"$f":"'mnt Data'!N15","v":0},{"$f":"'mnt Data'!O15","v":0},{"$f":"'mnt Data'!P15","v":0},{"$f":"'mnt Data'!Q15","v":0},{"$f":"'mnt Data'!R15","v":0},{"$f":"'mnt Data'!S15","v":0},{"$f":"'mnt Data'!T15","v":0},{"$f":"'mnt Data'!U15","v":0},{"$f":"'mnt Data'!V15","v":0},{"$f":"'mnt Data'!W15","v":0},{"$f":"'mnt Data'!X15","v":0},{"$f":"'mnt Data'!Y15","v":0},{"$f":"'mnt Data'!Z15","v":0},{"$f":"'mnt Data'!AA15","v":0},{"$f":"'mnt Data'!AB15","v":0},{"$f":"'mnt Data'!AC15","v":0},{"$f":"'mnt Data'!AD15","v":0},{"$f":"'mnt Data'!AE15","v":0},{"$f":"'mnt Data'!AF15","v":0},{"$f":"'mnt Data'!AG15","v":0},{"$f":"'mnt Data'!AH15","v":0},{"$f":"'mnt Data'!AI15","v":0},{"$f":"'mnt Data'!AJ15","v":0},{"$f":"'mnt Data'!AK15","v":0}]
[12,0,0,"No Gs",0,"No Gs","No Gs","Gs is needed","Gs is needed","Gs is needed","Need Max and Min","Need Max and Min","Fail",null,{"$f":"'mnt Data'!A16","v":0},{"$f":"'mnt Data'!B16","v":0},{"$f":"'mnt Data'!C16","v":0},{"$f":"'mnt Data'!D16","v":0},{"$f":"'mnt Data'!E16","v":0},{"$f":"'mnt Data'!F16","v":0},{"$f":"'mnt Data'!G16","v":0},{"$f":"'mnt Data'!H16","v":0},{"$f":"'mnt Data'!I16","v":0},{"$f":"'mnt Data'!J16","v":0},{"$f":"'mnt Data'!K16","v":0},{"$f":"'mnt Data'!L16","v":0},{"$f":"'mnt Data'!M16","v":0},{"$f":"'mnt Data'!N16","v":0},{"$f":"'mnt Data'!O16","v":0},{"$f":"'mnt Data'!P16","v":0},{"$f":"'mnt Data'!Q16","v":0},{"$f":"'mnt Data'!R16","v":0},{"$f":"'mnt Data'!S16","v":0},{"$f":"'mnt Data'!T16","v":0},{"$f":"'mnt Data'!U16","v":0},{"$f":"'mnt Data'!V16","v":0},{"$f":"'mnt Data'!W16","v":0},{"$f":"'mnt Data'!X16","v":0},{"$f":"'mnt Data'!Y16","v":0},{"$f":"'mnt Data'!Z16","v":0},{"$f":"'mnt Data'!AA16","v":0},{"$f":"'mnt Data'!AB16","v":0},{"$f":"'mnt Data'!AC16","v":0},{"$f":"'mnt Data'!AD16","v":0},{"$f":"'mnt Data'!AE16","v":0},{"$f":"'mnt Data'!AF16","v":0},{"$f":"'mnt Data'!AG16","v":0},{"$f":"'mnt Data'!AH16","v":0},{"$f":"'mnt Data'!AI16","v":0},{"$f":"'mnt Data'!AJ16","v":0},{"$f":"'mnt Data'!AK16","v":0}]
[13,0,0,"No Gs",0,"No Gs","No Gs","Gs is needed","Gs is needed","Gs is needed","Need Max and Min","Need Max and Min","Fail",null,{"$f":"'mnt Data'!A17","v":0},{"$f":"'mnt Data'!B17","v":0},{"$f":"'mnt Data'!C17","v":0},{"$f":"'mnt Data'!D17","v":0},{"$f":"'mnt Data'!E17","v":0},{"$f":"'mnt Data'!F17","v":0},{"$f":"'mnt Data'!G17","v":0},{"$f":"'mnt Data'!H17","v":0},{"$f":"'mnt Data'!I17","v":0},{"$f":"'mnt Data'!J17","v":0},{"$f":"'mnt Data'!K17","v":0},{"$f":"'mnt Data'!L17","v":0},{"$f":"'mnt Data'!M17","v":0},{"$f":"'mnt Data'!N17","v":0},{"$f":"'mnt Data'!O17","v":0},{"$f":"'mnt Data'!P17","v":0},{"$f":"'mnt Data'!Q17","v":0},{"$f":"'mnt Data'!R17","v":0},{"$f":"'mnt Data'!S17","v":0},{"$f":"'mnt Data'!T17","v":0},{"$f":"'mnt Data'!U17","v":0},{"$f":"'mnt Data'!V17","v":0},{"$f":"'mnt Data'!W17","v":0},{"$f":"'mnt Data'!X17","v":0},{"$f":"'mnt Data'!Y17","v":0},{"$f":"'mnt Data'!Z17","v":0},{"$f":"'mnt Data'!AA17","v":0},{"$f":"'mnt Data'!AB17","v":0},{"$f":"'mnt Data'!AC17","v":0},{"$f":"'mnt Data'!AD17","v":0},{"$f":"'mnt Data'!AE17","v":0},{"$f":"'mnt Data'!AF17","v":0},{"$f":"'mnt Data'!AG17","v":0},{"$f":"'mnt Data'!AH17","v":0},{"$f":"'mnt Data'!AI17","v":0},{"$f":"'mnt Data'!AJ17","v":0},{"$f":"'mnt Data'!AK17","v":0}]
[14,0,0,"No Gs",0,"No Gs","No Gs","Gs is needed","Gs is needed","Gs is needed","Need Max and Min","Need Max and Min","Fail",null,{"$f":"'mnt Data'!A18","v":0},{"$f":"'mnt Data'!B18","v":0},{"$f":"'mnt Data'!C18","v":0},{"$f":"'mnt Data'!D18","v":0},{"$f":"'mnt Data'!E18","v":0},{"$f":"'mnt Data'!F18","v":0},{"$f":"'mnt Data'!G18","v":0},{"$f":"'mnt Data'!H18","v":0},{"$f":"'mnt Data'!I18","v":0},{"$f":"'mnt Data'!J18","v":0},{"$f":"'mnt Data'!K18","v":0},{"$f":"'mnt Data'!L18","v":0},{"$f":"'mnt Data'!M18","v":0},{"$f":"'mnt Data'!N18","v":0},{"$f":"'mnt Data'!O18","v":0},{"$f":"'mnt Data'!P18","v":0},{"$f":"'mnt Data'!Q18","v":0},{"$f":"'mnt Data'!R18","v":0},{"$f":"'mnt Data'!S18","v":0},{"$f":"'mnt Data'!T18","v":0},{"$f":"'mnt Data'!U18","v":0},{"$f":"'mnt Data'!V18","v":0},{"$f":"'mnt Data'!W18","v":0},{"$f":"'mnt Data'!X18","v":0},{"$f":"'mnt Data'!Y18","v":0},{"$f":"'mnt Data'!Z18","v":0},{"$f":"'mnt Data'!AA18","v":0},{"$f":"'mnt Data'!AB18","v":0},{"$f":"'mnt Data'!AC18","v":0},{"$f":"'mnt Data'!AD18","v":0},{"$f":"'mnt Data'!AE18","v":0},{"$f":"'mnt Data'!AF18","v":0},{"$f":"'mnt Data'!AG18","v":0},{"$f":"'mnt Data'!AH18","v":0},{"$f":"'mnt Data'!AI18","v":0},{"$f":"'mnt Data'!AJ18","v":0},{"$f":"'mnt Data'!AK18","v":0}]
[15,0,0,"No Gs",0,"No Gs","No Gs","Gs is needed","Gs is needed","Gs is needed","Need Max and Min","Need Max and Min","Fail",null,{"$f":"'mnt Data'!A19","v":0},{"$f":"'mnt Data'!B19","v":0},{"$f":"'mnt Data'!C19","v":0},{"$f":"'mnt Data'!D19","v":0},{"$f":"'mnt Data'!E19","v":0},{"$f":"'mnt Data'!F19","v":0},{"$f":"'mnt Data'!G19","v":0},{"$f":"'mnt Data'!H19","v":0},{"$f":"'mnt Data'!I19","v":0},{"$f":"'mnt Data'!J19","v":0},{"$f":"'mnt Data'!K19","v":0},{"$f":"'mnt Data'!L19","v":0},{"$f":"'mnt Data'!M19","v":0},{"$f":"'mnt Data'!N19","v":0},{"$f":"'mnt Data'!O19","v":0},{"$f":"'mnt Data'!P19","v":0},{"$f":"'mnt Data'!Q19","v":0},{"$f":"'mnt Data'!R19","v":0},{"$f":"'mnt Data'!S19","v":0},{"$f":"'mnt Data'!T19","v":0},{"$f":"'mnt Data'!U19","v":0},{"$f":"'mnt Data'!V19","v":0},{"$f":"'mnt Data'!W19","v":0},{"$f":"'mnt Data'!X19","v":0},{"$f":"'mnt Data'!Y19","v":0},{"$f":"'mnt Data'!Z19","v":0},{"$f":"'mnt Data'!AA19","v":0},{"$f":"'mnt Data'!AB19","v":0},{"$f":"'mnt Data'!AC19","v":0},{"$f":"'mnt Data'!AD19","v":0},{"$f":"'mnt Data'!AE19","v":0},{"$f":"'mnt Data'!AF19","v":0},{"$f":"'mnt Data'!AG19","v":0},{"$f":"'mnt Data'!AH19","v":0},{"$f":"'mnt Data'!AI19","v":0},{"$f":"'mnt Data'!AJ19","v":0},{"$f":"'mnt Data'!AK19","v":0}]
[16,0,0,"No Gs",0,"No Gs","No Gs","Gs is needed","Gs is needed","Gs is needed","Need Max and Min","Need Max and Min","Fail",null,{"$f":"'mnt Data'!A20","v":0},{"$f":"'mnt Data'!B20","v":0},{"$f":"'mnt Data'!C20","v":0},{"$f":"'mnt Data'!D20","v":0},{"$f":"'mnt Data'!E20","v":0},{"$f":"'mnt Data'!F20","v":0},{"$f":"'mnt Data'!G20","v":0},{"$f":"'mnt Data'!H20","v":0},{"$f":"'mnt Data'!I20","v":0},{"$f":"'mnt Data'!J20","v":0},{"$f":"'mnt Data'!K20","v":0},{"$f":"'mnt Data'!L20","v":0},{"$f":"'mnt Data'!M20","v":0},{"$f":"'mnt Data'!N20","v":0},{"$f":"'mnt Data'!O20","v":0},{"$f":"'mnt Data'!P20","v":0},{"$f":"'mnt Data'!Q20","v":0},{"$f":"'mnt Data'!R20","v":0},{"$f":"'mnt Data'!S20","v":0},{"$f":"'mnt Data'!T20","v":0},{"$f":"'mnt Data'!U20","v":0},{"$f":"'mnt Data'!V20","v":0},{"$f":"'mnt Data'!W20","v":0},{"$f":"'mnt Data'!X20","v":0},{"$f":"'mnt Data'!Y20","v":0},{"$f":"'mnt Data'!Z20","v":0},{"$f":"'mnt Data'!AA20","v":0},{"$f":"'mnt Data'!AB20","v":0},{"$f":"'mnt Data'!AC20","v":0},{"$f":"'mnt Data'!AD20","v":0},{"$f":"'mnt Data'!AE20","v":0},{"$f":"'mnt Data'!AF20","v":0},{"$f":"'mnt Data'!AG20","v":0},{"$f":"'mnt Data'!AH20","v":0},{"$f":"'mnt Data'!AI20","v":0},{"$f":"'mnt Data'!AJ20","v":0},{"$f":"'mnt Data'!AK20","v":0}]
[17,0,0,"No Gs",0,"No Gs","No Gs","Gs is needed","Gs is needed","Gs is needed","Need Max and Min","Need Max and Min","Fail",null,{"$f":"'mnt Data'!A21","v":0},{"$f":"'mnt Data'!B21","v":0},{"$f":"'mnt Data'!C21","v":0},{"$f":"'mnt Data'!D21","v":0},{"$f":"'mnt Data'!E21","v":0},{"$f":"'mnt Data'!F21","v":0},{"$f":"'mnt Data'!G21","v":0},{"$f":"'mnt Data'!H21","v":0},{"$f":"'mnt Data'!I21","v":0},{"$f":"'mnt Data'!J21","v":0},{"$f":"'mnt Data'!K21","v":0},{"$f":"'mnt Data'!L21","v":0},{"$f":"'mnt Data'!M21","v":0},{"$f":"'mnt Data'!N21","v":0},{"$f":"'mnt Data'!O21","v":0},{"$f":"'mnt Data'!P21","v":0},{"$f":"'mnt Data'!Q21","v":0},{"$f":"'mnt Data'!R21","v":0},{"$f":"'mnt Data'!S21","v":0},{"$f":"'mnt Data'!T21","v":0},{"$f":"'mnt Data'!U21","v":0},{"$f":"'mnt Data'!V21","v":0},{"$f":"'mnt Data'!W21","v":0},{"$f":"'mnt Data'!X21","v":0},{"$f":"'mnt Data'!Y21","v":0},{"$f":"'mnt Data'!Z21","v":0},{"$f":"'mnt Data'!AA21","v":0},{"$f":"'mnt Data'!AB21","v":0},{"$f":"'mnt Data'!AC21","v":0},{"$f":"'mnt Data'!AD21","v":0},{"$f":"'mnt Data'!AE21","v":0},{"$f":"'mnt Data'!AF21","v":0},{"$f":"'mnt Data'!AG21","v":0},{"$f":"'mnt Data'!AH21","v":0},{"$f":"'mnt Data'!AI21","v":0},{"$f":"'mnt Data'!AJ21","v":0},{"$f":"'mnt Data'!AK21","v":0}]
[18,0,0,"No Gs",0,"No Gs","No Gs","Gs is needed","Gs is needed","Gs is needed","Need Max and Min","Need Max and Min","Fail",null,{"$f":"'mnt Data'!A22","v":0},{"$f":"'mnt Data'!B22","v":0},{"$f":"'mnt Data'!C22","v":0},{"$f":"'mnt Data'!D22","v":0},{"$f":"'mnt Data'!E22","v":0},{"$f":"'mnt Data'!F22","v":0},{"$f":"'mnt Data'!G22","v":0},{"$f":"'mnt Data'!H22","v":0},{"$f":"'mnt Data'!I22","v":0},{"$f":"'mnt Data'!J22","v":0},{"$f":"'mnt Data'!K22","v":0},{"$f":"'mnt Data'!L22","v":0},{"$f":"'mnt Data'!M22","v":0},{"$f":"'mnt Data'!N22","v":0},{"$f":"'mnt Data'!O22","v":0},{"$f":"'mnt Data'!P22","v":0},{"$f":"'mnt Data'!Q22","v":0},{"$f":"'mnt Data'!R22","v":0},{"$f":"'mnt Data'!S22","v":0},{"$f":"'mnt Data'!T22","v":0},{"$f":"'mnt Data'!U22","v":0},{"$f":"'mnt Data'!V22","v":0},{"$f":"'mnt Data'!W22","v":0},{"$f":"'mnt Data'!X22","v":0},{"$f":"'mnt Data'!Y22","v":0},{"$f":"'mnt Data'!Z22","v":0},{"$f":"'mnt Data'!AA22","v":0},{"$f":"'mnt Data'!AB22","v":0},{"$f":"'mnt Data'!AC22","v":0},{"$f":"'mnt Data'!AD22","v":0},{"$f":"'mnt Data'!AE22","v":0},{"$f":"'mnt Data'!AF22","v":0},{"$f":"'mnt Data'!AG22","v":0},{"$f":"'mnt Data'!AH22","v":0},{"$f":"'mnt Data'!AI22","v":0},{"$f":"'mnt Data'!AJ22","v":0},{"$f":"'mnt Data'!AK22","v":0}]
[19,0,0,"No Gs",0,"No Gs","No Gs","Gs is needed","Gs is needed","Gs is needed","Need Max and Min","Need Max and Min","Fail",null,{"$f":"'mnt Data'!A23","v":0},{"$f":"'mnt Data'!B23","v":0},{"$f":"'mnt Data'!C23","v":0},{"$f":"'mnt Data'!D23","v":0},{"$f":"'mnt Data'!E23","v":0},{"$f":"'mnt Data'!F23","v":0},{"$f":"'mnt Data'!G23","v":0},{"$f":"'mnt Data'!H23","v":0},{"$f":"'mnt Data'!I23","v":0},{"$f":"'mnt Data'!J23","v":0},{"$f":"'mnt Data'!K23","v":0},{"$f":"'mnt Data'!L23","v":0},{"$f":"'mnt Data'!M23","v":0},{"$f":"'mnt Data'!N23","v":0},{"$f":"'mnt Data'!O23","v":0},{"$f":"'mnt Data'!P23","v":0},{"$f":"'mnt Data'!Q23","v":0},{"$f":"'mnt Data'!R23","v":0},{"$f":"'mnt Data'!S23","v":0},{"$f":"'mnt Data'!T23","v":0},{"$f":"'mnt Data'!U23","v":0},{"$f":"'mnt Data'!V23","v":0},{"$f":"'mnt Data'!W23","v":0},{"$f":"'mnt Data'!X23","v":0},{"$f":"'mnt Data'!Y23","v":0},{"$f":"'mnt Data'!Z23","v":0},{"$f":"'mnt Data'!AA23","v":0},{"$f":"'mnt Data'!AB23","v":0},{"$f":"'mnt Data'!AC23","v":0},{"$f":"'mnt Data'!AD23","v":0},{"$f":"'mnt Data'!AE23","v":0},{"$f":"'mnt Data'!AF23","v":0},{"$f":"'mnt Data'!AG23","v":0},{"$f":"'mnt Data'!AH23","v":0},{"$f":"'mnt Data'!AI23","v":0},{"$f":"'mnt Data'!AJ23","v":0},{"$f":"'mnt Data'!AK23","v":0}]
[20,0,0,"No Gs",0,"No Gs","No Gs","Gs is needed","Gs is needed","Gs is needed","Need Max and Min","Need Max and Min","Fail",null,{"$f":"'mnt Data'!A24","v":0},{"$f":"'mnt Data'!B24","v":0},{"$f":"'mnt Data'!C24","v":0},{"$f":"'mnt Data'!D24","v":0},{"$f":"'mnt Data'!E24","v":0},{"$f":"'mnt Data'!F24","v":0},{"$f":"'mnt Data'!G24","v":0},{"$f":"'mnt Data'!H24","v":0},{"$f":"'mnt Data'!I24","v":0},{"$f":"'mnt Data'!J24","v":0},{"$f":"'mnt Data'!K24","v":0},{"$f":"'mnt Data'!L24","v":0},{"$f":"'mnt Data'!M24","v":0},{"$f":"'mnt Data'!N24","v":0},{"$f":"'mnt Data'!O24","v":0},{"$f":"'mnt Data'!P24","v":0},{"$f":"'mnt Data'!Q24","v":0},{"$f":"'mnt Data'!R24","v":0},{"$f":"'mnt Data'!S24","v":0},{"$f":"'mnt Data'!T24","v":0},{"$f":"'mnt Data'!U24","v":0},{"$f":"'mnt Data'!V24","v":0},{"$f":"'mnt Data'!W24","v":0},{"$f":"'mnt Data'!X24","v":0},{"$f":"'mnt Data'!Y24","v":0},{"$f":"'mnt Data'!Z24","v":0},{"$f":"'mnt Data'!AA24","v":0},{"$f":"'mnt Data'!AB24","v":0},{"$f":"'mnt Data'!AC24","v":0},{"$f":"'mnt Data'!AD24","v":0},{"$f":"'mnt Data'!AE24","v":0},{"$f":"'mnt Data'!AF24","v":0},{"$f":"'mnt Data'!AG24","v":0},{"$f":"'mnt Data'!AH24","v":0},{"$f":"'mnt Data'!AI24","v":0},{"$f":"'mnt Data'!AJ24","v":0},{"$f":"'mnt Data'!AK24","v":0}]
[21,0,0,"No Gs",0,"No Gs","No Gs","Gs is needed","Gs is needed","Gs is needed","Need Max and Min","Need Max and Min","Fail",null,{"$f":"'mnt Data'!A25","v":0},{"$f":"'mnt Data'!B25","v":0},{"$f":"'mnt Data'!C25","v":0},{"$f":"'mnt Data'!D25","v":0},{"$f":"'mnt Data'!E25","v":0},{"$f":"'mnt Data'!F25","v":0},{"$f":"'mnt Data'!G25","v":0},{"$f":"'mnt Data'!H25","v":0},{"$f":"'mnt Data'!I25","v":0},{"$f":"'mnt Data'!J25","v":0},{"$f":"'mnt Data'!K25","v":0},{"$f":"'mnt Data'!L25","v":0},{"$f":"'mnt Data'!M25","v":0},{"$f":"'mnt Data'!N25","v":0},{"$f":"'mnt Data'!O25","v":0},{"$f":"'mnt Data'!P25","v":0},{"$f":"'mnt Data'!Q25","v":0},{"$f":"'mnt Data'!R25","v":0},{"$f":"'mnt Data'!S25","v":0},{"$f":"'mnt Data'!T25","v":0},{"$f":"'mnt Data'!U25","v":0},{"$f":"'mnt Data'!V25","v":0},{"$f":"'mnt Data'!W25","v":0},{"$f":"'mnt Data'!X25","v":0},{"$f":"'mnt Data'!Y25","v":0},{"$f":"'mnt Data'!Z25","v":0},{"$f":"'mnt Data'!AA25","v":0},{"$f":"'mnt Data'!AB25","v":0},{"$f":"'mnt Data'!AC25","v":0},{"$f":"'mnt Data'!AD25","v":0},{"$f":"'mnt Data'!AE25","v":0},{"$f":"'mnt Data'!AF25","v":0},{"$f":"'mnt Data'!AG25","v":0},{"$f":"'mnt Data'!AH25","v":0},{"$f":"'mnt Data'!AI25","v":0},{"$f":"'mnt Data'!AJ25","v":0},{"$f":"'mnt Data'!AK25","v":0}]
[22,0,0,"No Gs",0,"No Gs","No Gs","Gs is needed","Gs is needed","Gs is needed","Need Max and Min","Need Max and Min","Fail",null,{"$f":"'mnt Data'!A26","v":0},{"$f":"'mnt Data'!B26","v":0},{"$f":"'mnt Data'!C26","v":0},{"$f":"'mnt Data'!D26","v":0},{"$f":"'mnt Data'!E26","v":0},{"$f":"'mnt Data'!F26","v":0},{"$f":"'mnt Data'!G26","v":0},{"$f":"'mnt Data'!H26","v":0},{"$f":"'mnt Data'!I26","v":0},{"$f":"'mnt Data'!J26","v":0},{"$f":"'mnt Data'!K26","v":0},{"$f":"'mnt Data'!L26","v":0},{"$f":"'mnt Data'!M26","v":0},{"$f":"'mnt Data'!N26","v":0},{"$f":"'mnt Data'!O26","v":0},{"$f":"'mnt Data'!P26","v":0},{"$f":"'mnt Data'!Q26","v":0},{"$f":"'mnt Data'!R26","v":0},{"$f":"'mnt Data'!S26","v":0},{"$f":"'mnt Data'!T26","v":0},{"$f":"'mnt Data'!U26","v":0},{"$f":"'mnt Data'!V26","v":0},{"$f":"'mnt Data'!W26","v":0},{"$f":"'mnt Data'!X26","v":0},{"$f":"'mnt Data'!Y26","v":0},{"$f":"'mnt Data'!Z26","v":0},{"$f":"'mnt Data'!AA26","v":0},{"$f":"'mnt Data'!AB26","v":0},{"$f":"'mnt Data'!AC26","v":0},{"$f":"'mnt Data'!AD26","v":0},{"$f":"'mnt Data'!AE26","v":0},{"$f":"'mnt Data'!AF26","v":0},{"$f":"'mnt Data'!AG26","v":0},{"$f":"'mnt Data'!AH26","v":0},{"$f":"'mnt Data'!AI26","v":0},{"$f":"'mnt Data'!AJ26","v":0},{"$f":"'mnt Data'!AK26","v":0}]
[23,0,0,"No Gs",0,"No Gs","No Gs","Gs is needed","Gs is needed","Gs is needed","Need Max and Min","Need Max and Min","Fail",null,{"$f":"'mnt Data'!A27","v":0},{"$f":"'mnt Data'!B27","v":0},{"$f":"'mnt Data'!C27","v":0},{"$f":"'mnt Data'!D27","v":0},{"$f":"'mnt Data'!E27","v":0},{"$f":"'mnt Data'!F27","v":0},{"$f":"'mnt Data'!G27","v":0},{"$f":"'mnt Data'!H27","v":0},{"$f":"'mnt Data'!I27","v":0},{"$f":"'mnt Data'!J27","v":0},{"$f":"'mnt Data'!K27","v":0},{"$f":"'mnt Data'!L27","v":0},{"$f":"'mnt Data'!M27","v":0},{"$f":"'mnt Data'!N27","v":0},{"$f":"'mnt Data'!O27","v":0},{"$f":"'mnt Data'!P27","v":0},{"$f":"'mnt Data'!Q27","v":0},{"$f":"'mnt Data'!R27","v":0},{"$f":"'mnt Data'!S27","v":0},{"$f":"'mnt Data'!T27","v":0},{"$f":"'mnt Data'!U27","v":0},{"$f":"'mnt Data'!V27","v":0},{"$f":"'mnt Data'!W27","v":0},{"$f":"'mnt Data'!X27","v":0},{"$f":"'mnt Data'!Y27","v":0},{"$f":"'mnt Data'!Z27","v":0},{"$f":"'mnt Data'!AA27","v":0},{"$f":"'mnt Data'!AB27","v":0},{"$f":"'mnt Data'!AC27","v":0},{"$f":"'mnt Data'!AD27","v":0},{"$f":"'mnt Data'!AE27","v":0},{"$f":"'mnt Data'!AF27","v":0},{"$f":"'mnt Data'!AG27","v":0},{"$f":"'mnt Data'!AH27","v":0},{"$f":"'mnt Data'!AI27","v":0},{"$f":"'mnt Data'!AJ27","v":0},{"$f":"'mnt Data'!AK27","v":0}]
[24,0,0,"No Gs",0,"No Gs","No Gs","Gs is needed","Gs is needed","Gs is needed","Need Max and Min","Need Max and Min","Fail",null,{"$f":"'mnt Data'!A28","v":0},{"$f":"'mnt Data'!B28","v":0},{"$f":"'mnt Data'!C28","v":0},{"$f":"'mnt Data'!D28","v":0},{"$f":"'mnt Data'!E28","v":0},{"$f":"'mnt Data'!F28","v":0},{"$f":"'mnt Data'!G28","v":0},{"$f":"'mnt Data'!H28","v":0},{"$f":"'mnt Data'!I28","v":0},{"$f":"'mnt Data'!J28","v":0},{"$f":"'mnt Data'!K28","v":0},{"$f":"'mnt Data'!L28","v":0},{"$f":"'mnt Data'!M28","v":0},{"$f":"'mnt Data'!N28","v":0},{"$f":"'mnt Data'!O28","v":0},{"$f":"'mnt Data'!P28","v":0},{"$f":"'mnt Data'!Q28","v":0},{"$f":"'mnt Data'!R28","v":0},{"$f":"'mnt Data'!S28","v":0},{"$f":"'mnt Data'!T28","v":0},{"$f":"'mnt Data'!U28","v":0},{"$f":"'mnt Data'!V28","v":0},{"$f":"'mnt Data'!W28","v":0},{"$f":"'mnt Data'!X28","v":0},{"$f":"'mnt Data'!Y28","v":0},{"$f":"'mnt Data'!Z28","v":0},{"$f":"'mnt Data'!AA28","v":0},{"$f":"'mnt Data'!AB28","v":0},{"$f":"'mnt Data'!AC28","v":0},{"$f":"'mnt Data'!AD28","v":0},{"$f":"'mnt Data'!AE28","v":0},{"$f":"'mnt Data'!AF28","v":0},{"$f":"'mnt Data'!AG28","v":0},{"$f":"'mnt Data'!AH28","v":0},{"$f":"'mnt Data'!AI28","v":0},{"$f":"'mnt Data'!AJ28","v":0},{"$f":"'mnt Data'!AK28","v":0}]
[25,0,0,"No Gs",0,"No Gs","No Gs","Gs is needed","Gs is needed","Gs is needed","Need Max and Min","Need Max and Min","Fail",null,{"$f":"'mnt Data'!A29","v":0},{"$f":"'mnt Data'!B29","v":0},{"$f":"'mnt Data'!C29","v":0},{"$f":"'mnt Data'!D29","v":0},{"$f":"'mnt Data'!E29","v":0},{"$f":"'mnt Data'!F29","v":0},{"$f":"'mnt Data'!G29","v":0},{"$f":"'mnt Data'!H29","v":0},{"$f":"'mnt Data'!I29","v":0},{"$f":"'mnt Data'!J29","v":0},{"$f":"'mnt Data'!K29","v":0},{"$f":"'mnt Data'!L29","v":0},{"$f":"'mnt Data'!M29","v":0},{"$f":"'mnt Data'!N29","v":0},{"$f":"'mnt Data'!O29","v":0},{"$f":"'mnt Data'!P29","v":0},{"$f":"'mnt Data'!Q29","v":0},{"$f":"'mnt Data'!R29","v":0},{"$f":"'mnt Data'!S29","v":0},{"$f":"'mnt Data'!T29","v":0},{"$f":"'mnt Data'!U29","v":0},{"$f":"'mnt Data'!V29","v":0},{"$f":"'mnt Data'!W29","v":0},{"$f":"'mnt Data'!X29","v":0},{"$f":"'mnt Data'!Y29","v":0},{"$f":"'mnt Data'!Z29","v":0},{"$f":"'mnt Data'!AA29","v":0},{"$f":"'mnt Data'!AB29","v":0},{"$f":"'mnt Data'!AC29","v":0},{"$f":"'mnt Data'!AD29","v":0},{"$f":"'mnt Data'!AE29","v":0},{"$f":"'mnt Data'!AF29","v":0},{"$f":"'mnt Data'!AG29","v":0},{"$f":"'mnt Data'!AH29","v":0},{"$f":"'mnt Data'!AI29","v":0},{"$f":"'mnt Data'!AJ29","v":0},{"$f":"'mnt Data'!AK29","v":0}]
[26,0,0,"No Gs",0,"No Gs","No Gs","Gs is needed","Gs is needed","Gs is needed","Need Max and Min","Need Max and Min","Fail",null,{"$f":"'mnt Data'!A30","v":0},{"$f":"'mnt Data'!B30","v":0},{"$f":"'mnt Data'!C30","v":0},{"$f":"'mnt Data'!D30","v":0},{"$f":"'mnt Data'!E30","v":0},{"$f":"'mnt Data'!F30","v":0},{"$f":"'mnt Data'!G30","v":0},{"$f":"'mnt Data'!H30","v":0},{"$f":"'mnt Data'!I30","v":0},{"$f":"'mnt Data'!J30","v":0},{"$f":"'mnt Data'!K30","v":0},{"$f":"'mnt Data'!L30","v":0},{"$f":"'mnt Data'!M30","v":0},{"$f":"'mnt Data'!N30","v":0},{"$f":"'mnt Data'!O30","v":0},{"$f":"'mnt Data'!P30","v":0},{"$f":"'mnt Data'!Q30","v":0},{"$f":"'mnt Data'!R30","v":0},{"$f":"'mnt Data'!S30","v":0},{"$f":"'mnt Data'!T30","v":0},{"$f":"'mnt Data'!U30","v":0},{"$f":"'mnt Data'!V30","v":0},{"$f":"'mnt Data'!W30","v":0},{"$f":"'mnt Data'!X30","v":0},{"$f":"'mnt Data'!Y30","v":0},{"$f":"'mnt Data'!Z30","v":0},{"$f":"'mnt Data'!AA30","v":0},{"$f":"'mnt Data'!AB30","v":0},{"$f":"'mnt Data'!AC30","v":0},{"$f":"'mnt Data'!AD30","v":0},{"$f":"'mnt Data'!AE30","v":0},{"$f":"'mnt Data'!AF30","v":0},{"$f":"'mnt Data'!AG30","v":0},{"$f":"'mnt Data'!AH30","v":0},{"$f":"'mnt Data'!AI30","v":0},{"$f":"'mnt Data'!AJ30","v":0},{"$f":"'mnt Data'!AK30","v":0}]
[27,0,0,"No Gs",0,"No Gs","No Gs","Gs is needed","Gs is needed","Gs is needed","Need Max and Min","Need Max and Min","Fail",null,{"$f":"'mnt Data'!A31","v":0},{"$f":"'mnt Data'!B31","v":0},{"$f":"'mnt Data'!C31","v":0},{"$f":"'mnt Data'!D31","v":0},{"$f":"'mnt Data'!E31","v":0},{"$f":"'mnt Data'!F31","v":0},{"$f":"'mnt Data'!G31","v":0},{"$f":"'mnt Data'!H31","v":0},{"$f":"'mnt Data'!I31","v":0},{"$f":"'mnt Data'!J31","v":0},{"$f":"'mnt Data'!K31","v":0},{"$f":"'mnt Data'!L31","v":0},{"$f":"'mnt Data'!M31","v":0},{"$f":"'mnt Data'!N31","v":0},{"$f":"'mnt Data'!O31","v":0},{"$f":"'mnt Data'!P31","v":0},{"$f":"'mnt Data'!Q31","v":0},{"$f":"'mnt Data'!R31","v":0},{"$f":"'mnt Data'!S31","v":0},{"$f":"'mnt Data'!T31","v":0},{"$f":"'mnt Data'!U31","v":0},{"$f":"'mnt Data'!V31","v":0},{"$f":"'mnt Data'!W31","v":0},{"$f":"'mnt Data'!X31","v":0},{"$f":"'mnt Data'!Y31","v":0},{"$f":"'mnt Data'!Z31","v":0},{"$f":"'mnt Data'!AA31","v":0},{"$f":"'mnt Data'!AB31","v":0},{"$f":"'mnt Data'!AC31","v":0},{"$f":"'mnt Data'!AD31","v":0},{"$f":"'mnt Data'!AE31","v":0},{"$f":"'mnt Data'!AF31","v":0},{"$f":"'mnt Data'!AG31","v":0},{"$f":"'mnt Data'!AH31","v":0},{"$f":"'mnt Data'!AI31","v":0},{"$f":"'mnt Data'!AJ31","v":0},{"$f":"'mnt Data'!AK31","v":0}]
[28,0,0,"No Gs",0,"No Gs","No Gs","Gs is needed","Gs is needed","Gs is needed","Need Max and Min","Need Max and Min","Fail",null,{"$f":"'mnt Data'!A32","v":0},{"$f":"'mnt Data'!B32","v":0},{"$f":"'mnt Data'!C32","v":0},{"$f":"'mnt Data'!D32","v":0},{"$f":"'mnt Data'!E32","v":0},{"$f":"'mnt Data'!F32","v":0},{"$f":"'mnt Data'!G32","v":0},{"$f":"'mnt Data'!H32","v":0},{"$f":"'mnt Data'!I32","v":0},{"$f":"'mnt Data'!J32","v":0},{"$f":"'mnt Data'!K32","v":0},{"$f":"'mnt Data'!L32","v":0},{"$f":"'mnt Data'!M32","v":0},{"$f":"'mnt Data'!N32","v":0},{"$f":"'mnt Data'!O32","v":0},{"$f":"'mnt Data'!P32","v":0},{"$f":"'mnt Data'!Q32","v":0},{"$f":"'mnt Data'!R32","v":0},{"$f":"'mnt Data'!S32","v":0},{"$f":"'mnt Data'!T32","v":0},{"$f":"'mnt Data'!U32","v":0},{"$f":"'mnt Data'!V32","v":0},{"$f":"'mnt Data'!W32","v":0},{"$f":"'mnt Data'!X32","v":0},{"$f":"'mnt Data'!Y32","v":0},{"$f":"'mnt Data'!Z32","v":0},{"$f":"'mnt Data'!AA32","v":0},{"$f":"'mnt Data'!AB32","v":0},{"$f":"'mnt Data'!AC32","v":0},{"$f":"'mnt Data'!AD32","v":0},{"$f":"'mnt Data'!AE32","v":0},{"$f":"'mnt Data'!AF32","v":0},{"$f":"'mnt Data'!AG32","v":0},{"$f":"'mnt Data'!AH32","v":0},{"$f":"'mnt Data'!AI32","v":0},{"$f":"'mnt Data'!AJ32","v":0},{"$f":"'mnt Data'!AK32","v":0}]
[29,0,0,"No Gs",0,"No Gs","No Gs","Gs is needed","Gs is needed","Gs is needed","Need Max and Min","Need Max and Min","Fail",null,{"$f":"'mnt Data'!A33","v":0},{"$f":"'mnt Data'!B33","v":0},{"$f":"'mnt Data'!C33","v":0},{"$f":"'mnt Data'!D33","v":0},{"$f":"'mnt Data'!E33","v":0},{"$f":"'mnt Data'!F33","v":0},{"$f":"'mnt Data'!G33","v":0},{"$f":"'mnt Data'!H33","v":0},{"$f":"'mnt Data'!I33","v":0},{"$f":"'mnt Data'!J33","v":0},{"$f":"'mnt Data'!K33","v":0},{"$f":"'mnt Data'!L33","v":0},{"$f":"'mnt Data'!M33","v":0},{"$f":"'mnt Data'!N33","v":0},{"$f":"'mnt Data'!O33","v":0},{"$f":"'mnt Data'!P33","v":0},{"$f":"'mnt Data'!Q33","v":0},{"$f":"'mnt Data'!R33","v":0},{"$f":"'mnt Data'!S33","v":0},{"$f":"'mnt Data'!T33","v":0},{"$f":"'mnt Data'!U33","v":0},{"$f":"'mnt Data'!V33","v":0},{"$f":"'mnt Data'!W33","v":0},{"$f":"'mnt Data'!X33","v":0},{"$f":"'mnt Data'!Y33","v":0},{"$f":"'mnt Data'!Z33","v":0},{"$f":"'mnt Data'!AA33","v":0},{"$f":"'mnt Data'!AB33","v":0},{"$f":"'mnt Data'!AC33","v":0},{"$f":"'mnt Data'!AD33","v":0},{"$f":"'mnt Data'!AE33","v":0},{"$f":"'mnt Data'!AF33","v":0},{"$f":"'mnt Data'!AG33","v":0},{"$f":"'mnt Data'!AH33","v":0},{"$f":"'mnt Data'!AI33","v":0},{"$f":"'mnt Data'!AJ33","v":0},{"$f":"'mnt Data'!AK33","v":0}]
[30,0,0,"No Gs",0,"No Gs","No Gs","Gs is needed","Gs is needed","Gs is needed","Need Max and Min","Need Max and Min","Fail",null,{"$f":"'mnt Data'!A34","v":0},{"$f":"'mnt Data'!B34","v":0},{"$f":"'mnt Data'!C34","v":0},{"$f":"'mnt Data'!D34","v":0},{"$f":"'mnt Data'!E34","v":0},{"$f":"'mnt Data'!F34","v":0},{"$f":"'mnt Data'!G34","v":0},{"$f":"'mnt Data'!H34","v":0},{"$f":"'mnt Data'!I34","v":0},{"$f":"'mnt Data'!J34","v":0},{"$f":"'mnt Data'!K34","v":0},{"$f":"'mnt Data'!L34","v":0},{"$f":"'mnt Data'!M34","v":0},{"$f":"'mnt Data'!N34","v":0},{"$f":"'mnt Data'!O34","v":0},{"$f":"'mnt Data'!P34","v":0},{"$f":"'mnt Data'!Q34","v":0},{"$f":"'mnt Data'!R34","v":0},{"$f":"'mnt Data'!S34","v":0},{"$f":"'mnt Data'!T34","v":0},{"$f":"'mnt Data'!U34","v":0},{"$f":"'mnt Data'!V34","v":0},{"$f":"'mnt Data'!W34","v":0},{"$f":"'mnt Data'!X34","v":0},{"$f":"'mnt Data'!Y34","v":0},{"$f":"'mnt Data'!Z34","v":0},{"$f":"'mnt Data'!AA34","v":0},{"$f":"'mnt Data'!AB34","v":0},{"$f":"'mnt Data'!AC34","v":0},{"$f":"'mnt Data'!AD34","v":0},{"$f":"'mnt Data'!AE34","v":0},{"$f":"'mnt Data'!AF34","v":0},{"$f":"'mnt Data'!AG34","v":0},{"$f":"'mnt Data'!AH34","v":0},{"$f":"'mnt Data'!AI34","v":0},{"$f":"'mnt Data'!AJ34","v":0},{"$f":"'mnt Data'!AK34","v":0}]
[31,0,0,"No Gs",0,"No Gs","No Gs","Gs is needed","Gs is needed","Gs is needed","Need Max and Min","Need Max and Min","Fail",null,{"$f":"'mnt Data'!A35","v":0},{"$f":"'mnt Data'!B35","v":0},{"$f":"'mnt Data'!C35","v":0},{"$f":"'mnt Data'!D35","v":0},{"$f":"'mnt Data'!E35","v":0},{"$f":"'mnt Data'!F35","v":0},{"$f":"'mnt Data'!G35","v":0},{"$f":"'mnt Data'!H35","v":0},{"$f":"'mnt Data'!I35","v":0},{"$f":"'mnt Data'!J35","v":0},{"$f":"'mnt Data'!K35","v":0},{"$f":"'mnt Data'!L35","v":0},{"$f":"'mnt Data'!M35","v":0},{"$f":"'mnt Data'!N35","v":0},{"$f":"'mnt Data'!O35","v":0},{"$f":"'mnt Data'!P35","v":0},{"$f":"'mnt Data'!Q35","v":0},{"$f":"'mnt Data'!R35","v":0},{"$f":"'mnt Data'!S35","v":0},{"$f":"'mnt Data'!T35","v":0},{"$f":"'mnt Data'!U35","v":0},{"$f":"'mnt Data'!V35","v":0},{"$f":"'mnt Data'!W35","v":0},{"$f":"'mnt Data'!X35","v":0},{"$f":"'mnt Data'!Y35","v":0},{"$f":"'mnt Data'!Z35","v":0},{"$f":"'mnt Data'!AA35","v":0},{"$f":"'mnt Data'!AB35","v":0},{"$f":"'mnt Data'!AC35","v":0},{"$f":"'mnt Data'!AD35","v":0},{"$f":"'mnt Data'!AE35","v":0},{"$f":"'mnt Data'!AF35","v":0},{"$f":"'mnt Data'!AG35","v":0},{"$f":"'mnt Data'!AH35","v":0},{"$f":"'mnt Data'!AI35","v":0},{"$f":"'mnt Data'!AJ35","v":0},{"$f":"'mnt Data'!AK35","v":0}]
[32,0,0,"No Gs",0,"No Gs","No Gs","Gs is needed","Gs is needed","Gs is needed","Need Max and Min","Need Max and Min","Fail",null,{"$f":"'mnt Data'!A36","v":0},{"$f":"'mnt Data'!B36","v":0},{"$f":"'mnt Data'!C36","v":0},{"$f":"'mnt Data'!D36","v":0},{"$f":"'mnt Data'!E36","v":0},{"$f":"'mnt Data'!F36","v":0},{"$f":"'mnt Data'!G36","v":0},{"$f":"'mnt Data'!H36","v":0},{"$f":"'mnt Data'!I36","v":0},{"$f":"'mnt Data'!J36","v":0},{"$f":"'mnt Data'!K36","v":0},{"$f":"'mnt Data'!L36","v":0},{"$f":"'mnt Data'!M36","v":0},{"$f":"'mnt Data'!N36","v":0},{"$f":"'mnt Data'!O36","v":0},{"$f":"'mnt Data'!P36","v":0},{"$f":"'mnt Data'!Q36","v":0},{"$f":"'mnt Data'!R36","v":0},{"$f":"'mnt Data'!S36","v":0},{"$f":"'mnt Data'!T36","v":0},{"$f":"'mnt Data'!U36","v":0},{"$f":"'mnt Data'!V36","v":0},{"$f":"'mnt Data'!W36","v":0},{"$f":"'mnt Data'!X36","v":0},{"$f":"'mnt Data'!Y36","v":0},{"$f":"'mnt Data'!Z36","v":0},{"$f":"'mnt Data'!AA36","v":0},{"$f":"'mnt Data'!AB36","v":0},{"$f":"'mnt Data'!AC36","v":0},{"$f":"'mnt Data'!AD36","v":0},{"$f":"'mnt Data'!AE36","v":0},{"$f":"'mnt Data'!AF36","v":0},{"$f":"'mnt Data'!AG36","v":0},{"$f":"'mnt Data'!AH36","v":0},{"$f":"'mnt Data'!AI36","v":0},{"$f":"'mnt Data'!AJ36","v":0},{"$f":"'mnt Data'!AK36","v":0}]
[33,0,0,"No Gs",0,"No Gs","No Gs","Gs is needed","Gs is needed","Gs is needed","Need Max and Min","Need Max and Min","Fail",null,{"$f":"'mnt Data'!A37","v":0},{"$f":"'mnt Data'!B37","v":0},{"$f":"'mnt Data'!C37","v":0},{"$f":"'mnt Data'!D37","v":0},{"$f":"'mnt Data'!E37","v":0},{"$f":"'mnt Data'!F37","v":0},{"$f":"'mnt Data'!G37","v":0},{"$f":"'mnt Data'!H37","v":0},{"$f":"'mnt Data'!I37","v":0},{"$f":"'mnt Data'!J37","v":0},{"$f":"'mnt Data'!K37","v":0},{"$f":"'mnt Data'!L37","v":0},{"$f":"'mnt Data'!M37","v":0},{"$f":"'mnt Data'!N37","v":0},{"$f":"'mnt Data'!O37","v":0},{"$f":"'mnt Data'!P37","v":0},{"$f":"'mnt Data'!Q37","v":0},{"$f":"'mnt Data'!R37","v":0},{"$f":"'mnt Data'!S37","v":0},{"$f":"'mnt Data'!T37","v":0},{"$f":"'mnt Data'!U37","v":0},{"$f":"'mnt Data'!V37","v":0},{"$f":"'mnt Data'!W37","v":0},{"$f":"'mnt Data'!X37","v":0},{"$f":"'mnt Data'!Y37","v":0},{"$f":"'mnt Data'!Z37","v":0},{"$f":"'mnt Data'!AA37","v":0},{"$f":"'mnt Data'!AB37","v":0},{"$f":"'mnt Data'!AC37","v":0},{"$f":"'mnt Data'!AD37","v":0},{"$f":"'mnt Data'!AE37","v":0},{"$f":"'mnt Data'!AF37","v":0},{"$f":"'mnt Data'!AG37","v":0},{"$f":"'mnt Data'!AH37","v":0},{"$f":"'mnt Data'!AI37","v":0},{"$f":"'mnt Data'!AJ37","v":0},{"$f":"'mnt Data'!AK37","v":0}]
[34,0,0,"No Gs",0,"No Gs","No Gs","Gs is needed","Gs is needed","Gs is needed","Need Max and Min","Need Max and Min","Fail",null,{"$f":"'mnt Data'!A38","v":0},{"$f":"'mnt Data'!B38","v":0},{"$f":"'mnt Data'!C38","v":0},{"$f":"'mnt Data'!D38","v":0},{"$f":"'mnt Data'!E38","v":0},{"$f":"'mnt Data'!F38","v":0},{"$f":"'mnt Data'!G38","v":0},{"$f":"'mnt Data'!H38","v":0},{"$f":"'mnt Data'!I38","v":0},{"$f":"'mnt Data'!J38","v":0},{"$f":"'mnt Data'!K38","v":0},{"$f":"'mnt Data'!L38","v":0},{"$f":"'mnt Data'!M38","v":0},{"$f":"'mnt Data'!N38","v":0},{"$f":"'mnt Data'!O38","v":0},{"$f":"'mnt Data'!P38","v":0},{"$f":"'mnt Data'!Q38","v":0},{"$f":"'mnt Data'!R38","v":0},{"$f":"'mnt Data'!S38","v":0},{"$f":"'mnt Data'!T38","v":0},{"$f":"'mnt Data'!U38","v":0},{"$f":"'mnt Data'!V38","v":0},{"$f":"'mnt Data'!W38","v":0},{"$f":"'mnt Data'!X38","v":0},{"$f":"'mnt Data'!Y38","v":0},{"$f":"'mnt Data'!Z38","v":0},{"$f":"'mnt Data'!AA38","v":0},{"$f":"'mnt Data'!AB38","v":0},{"$f":"'mnt Data'!AC38","v":0},{"$f":"'mnt Data'!AD38","v":0},{"$f":"'mnt Data'!AE38","v":0},{"$f":"'mnt Data'!AF38","v":0},{"$f":"'mnt Data'!AG38","v":0},{"$f":"'mnt Data'!AH38","v":0},{"$f":"'mnt Data'!AI38","v":0},{"$f":"'mnt Data'!AJ38","v":0},{"$f":"'mnt Data'!AK38","v":0}]
[35,0,0,"No Gs",0,"No Gs","No Gs","Gs is needed","Gs is needed","Gs is needed","Need Max and Min","Need Max and Min","Fail",null,{"$f":"'mnt Data'!A39","v":0},{"$f":"'mnt Data'!B39","v":0},{"$f":"'mnt Data'!C39","v":0},{"$f":"'mnt Data'!D39","v":0},{"$f":"'mnt Data'!E39","v":0},{"$f":"'mnt Data'!F39","v":0},{"$f":"'mnt Data'!G39","v":0},{"$f":"'mnt Data'!H39","v":0},{"$f":"'mnt Data'!I39","v":0},{"$f":"'mnt Data'!J39","v":0},{"$f":"'mnt Data'!K39","v":0},{"$f":"'mnt Data'!L39","v":0},{"$f":"'mnt Data'!M39","v":0},{"$f":"'mnt Data'!N39","v":0},{"$f":"'mnt Data'!O39","v":0},{"$f":"'mnt Data'!P39","v":0},{"$f":"'mnt Data'!Q39","v":0},{"$f":"'mnt Data'!R39","v":0},{"$f":"'mnt Data'!S39","v":0},{"$f":"'mnt Data'!T39","v":0},{"$f":"'mnt Data'!U39","v":0},{"$f":"'mnt Data'!V39","v":0},{"$f":"'mnt Data'!W39","v":0},{"$f":"'mnt Data'!X39","v":0},{"$f":"'mnt Data'!Y39","v":0},{"$f":"'mnt Data'!Z39","v":0},{"$f":"'mnt Data'!AA39","v":0},{"$f":"'mnt Data'!AB39","v":0},{"$f":"'mnt Data'!AC39","v":0},{"$f":"'mnt Data'!AD39","v":0},{"$f":"'mnt Data'!AE39","v":0},{"$f":"'mnt Data'!AF39","v":0},{"$f":"'mnt Data'!AG39","v":0},{"$f":"'mnt Data'!AH39","v":0},{"$f":"'mnt Data'!AI39","v":0},{"$f":"'mnt Data'!AJ39","v":0},{"$f":"'mnt Data'!AK39","v":0}]
[36,0,0,"No Gs",0,"No Gs","No Gs","Gs is needed","Gs is needed","Gs is needed","Need Max and Min","Need Max and Min","Fail",null,{"$f":"'mnt Data'!A40","v":0},{"$f":"'mnt Data'!B40","v":0},{"$f":"'mnt Data'!C40","v":0},{"$f":"'mnt Data'!D40","v":0},{"$f":"'mnt Data'!E40","v":0},{"$f":"'mnt Data'!F40","v":0},{"$f":"'mnt Data'!G40","v":0},{"$f":"'mnt Data'!H40","v":0},{"$f":"'mnt Data'!I40","v":0},{"$f":"'mnt Data'!J40","v":0},{"$f":"'mnt Data'!K40","v":0},{"$f":"'mnt Data'!L40","v":0},{"$f":"'mnt Data'!M40","v":0},{"$f":"'mnt Data'!N40","v":0},{"$f":"'mnt Data'!O40","v":0},{"$f":"'mnt Data'!P40","v":0},{"$f":"'mnt Data'!Q40","v":0},{"$f":"'mnt Data'!R40","v":0},{"$f":"'mnt Data'!S40","v":0},{"$f":"'mnt Data'!T40","v":0},{"$f":"'mnt Data'!U40","v":0},{"$f":"'mnt Data'!V40","v":0},{"$f":"'mnt Data'!W40","v":0},{"$f":"'mnt Data'!X40","v":0},{"$f":"'mnt Data'!Y40","v":0},{"$f":"'mnt Data'!Z40","v":0},{"$f":"'mnt Data'!AA40","v":0},{"$f":"'mnt Data'!AB40","v":0},{"$f":"'mnt Data'!AC40","v":0},{"$f":"'mnt Data'!AD40","v":0},{"$f":"'mnt Data'!AE40","v":0},{"$f":"'mnt Data'!AF40","v":0},{"$f":"'mnt Data'!AG40","v":0},{"$f":"'mnt Data'!AH40","v":0},{"$f":"'mnt Data'!AI40","v":0},{"$f":"'mnt Data'!AJ40","v":0},{"$f":"'mnt Data'!AK40","v":0}]
[37,0,0,"No Gs",0,"No Gs","No Gs","Gs is needed","Gs is needed","Gs is needed","Need Max and Min","Need Max and Min","Fail",null,{"$f":"'mnt Data'!A41","v":0},{"$f":"'mnt Data'!B41","v":0},{"$f":"'mnt Data'!C41","v":0},{"$f":"'mnt Data'!D41","v":0},{"$f":"'mnt Data'!E41","v":0},{"$f":"'mnt Data'!F41","v":0},{"$f":"'mnt Data'!G41","v":0},{"$f":"'mnt Data'!H41","v":0},{"$f":"'mnt Data'!I41","v":0},{"$f":"'mnt Data'!J41","v":0},{"$f":"'mnt Data'!K41","v":0},{"$f":"'mnt Data'!L41","v":0},{"$f":"'mnt Data'!M41","v":0},{"$f":"'mnt Data'!N41","v":0},{"$f":"'mnt Data'!O41","v":0},{"$f":"'mnt Data'!P41","v":0},{"$f":"'mnt Data'!Q41","v":0},{"$f":"'mnt Data'!R41","v":0},{"$f":"'mnt Data'!S41","v":0},{"$f":"'mnt Data'!T41","v":0},{"$f":"'mnt Data'!U41","v":0},{"$f":"'mnt Data'!V41","v":0},{"$f":"'mnt Data'!W41","v":0},{"$f":"'mnt Data'!X41","v":0},{"$f":"'mnt Data'!Y41","v":0},{"$f":"'mnt Data'!Z41","v":0},{"$f":"'mnt Data'!AA41","v":0},{"$f":"'mnt Data'!AB41","v":0},{"$f":"'mnt Data'!AC41","v":0},{"$f":"'mnt Data'!AD41","v":0},{"$f":"'mnt Data'!AE41","v":0},{"$f":"'mnt Data'!AF41","v":0},{"$f":"'mnt Data'!AG41","v":0},{"$f":"'mnt Data'!AH41","v":0},{"$f":"'mnt Data'!AI41","v":0},{"$f":"'mnt Data'!AJ41","v":0},{"$f":"'mnt Data'!AK41","v":0}]
[38,0,0,"No Gs",0,"No Gs","No Gs","Gs is needed","Gs is needed","Gs is needed","Need Max and Min","Need Max and Min","Fail",null,{"$f":"'mnt Data'!A42","v":0},{"$f":"'mnt Data'!B42","v":0},{"$f":"'mnt Data'!C42","v":0},{"$f":"'mnt Data'!D42","v":0},{"$f":"'mnt Data'!E42","v":0},{"$f":"'mnt Data'!F42","v":0},{"$f":"'mnt Data'!G42","v":0},{"$f":"'mnt Data'!H42","v":0},{"$f":"'mnt Data'!I42","v":0},{"$f":"'mnt Data'!J42","v":0},{"$f":"'mnt Data'!K42","v":0},{"$f":"'mnt Data'!L42","v":0},{"$f":"'mnt Data'!M42","v":0},{"$f":"'mnt Data'!N42","v":0},{"$f":"'mnt Data'!O42","v":0},{"$f":"'mnt Data'!P42","v":0},{"$f":"'mnt Data'!Q42","v":0},{"$f":"'mnt Data'!R42","v":0},{"$f":"'mnt Data'!S42","v":0},{"$f":"'mnt Data'!T42","v":0},{"$f":"'mnt Data'!U42","v":0},{"$f":"'mnt Data'!V42","v":0},{"$f":"'mnt Data'!W42","v":0},{"$f":"'mnt Data'!X42","v":0},{"$f":"'mnt Data'!Y42","v":0},{"$f":"'mnt Data'!Z42","v":0},{"$f":"'mnt Data'!AA42","v":0},{"$f":"'mnt Data'!AB42","v":0},{"$f":"'mnt Data'!AC42","v":0},{"$f":"'mnt Data'!AD42","v":0},{"$f":"'mnt Data'!AE42","v":0},{"$f":"'mnt Data'!AF42","v":0},{"$f":"'mnt Data'!AG42","v":0},{"$f":"'mnt Data'!AH42","v":0},{"$f":"'mnt Data'!AI42","v":0},{"$f":"'mnt Data'!AJ42","v":0},{"$f":"'mnt Data'!AK42","v":0}]
[39,0,0,"No Gs",0,"No Gs","No Gs","Gs is needed","Gs is needed","Gs is needed","Need Max and Min","Need Max and Min","Fail",null,{"$f":"'mnt Data'!A43","v":0},{"$f":"'mnt Data'!B43","v":0},{"$f":"'mnt Data'!C43","v":0},{"$f":"'mnt Data'!D43","v":0},{"$f":"'mnt Data'!E43","v":0},{"$f":"'mnt Data'!F43","v":0},{"$f":"'mnt Data'!G43","v":0},{"$f":"'mnt Data'!H43","v":0},{"$f":"'mnt Data'!I43","v":0},{"$f":"'mnt Data'!J43","v":0},{"$f":"'mnt Data'!K43","v":0},{"$f":"'mnt Data'!L43","v":0},{"$f":"'mnt Data'!M43","v":0},{"$f":"'mnt Data'!N43","v":0},{"$f":"'mnt Data'!O43","v":0},{"$f":"'mnt Data'!P43","v":0},{"$f":"'mnt Data'!Q43","v":0},{"$f":"'mnt Data'!R43","v":0},{"$f":"'mnt Data'!S43","v":0},{"$f":"'mnt Data'!T43","v":0},{"$f":"'mnt Data'!U43","v":0},{"$f":"'mnt Data'!V43","v":0},{"$f":"'mnt Data'!W43","v":0},{"$f":"'mnt Data'!X43","v":0},{"$f":"'mnt Data'!Y43","v":0},{"$f":"'mnt Data'!Z43","v":0},{"$f":"'mnt Data'!AA43","v":0},{"$f":"'mnt Data'!AB43","v":0},{"$f":"'mnt Data'!AC43","v":0},{"$f":"'mnt Data'!AD43","v":0},{"$f":"'mnt Data'!AE43","v":0},{"$f":"'mnt Data'!AF43","v":0},{"$f":"'mnt Data'!AG43","v":0},{"$f":"'mnt Data'!AH43","v":0},{"$f":"'mnt Data'!AI43","v":0},{"$f":"'mnt Data'!AJ43","v":0},{"$f":"'mnt Data'!AK43","v":0}]
[40,{"$f":"O41","v":0},{"$f":"O41*(Q41/100)","v":0},"No Gs",0,"No Gs","No Gs",{"$f":"IFERROR(E41/G41,\"Gs is needed\")","v":"Gs is needed"},{"$f":"IFERROR(G41/1,\"Gs is needed\")","v":"Gs is needed"},{"$f":"IFERROR(G41/D41,\"Gs is needed\")","v":"Gs is needed"},"Need Max and Min","Need Max and Min","Fail",null,{"$f":"'mnt Data'!A44","v":0},{"$f":"'mnt Data'!B44","v":0},{"$f":"'mnt Data'!C44","v":0},{"$f":"'mnt Data'!D44","v":0},{"$f":"'mnt Data'!E44","v":0},{"$f":"'mnt Data'!F44","v":0},{"$f":"'mnt Data'!G44","v":0},{"$f":"'mnt Data'!H44","v":0},{"$f":"'mnt Data'!I44","v":0},{"$f":"'mnt Data'!J44","v":0},{"$f":"'mnt Data'!K44","v":0},{"$f":"'mnt Data'!L44","v":0},{"$f":"'mnt Data'!M44","v":0},{"$f":"'mnt Data'!N44","v":0},{"$f":"'mnt Data'!O44","v":0},{"$f":"'mnt Data'!P44","v":0},{"$f":"'mnt Data'!Q44","v":0},{"$f":"'mnt Data'!R44","v":0},{"$f":"'mnt Data'!S44","v":0},{"$f":"'mnt Data'!T44","v":0},{"$f":"'mnt Data'!U44","v":0},{"$f":"'mnt Data'!V44","v":0},{"$f":"'mnt Data'!W44","v":0},{"$f":"'mnt Data'!X44","v":0},{"$f":"'mnt Data'!Y44","v":0},{"$f":"'mnt Data'!Z44","v":0},{"$f":"'mnt Data'!AA44","v":0},{"$f":"'mnt Data'!AB44","v":0},{"$f":"'mnt Data'!AC44","v":0},{"$f":"'mnt Data'!AD44","v":0},{"$f":"'mnt Data'!AE44","v":0},{"$f":"'mnt Data'!AF44","v":0},{"$f":"'mnt Data'!AG44","v":0},{"$f":"'mnt Data'!AH44","v":0},{"$f":"'mnt Data'!AI44","v":0},{"$f":"'mnt Data'!AJ44","v":0},{"$f":"'mnt Data'!AK44","v":0}]
[41,0,0,"No Gs",0,"No Gs","No Gs","Gs is needed","Gs is needed","Gs is needed","Need Max and Min","Need Max and Min","Fail",null,{"$f":"'mnt Data'!A45","v":0},{"$f":"'mnt Data'!B45","v":0},{"$f":"'mnt Data'!C45","v":0},{"$f":"'mnt Data'!D45","v":0},{"$f":"'mnt Data'!E45","v":0},{"$f":"'mnt Data'!F45","v":0},{"$f":"'mnt Data'!G45","v":0},{"$f":"'mnt Data'!H45","v":0},{"$f":"'mnt Data'!I45","v":0},{"$f":"'mnt Data'!J45","v":0},{"$f":"'mnt Data'!K45","v":0},{"$f":"'mnt Data'!L45","v":0},{"$f":"'mnt Data'!M45","v":0},{"$f":"'mnt Data'!N45","v":0},{"$f":"'mnt Data'!O45","v":0},{"$f":"'mnt Data'!P45","v":0},{"$f":"'mnt Data'!Q45","v":0},{"$f":"'mnt Data'!R45","v":0},{"$f":"'mnt Data'!S45","v":0},{"$f":"'mnt Data'!T45","v":0},{"$f":"'mnt Data'!U45","v":0},{"$f":"'mnt Data'!V45","v":0},{"$f":"'mnt Data'!W45","v":0},{"$f":"'mnt Data'!X45","v":0},{"$f":"'mnt Data'!Y45","v":0},{"$f":"'mnt Data'!Z45","v":0},{"$f":"'mnt Data'!AA45","v":0},{"$f":"'mnt Data'!AB45","v":0},{"$f":"'mnt Data'!AC45","v":0},{"$f":"'mnt Data'!AD45","v":0},{"$f":"'mnt Data'!AE45","v":0},{"$f":"'mnt Data'!AF45","v":0},{"$f":"'mnt Data'!AG45","v":0},{"$f":"'mnt Data'!AH45","v":0},{"$f":"'mnt Data'!AI45","v":0},{"$f":"'mnt Data'!AJ45","v":0},{"$f":"'mnt Data'!AK45","v":0}]
[42,0,0,"No Gs",0,"No Gs","No Gs","Gs is needed","Gs is needed","Gs is needed","Need Max and Min","Need Max and Min","Fail",null,{"$f":"'mnt Data'!A46","v":0},{"$f":"'mnt Data'!B46","v":0},{"$f":"'mnt Data'!C46","v":0},{"$f":"'mnt Data'!D46","v":0},{"$f":"'mnt Data'!E46","v":0},{"$f":"'mnt Data'!F46","v":0},{"$f":"'mnt Data'!G46","v":0},{"$f":"'mnt Data'!H46","v":0},{"$f":"'mnt Data'!I46","v":0},{"$f":"'mnt Data'!J46","v":0},{"$f":"'mnt Data'!K46","v":0},{"$f":"'mnt Data'!L46","v":0},{"$f":"'mnt Data'!M46","v":0},{"$f":"'mnt Data'!N46","v":0},{"$f":"'mnt Data'!O46","v":0},{"$f":"'mnt Data'!P46","v":0},{"$f":"'mnt Data'!Q46","v":0},{"$f":"'mnt Data'!R46","v":0},{"$f":"'mnt Data'!S46","v":0},{"$f":"'mnt Data'!T46","v":0},{"$f":"'mnt Data'!U46","v":0},{"$f":"'mnt Data'!V46","v":0},{"$f":"'mnt Data'!W46","v":0},{"$f":"'mnt Data'!X46","v":0},{"$f":"'mnt Data'!Y46","v":0},{"$f":"'mnt Data'!Z46","v":0},{"$f":"'mnt Data'!AA46","v":0},{"$f":"'mnt Data'!AB46","v":0},{"$f":"'mnt Data'!AC46","v":0},{"$f":"'mnt Data'!AD46","v":0},{"$f":"'mnt Data'!AE46","v":0},{"$f":"'mnt Data'!AF46","v":0},{"$f":"'mnt Data'!AG46","v":0},{"$f":"'mnt Data'!AH46","v":0},{"$f":"'mnt Data'!AI46","v":0},{"$f":"'mnt Data'!AJ46","v":0},{"$f":"'mnt Data'!AK46","v":0}]
[43,0,0,"No Gs",0,"No Gs","No Gs","Gs is needed","Gs is needed","Gs is needed","Need Max and Min","Need Max and Min","Fail",null,{"$f":"'mnt Data'!A47","v":0},{"$f":"'mnt Data'!B47","v":0},{"$f":"'mnt Data'!C47","v":0},{"$f":"'mnt Data'!D47","v":0},{"$f":"'mnt Data'!E47","v":0},{"$f":"'mnt Data'!F47","v":0},{"$f":"'mnt Data'!G47","v":0},{"$f":"'mnt Data'!H47","v":0},{"$f":"'mnt Data'!I47","v":0},{"$f":"'mnt Data'!J47","v":0},{"$f":"'mnt Data'!K47","v":0},{"$f":"'mnt Data'!L47","v":0},{"$f":"'mnt Data'!M47","v":0},{"$f":"'mnt Data'!N47","v":0},{"$f":"'mnt Data'!O47","v":0},{"$f":"'mnt Data'!P47","v":0},{"$f":"'mnt Data'!Q47","v":0},{"$f":"'mnt Data'!R47","v":0},{"$f":"'mnt Data'!S47","v":0},{"$f":"'mnt Data'!T47","v":0},{"$f":"'mnt Data'!U47","v":0},{"$f":"'mnt Data'!V47","v":0},{"$f":"'mnt Data'!W47","v":0},{"$f":"'mnt Data'!X47","v":0},{"$f":"'mnt Data'!Y47","v":0},{"$f":"'mnt Data'!Z47","v":0},{"$f":"'mnt Data'!AA47","v":0},{"$f":"'mnt Data'!AB47","v":0},{"$f":"'mnt Data'!AC47","v":0},{"$f":"'mnt Data'!AD47","v":0},{"$f":"'mnt Data'!AE47","v":0},{"$f":"'mnt Data'!AF47","v":0},{"$f":"'mnt Data'!AG47","v":0},{"$f":"'mnt Data'!AH47","v":0},{"$f":"'mnt Data'!AI47","v":0},{"$f":"'mnt Data'!AJ47","v":0},{"$f":"'mnt Data'!AK47","v":0}]
[44,0,0,"No Gs",0,"No Gs","No Gs","Gs is needed","Gs is needed","Gs is needed","Need Max and Min","Need Max and Min","Fail",null,{"$f":"'mnt Data'!A48","v":0},{"$f":"'mnt Data'!B48","v":0},{"$f":"'mnt Data'!C48","v":0},{"$f":"'mnt Data'!D48","v":0},{"$f":"'mnt Data'!E48","v":0},{"$f":"'mnt Data'!F48","v":0},{"$f":"'mnt Data'!G48","v":0},{"$f":"'mnt Data'!H48","v":0},{"$f":"'mnt Data'!I48","v":0},{"$f":"'mnt Data'!J48","v":0},{"$f":"'mnt Data'!K48","v":0},{"$f":"'mnt Data'!L48","v":0},{"$f":"'mnt Data'!M48","v":0},{"$f":"'mnt Data'!N48","v":0},{"$f":"'mnt Data'!O48","v":0},{"$f":"'mnt Data'!P48","v":0},{"$f":"'mnt Data'!Q48","v":0},{"$f":"'mnt Data'!R48","v":0},{"$f":"'mnt Data'!S48","v":0},{"$f":"'mnt Data'!T48","v":0},{"$f":"'mnt Data'!U48","v":0},{"$f":"'mnt Data'!V48","v":0},{"$f":"'mnt Data'!W48","v":0},{"$f":"'mnt Data'!X48","v":0},{"$f":"'mnt Data'!Y48","v":0},{"$f":"'mnt Data'!Z48","v":0},{"$f":"'mnt Data'!AA48","v":0},{"$f":"'mnt Data'!AB48","v":0},{"$f":"'mnt Data'!AC48","v":0},{"$f":"'mnt Data'!AD48","v":0},{"$f":"'mnt Data'!AE48","v":0},{"$f":"'mnt Data'!AF48","v":0},{"$f":"'mnt Data'!AG48","v":0},{"$f":"'mnt Data'!AH48","v":0},{"$f":"'mnt Data'!AI48","v":0},{"$f":"'mnt Data'!AJ48","v":0},{"$f":"'mnt Data'!AK48","v":0}]
[45,0,0,"No Gs",0,"No Gs","No Gs","Gs is needed","Gs is needed","Gs is needed","Need Max and Min","Need Max and Min","Fail",null,{"$f":"'mnt Data'!A49","v":0},{"$f":"'mnt Data'!B49","v":0},{"$f":"'mnt Data'!C49","v":0},{"$f":"'mnt Data'!D49","v":0},{"$f":"'mnt Data'!E49","v":0},{"$f":"'mnt Data'!F49","v":0},{"$f":"'mnt Data'!G49","v":0},{"$f":"'mnt Data'!H49","v":0},{"$f":"'mnt Data'!I49","v":0},{"$f":"'mnt Data'!J49","v":0},{"$f":"'mnt Data'!K49","v":0},{"$f":"'mnt Data'!L49","v":0},{"$f":"'mnt Data'!M49","v":0},{"$f":"'mnt Data'!N49","v":0},{"$f":"'mnt Data'!O49","v":0},{"$f":"'mnt Data'!P49","v":0},{"$f":"'mnt Data'!Q49","v":0},{"$f":"'mnt Data'!R49","v":0},{"$f":"'mnt Data'!S49","v":0},{"$f":"'mnt Data'!T49","v":0},{"$f":"'mnt Data'!U49","v":0},{"$f":"'mnt Data'!V49","v":0},{"$f":"'mnt Data'!W49","v":0},{"$f":"'mnt Data'!X49","v":0},{"$f":"'mnt Data'!Y49","v":0},{"$f":"'mnt Data'!Z49","v":0},{"$f":"'mnt Data'!AA49","v":0},{"$f":"'mnt Data'!AB49","v":0},{"$f":"'mnt Data'!AC49","v":0},{"$f":"'mnt Data'!AD49","v":0},{"$f":"'mnt Data'!AE49","v":0},{"$f":"'mnt Data'!AF49","v":0},{"$f":"'mnt Data'!AG49","v":0},{"$f":"'mnt Data'!AH49","v":0},{"$f":"'mnt Data'!AI49","v":0},{"$f":"'mnt Data'!AJ49","v":0},{"$f":"'mnt Data'!AK49","v":0}]
[46,0,0,"No Gs",0,"No Gs","No Gs","Gs is needed","Gs is needed","Gs is needed","Need Max and Min","Need Max and Min","Fail",null,{"$f":"'mnt Data'!A50","v":0},{"$f":"'mnt Data'!B50","v":0},{"$f":"'mnt Data'!C50","v":0},{"$f":"'mnt Data'!D50","v":0},{"$f":"'mnt Data'!E50","v":0},{"$f":"'mnt Data'!F50","v":0},{"$f":"'mnt Data'!G50","v":0},{"$f":"'mnt Data'!H50","v":0},{"$f":"'mnt Data'!I50","v":0},{"$f":"'mnt Data'!J50","v":0},{"$f":"'mnt Data'!K50","v":0},{"$f":"'mnt Data'!L50","v":0},{"$f":"'mnt Data'!M50","v":0},{"$f":"'mnt Data'!N50","v":0},{"$f":"'mnt Data'!O50","v":0},{"$f":"'mnt Data'!P50","v":0},{"$f":"'mnt Data'!Q50","v":0},{"$f":"'mnt Data'!R50","v":0},{"$f":"'mnt Data'!S50","v":0},{"$f":"'mnt Data'!T50","v":0},{"$f":"'mnt Data'!U50","v":0},{"$f":"'mnt Data'!V50","v":0},{"$f":"'mnt Data'!W50","v":0},{"$f":"'mnt Data'!X50","v":0},{"$f":"'mnt Data'!Y50","v":0},{"$f":"'mnt Data'!Z50","v":0},{"$f":"'mnt Data'!AA50","v":0},{"$f":"'mnt Data'!AB50","v":0},{"$f":"'mnt Data'!AC50","v":0},{"$f":"'mnt Data'!AD50","v":0},{"$f":"'mnt Data'!AE50","v":0},{"$f":"'mnt Data'!AF50","v":0},{"$f":"'mnt Data'!AG50","v":0},{"$f":"'mnt Data'!AH50","v":0},{"$f":"'mnt Data'!AI50","v":0},{"$f":"'mnt Data'!AJ50","v":0},{"$f":"'mnt Data'!AK50","v":0}]
[47,0,0,"No Gs",0,"No Gs","No Gs","Gs is needed","Gs is needed","Gs is needed","Need Max and Min","Need Max and Min","Fail",null,{"$f":"'mnt Data'!A51","v":0},{"$f":"'mnt Data'!B51","v":0},{"$f":"'mnt Data'!C51","v":0},{"$f":"'mnt Data'!D51","v":0},{"$f":"'mnt Data'!E51","v":0},{"$f":"'mnt Data'!F51","v":0},{"$f":"'mnt Data'!G51","v":0},{"$f":"'mnt Data'!H51","v":0},{"$f":"'mnt Data'!I51","v":0},{"$f":"'mnt Data'!J51","v":0},{"$f":"'mnt Data'!K51","v":0},{"$f":"'mnt Data'!L51","v":0},{"$f":"'mnt Data'!M51","v":0},{"$f":"'mnt Data'!N51","v":0},{"$f":"'mnt Data'!O51","v":0},{"$f":"'mnt Data'!P51","v":0},{"$f":"'mnt Data'!Q51","v":0},{"$f":"'mnt Data'!R51","v":0},{"$f":"'mnt Data'!S51","v":0},{"$f":"'mnt Data'!T51","v":0},{"$f":"'mnt Data'!U51","v":0},{"$f":"'mnt Data'!V51","v":0},{"$f":"'mnt Data'!W51","v":0},{"$f":"'mnt Data'!X51","v":0},{"$f":"'mnt Data'!Y51","v":0},{"$f":"'mnt Data'!Z51","v":0},{"$f":"'mnt Data'!AA51","v":0},{"$f":"'mnt Data'!AB51","v":0},{"$f":"'mnt Data'!AC51","v":0},{"$f":"'mnt Data'!AD51","v":0},{"$f":"'mnt Data'!AE51","v":0},{"$f":"'mnt Data'!AF51","v":0},{"$f":"'mnt Data'!AG51","v":0},{"$f":"'mnt Data'!AH51","v":0},{"$f":"'mnt Data'!AI51","v":0},{"$f":"'mnt Data'!AJ51","v":0},{"$f":"'mnt Data'!AK51","v":0}]
[48,0,0,"No Gs",0,"No Gs","No Gs","Gs is needed","Gs is needed","Gs is needed","Need Max and Min","Need Max and Min","Fail",null,{"$f":"'mnt Data'!A52","v":0},{"$f":"'mnt Data'!B52","v":0},{"$f":"'mnt Data'!C52","v":0},{"$f":"'mnt Data'!D52","v":0},{"$f":"'mnt Data'!E52","v":0},{"$f":"'mnt Data'!F52","v":0},{"$f":"'mnt Data'!G52","v":0},{"$f":"'mnt Data'!H52","v":0},{"$f":"'mnt Data'!I52","v":0},{"$f":"'mnt Data'!J52","v":0},{"$f":"'mnt Data'!K52","v":0},{"$f":"'mnt Data'!L52","v":0},{"$f":"'mnt Data'!M52","v":0},{"$f":"'mnt Data'!N52","v":0},{"$f":"'mnt Data'!O52","v":0},{"$f":"'mnt Data'!P52","v":0},{"$f":"'mnt Data'!Q52","v":0},{"$f":"'mnt Data'!R52","v":0},{"$f":"'mnt Data'!S52","v":0},{"$f":"'mnt Data'!T52","v":0},{"$f":"'mnt Data'!U52","v":0},{"$f":"'mnt Data'!V52","v":0},{"$f":"'mnt Data'!W52","v":0},{"$f":"'mnt Data'!X52","v":0},{"$f":"'mnt Data'!Y52","v":0},{"$f":"'mnt Data'!Z52","v":0},{"$f":"'mnt Data'!AA52","v":0},{"$f":"'mnt Data'!AB52","v":0},{"$f":"'mnt Data'!AC52","v":0},{"$f":"'mnt Data'!AD52","v":0},{"$f":"'mnt Data'!AE52","v":0},{"$f":"'mnt Data'!AF52","v":0},{"$f":"'mnt Data'!AG52","v":0},{"$f":"'mnt Data'!AH52","v":0},{"$f":"'mnt Data'!AI52","v":0},{"$f":"'mnt Data'!AJ52","v":0},{"$f":"'mnt Data'!AK52","v":0}]
[49,0,0,"No Gs",0,"No Gs","No Gs","Gs is needed","Gs is needed","Gs is needed","Need Max and Min","Need Max and Min","Fail",null,{"$f":"'mnt Data'!A53","v":0},{"$f":"'mnt Data'!B53","v":0},{"$f":"'mnt Data'!C53","v":0},{"$f":"'mnt Data'!D53","v":0},{"$f":"'mnt Data'!E53","v":0},{"$f":"'mnt Data'!F53","v":0},{"$f":"'mnt Data'!G53","v":0},{"$f":"'mnt Data'!H53","v":0},{"$f":"'mnt Data'!I53","v":0},{"$f":"'mnt Data'!J53","v":0},{"$f":"'mnt Data'!K53","v":0},{"$f":"'mnt Data'!L53","v":0},{"$f":"'mnt Data'!M53","v":0},{"$f":"'mnt Data'!N53","v":0},{"$f":"'mnt Data'!O53","v":0},{"$f":"'mnt Data'!P53","v":0},{"$f":"'mnt Data'!Q53","v":0},{"$f":"'mnt Data'!R53","v":0},{"$f":"'mnt Data'!S53","v":0},{"$f":"'mnt Data'!T53","v":0},{"$f":"'mnt Data'!U53","v":0},{"$f":"'mnt Data'!V53","v":0},{"$f":"'mnt Data'!W53","v":0},{"$f":"'mnt Data'!X53","v":0},{"$f":"'mnt Data'!Y53","v":0},{"$f":"'mnt Data'!Z53","v":0},{"$f":"'mnt Data'!AA53","v":0},{"$f":"'mnt Data'!AB53","v":0},{"$f":"'mnt Data'!AC53","v":0},{"$f":"'mnt Data'!AD53","v":0},{"$f":"'mnt Data'!AE53","v":0},{"$f":"'mnt Data'!AF53","v":0},{"$f":"'mnt Data'!AG53","v":0},{"$f":"'mnt Data'!AH53","v":0},{"$f":"'mnt Data'!AI53","v":0},{"$f":"'mnt Data'!AJ53","v":0},{"$f":"'mnt Data'!AK53","v":0}]
[50,0,0,"No Gs",0,"No Gs","No Gs","Gs is needed","Gs is needed","Gs is needed","Need Max and Min","Need Max and Min","Fail",null,{"$f":"'mnt Data'!A54","v":0},{"$f":"'mnt Data'!B54","v":0},{"$f":"'mnt Data'!C54","v":0},{"$f":"'mnt Data'!D54","v":0},{"$f":"'mnt Data'!E54","v":0},{"$f":"'mnt Data'!F54","v":0},{"$f":"'mnt Data'!G54","v":0},{"$f":"'mnt Data'!H54","v":0},{"$f":"'mnt Data'!I54","v":0},{"$f":"'mnt Data'!J54","v":0},{"$f":"'mnt Data'!K54","v":0},{"$f":"'mnt Data'!L54","v":0},{"$f":"'mnt Data'!M54","v":0},{"$f":"'mnt Data'!N54","v":0},{"$f":"'mnt Data'!O54","v":0},{"$f":"'mnt Data'!P54","v":0},{"$f":"'mnt Data'!Q54","v":0},{"$f":"'mnt Data'!R54","v":0},{"$f":"'mnt Data'!S54","v":0},{"$f":"'mnt Data'!T54","v":0},{"$f":"'mnt Data'!U54","v":0},{"$f":"'mnt Data'!V54","v":0},{"$f":"'mnt Data'!W54","v":0},{"$f":"'mnt Data'!X54","v":0},{"$f":"'mnt Data'!Y54","v":0},{"$f":"'mnt Data'!Z54","v":0},{"$f":"'mnt Data'!AA54","v":0},{"$f":"'mnt Data'!AB54","v":0},{"$f":"'mnt Data'!AC54","v":0},{"$f":"'mnt Data'!AD54","v":0},{"$f":"'mnt Data'!AE54","v":0},{"$f":"'mnt Data'!AF54","v":0},{"$f":"'mnt Data'!AG54","v":0},{"$f":"'mnt Data'!AH54","v":0},{"$f":"'mnt Data'!AI54","v":0},{"$f":"'mnt Data'!AJ54","v":0},{"$f":"'mnt Data'!AK54","v":0}]
[51,0,0,"No Gs",0,"No Gs","No Gs","Gs is needed","Gs is needed","Gs is needed","Need Max and Min","Need Max and Min","Fail",null,{"$f":"'mnt Data'!A55","v":0},{"$f":"'mnt Data'!B55","v":0},{"$f":"'mnt Data'!C55","v":0},{"$f":"'mnt Data'!D55","v":0},{"$f":"'mnt Data'!E55","v":0},{"$f":"'mnt Data'!F55","v":0},{"$f":"'mnt Data'!G55","v":0},{"$f":"'mnt Data'!H55","v":0},{"$f":"'mnt Data'!I55","v":0},{"$f":"'mnt Data'!J55","v":0},{"$f":"'mnt Data'!K55","v":0},{"$f":"'mnt Data'!L55","v":0},{"$f":"'mnt Data'!M55","v":0},{"$f":"'mnt Data'!N55","v":0},{"$f":"'mnt Data'!O55","v":0},{"$f":"'mnt Data'!P55","v":0},{"$f":"'mnt Data'!Q55","v":0},{"$f":"'mnt Data'!R55","v":0},{"$f":"'mnt Data'!S55","v":0},{"$f":"'mnt Data'!T55","v":0},{"$f":"'mnt Data'!U55","v":0},{"$f":"'mnt Data'!V55","v":0},{"$f":"'mnt Data'!W55","v":0},{"$f":"'mnt Data'!X55","v":0},{"$f":"'mnt Data'!Y55","v":0},{"$f":"'mnt Data'!Z55","v":0},{"$f":"'mnt Data'!AA55","v":0},{"$f":"'mnt Data'!AB55","v":0},{"$f":"'mnt Data'!AC55","v":0},{"$f":"'mnt Data'!AD55","v":0},{"$f":"'mnt Data'!AE55","v":0},{"$f":"'mnt Data'!AF55","v":0},{"$f":"'mnt Data'!AG55","v":0},{"$f":"'mnt Data'!AH55","v":0},{"$f":"'mnt Data'!AI55","v":0},{"$f":"'mnt Data'!AJ55","v":0},{"$f":"'mnt Data'!AK55","v":0}]
[52,0,0,"No Gs",0,"No Gs","No Gs","Gs is needed","Gs is needed","Gs is needed","Need Max and Min","Need Max and Min","Fail",null,{"$f":"'mnt Data'!A56","v":0},{"$f":"'mnt Data'!B56","v":0},{"$f":"'mnt Data'!C56","v":0},{"$f":"'mnt Data'!D56","v":0},{"$f":"'mnt Data'!E56","v":0},{"$f":"'mnt Data'!F56","v":0},{"$f":"'mnt Data'!G56","v":0},{"$f":"'mnt Data'!H56","v":0},{"$f":"'mnt Data'!I56","v":0},{"$f":"'mnt Data'!J56","v":0},{"$f":"'mnt Data'!K56","v":0},{"$f":"'mnt Data'!L56","v":0},{"$f":"'mnt Data'!M56","v":0},{"$f":"'mnt Data'!N56","v":0},{"$f":"'mnt Data'!O56","v":0},{"$f":"'mnt Data'!P56","v":0},{"$f":"'mnt Data'!Q56","v":0},{"$f":"'mnt Data'!R56","v":0},{"$f":"'mnt Data'!S56","v":0},{"$f":"'mnt Data'!T56","v":0},{"$f":"'mnt Data'!U56","v":0},{"$f":"'mnt Data'!V56","v":0},{"$f":"'mnt Data'!W56","v":0},{"$f":"'mnt Data'!X56","v":0},{"$f":"'mnt Data'!Y56","v":0},{"$f":"'mnt Data'!Z56","v":0},{"$f":"'mnt Data'!AA56","v":0},{"$f":"'mnt Data'!AB56","v":0},{"$f":"'mnt Data'!AC56","v":0},{"$f":"'mnt Data'!AD56","v":0},{"$f":"'mnt Data'!AE56","v":0},{"$f":"'mnt Data'!AF56","v":0},{"$f":"'mnt Data'!AG56","v":0},{"$f":"'mnt Data'!AH56","v":0},{"$f":"'mnt Data'!AI56","v":0},{"$f":"'mnt Data'!AJ56","v":0},{"$f":"'mnt Data'!AK56","v":0}]
[53,0,0,"No Gs",0,"No Gs","No Gs","Gs is needed","Gs is needed","Gs is needed","Need Max and Min","Need Max and Min","Fail",null,{"$f":"'mnt Data'!A57","v":0},{"$f":"'mnt Data'!B57","v":0},{"$f":"'mnt Data'!C57","v":0},{"$f":"'mnt Data'!D57","v":0},{"$f":"'mnt Data'!E57","v":0},{"$f":"'mnt Data'!F57","v":0},{"$f":"'mnt Data'!G57","v":0},{"$f":"'mnt Data'!H57","v":0},{"$f":"'mnt Data'!I57","v":0},{"$f":"'mnt Data'!J57","v":0},{"$f":"'mnt Data'!K57","v":0},{"$f":"'mnt Data'!L57","v":0},{"$f":"'mnt Data'!M57","v":0},{"$f":"'mnt Data'!N57","v":0},{"$f":"'mnt Data'!O57","v":0},{"$f":"'mnt Data'!P57","v":0},{"$f":"'mnt Data'!Q57","v":0},{"$f":"'mnt Data'!R57","v":0},{"$f":"'mnt Data'!S57","v":0},{"$f":"'mnt Data'!T57","v":0},{"$f":"'mnt Data'!U57","v":0},{"$f":"'mnt Data'!V57","v":0},{"$f":"'mnt Data'!W57","v":0},{"$f":"'mnt Data'!X57","v":0},{"$f":"'mnt Data'!Y57","v":0},{"$f":"'mnt Data'!Z57","v":0},{"$f":"'mnt Data'!AA57","v":0},{"$f":"'mnt Data'!AB57","v":0},{"$f":"'mnt Data'!AC57","v":0},{"$f":"'mnt Data'!AD57","v":0},{"$f":"'mnt Data'!AE57","v":0},{"$f":"'mnt Data'!AF57","v":0},{"$f":"'mnt Data'!AG57","v":0},{"$f":"'mnt Data'!AH57","v":0},{"$f":"'mnt Data'!AI57","v":0},{"$f":"'mnt Data'!AJ57","v":0},{"$f":"'mnt Data'!AK57","v":0}]
[54,0,0,"No Gs",0,"No Gs","No Gs","Gs is needed","Gs is needed","Gs is needed","Need Max and Min","Need Max and Min","Fail",null,{"$f":"'mnt Data'!A58","v":0},{"$f":"'mnt Data'!B58","v":0},{"$f":"'mnt Data'!C58","v":0},{"$f":"'mnt Data'!D58","v":0},{"$f":"'mnt Data'!E58","v":0},{"$f":"'mnt Data'!F58","v":0},{"$f":"'mnt Data'!G58","v":0},{"$f":"'mnt Data'!H58","v":0},{"$f":"'mnt Data'!I58","v":0},{"$f":"'mnt Data'!J58","v":0},{"$f":"'mnt Data'!K58","v":0},{"$f":"'mnt Data'!L58","v":0},{"$f":"'mnt Data'!M58","v":0},{"$f":"'mnt Data'!N58","v":0},{"$f":"'mnt Data'!O58","v":0},{"$f":"'mnt Data'!P58","v":0},{"$f":"'mnt Data'!Q58","v":0},{"$f":"'mnt Data'!R58","v":0},{"$f":"'mnt Data'!S58","v":0},{"$f":"'mnt Data'!T58","v":0},{"$f":"'mnt Data'!U58","v":0},{"$f":"'mnt Data'!V58","v":0},{"$f":"'mnt Data'!W58","v":0},{"$f":"'mnt Data'!X58","v":0},{"$f":"'mnt Data'!Y58","v":0},{"$f":"'mnt Data'!Z58","v":0},{"$f":"'mnt Data'!AA58","v":0},{"$f":"'mnt Data'!AB58","v":0},{"$f":"'mnt Data'!AC58","v":0},{"$f":"'mnt Data'!AD58","v":0},{"$f":"'mnt Data'!AE58","v":0},{"$f":"'mnt Data'!AF58","v":0},{"$f":"'mnt Data'!AG58","v":0},{"$f":"'mnt Data'!AH58","v":0},{"$f":"'mnt Data'!AI58","v":0},{"$f":"'mnt Data'!AJ58","v":0},{"$f":"'mnt Data'!AK58","v":0}]
[55,0,0,"No Gs",0,"No Gs","No Gs","Gs is needed","Gs is needed","Gs is needed","Need Max and Min","Need Max and Min","Fail",null,{"$f":"'mnt Data'!A59","v":0},{"$f":"'mnt Data'!B59","v":0},{"$f":"'mnt Data'!C59","v":0},{"$f":"'mnt Data'!D59","v":0},{"$f":"'mnt Data'!E59","v":0},{"$f":"'mnt Data'!F59","v":0},{"$f":"'mnt Data'!G59","v":0},{"$f":"'mnt Data'!H59","v":0},{"$f":"'mnt Data'!I59","v":0},{"$f":"'mnt Data'!J59","v":0},{"$f":"'mnt Data'!K59","v":0},{"$f":"'mnt Data'!L59","v":0},{"$f":"'mnt Data'!M59","v":0},{"$f":"'mnt Data'!N59","v":0},{"$f":"'mnt Data'!O59","v":0},{"$f":"'mnt Data'!P59","v":0},{"$f":"'mnt Data'!Q59","v":0},{"$f":"'mnt Data'!R59","v":0},{"$f":"'mnt Data'!S59","v":0},{"$f":"'mnt Data'!T59","v":0},{"$f":"'mnt Data'!U59","v":0},{"$f":"'mnt Data'!V59","v":0},{"$f":"'mnt Data'!W59","v":0},{"$f":"'mnt Data'!X59","v":0},{"$f":"'mnt Data'!Y59","v":0},{"$f":"'mnt Data'!Z59","v":0},{"$f":"'mnt Data'!AA59","v":0},{"$f":"'mnt Data'!AB59","v":0},{"$f":"'mnt Data'!AC59","v":0},{"$f":"'mnt Data'!AD59","v":0},{"$f":"'mnt Data'!AE59","v":0},{"$f":"'mnt Data'!AF59","v":0},{"$f":"'mnt Data'!AG59","v":0},{"$f":"'mnt Data'!AH59","v":0},{"$f":"'mnt Data'!AI59","v":0},{"$f":"'mnt Data'!AJ59","v":0},{"$f":"'mnt Data'!AK59","v":0}]
[56,0,0,"No Gs",0,"No Gs","No Gs","Gs is needed","Gs is needed","Gs is needed","Need Max and Min","Need Max and Min","Fail",null,{"$f":"'mnt Data'!A60","v":0},{"$f":"'mnt Data'!B60","v":0},{"$f":"'mnt Data'!C60","v":0},{"$f":"'mnt Data'!D60","v":0},{"$f":"'mnt Data'!E60","v":0},{"$f":"'mnt Data'!F60","v":0},{"$f":"'mnt Data'!G60","v":0},{"$f":"'mnt Data'!H60","v":0},{"$f":"'mnt Data'!I60","v":0},{"$f":"'mnt Data'!J60","v":0},{"$f":"'mnt Data'!K60","v":0},{"$f":"'mnt Data'!L60","v":0},{"$f":"'mnt Data'!M60","v":0},{"$f":"'mnt Data'!N60","v":0},{"$f":"'mnt Data'!O60","v":0},{"$f":"'mnt Data'!P60","v":0},{"$f":"'mnt Data'!Q60","v":0},{"$f":"'mnt Data'!R60","v":0},{"$f":"'mnt Data'!S60","v":0},{"$f":"'mnt Data'!T60","v":0},{"$f":"'mnt Data'!U60","v":0},{"$f":"'mnt Data'!V60","v":0},{"$f":"'mnt Data'!W60","v":0},{"$f":"'mnt Data'!X60","v":0},{"$f":"'mnt Data'!Y60","v":0},{"$f":"'mnt Data'!Z60","v":0},{"$f":"'mnt Data'!AA60","v":0},{"$f":"'mnt Data'!AB60","v":0},{"$f":"'mnt Data'!AC60","v":0},{"$f":"'mnt Data'!AD60","v":0},{"$f":"'mnt Data'!AE60","v":0},{"$f":"'mnt Data'!AF60","v":0},{"$f":"'mnt Data'!AG60","v":0},{"$f":"'mnt Data'!AH60","v":0},{"$f":"'mnt Data'!AI60","v":0},{"$f":"'mnt Data'!AJ60","v":0},{"$f":"'mnt Data'!AK60","v":0}]
[57,0,0,"No Gs",0,"No Gs","No Gs","Gs is needed","Gs is needed","Gs is needed","Need Max and Min","Need Max and Min","Fail",null,{"$f":"'mnt Data'!A61","v":0},{"$f":"'mnt Data'!B61","v":0},{"$f":"'mnt Data'!C61","v":0},{"$f":"'mnt Data'!D61","v":0},{"$f":"'mnt Data'!E61","v":0},{"$f":"'mnt Data'!F61","v":0},{"$f":"'mnt Data'!G61","v":0},{"$f":"'mnt Data'!H61","v":0},{"$f":"'mnt Data'!I61","v":0},{"$f":"'mnt Data'!J61","v":0},{"$f":"'mnt Data'!K61","v":0},{"$f":"'mnt Data'!L61","v":0},{"$f":"'mnt Data'!M61","v":0},{"$f":"'mnt Data'!N61","v":0},{"$f":"'mnt Data'!O61","v":0},{"$f":"'mnt Data'!P61","v":0},{"$f":"'mnt Data'!Q61","v":0},{"$f":"'mnt Data'!R61","v":0},{"$f":"'mnt Data'!S61","v":0},{"$f":"'mnt Data'!T61","v":0},{"$f":"'mnt Data'!U61","v":0},{"$f":"'mnt Data'!V61","v":0},{"$f":"'mnt Data'!W61","v":0},{"$f":"'mnt Data'!X61","v":0},{"$f":"'mnt Data'!Y61","v":0},{"$f":"'mnt Data'!Z61","v":0},{"$f":"'mnt Data'!AA61","v":0},{"$f":"'mnt Data'!AB61","v":0},{"$f":"'mnt Data'!AC61","v":0},{"$f":"'mnt Data'!AD61","v":0},{"$f":"'mnt Data'!AE61","v":0},{"$f":"'mnt Data'!AF61","v":0},{"$f":"'mnt Data'!AG61","v":0},{"$f":"'mnt Data'!AH61","v":0},{"$f":"'mnt Data'!AI61","v":0},{"$f":"'mnt Data'!AJ61","v":0},{"$f":"'mnt Data'!AK61","v":0}]
[58,0,0,"No Gs",0,"No Gs","No Gs","Gs is needed","Gs is needed","Gs is needed","Need Max and Min","Need Max and Min","Fail",null,{"$f":"'mnt Data'!A62","v":0},{"$f":"'mnt Data'!B62","v":0},{"$f":"'mnt Data'!C62","v":0},{"$f":"'mnt Data'!D62","v":0},{"$f":"'mnt Data'!E62","v":0},{"$f":"'mnt Data'!F62","v":0},{"$f":"'mnt Data'!G62","v":0},{"$f":"'mnt Data'!H62","v":0},{"$f":"'mnt Data'!I62","v":0},{"$f":"'mnt Data'!J62","v":0},{"$f":"'mnt Data'!K62","v":0},{"$f":"'mnt Data'!L62","v":0},{"$f":"'mnt Data'!M62","v":0},{"$f":"'mnt Data'!N62","v":0},{"$f":"'mnt Data'!O62","v":0},{"$f":"'mnt Data'!P62","v":0},{"$f":"'mnt Data'!Q62","v":0},{"$f":"'mnt Data'!R62","v":0},{"$f":"'mnt Data'!S62","v":0},{"$f":"'mnt Data'!T62","v":0},{"$f":"'mnt Data'!U62","v":0},{"$f":"'mnt Data'!V62","v":0},{"$f":"'mnt Data'!W62","v":0},{"$f":"'mnt Data'!X62","v":0},{"$f":"'mnt Data'!Y62","v":0},{"$f":"'mnt Data'!Z62","v":0},{"$f":"'mnt Data'!AA62","v":0},{"$f":"'mnt Data'!AB62","v":0},{"$f":"'mnt Data'!AC62","v":0},{"$f":"'mnt Data'!AD62","v":0},{"$f":"'mnt Data'!AE62","v":0},{"$f":"'mnt Data'!AF62","v":0},{"$f":"'mnt Data'!AG62","v":0},{"$f":"'mnt Data'!AH62","v":0},{"$f":"'mnt Data'!AI62","v":0},{"$f":"'mnt Data'!AJ62","v":0},{"$f":"'mnt Data'!AK62","v":0}]
[59,0,0,"No Gs",0,"No Gs","No Gs","Gs is needed","Gs is needed","Gs is needed","Need Max and Min","Need Max and Min","Fail",null,{"$f":"'mnt Data'!A63","v":0},{"$f":"'mnt Data'!B63","v":0},{"$f":"'mnt Data'!C63","v":0},{"$f":"'mnt Data'!D63","v":0},{"$f":"'mnt Data'!E63","v":0},{"$f":"'mnt Data'!F63","v":0},{"$f":"'mnt Data'!G63","v":0},{"$f":"'mnt Data'!H63","v":0},{"$f":"'mnt Data'!I63","v":0},{"$f":"'mnt Data'!J63","v":0},{"$f":"'mnt Data'!K63","v":0},{"$f":"'mnt Data'!L63","v":0},{"$f":"'mnt Data'!M63","v":0},{"$f":"'mnt Data'!N63","v":0},{"$f":"'mnt Data'!O63","v":0},{"$f":"'mnt Data'!P63","v":0},{"$f":"'mnt Data'!Q63","v":0},{"$f":"'mnt Data'!R63","v":0},{"$f":"'mnt Data'!S63","v":0},{"$f":"'mnt Data'!T63","v":0},{"$f":"'mnt Data'!U63","v":0},{"$f":"'mnt Data'!V63","v":0},{"$f":"'mnt Data'!W63","v":0},{"$f":"'mnt Data'!X63","v":0},{"$f":"'mnt Data'!Y63","v":0},{"$f":"'mnt Data'!Z63","v":0},{"$f":"'mnt Data'!AA63","v":0},{"$f":"'mnt Data'!AB63","v":0},{"$f":"'mnt Data'!AC63","v":0},{"$f":"'mnt Data'!AD63","v":0},{"$f":"'mnt Data'!AE63","v":0},{"$f":"'mnt Data'!AF63","v":0},{"$f":"'mnt Data'!AG63","v":0},{"$f":"'mnt Data'!AH63","v":0},{"$f":"'mnt Data'!AI63","v":0},{"$f":"'mnt Data'!AJ63","v":0},{"$f":"'mnt Data'!AK63","v":0}]
[60,0,0,"No Gs",0,"No Gs","No Gs","Gs is needed","Gs is needed","Gs is needed","Need Max and Min","Need Max and Min","Fail",null,{"$f":"'mnt Data'!A64","v":0},{"$f":"'mnt Data'!B64","v":0},{"$f":"'mnt Data'!C64","v":0},{"$f":"'mnt Data'!D64","v":0},{"$f":"'mnt Data'!E64","v":0},{"$f":"'mnt Data'!F64","v":0},{"$f":"'mnt Data'!G64","v":0},{"$f":"'mnt Data'!H64","v":0},{"$f":"'mnt Data'!I64","v":0},{"$f":"'mnt Data'!J64","v":0},{"$f":"'mnt Data'!K64","v":0},{"$f":"'mnt Data'!L64","v":0},{"$f":"'mnt Data'!M64","v":0},{"$f":"'mnt Data'!N64","v":0},{"$f":"'mnt Data'!O64","v":0},{"$f":"'mnt Data'!P64","v":0},{"$f":"'mnt Data'!Q64","v":0},{"$f":"'mnt Data'!R64","v":0},{"$f":"'mnt Data'!S64","v":0},{"$f":"'mnt Data'!T64","v":0},{"$f":"'mnt Data'!U64","v":0},{"$f":"'mnt Data'!V64","v":0},{"$f":"'mnt Data'!W64","v":0},{"$f":"'mnt Data'!X64","v":0},{"$f":"'mnt Data'!Y64","v":0},{"$f":"'mnt Data'!Z64","v":0},{"$f":"'mnt Data'!AA64","v":0},{"$f":"'mnt Data'!AB64","v":0},{"$f":"'mnt Data'!AC64","v":0},{"$f":"'mnt Data'!AD64","v":0},{"$f":"'mnt Data'!AE64","v":0},{"$f":"'mnt Data'!AF64","v":0},{"$f":"'mnt Data'!AG64","v":0},{"$f":"'mnt Data'!AH64","v":0},{"$f":"'mnt Data'!AI64","v":0},{"$f":"'mnt Data'!AJ64","v":0},{"$f":"'mnt Data'!AK64","v":0}]
[61,0,0,"No Gs",0,"No Gs","No Gs","Gs is needed","Gs is needed","Gs is needed","Need Max and Min","Need Max and Min","Fail",null,{"$f":"'mnt Data'!A65","v":0},{"$f":"'mnt Data'!B65","v":0},{"$f":"'mnt Data'!C65","v":0},{"$f":"'mnt Data'!D65","v":0},{"$f":"'mnt Data'!E65","v":0},{"$f":"'mnt Data'!F65","v":0},{"$f":"'mnt Data'!G65","v":0},{"$f":"'mnt Data'!H65","v":0},{"$f":"'mnt Data'!I65","v":0},{"$f":"'mnt Data'!J65","v":0},{"$f":"'mnt Data'!K65","v":0},{"$f":"'mnt Data'!L65","v":0},{"$f":"'mnt Data'!M65","v":0},{"$f":"'mnt Data'!N65","v":0},{"$f":"'mnt Data'!O65","v":0},{"$f":"'mnt Data'!P65","v":0},{"$f":"'mnt Data'!Q65","v":0},{"$f":"'mnt Data'!R65","v":0},{"$f":"'mnt Data'!S65","v":0},{"$f":"'mnt Data'!T65","v":0},{"$f":"'mnt Data'!U65","v":0},{"$f":"'mnt Data'!V65","v":0},{"$f":"'mnt Data'!W65","v":0},{"$f":"'mnt Data'!X65","v":0},{"$f":"'mnt Data'!Y65","v":0},{"$f":"'mnt Data'!Z65","v":0},{"$f":"'mnt Data'!AA65","v":0},{"$f":"'mnt Data'!AB65","v":0},{"$f":"'mnt Data'!AC65","v":0},{"$f":"'mnt Data'!AD65","v":0},{"$f":"'mnt Data'!AE65","v":0},{"$f":"'mnt Data'!AF65","v":0},{"$f":"'mnt Data'!AG65","v":0},{"$f":"'mnt Data'!AH65","v":0},{"$f":"'mnt Data'!AI65","v":0},{"$f":"'mnt Data'!AJ65","v":0},{"$f":"'mnt Data'!AK65","v":0}]
[62,0,0,"No Gs",0,"No Gs","No Gs","Gs is needed","Gs is needed","Gs is needed","Need Max and Min","Need Max and Min","Fail",null,{"$f":"'mnt Data'!A66","v":0},{"$f":"'mnt Data'!B66","v":0},{"$f":"'mnt Data'!C66","v":0},{"$f":"'mnt Data'!D66","v":0},{"$f":"'mnt Data'!E66","v":0},{"$f":"'mnt Data'!F66","v":0},{"$f":"'mnt Data'!G66","v":0},{"$f":"'mnt Data'!H66","v":0},{"$f":"'mnt Data'!I66","v":0},{"$f":"'mnt Data'!J66","v":0},{"$f":"'mnt Data'!K66","v":0},{"$f":"'mnt Data'!L66","v":0},{"$f":"'mnt Data'!M66","v":0},{"$f":"'mnt Data'!N66","v":0},{"$f":"'mnt Data'!O66","v":0},{"$f":"'mnt Data'!P66","v":0},{"$f":"'mnt Data'!Q66","v":0},{"$f":"'mnt Data'!R66","v":0},{"$f":"'mnt Data'!S66","v":0},{"$f":"'mnt Data'!T66","v":0},{"$f":"'mnt Data'!U66","v":0},{"$f":"'mnt Data'!V66","v":0},{"$f":"'mnt Data'!W66","v":0},{"$f":"'mnt Data'!X66","v":0},{"$f":"'mnt Data'!Y66","v":0},{"$f":"'mnt Data'!Z66","v":0},{"$f":"'mnt Data'!AA66","v":0},{"$f":"'mnt Data'!AB66","v":0},{"$f":"'mnt Data'!AC66","v":0},{"$f":"'mnt Data'!AD66","v":0},{"$f":"'mnt Data'!AE66","v":0},{"$f":"'mnt Data'!AF66","v":0},{"$f":"'mnt Data'!AG66","v":0},{"$f":"'mnt Data'!AH66","v":0},{"$f":"'mnt Data'!AI66","v":0},{"$f":"'mnt Data'!AJ66","v":0},{"$f":"'mnt Data'!AK66","v":0}]
[63,0,0,"No Gs",0,"No Gs","No Gs","Gs is needed","Gs is needed","Gs is needed","Need Max and Min","Need Max and Min","Fail",null,{"$f":"'mnt Data'!A67","v":0},{"$f":"'mnt Data'!B67","v":0},{"$f":"'mnt Data'!C67","v":0},{"$f":"'mnt Data'!D67","v":0},{"$f":"'mnt Data'!E67","v":0},{"$f":"'mnt Data'!F67","v":0},{"$f":"'mnt Data'!G67","v":0},{"$f":"'mnt Data'!H67","v":0},{"$f":"'mnt Data'!I67","v":0},{"$f":"'mnt Data'!J67","v":0},{"$f":"'mnt Data'!K67","v":0},{"$f":"'mnt Data'!L67","v":0},{"$f":"'mnt Data'!M67","v":0},{"$f":"'mnt Data'!N67","v":0},{"$f":"'mnt Data'!O67","v":0},{"$f":"'mnt Data'!P67","v":0},{"$f":"'mnt Data'!Q67","v":0},{"$f":"'mnt Data'!R67","v":0},{"$f":"'mnt Data'!S67","v":0},{"$f":"'mnt Data'!T67","v":0},{"$f":"'mnt Data'!U67","v":0},{"$f":"'mnt Data'!V67","v":0},{"$f":"'mnt Data'!W67","v":0},{"$f":"'mnt Data'!X67","v":0},{"$f":"'mnt Data'!Y67","v":0},{"$f":"'mnt Data'!Z67","v":0},{"$f":"'mnt Data'!AA67","v":0},{"$f":"'mnt Data'!AB67","v":0},{"$f":"'mnt Data'!AC67","v":0},{"$f":"'mnt Data'!AD67","v":0},{"$f":"'mnt Data'!AE67","v":0},{"$f":"'mnt Data'!AF67","v":0},{"$f":"'mnt Data'!AG67","v":0},{"$f":"'mnt Data'!AH67","v":0},{"$f":"'mnt Data'!AI67","v":0},{"$f":"'mnt Data'!AJ67","v":0},{"$f":"'mnt Data'!AK67","v":0}]
[64,0,0,"No Gs",0,"No Gs","No Gs","Gs is needed","Gs is needed","Gs is needed","Need Max and Min","Need Max and Min","Fail",null,{"$f":"'mnt Data'!A68","v":0},{"$f":"'mnt Data'!B68","v":0},{"$f":"'mnt Data'!C68","v":0},{"$f":"'mnt Data'!D68","v":0},{"$f":"'mnt Data'!E68","v":0},{"$f":"'mnt Data'!F68","v":0},{"$f":"'mnt Data'!G68","v":0},{"$f":"'mnt Data'!H68","v":0},{"$f":"'mnt Data'!I68","v":0},{"$f":"'mnt Data'!J68","v":0},{"$f":"'mnt Data'!K68","v":0},{"$f":"'mnt Data'!L68","v":0},{"$f":"'mnt Data'!M68","v":0},{"$f":"'mnt Data'!N68","v":0},{"$f":"'mnt Data'!O68","v":0},{"$f":"'mnt Data'!P68","v":0},{"$f":"'mnt Data'!Q68","v":0},{"$f":"'mnt Data'!R68","v":0},{"$f":"'mnt Data'!S68","v":0},{"$f":"'mnt Data'!T68","v":0},{"$f":"'mnt Data'!U68","v":0},{"$f":"'mnt Data'!V68","v":0},{"$f":"'mnt Data'!W68","v":0},{"$f":"'mnt Data'!X68","v":0},{"$f":"'mnt Data'!Y68","v":0},{"$f":"'mnt Data'!Z68","v":0},{"$f":"'mnt Data'!AA68","v":0},{"$f":"'mnt Data'!AB68","v":0},{"$f":"'mnt Data'!AC68","v":0},{"$f":"'mnt Data'!AD68","v":0},{"$f":"'mnt Data'!AE68","v":0},{"$f":"'mnt Data'!AF68","v":0},{"$f":"'mnt Data'!AG68","v":0},{"$f":"'mnt Data'!AH68","v":0},{"$f":"'mnt Data'!AI68","v":0},{"$f":"'mnt Data'!AJ68","v":0},{"$f":"'mnt Data'!AK68","v":0}]
[65,0,0,{"$f":"IFERROR(B66/(Gs*(IF(O66>1000,998,62.4))),\"No Gs\")","v":"No Gs"},0,"No Gs","No Gs","Gs is needed","Gs is needed","Gs is needed",{"$f":"IFERROR((100*(DMax*(O66-DMin))/(O66*(DMax-DMin))),\"Need Max and Min\")","v":"Need Max and Min"},{"$f":"IF(K66=\"Need Max and Min\",K66,(100*((O66-DMin)/(DMax-DMin))))","v":"Need Max and Min"},{"$f":"IF((Min+Max)=0,\"Need Max and Min Density\",IF(AND(S66>Min,S66<Max),\"Pass\",\"Fail\"))","v":"Fail"},null,{"$f":"'mnt Data'!A69","v":0},{"$f":"'mnt Data'!B69","v":0},{"$f":"'mnt Data'!C69","v":0},{"$f":"'mnt Data'!D69","v":0},{"$f":"'mnt Data'!E69","v":0},{"$f":"'mnt Data'!F69","v":0},{"$f":"'mnt Data'!G69","v":0},{"$f":"'mnt Data'!H69","v":0},{"$f":"'mnt Data'!I69","v":0},{"$f":"'mnt Data'!J69","v":0},{"$f":"'mnt Data'!K69","v":0},{"$f":"'mnt Data'!L69","v":0},{"$f":"'mnt Data'!M69","v":0},{"$f":"'mnt Data'!N69","v":0},{"$f":"'mnt Data'!O69","v":0},{"$f":"'mnt Data'!P69","v":0},{"$f":"'mnt Data'!Q69","v":0},{"$f":"'mnt Data'!R69","v":0},{"$f":"'mnt Data'!S69","v":0},{"$f":"'mnt Data'!T69","v":0},{"$f":"'mnt Data'!U69","v":0},{"$f":"'mnt Data'!V69","v":0},{"$f":"'mnt Data'!W69","v":0},{"$f":"'mnt Data'!X69","v":0},{"$f":"'mnt Data'!Y69","v":0},{"$f":"'mnt Data'!Z69","v":0},{"$f":"'mnt Data'!AA69","v":0},{"$f":"'mnt Data'!AB69","v":0},{"$f":"'mnt Data'!AC69","v":0},{"$f":"'mnt Data'!AD69","v":0},{"$f":"'mnt Data'!AE69","v":0},{"$f":"'mnt Data'!AF69","v":0},{"$f":"'mnt Data'!AG69","v":0},{"$f":"'mnt Data'!AH69","v":0},{"$f":"'mnt Data'!AI69","v":0},{"$f":"'mnt Data'!AJ69","v":0},{"$f":"'mnt Data'!AK69","v":0}]
[66,0,0,"No Gs",{"$f":"C67/(IF(O67>1000,998,62.4))","v":0},{"$f":"IFERROR(1-D67-E67,\"No Gs\")","v":"No Gs"},{"$f":"IFERROR(E67+F67,\"No Gs\")","v":"No Gs"},"Gs is needed","Gs is needed","Gs is needed","Need Max and Min","Need Max and Min","Fail",null,{"$f":"'mnt Data'!A70","v":0},{"$f":"'mnt Data'!B70","v":0},{"$f":"'mnt Data'!C70","v":0},{"$f":"'mnt Data'!D70","v":0},{"$f":"'mnt Data'!E70","v":0},{"$f":"'mnt Data'!F70","v":0},{"$f":"'mnt Data'!G70","v":0},{"$f":"'mnt Data'!H70","v":0},{"$f":"'mnt Data'!I70","v":0},{"$f":"'mnt Data'!J70","v":0},{"$f":"'mnt Data'!K70","v":0},{"$f":"'mnt Data'!L70","v":0},{"$f":"'mnt Data'!M70","v":0},{"$f":"'mnt Data'!N70","v":0},{"$f":"'mnt Data'!O70","v":0},{"$f":"'mnt Data'!P70","v":0},{"$f":"'mnt Data'!Q70","v":0},{"$f":"'mnt Data'!R70","v":0},{"$f":"'mnt Data'!S70","v":0},{"$f":"'mnt Data'!T70","v":0},{"$f":"'mnt Data'!U70","v":0},{"$f":"'mnt Data'!V70","v":0},{"$f":"'mnt Data'!W70","v":0},{"$f":"'mnt Data'!X70","v":0},{"$f":"'mnt Data'!Y70","v":0},{"$f":"'mnt Data'!Z70","v":0},{"$f":"'mnt Data'!AA70","v":0},{"$f":"'mnt Data'!AB70","v":0},{"$f":"'mnt Data'!AC70","v":0},{"$f":"'mnt Data'!AD70","v":0},{"$f":"'mnt Data'!AE70","v":0},{"$f":"'mnt Data'!AF70","v":0},{"$f":"'mnt Data'!AG70","v":0},{"$f":"'mnt Data'!AH70","v":0},{"$f":"'mnt Data'!AI70","v":0},{"$f":"'mnt Data'!AJ70","v":0},{"$f":"'mnt Data'!AK70","v":0}]
[67,0,0,"No Gs",0,"No Gs","No Gs","Gs is needed","Gs is needed","Gs is needed","Need Max and Min","Need Max and Min","Fail",null,{"$f":"'mnt Data'!A71","v":0},{"$f":"'mnt Data'!B71","v":0},{"$f":"'mnt Data'!C71","v":0},{"$f":"'mnt Data'!D71","v":0},{"$f":"'mnt Data'!E71","v":0},{"$f":"'mnt Data'!F71","v":0},{"$f":"'mnt Data'!G71","v":0},{"$f":"'mnt Data'!H71","v":0},{"$f":"'mnt Data'!I71","v":0},{"$f":"'mnt Data'!J71","v":0},{"$f":"'mnt Data'!K71","v":0},{"$f":"'mnt Data'!L71","v":0},{"$f":"'mnt Data'!M71","v":0},{"$f":"'mnt Data'!N71","v":0},{"$f":"'mnt Data'!O71","v":0},{"$f":"'mnt Data'!P71","v":0},{"$f":"'mnt Data'!Q71","v":0},{"$f":"'mnt Data'!R71","v":0},{"$f":"'mnt Data'!S71","v":0},{"$f":"'mnt Data'!T71","v":0},{"$f":"'mnt Data'!U71","v":0},{"$f":"'mnt Data'!V71","v":0},{"$f":"'mnt Data'!W71","v":0},{"$f":"'mnt Data'!X71","v":0},{"$f":"'mnt Data'!Y71","v":0},{"$f":"'mnt Data'!Z71","v":0},{"$f":"'mnt Data'!AA71","v":0},{"$f":"'mnt Data'!AB71","v":0},{"$f":"'mnt Data'!AC71","v":0},{"$f":"'mnt Data'!AD71","v":0},{"$f":"'mnt Data'!AE71","v":0},{"$f":"'mnt Data'!AF71","v":0},{"$f":"'mnt Data'!AG71","v":0},{"$f":"'mnt Data'!AH71","v":0},{"$f":"'mnt Data'!AI71","v":0},{"$f":"'mnt Data'!AJ71","v":0},{"$f":"'mnt Data'!AK71","v":0}]
[68,0,0,"No Gs",0,"No Gs","No Gs","Gs is needed","Gs is needed","Gs is needed","Need Max and Min","Need Max and Min","Fail",null,{"$f":"'mnt Data'!A72","v":0},{"$f":"'mnt Data'!B72","v":0},{"$f":"'mnt Data'!C72","v":0},{"$f":"'mnt Data'!D72","v":0},{"$f":"'mnt Data'!E72","v":0},{"$f":"'mnt Data'!F72","v":0},{"$f":"'mnt Data'!G72","v":0},{"$f":"'mnt Data'!H72","v":0},{"$f":"'mnt Data'!I72","v":0},{"$f":"'mnt Data'!J72","v":0},{"$f":"'mnt Data'!K72","v":0},{"$f":"'mnt Data'!L72","v":0},{"$f":"'mnt Data'!M72","v":0},{"$f":"'mnt Data'!N72","v":0},{"$f":"'mnt Data'!O72","v":0},{"$f":"'mnt Data'!P72","v":0},{"$f":"'mnt Data'!Q72","v":0},{"$f":"'mnt Data'!R72","v":0},{"$f":"'mnt Data'!S72","v":0},{"$f":"'mnt Data'!T72","v":0},{"$f":"'mnt Data'!U72","v":0},{"$f":"'mnt Data'!V72","v":0},{"$f":"'mnt Data'!W72","v":0},{"$f":"'mnt Data'!X72","v":0},{"$f":"'mnt Data'!Y72","v":0},{"$f":"'mnt Data'!Z72","v":0},{"$f":"'mnt Data'!AA72","v":0},{"$f":"'mnt Data'!AB72","v":0},{"$f":"'mnt Data'!AC72","v":0},{"$f":"'mnt Data'!AD72","v":0},{"$f":"'mnt Data'!AE72","v":0},{"$f":"'mnt Data'!AF72","v":0},{"$f":"'mnt Data'!AG72","v":0},{"$f":"'mnt Data'!AH72","v":0},{"$f":"'mnt Data'!AI72","v":0},{"$f":"'mnt Data'!AJ72","v":0},{"$f":"'mnt Data'!AK72","v":0}]
[69,0,0,"No Gs",0,"No Gs","No Gs","Gs is needed","Gs is needed","Gs is needed","Need Max and Min","Need Max and Min","Fail",null,{"$f":"'mnt Data'!A73","v":0},{"$f":"'mnt Data'!B73","v":0},{"$f":"'mnt Data'!C73","v":0},{"$f":"'mnt Data'!D73","v":0},{"$f":"'mnt Data'!E73","v":0},{"$f":"'mnt Data'!F73","v":0},{"$f":"'mnt Data'!G73","v":0},{"$f":"'mnt Data'!H73","v":0},{"$f":"'mnt Data'!I73","v":0},{"$f":"'mnt Data'!J73","v":0},{"$f":"'mnt Data'!K73","v":0},{"$f":"'mnt Data'!L73","v":0},{"$f":"'mnt Data'!M73","v":0},{"$f":"'mnt Data'!N73","v":0},{"$f":"'mnt Data'!O73","v":0},{"$f":"'mnt Data'!P73","v":0},{"$f":"'mnt Data'!Q73","v":0},{"$f":"'mnt Data'!R73","v":0},{"$f":"'mnt Data'!S73","v":0},{"$f":"'mnt Data'!T73","v":0},{"$f":"'mnt Data'!U73","v":0},{"$f":"'mnt Data'!V73","v":0},{"$f":"'mnt Data'!W73","v":0},{"$f":"'mnt Data'!X73","v":0},{"$f":"'mnt Data'!Y73","v":0},{"$f":"'mnt Data'!Z73","v":0},{"$f":"'mnt Data'!AA73","v":0},{"$f":"'mnt Data'!AB73","v":0},{"$f":"'mnt Data'!AC73","v":0},{"$f":"'mnt Data'!AD73","v":0},{"$f":"'mnt Data'!AE73","v":0},{"$f":"'mnt Data'!AF73","v":0},{"$f":"'mnt Data'!AG73","v":0},{"$f":"'mnt Data'!AH73","v":0},{"$f":"'mnt Data'!AI73","v":0},{"$f":"'mnt Data'!AJ73","v":0},{"$f":"'mnt Data'!AK73","v":0}]
[70,0,0,"No Gs",0,"No Gs","No Gs","Gs is needed","Gs is needed","Gs is needed","Need Max and Min","Need Max and Min","Fail",null,{"$f":"'mnt Data'!A74","v":0},{"$f":"'mnt Data'!B74","v":0},{"$f":"'mnt Data'!C74","v":0},{"$f":"'mnt Data'!D74","v":0},{"$f":"'mnt Data'!E74","v":0},{"$f":"'mnt Data'!F74","v":0},{"$f":"'mnt Data'!G74","v":0},{"$f":"'mnt Data'!H74","v":0},{"$f":"'mnt Data'!I74","v":0},{"$f":"'mnt Data'!J74","v":0},{"$f":"'mnt Data'!K74","v":0},{"$f":"'mnt Data'!L74","v":0},{"$f":"'mnt Data'!M74","v":0},{"$f":"'mnt Data'!N74","v":0},{"$f":"'mnt Data'!O74","v":0},{"$f":"'mnt Data'!P74","v":0},{"$f":"'mnt Data'!Q74","v":0},{"$f":"'mnt Data'!R74","v":0},{"$f":"'mnt Data'!S74","v":0},{"$f":"'mnt Data'!T74","v":0},{"$f":"'mnt Data'!U74","v":0},{"$f":"'mnt Data'!V74","v":0},{"$f":"'mnt Data'!W74","v":0},{"$f":"'mnt Data'!X74","v":0},{"$f":"'mnt Data'!Y74","v":0},{"$f":"'mnt Data'!Z74","v":0},{"$f":"'mnt Data'!AA74","v":0},{"$f":"'mnt Data'!AB74","v":0},{"$f":"'mnt Data'!AC74","v":0},{"$f":"'mnt Data'!AD74","v":0},{"$f":"'mnt Data'!AE74","v":0},{"$f":"'mnt Data'!AF74","v":0},{"$f":"'mnt Data'!AG74","v":0},{"$f":"'mnt Data'!AH74","v":0},{"$f":"'mnt Data'!AI74","v":0},{"$f":"'mnt Data'!AJ74","v":0},{"$f":"'mnt Data'!AK74","v":0}]
[71,0,0,"No Gs",0,"No Gs","No Gs","Gs is needed","Gs is needed","Gs is needed","Need Max and Min","Need Max and Min","Fail",null,{"$f":"'mnt Data'!A75","v":0},{"$f":"'mnt Data'!B75","v":0},{"$f":"'mnt Data'!C75","v":0},{"$f":"'mnt Data'!D75","v":0},{"$f":"'mnt Data'!E75","v":0},{"$f":"'mnt Data'!F75","v":0},{"$f":"'mnt Data'!G75","v":0},{"$f":"'mnt Data'!H75","v":0},{"$f":"'mnt Data'!I75","v":0},{"$f":"'mnt Data'!J75","v":0},{"$f":"'mnt Data'!K75","v":0},{"$f":"'mnt Data'!L75","v":0},{"$f":"'mnt Data'!M75","v":0},{"$f":"'mnt Data'!N75","v":0},{"$f":"'mnt Data'!O75","v":0},{"$f":"'mnt Data'!P75","v":0},{"$f":"'mnt Data'!Q75","v":0},{"$f":"'mnt Data'!R75","v":0},{"$f":"'mnt Data'!S75","v":0},{"$f":"'mnt Data'!T75","v":0},{"$f":"'mnt Data'!U75","v":0},{"$f":"'mnt Data'!V75","v":0},{"$f":"'mnt Data'!W75","v":0},{"$f":"'mnt Data'!X75","v":0},{"$f":"'mnt Data'!Y75","v":0},{"$f":"'mnt Data'!Z75","v":0},{"$f":"'mnt Data'!AA75","v":0},{"$f":"'mnt Data'!AB75","v":0},{"$f":"'mnt Data'!AC75","v":0},{"$f":"'mnt Data'!AD75","v":0},{"$f":"'mnt Data'!AE75","v":0},{"$f":"'mnt Data'!AF75","v":0},{"$f":"'mnt Data'!AG75","v":0},{"$f":"'mnt Data'!AH75","v":0},{"$f":"'mnt Data'!AI75","v":0},{"$f":"'mnt Data'!AJ75","v":0},{"$f":"'mnt Data'!AK75","v":0}]
[72,0,0,"No Gs",0,"No Gs","No Gs","Gs is needed","Gs is needed","Gs is needed","Need Max and Min","Need Max and Min","Fail",null,{"$f":"'mnt Data'!A76","v":0},{"$f":"'mnt Data'!B76","v":0},{"$f":"'mnt Data'!C76","v":0},{"$f":"'mnt Data'!D76","v":0},{"$f":"'mnt Data'!E76","v":0},{"$f":"'mnt Data'!F76","v":0},{"$f":"'mnt Data'!G76","v":0},{"$f":"'mnt Data'!H76","v":0},{"$f":"'mnt Data'!I76","v":0},{"$f":"'mnt Data'!J76","v":0},{"$f":"'mnt Data'!K76","v":0},{"$f":"'mnt Data'!L76","v":0},{"$f":"'mnt Data'!M76","v":0},{"$f":"'mnt Data'!N76","v":0},{"$f":"'mnt Data'!O76","v":0},{"$f":"'mnt Data'!P76","v":0},{"$f":"'mnt Data'!Q76","v":0},{"$f":"'mnt Data'!R76","v":0},{"$f":"'mnt Data'!S76","v":0},{"$f":"'mnt Data'!T76","v":0},{"$f":"'mnt Data'!U76","v":0},{"$f":"'mnt Data'!V76","v":0},{"$f":"'mnt Data'!W76","v":0},{"$f":"'mnt Data'!X76","v":0},{"$f":"'mnt Data'!Y76","v":0},{"$f":"'mnt Data'!Z76","v":0},{"$f":"'mnt Data'!AA76","v":0},{"$f":"'mnt Data'!AB76","v":0},{"$f":"'mnt Data'!AC76","v":0},{"$f":"'mnt Data'!AD76","v":0},{"$f":"'mnt Data'!AE76","v":0},{"$f":"'mnt Data'!AF76","v":0},{"$f":"'mnt Data'!AG76","v":0},{"$f":"'mnt Data'!AH76","v":0},{"$f":"'mnt Data'!AI76","v":0},{"$f":"'mnt Data'!AJ76","v":0},{"$f":"'mnt Data'!AK76","v":0}]
[73,0,0,"No Gs",0,"No Gs","No Gs","Gs is needed","Gs is needed","Gs is needed","Need Max and Min","Need Max and Min","Fail",null,{"$f":"'mnt Data'!A77","v":0},{"$f":"'mnt Data'!B77","v":0},{"$f":"'mnt Data'!C77","v":0},{"$f":"'mnt Data'!D77","v":0},{"$f":"'mnt Data'!E77","v":0},{"$f":"'mnt Data'!F77","v":0},{"$f":"'mnt Data'!G77","v":0},{"$f":"'mnt Data'!H77","v":0},{"$f":"'mnt Data'!I77","v":0},{"$f":"'mnt Data'!J77","v":0},{"$f":"'mnt Data'!K77","v":0},{"$f":"'mnt Data'!L77","v":0},{"$f":"'mnt Data'!M77","v":0},{"$f":"'mnt Data'!N77","v":0},{"$f":"'mnt Data'!O77","v":0},{"$f":"'mnt Data'!P77","v":0},{"$f":"'mnt Data'!Q77","v":0},{"$f":"'mnt Data'!R77","v":0},{"$f":"'mnt Data'!S77","v":0},{"$f":"'mnt Data'!T77","v":0},{"$f":"'mnt Data'!U77","v":0},{"$f":"'mnt Data'!V77","v":0},{"$f":"'mnt Data'!W77","v":0},{"$f":"'mnt Data'!X77","v":0},{"$f":"'mnt Data'!Y77","v":0},{"$f":"'mnt Data'!Z77","v":0},{"$f":"'mnt Data'!AA77","v":0},{"$f":"'mnt Data'!AB77","v":0},{"$f":"'mnt Data'!AC77","v":0},{"$f":"'mnt Data'!AD77","v":0},{"$f":"'mnt Data'!AE77","v":0},{"$f":"'mnt Data'!AF77","v":0},{"$f":"'mnt Data'!AG77","v":0},{"$f":"'mnt Data'!AH77","v":0},{"$f":"'mnt Data'!AI77","v":0},{"$f":"'mnt Data'!AJ77","v":0},{"$f":"'mnt Data'!AK77","v":0}]
[74,0,0,"No Gs",0,"No Gs","No Gs","Gs is needed","Gs is needed","Gs is needed","Need Max and Min","Need Max and Min","Fail",null,{"$f":"'mnt Data'!A78","v":0},{"$f":"'mnt Data'!B78","v":0},{"$f":"'mnt Data'!C78","v":0},{"$f":"'mnt Data'!D78","v":0},{"$f":"'mnt Data'!E78","v":0},{"$f":"'mnt Data'!F78","v":0},{"$f":"'mnt Data'!G78","v":0},{"$f":"'mnt Data'!H78","v":0},{"$f":"'mnt Data'!I78","v":0},{"$f":"'mnt Data'!J78","v":0},{"$f":"'mnt Data'!K78","v":0},{"$f":"'mnt Data'!L78","v":0},{"$f":"'mnt Data'!M78","v":0},{"$f":"'mnt Data'!N78","v":0},{"$f":"'mnt Data'!O78","v":0},{"$f":"'mnt Data'!P78","v":0},{"$f":"'mnt Data'!Q78","v":0},{"$f":"'mnt Data'!R78","v":0},{"$f":"'mnt Data'!S78","v":0},{"$f":"'mnt Data'!T78","v":0},{"$f":"'mnt Data'!U78","v":0},{"$f":"'mnt Data'!V78","v":0},{"$f":"'mnt Data'!W78","v":0},{"$f":"'mnt Data'!X78","v":0},{"$f":"'mnt Data'!Y78","v":0},{"$f":"'mnt Data'!Z78","v":0},{"$f":"'mnt Data'!AA78","v":0},{"$f":"'mnt Data'!AB78","v":0},{"$f":"'mnt Data'!AC78","v":0},{"$f":"'mnt Data'!AD78","v":0},{"$f":"'mnt Data'!AE78","v":0},{"$f":"'mnt Data'!AF78","v":0},{"$f":"'mnt Data'!AG78","v":0},{"$f":"'mnt Data'!AH78","v":0},{"$f":"'mnt Data'!AI78","v":0},{"$f":"'mnt Data'!AJ78","v":0},{"$f":"'mnt Data'!AK78","v":0}]
[75,0,0,"No Gs",0,"No Gs","No Gs","Gs is needed","Gs is needed","Gs is needed","Need Max and Min","Need Max and Min","Fail",null,{"$f":"'mnt Data'!A79","v":0},{"$f":"'mnt Data'!B79","v":0},{"$f":"'mnt Data'!C79","v":0},{"$f":"'mnt Data'!D79","v":0},{"$f":"'mnt Data'!E79","v":0},{"$f":"'mnt Data'!F79","v":0},{"$f":"'mnt Data'!G79","v":0},{"$f":"'mnt Data'!H79","v":0},{"$f":"'mnt Data'!I79","v":0},{"$f":"'mnt Data'!J79","v":0},{"$f":"'mnt Data'!K79","v":0},{"$f":"'mnt Data'!L79","v":0},{"$f":"'mnt Data'!M79","v":0},{"$f":"'mnt Data'!N79","v":0},{"$f":"'mnt Data'!O79","v":0},{"$f":"'mnt Data'!P79","v":0},{"$f":"'mnt Data'!Q79","v":0},{"$f":"'mnt Data'!R79","v":0},{"$f":"'mnt Data'!S79","v":0},{"$f":"'mnt Data'!T79","v":0},{"$f":"'mnt Data'!U79","v":0},{"$f":"'mnt Data'!V79","v":0},{"$f":"'mnt Data'!W79","v":0},{"$f":"'mnt Data'!X79","v":0},{"$f":"'mnt Data'!Y79","v":0},{"$f":"'mnt Data'!Z79","v":0},{"$f":"'mnt Data'!AA79","v":0},{"$f":"'mnt Data'!AB79","v":0},{"$f":"'mnt Data'!AC79","v":0},{"$f":"'mnt Data'!AD79","v":0},{"$f":"'mnt Data'!AE79","v":0},{"$f":"'mnt Data'!AF79","v":0},{"$f":"'mnt Data'!AG79","v":0},{"$f":"'mnt Data'!AH79","v":0},{"$f":"'mnt Data'!AI79","v":0},{"$f":"'mnt Data'!AJ79","v":0},{"$f":"'mnt Data'!AK79","v":0}]
[76,0,0,"No Gs",0,"No Gs","No Gs","Gs is needed","Gs is needed","Gs is needed","Need Max and Min","Need Max and Min","Fail",null,{"$f":"'mnt Data'!A80","v":0},{"$f":"'mnt Data'!B80","v":0},{"$f":"'mnt Data'!C80","v":0},{"$f":"'mnt Data'!D80","v":0},{"$f":"'mnt Data'!E80","v":0},{"$f":"'mnt Data'!F80","v":0},{"$f":"'mnt Data'!G80","v":0},{"$f":"'mnt Data'!H80","v":0},{"$f":"'mnt Data'!I80","v":0},{"$f":"'mnt Data'!J80","v":0},{"$f":"'mnt Data'!K80","v":0},{"$f":"'mnt Data'!L80","v":0},{"$f":"'mnt Data'!M80","v":0},{"$f":"'mnt Data'!N80","v":0},{"$f":"'mnt Data'!O80","v":0},{"$f":"'mnt Data'!P80","v":0},{"$f":"'mnt Data'!Q80","v":0},{"$f":"'mnt Data'!R80","v":0},{"$f":"'mnt Data'!S80","v":0},{"$f":"'mnt Data'!T80","v":0},{"$f":"'mnt Data'!U80","v":0},{"$f":"'mnt Data'!V80","v":0},{"$f":"'mnt Data'!W80","v":0},{"$f":"'mnt Data'!X80","v":0},{"$f":"'mnt Data'!Y80","v":0},{"$f":"'mnt Data'!Z80","v":0},{"$f":"'mnt Data'!AA80","v":0},{"$f":"'mnt Data'!AB80","v":0},{"$f":"'mnt Data'!AC80","v":0},{"$f":"'mnt Data'!AD80","v":0},{"$f":"'mnt Data'!AE80","v":0},{"$f":"'mnt Data'!AF80","v":0},{"$f":"'mnt Data'!AG80","v":0},{"$f":"'mnt Data'!AH80","v":0},{"$f":"'mnt Data'!AI80","v":0},{"$f":"'mnt Data'!AJ80","v":0},{"$f":"'mnt Data'!AK80","v":0}]
[77,0,0,"No Gs",0,"No Gs","No Gs","Gs is needed","Gs is needed","Gs is needed","Need Max and Min","Need Max and Min","Fail",null,{"$f":"'mnt Data'!A81","v":0},{"$f":"'mnt Data'!B81","v":0},{"$f":"'mnt Data'!C81","v":0},{"$f":"'mnt Data'!D81","v":0},{"$f":"'mnt Data'!E81","v":0},{"$f":"'mnt Data'!F81","v":0},{"$f":"'mnt Data'!G81","v":0},{"$f":"'mnt Data'!H81","v":0},{"$f":"'mnt Data'!I81","v":0},{"$f":"'mnt Data'!J81","v":0},{"$f":"'mnt Data'!K81","v":0},{"$f":"'mnt Data'!L81","v":0},{"$f":"'mnt Data'!M81","v":0},{"$f":"'mnt Data'!N81","v":0},{"$f":"'mnt Data'!O81","v":0},{"$f":"'mnt Data'!P81","v":0},{"$f":"'mnt Data'!Q81","v":0},{"$f":"'mnt Data'!R81","v":0},{"$f":"'mnt Data'!S81","v":0},{"$f":"'mnt Data'!T81","v":0},{"$f":"'mnt Data'!U81","v":0},{"$f":"'mnt Data'!V81","v":0},{"$f":"'mnt Data'!W81","v":0},{"$f":"'mnt Data'!X81","v":0},{"$f":"'mnt Data'!Y81","v":0},{"$f":"'mnt Data'!Z81","v":0},{"$f":"'mnt Data'!AA81","v":0},{"$f":"'mnt Data'!AB81","v":0},{"$f":"'mnt Data'!AC81","v":0},{"$f":"'mnt Data'!AD81","v":0},{"$f":"'mnt Data'!AE81","v":0},{"$f":"'mnt Data'!AF81","v":0},{"$f":"'mnt Data'!AG81","v":0},{"$f":"'mnt Data'!AH81","v":0},{"$f":"'mnt Data'!AI81","v":0},{"$f":"'mnt Data'!AJ81","v":0},{"$f":"'mnt Data'!AK81","v":0}]
[78,0,0,"No Gs",0,"No Gs","No Gs","Gs is needed","Gs is needed","Gs is needed","Need Max and Min","Need Max and Min","Fail",null,{"$f":"'mnt Data'!A82","v":0},{"$f":"'mnt Data'!B82","v":0},{"$f":"'mnt Data'!C82","v":0},{"$f":"'mnt Data'!D82","v":0},{"$f":"'mnt Data'!E82","v":0},{"$f":"'mnt Data'!F82","v":0},{"$f":"'mnt Data'!G82","v":0},{"$f":"'mnt Data'!H82","v":0},{"$f":"'mnt Data'!I82","v":0},{"$f":"'mnt Data'!J82","v":0},{"$f":"'mnt Data'!K82","v":0},{"$f":"'mnt Data'!L82","v":0},{"$f":"'mnt Data'!M82","v":0},{"$f":"'mnt Data'!N82","v":0},{"$f":"'mnt Data'!O82","v":0},{"$f":"'mnt Data'!P82","v":0},{"$f":"'mnt Data'!Q82","v":0},{"$f":"'mnt Data'!R82","v":0},{"$f":"'mnt Data'!S82","v":0},{"$f":"'mnt Data'!T82","v":0},{"$f":"'mnt Data'!U82","v":0},{"$f":"'mnt Data'!V82","v":0},{"$f":"'mnt Data'!W82","v":0},{"$f":"'mnt Data'!X82","v":0},{"$f":"'mnt Data'!Y82","v":0},{"$f":"'mnt Data'!Z82","v":0},{"$f":"'mnt Data'!AA82","v":0},{"$f":"'mnt Data'!AB82","v":0},{"$f":"'mnt Data'!AC82","v":0},{"$f":"'mnt Data'!AD82","v":0},{"$f":"'mnt Data'!AE82","v":0},{"$f":"'mnt Data'!AF82","v":0},{"$f":"'mnt Data'!AG82","v":0},{"$f":"'mnt Data'!AH82","v":0},{"$f":"'mnt Data'!AI82","v":0},{"$f":"'mnt Data'!AJ82","v":0},{"$f":"'mnt Data'!AK82","v":0}]
[79,0,0,"No Gs",0,"No Gs","No Gs","Gs is needed","Gs is needed","Gs is needed","Need Max and Min","Need Max and Min","Fail",null,{"$f":"'mnt Data'!A83","v":0},{"$f":"'mnt Data'!B83","v":0},{"$f":"'mnt Data'!C83","v":0},{"$f":"'mnt Data'!D83","v":0},{"$f":"'mnt Data'!E83","v":0},{"$f":"'mnt Data'!F83","v":0},{"$f":"'mnt Data'!G83","v":0},{"$f":"'mnt Data'!H83","v":0},{"$f":"'mnt Data'!I83","v":0},{"$f":"'mnt Data'!J83","v":0},{"$f":"'mnt Data'!K83","v":0},{"$f":"'mnt Data'!L83","v":0},{"$f":"'mnt Data'!M83","v":0},{"$f":"'mnt Data'!N83","v":0},{"$f":"'mnt Data'!O83","v":0},{"$f":"'mnt Data'!P83","v":0},{"$f":"'mnt Data'!Q83","v":0},{"$f":"'mnt Data'!R83","v":0},{"$f":"'mnt Data'!S83","v":0},{"$f":"'mnt Data'!T83","v":0},{"$f":"'mnt Data'!U83","v":0},{"$f":"'mnt Data'!V83","v":0},{"$f":"'mnt Data'!W83","v":0},{"$f":"'mnt Data'!X83","v":0},{"$f":"'mnt Data'!Y83","v":0},{"$f":"'mnt Data'!Z83","v":0},{"$f":"'mnt Data'!AA83","v":0},{"$f":"'mnt Data'!AB83","v":0},{"$f":"'mnt Data'!AC83","v":0},{"$f":"'mnt Data'!AD83","v":0},{"$f":"'mnt Data'!AE83","v":0},{"$f":"'mnt Data'!AF83","v":0},{"$f":"'mnt Data'!AG83","v":0},{"$f":"'mnt Data'!AH83","v":0},{"$f":"'mnt Data'!AI83","v":0},{"$f":"'mnt Data'!AJ83","v":0},{"$f":"'mnt Data'!AK83","v":0}]
[80,0,0,"No Gs",0,"No Gs","No Gs","Gs is needed","Gs is needed","Gs is needed","Need Max and Min","Need Max and Min","Fail",null,{"$f":"'mnt Data'!A84","v":0},{"$f":"'mnt Data'!B84","v":0},{"$f":"'mnt Data'!C84","v":0},{"$f":"'mnt Data'!D84","v":0},{"$f":"'mnt Data'!E84","v":0},{"$f":"'mnt Data'!F84","v":0},{"$f":"'mnt Data'!G84","v":0},{"$f":"'mnt Data'!H84","v":0},{"$f":"'mnt Data'!I84","v":0},{"$f":"'mnt Data'!J84","v":0},{"$f":"'mnt Data'!K84","v":0},{"$f":"'mnt Data'!L84","v":0},{"$f":"'mnt Data'!M84","v":0},{"$f":"'mnt Data'!N84","v":0},{"$f":"'mnt Data'!O84","v":0},{"$f":"'mnt Data'!P84","v":0},{"$f":"'mnt Data'!Q84","v":0},{"$f":"'mnt Data'!R84","v":0},{"$f":"'mnt Data'!S84","v":0},{"$f":"'mnt Data'!T84","v":0},{"$f":"'mnt Data'!U84","v":0},{"$f":"'mnt Data'!V84","v":0},{"$f":"'mnt Data'!W84","v":0},{"$f":"'mnt Data'!X84","v":0},{"$f":"'mnt Data'!Y84","v":0},{"$f":"'mnt Data'!Z84","v":0},{"$f":"'mnt Data'!AA84","v":0},{"$f":"'mnt Data'!AB84","v":0},{"$f":"'mnt Data'!AC84","v":0},{"$f":"'mnt Data'!AD84","v":0},{"$f":"'mnt Data'!AE84","v":0},{"$f":"'mnt Data'!AF84","v":0},{"$f":"'mnt Data'!AG84","v":0},{"$f":"'mnt Data'!AH84","v":0},{"$f":"'mnt Data'!AI84","v":0},{"$f":"'mnt Data'!AJ84","v":0},{"$f":"'mnt Data'!AK84","v":0}]
[81,0,0,"No Gs",0,"No Gs","No Gs","Gs is needed","Gs is needed","Gs is needed","Need Max and Min","Need Max and Min","Fail",null,{"$f":"'mnt Data'!A85","v":0},{"$f":"'mnt Data'!B85","v":0},{"$f":"'mnt Data'!C85","v":0},{"$f":"'mnt Data'!D85","v":0},{"$f":"'mnt Data'!E85","v":0},{"$f":"'mnt Data'!F85","v":0},{"$f":"'mnt Data'!G85","v":0},{"$f":"'mnt Data'!H85","v":0},{"$f":"'mnt Data'!I85","v":0},{"$f":"'mnt Data'!J85","v":0},{"$f":"'mnt Data'!K85","v":0},{"$f":"'mnt Data'!L85","v":0},{"$f":"'mnt Data'!M85","v":0},{"$f":"'mnt Data'!N85","v":0},{"$f":"'mnt Data'!O85","v":0},{"$f":"'mnt Data'!P85","v":0},{"$f":"'mnt Data'!Q85","v":0},{"$f":"'mnt Data'!R85","v":0},{"$f":"'mnt Data'!S85","v":0},{"$f":"'mnt Data'!T85","v":0},{"$f":"'mnt Data'!U85","v":0},{"$f":"'mnt Data'!V85","v":0},{"$f":"'mnt Data'!W85","v":0},{"$f":"'mnt Data'!X85","v":0},{"$f":"'mnt Data'!Y85","v":0},{"$f":"'mnt Data'!Z85","v":0},{"$f":"'mnt Data'!AA85","v":0},{"$f":"'mnt Data'!AB85","v":0},{"$f":"'mnt Data'!AC85","v":0},{"$f":"'mnt Data'!AD85","v":0},{"$f":"'mnt Data'!AE85","v":0},{"$f":"'mnt Data'!AF85","v":0},{"$f":"'mnt Data'!AG85","v":0},{"$f":"'mnt Data'!AH85","v":0},{"$f":"'mnt Data'!AI85","v":0},{"$f":"'mnt Data'!AJ85","v":0},{"$f":"'mnt Data'!AK85","v":0}]
[82,0,0,"No Gs",0,"No Gs","No Gs","Gs is needed","Gs is needed","Gs is needed","Need Max and Min","Need Max and Min","Fail",null,{"$f":"'mnt Data'!A86","v":0},{"$f":"'mnt Data'!B86","v":0},{"$f":"'mnt Data'!C86","v":0},{"$f":"'mnt Data'!D86","v":0},{"$f":"'mnt Data'!E86","v":0},{"$f":"'mnt Data'!F86","v":0},{"$f":"'mnt Data'!G86","v":0},{"$f":"'mnt Data'!H86","v":0},{"$f":"'mnt Data'!I86","v":0},{"$f":"'mnt Data'!J86","v":0},{"$f":"'mnt Data'!K86","v":0},{"$f":"'mnt Data'!L86","v":0},{"$f":"'mnt Data'!M86","v":0},{"$f":"'mnt Data'!N86","v":0},{"$f":"'mnt Data'!O86","v":0},{"$f":"'mnt Data'!P86","v":0},{"$f":"'mnt Data'!Q86","v":0},{"$f":"'mnt Data'!R86","v":0},{"$f":"'mnt Data'!S86","v":0},{"$f":"'mnt Data'!T86","v":0},{"$f":"'mnt Data'!U86","v":0},{"$f":"'mnt Data'!V86","v":0},{"$f":"'mnt Data'!W86","v":0},{"$f":"'mnt Data'!X86","v":0},{"$f":"'mnt Data'!Y86","v":0},{"$f":"'mnt Data'!Z86","v":0},{"$f":"'mnt Data'!AA86","v":0},{"$f":"'mnt Data'!AB86","v":0},{"$f":"'mnt Data'!AC86","v":0},{"$f":"'mnt Data'!AD86","v":0},{"$f":"'mnt Data'!AE86","v":0},{"$f":"'mnt Data'!AF86","v":0},{"$f":"'mnt Data'!AG86","v":0},{"$f":"'mnt Data'!AH86","v":0},{"$f":"'mnt Data'!AI86","v":0},{"$f":"'mnt Data'!AJ86","v":0},{"$f":"'mnt Data'!AK86","v":0}]
[83,0,0,"No Gs",0,"No Gs","No Gs","Gs is needed","Gs is needed","Gs is needed","Need Max and Min","Need Max and Min","Fail",null,{"$f":"'mnt Data'!A87","v":0},{"$f":"'mnt Data'!B87","v":0},{"$f":"'mnt Data'!C87","v":0},{"$f":"'mnt Data'!D87","v":0},{"$f":"'mnt Data'!E87","v":0},{"$f":"'mnt Data'!F87","v":0},{"$f":"'mnt Data'!G87","v":0},{"$f":"'mnt Data'!H87","v":0},{"$f":"'mnt Data'!I87","v":0},{"$f":"'mnt Data'!J87","v":0},{"$f":"'mnt Data'!K87","v":0},{"$f":"'mnt Data'!L87","v":0},{"$f":"'mnt Data'!M87","v":0},{"$f":"'mnt Data'!N87","v":0},{"$f":"'mnt Data'!O87","v":0},{"$f":"'mnt Data'!P87","v":0},{"$f":"'mnt Data'!Q87","v":0},{"$f":"'mnt Data'!R87","v":0},{"$f":"'mnt Data'!S87","v":0},{"$f":"'mnt Data'!T87","v":0},{"$f":"'mnt Data'!U87","v":0},{"$f":"'mnt Data'!V87","v":0},{"$f":"'mnt Data'!W87","v":0},{"$f":"'mnt Data'!X87","v":0},{"$f":"'mnt Data'!Y87","v":0},{"$f":"'mnt Data'!Z87","v":0},{"$f":"'mnt Data'!AA87","v":0},{"$f":"'mnt Data'!AB87","v":0},{"$f":"'mnt Data'!AC87","v":0},{"$f":"'mnt Data'!AD87","v":0},{"$f":"'mnt Data'!AE87","v":0},{"$f":"'mnt Data'!AF87","v":0},{"$f":"'mnt Data'!AG87","v":0},{"$f":"'mnt Data'!AH87","v":0},{"$f":"'mnt Data'!AI87","v":0},{"$f":"'mnt Data'!AJ87","v":0},{"$f":"'mnt Data'!AK87","v":0}]
[84,0,0,"No Gs",0,"No Gs","No Gs","Gs is needed","Gs is needed","Gs is needed","Need Max and Min","Need Max and Min","Fail",null,{"$f":"'mnt Data'!A88","v":0},{"$f":"'mnt Data'!B88","v":0},{"$f":"'mnt Data'!C88","v":0},{"$f":"'mnt Data'!D88","v":0},{"$f":"'mnt Data'!E88","v":0},{"$f":"'mnt Data'!F88","v":0},{"$f":"'mnt Data'!G88","v":0},{"$f":"'mnt Data'!H88","v":0},{"$f":"'mnt Data'!I88","v":0},{"$f":"'mnt Data'!J88","v":0},{"$f":"'mnt Data'!K88","v":0},{"$f":"'mnt Data'!L88","v":0},{"$f":"'mnt Data'!M88","v":0},{"$f":"'mnt Data'!N88","v":0},{"$f":"'mnt Data'!O88","v":0},{"$f":"'mnt Data'!P88","v":0},{"$f":"'mnt Data'!Q88","v":0},{"$f":"'mnt Data'!R88","v":0},{"$f":"'mnt Data'!S88","v":0},{"$f":"'mnt Data'!T88","v":0},{"$f":"'mnt Data'!U88","v":0},{"$f":"'mnt Data'!V88","v":0},{"$f":"'mnt Data'!W88","v":0},{"$f":"'mnt Data'!X88","v":0},{"$f":"'mnt Data'!Y88","v":0},{"$f":"'mnt Data'!Z88","v":0},{"$f":"'mnt Data'!AA88","v":0},{"$f":"'mnt Data'!AB88","v":0},{"$f":"'mnt Data'!AC88","v":0},{"$f":"'mnt Data'!AD88","v":0},{"$f":"'mnt Data'!AE88","v":0},{"$f":"'mnt Data'!AF88","v":0},{"$f":"'mnt Data'!AG88","v":0},{"$f":"'mnt Data'!AH88","v":0},{"$f":"'mnt Data'!AI88","v":0},{"$f":"'mnt Data'!AJ88","v":0},{"$f":"'mnt Data'!AK88","v":0}]
[85,0,0,"No Gs",0,"No Gs","No Gs","Gs is needed","Gs is needed","Gs is needed","Need Max and Min","Need Max and Min","Fail",null,{"$f":"'mnt Data'!A89","v":0},{"$f":"'mnt Data'!B89","v":0},{"$f":"'mnt Data'!C89","v":0},{"$f":"'mnt Data'!D89","v":0},{"$f":"'mnt Data'!E89","v":0},{"$f":"'mnt Data'!F89","v":0},{"$f":"'mnt Data'!G89","v":0},{"$f":"'mnt Data'!H89","v":0},{"$f":"'mnt Data'!I89","v":0},{"$f":"'mnt Data'!J89","v":0},{"$f":"'mnt Data'!K89","v":0},{"$f":"'mnt Data'!L89","v":0},{"$f":"'mnt Data'!M89","v":0},{"$f":"'mnt Data'!N89","v":0},{"$f":"'mnt Data'!O89","v":0},{"$f":"'mnt Data'!P89","v":0},{"$f":"'mnt Data'!Q89","v":0},{"$f":"'mnt Data'!R89","v":0},{"$f":"'mnt Data'!S89","v":0},{"$f":"'mnt Data'!T89","v":0},{"$f":"'mnt Data'!U89","v":0},{"$f":"'mnt Data'!V89","v":0},{"$f":"'mnt Data'!W89","v":0},{"$f":"'mnt Data'!X89","v":0},{"$f":"'mnt Data'!Y89","v":0},{"$f":"'mnt Data'!Z89","v":0},{"$f":"'mnt Data'!AA89","v":0},{"$f":"'mnt Data'!AB89","v":0},{"$f":"'mnt Data'!AC89","v":0},{"$f":"'mnt Data'!AD89","v":0},{"$f":"'mnt Data'!AE89","v":0},{"$f":"'mnt Data'!AF89","v":0},{"$f":"'mnt Data'!AG89","v":0},{"$f":"'mnt Data'!AH89","v":0},{"$f":"'mnt Data'!AI89","v":0},{"$f":"'mnt Data'!AJ89","v":0},{"$f":"'mnt Data'!AK89","v":0}]
[86,0,0,"No Gs",0,"No Gs","No Gs","Gs is needed","Gs is needed","Gs is needed","Need Max and Min","Need Max and Min","Fail",null,{"$f":"'mnt Data'!A90","v":0},{"$f":"'mnt Data'!B90","v":0},{"$f":"'mnt Data'!C90","v":0},{"$f":"'mnt Data'!D90","v":0},{"$f":"'mnt Data'!E90","v":0},{"$f":"'mnt Data'!F90","v":0},{"$f":"'mnt Data'!G90","v":0},{"$f":"'mnt Data'!H90","v":0},{"$f":"'mnt Data'!I90","v":0},{"$f":"'mnt Data'!J90","v":0},{"$f":"'mnt Data'!K90","v":0},{"$f":"'mnt Data'!L90","v":0},{"$f":"'mnt Data'!M90","v":0},{"$f":"'mnt Data'!N90","v":0},{"$f":"'mnt Data'!O90","v":0},{"$f":"'mnt Data'!P90","v":0},{"$f":"'mnt Data'!Q90","v":0},{"$f":"'mnt Data'!R90","v":0},{"$f":"'mnt Data'!S90","v":0},{"$f":"'mnt Data'!T90","v":0},{"$f":"'mnt Data'!U90","v":0},{"$f":"'mnt Data'!V90","v":0},{"$f":"'mnt Data'!W90","v":0},{"$f":"'mnt Data'!X90","v":0},{"$f":"'mnt Data'!Y90","v":0},{"$f":"'mnt Data'!Z90","v":0},{"$f":"'mnt Data'!AA90","v":0},{"$f":"'mnt Data'!AB90","v":0},{"$f":"'mnt Data'!AC90","v":0},{"$f":"'mnt Data'!AD90","v":0},{"$f":"'mnt Data'!AE90","v":0},{"$f":"'mnt Data'!AF90","v":0},{"$f":"'mnt Data'!AG90","v":0},{"$f":"'mnt Data'!AH90","v":0},{"$f":"'mnt Data'!AI90","v":0},{"$f":"'mnt Data'!AJ90","v":0},{"$f":"'mnt Data'!AK90","v":0}]
[87,0,0,"No Gs",0,"No Gs","No Gs","Gs is needed","Gs is needed","Gs is needed","Need Max and Min","Need Max and Min","Fail",null,{"$f":"'mnt Data'!A91","v":0},{"$f":"'mnt Data'!B91","v":0},{"$f":"'mnt Data'!C91","v":0},{"$f":"'mnt Data'!D91","v":0},{"$f":"'mnt Data'!E91","v":0},{"$f":"'mnt Data'!F91","v":0},{"$f":"'mnt Data'!G91","v":0},{"$f":"'mnt Data'!H91","v":0},{"$f":"'mnt Data'!I91","v":0},{"$f":"'mnt Data'!J91","v":0},{"$f":"'mnt Data'!K91","v":0},{"$f":"'mnt Data'!L91","v":0},{"$f":"'mnt Data'!M91","v":0},{"$f":"'mnt Data'!N91","v":0},{"$f":"'mnt Data'!O91","v":0},{"$f":"'mnt Data'!P91","v":0},{"$f":"'mnt Data'!Q91","v":0},{"$f":"'mnt Data'!R91","v":0},{"$f":"'mnt Data'!S91","v":0},{"$f":"'mnt Data'!T91","v":0},{"$f":"'mnt Data'!U91","v":0},{"$f":"'mnt Data'!V91","v":0},{"$f":"'mnt Data'!W91","v":0},{"$f":"'mnt Data'!X91","v":0},{"$f":"'mnt Data'!Y91","v":0},{"$f":"'mnt Data'!Z91","v":0},{"$f":"'mnt Data'!AA91","v":0},{"$f":"'mnt Data'!AB91","v":0},{"$f":"'mnt Data'!AC91","v":0},{"$f":"'mnt Data'!AD91","v":0},{"$f":"'mnt Data'!AE91","v":0},{"$f":"'mnt Data'!AF91","v":0},{"$f":"'mnt Data'!AG91","v":0},{"$f":"'mnt Data'!AH91","v":0},{"$f":"'mnt Data'!AI91","v":0},{"$f":"'mnt Data'!AJ91","v":0},{"$f":"'mnt Data'!AK91","v":0}]
[88,0,0,"No Gs",0,"No Gs","No Gs","Gs is needed","Gs is needed","Gs is needed","Need Max and Min","Need Max and Min","Fail",null,{"$f":"'mnt Data'!A92","v":0},{"$f":"'mnt Data'!B92","v":0},{"$f":"'mnt Data'!C92","v":0},{"$f":"'mnt Data'!D92","v":0},{"$f":"'mnt Data'!E92","v":0},{"$f":"'mnt Data'!F92","v":0},{"$f":"'mnt Data'!G92","v":0},{"$f":"'mnt Data'!H92","v":0},{"$f":"'mnt Data'!I92","v":0},{"$f":"'mnt Data'!J92","v":0},{"$f":"'mnt Data'!K92","v":0},{"$f":"'mnt Data'!L92","v":0},{"$f":"'mnt Data'!M92","v":0},{"$f":"'mnt Data'!N92","v":0},{"$f":"'mnt Data'!O92","v":0},{"$f":"'mnt Data'!P92","v":0},{"$f":"'mnt Data'!Q92","v":0},{"$f":"'mnt Data'!R92","v":0},{"$f":"'mnt Data'!S92","v":0},{"$f":"'mnt Data'!T92","v":0},{"$f":"'mnt Data'!U92","v":0},{"$f":"'mnt Data'!V92","v":0},{"$f":"'mnt Data'!W92","v":0},{"$f":"'mnt Data'!X92","v":0},{"$f":"'mnt Data'!Y92","v":0},{"$f":"'mnt Data'!Z92","v":0},{"$f":"'mnt Data'!AA92","v":0},{"$f":"'mnt Data'!AB92","v":0},{"$f":"'mnt Data'!AC92","v":0},{"$f":"'mnt Data'!AD92","v":0},{"$f":"'mnt Data'!AE92","v":0},{"$f":"'mnt Data'!AF92","v":0},{"$f":"'mnt Data'!AG92","v":0},{"$f":"'mnt Data'!AH92","v":0},{"$f":"'mnt Data'!AI92","v":0},{"$f":"'mnt Data'!AJ92","v":0},{"$f":"'mnt Data'!AK92","v":0}]
[89,0,0,"No Gs",0,"No Gs","No Gs","Gs is needed","Gs is needed","Gs is needed","Need Max and Min","Need Max and Min","Fail",null,{"$f":"'mnt Data'!A93","v":0},{"$f":"'mnt Data'!B93","v":0},{"$f":"'mnt Data'!C93","v":0},{"$f":"'mnt Data'!D93","v":0},{"$f":"'mnt Data'!E93","v":0},{"$f":"'mnt Data'!F93","v":0},{"$f":"'mnt Data'!G93","v":0},{"$f":"'mnt Data'!H93","v":0},{"$f":"'mnt Data'!I93","v":0},{"$f":"'mnt Data'!J93","v":0},{"$f":"'mnt Data'!K93","v":0},{"$f":"'mnt Data'!L93","v":0},{"$f":"'mnt Data'!M93","v":0},{"$f":"'mnt Data'!N93","v":0},{"$f":"'mnt Data'!O93","v":0},{"$f":"'mnt Data'!P93","v":0},{"$f":"'mnt Data'!Q93","v":0},{"$f":"'mnt Data'!R93","v":0},{"$f":"'mnt Data'!S93","v":0},{"$f":"'mnt Data'!T93","v":0},{"$f":"'mnt Data'!U93","v":0},{"$f":"'mnt Data'!V93","v":0},{"$f":"'mnt Data'!W93","v":0},{"$f":"'mnt Data'!X93","v":0},{"$f":"'mnt Data'!Y93","v":0},{"$f":"'mnt Data'!Z93","v":0},{"$f":"'mnt Data'!AA93","v":0},{"$f":"'mnt Data'!AB93","v":0},{"$f":"'mnt Data'!AC93","v":0},{"$f":"'mnt Data'!AD93","v":0},{"$f":"'mnt Data'!AE93","v":0},{"$f":"'mnt Data'!AF93","v":0},{"$f":"'mnt Data'!AG93","v":0},{"$f":"'mnt Data'!AH93","v":0},{"$f":"'mnt Data'!AI93","v":0},{"$f":"'mnt Data'!AJ93","v":0},{"$f":"'mnt Data'!AK93","v":0}]
[90,0,0,"No Gs",0,"No Gs","No Gs","Gs is needed","Gs is needed","Gs is needed","Need Max and Min","Need Max and Min","Fail",null,{"$f":"'mnt Data'!A94","v":0},{"$f":"'mnt Data'!B94","v":0},{"$f":"'mnt Data'!C94","v":0},{"$f":"'mnt Data'!D94","v":0},{"$f":"'mnt Data'!E94","v":0},{"$f":"'mnt Data'!F94","v":0},{"$f":"'mnt Data'!G94","v":0},{"$f":"'mnt Data'!H94","v":0},{"$f":"'mnt Data'!I94","v":0},{"$f":"'mnt Data'!J94","v":0},{"$f":"'mnt Data'!K94","v":0},{"$f":"'mnt Data'!L94","v":0},{"$f":"'mnt Data'!M94","v":0},{"$f":"'mnt Data'!N94","v":0},{"$f":"'mnt Data'!O94","v":0},{"$f":"'mnt Data'!P94","v":0},{"$f":"'mnt Data'!Q94","v":0},{"$f":"'mnt Data'!R94","v":0},{"$f":"'mnt Data'!S94","v":0},{"$f":"'mnt Data'!T94","v":0},{"$f":"'mnt Data'!U94","v":0},{"$f":"'mnt Data'!V94","v":0},{"$f":"'mnt Data'!W94","v":0},{"$f":"'mnt Data'!X94","v":0},{"$f":"'mnt Data'!Y94","v":0},{"$f":"'mnt Data'!Z94","v":0},{"$f":"'mnt Data'!AA94","v":0},{"$f":"'mnt Data'!AB94","v":0},{"$f":"'mnt Data'!AC94","v":0},{"$f":"'mnt Data'!AD94","v":0},{"$f":"'mnt Data'!AE94","v":0},{"$f":"'mnt Data'!AF94","v":0},{"$f":"'mnt Data'!AG94","v":0},{"$f":"'mnt Data'!AH94","v":0},{"$f":"'mnt Data'!AI94","v":0},{"$f":"'mnt Data'!AJ94","v":0},{"$f":"'mnt Data'!AK94","v":0}]
[91,0,0,"No Gs",0,"No Gs","No Gs","Gs is needed","Gs is needed","Gs is needed","Need Max and Min","Need Max and Min","Fail",null,{"$f":"'mnt Data'!A95","v":0},{"$f":"'mnt Data'!B95","v":0},{"$f":"'mnt Data'!C95","v":0},{"$f":"'mnt Data'!D95","v":0},{"$f":"'mnt Data'!E95","v":0},{"$f":"'mnt Data'!F95","v":0},{"$f":"'mnt Data'!G95","v":0},{"$f":"'mnt Data'!H95","v":0},{"$f":"'mnt Data'!I95","v":0},{"$f":"'mnt Data'!J95","v":0},{"$f":"'mnt Data'!K95","v":0},{"$f":"'mnt Data'!L95","v":0},{"$f":"'mnt Data'!M95","v":0},{"$f":"'mnt Data'!N95","v":0},{"$f":"'mnt Data'!O95","v":0},{"$f":"'mnt Data'!P95","v":0},{"$f":"'mnt Data'!Q95","v":0},{"$f":"'mnt Data'!R95","v":0},{"$f":"'mnt Data'!S95","v":0},{"$f":"'mnt Data'!T95","v":0},{"$f":"'mnt Data'!U95","v":0},{"$f":"'mnt Data'!V95","v":0},{"$f":"'mnt Data'!W95","v":0},{"$f":"'mnt Data'!X95","v":0},{"$f":"'mnt Data'!Y95","v":0},{"$f":"'mnt Data'!Z95","v":0},{"$f":"'mnt Data'!AA95","v":0},{"$f":"'mnt Data'!AB95","v":0},{"$f":"'mnt Data'!AC95","v":0},{"$f":"'mnt Data'!AD95","v":0},{"$f":"'mnt Data'!AE95","v":0},{"$f":"'mnt Data'!AF95","v":0},{"$f":"'mnt Data'!AG95","v":0},{"$f":"'mnt Data'!AH95","v":0},{"$f":"'mnt Data'!AI95","v":0},{"$f":"'mnt Data'!AJ95","v":0},{"$f":"'mnt Data'!AK95","v":0}]
[92,0,0,"No Gs",0,"No Gs","No Gs","Gs is needed","Gs is needed","Gs is needed","Need Max and Min","Need Max and Min","Fail",null,{"$f":"'mnt Data'!A96","v":0},{"$f":"'mnt Data'!B96","v":0},{"$f":"'mnt Data'!C96","v":0},{"$f":"'mnt Data'!D96","v":0},{"$f":"'mnt Data'!E96","v":0},{"$f":"'mnt Data'!F96","v":0},{"$f":"'mnt Data'!G96","v":0},{"$f":"'mnt Data'!H96","v":0},{"$f":"'mnt Data'!I96","v":0},{"$f":"'mnt Data'!J96","v":0},{"$f":"'mnt Data'!K96","v":0},{"$f":"'mnt Data'!L96","v":0},{"$f":"'mnt Data'!M96","v":0},{"$f":"'mnt Data'!N96","v":0},{"$f":"'mnt Data'!O96","v":0},{"$f":"'mnt Data'!P96","v":0},{"$f":"'mnt Data'!Q96","v":0},{"$f":"'mnt Data'!R96","v":0},{"$f":"'mnt Data'!S96","v":0},{"$f":"'mnt Data'!T96","v":0},{"$f":"'mnt Data'!U96","v":0},{"$f":"'mnt Data'!V96","v":0},{"$f":"'mnt Data'!W96","v":0},{"$f":"'mnt Data'!X96","v":0},{"$f":"'mnt Data'!Y96","v":0},{"$f":"'mnt Data'!Z96","v":0},{"$f":"'mnt Data'!AA96","v":0},{"$f":"'mnt Data'!AB96","v":0},{"$f":"'mnt Data'!AC96","v":0},{"$f":"'mnt Data'!AD96","v":0},{"$f":"'mnt Data'!AE96","v":0},{"$f":"'mnt Data'!AF96","v":0},{"$f":"'mnt Data'!AG96","v":0},{"$f":"'mnt Data'!AH96","v":0},{"$f":"'mnt Data'!AI96","v":0},{"$f":"'mnt Data'!AJ96","v":0},{"$f":"'mnt Data'!AK96","v":0}]
[93,0,0,"No Gs",0,"No Gs","No Gs","Gs is needed","Gs is needed","Gs is needed","Need Max and Min","Need Max and Min","Fail",null,{"$f":"'mnt Data'!A97","v":0},{"$f":"'mnt Data'!B97","v":0},{"$f":"'mnt Data'!C97","v":0},{"$f":"'mnt Data'!D97","v":0},{"$f":"'mnt Data'!E97","v":0},{"$f":"'mnt Data'!F97","v":0},{"$f":"'mnt Data'!G97","v":0},{"$f":"'mnt Data'!H97","v":0},{"$f":"'mnt Data'!I97","v":0},{"$f":"'mnt Data'!J97","v":0},{"$f":"'mnt Data'!K97","v":0},{"$f":"'mnt Data'!L97","v":0},{"$f":"'mnt Data'!M97","v":0},{"$f":"'mnt Data'!N97","v":0},{"$f":"'mnt Data'!O97","v":0},{"$f":"'mnt Data'!P97","v":0},{"$f":"'mnt Data'!Q97","v":0},{"$f":"'mnt Data'!R97","v":0},{"$f":"'mnt Data'!S97","v":0},{"$f":"'mnt Data'!T97","v":0},{"$f":"'mnt Data'!U97","v":0},{"$f":"'mnt Data'!V97","v":0},{"$f":"'mnt Data'!W97","v":0},{"$f":"'mnt Data'!X97","v":0},{"$f":"'mnt Data'!Y97","v":0},{"$f":"'mnt Data'!Z97","v":0},{"$f":"'mnt Data'!AA97","v":0},{"$f":"'mnt Data'!AB97","v":0},{"$f":"'mnt Data'!AC97","v":0},{"$f":"'mnt Data'!AD97","v":0},{"$f":"'mnt Data'!AE97","v":0},{"$f":"'mnt Data'!AF97","v":0},{"$f":"'mnt Data'!AG97","v":0},{"$f":"'mnt Data'!AH97","v":0},{"$f":"'mnt Data'!AI97","v":0},{"$f":"'mnt Data'!AJ97","v":0},{"$f":"'mnt Data'!AK97","v":0}]
[94,0,0,"No Gs",0,"No Gs","No Gs","Gs is needed","Gs is needed","Gs is needed","Need Max and Min","Need Max and Min","Fail",null,{"$f":"'mnt Data'!A98","v":0},{"$f":"'mnt Data'!B98","v":0},{"$f":"'mnt Data'!C98","v":0},{"$f":"'mnt Data'!D98","v":0},{"$f":"'mnt Data'!E98","v":0},{"$f":"'mnt Data'!F98","v":0},{"$f":"'mnt Data'!G98","v":0},{"$f":"'mnt Data'!H98","v":0},{"$f":"'mnt Data'!I98","v":0},{"$f":"'mnt Data'!J98","v":0},{"$f":"'mnt Data'!K98","v":0},{"$f":"'mnt Data'!L98","v":0},{"$f":"'mnt Data'!M98","v":0},{"$f":"'mnt Data'!N98","v":0},{"$f":"'mnt Data'!O98","v":0},{"$f":"'mnt Data'!P98","v":0},{"$f":"'mnt Data'!Q98","v":0},{"$f":"'mnt Data'!R98","v":0},{"$f":"'mnt Data'!S98","v":0},{"$f":"'mnt Data'!T98","v":0},{"$f":"'mnt Data'!U98","v":0},{"$f":"'mnt Data'!V98","v":0},{"$f":"'mnt Data'!W98","v":0},{"$f":"'mnt Data'!X98","v":0},{"$f":"'mnt Data'!Y98","v":0},{"$f":"'mnt Data'!Z98","v":0},{"$f":"'mnt Data'!AA98","v":0},{"$f":"'mnt Data'!AB98","v":0},{"$f":"'mnt Data'!AC98","v":0},{"$f":"'mnt Data'!AD98","v":0},{"$f":"'mnt Data'!AE98","v":0},{"$f":"'mnt Data'!AF98","v":0},{"$f":"'mnt Data'!AG98","v":0},{"$f":"'mnt Data'!AH98","v":0},{"$f":"'mnt Data'!AI98","v":0},{"$f":"'mnt Data'!AJ98","v":0},{"$f":"'mnt Data'!AK98","v":0}]
[95,0,0,"No Gs",0,"No Gs","No Gs","Gs is needed","Gs is needed","Gs is needed","Need Max and Min","Need Max and Min","Fail",null,{"$f":"'mnt Data'!A99","v":0},{"$f":"'mnt Data'!B99","v":0},{"$f":"'mnt Data'!C99","v":0},{"$f":"'mnt Data'!D99","v":0},{"$f":"'mnt Data'!E99","v":0},{"$f":"'mnt Data'!F99","v":0},{"$f":"'mnt Data'!G99","v":0},{"$f":"'mnt Data'!H99","v":0},{"$f":"'mnt Data'!I99","v":0},{"$f":"'mnt Data'!J99","v":0},{"$f":"'mnt Data'!K99","v":0},{"$f":"'mnt Data'!L99","v":0},{"$f":"'mnt Data'!M99","v":0},{"$f":"'mnt Data'!N99","v":0},{"$f":"'mnt Data'!O99","v":0},{"$f":"'mnt Data'!P99","v":0},{"$f":"'mnt Data'!Q99","v":0},{"$f":"'mnt Data'!R99","v":0},{"$f":"'mnt Data'!S99","v":0},{"$f":"'mnt Data'!T99","v":0},{"$f":"'mnt Data'!U99","v":0},{"$f":"'mnt Data'!V99","v":0},{"$f":"'mnt Data'!W99","v":0},{"$f":"'mnt Data'!X99","v":0},{"$f":"'mnt Data'!Y99","v":0},{"$f":"'mnt Data'!Z99","v":0},{"$f":"'mnt Data'!AA99","v":0},{"$f":"'mnt Data'!AB99","v":0},{"$f":"'mnt Data'!AC99","v":0},{"$f":"'mnt Data'!AD99","v":0},{"$f":"'mnt Data'!AE99","v":0},{"$f":"'mnt Data'!AF99","v":0},{"$f":"'mnt Data'!AG99","v":0},{"$f":"'mnt Data'!AH99","v":0},{"$f":"'mnt Data'!AI99","v":0},{"$f":"'mnt Data'!AJ99","v":0},{"$f":"'mnt Data'!AK99","v":0}]
[96,0,0,"No Gs",0,"No Gs","No Gs","Gs is needed","Gs is needed","Gs is needed","Need Max and Min","Need Max and Min","Fail",null,{"$f":"'mnt Data'!A100","v":0},{"$f":"'mnt Data'!B100","v":0},{"$f":"'mnt Data'!C100","v":0},{"$f":"'mnt Data'!D100","v":0},{"$f":"'mnt Data'!E100","v":0},{"$f":"'mnt Data'!F100","v":0},{"$f":"'mnt Data'!G100","v":0},{"$f":"'mnt Data'!H100","v":0},{"$f":"'mnt Data'!I100","v":0},{"$f":"'mnt Data'!J100","v":0},{"$f":"'mnt Data'!K100","v":0},{"$f":"'mnt Data'!L100","v":0},{"$f":"'mnt Data'!M100","v":0},{"$f":"'mnt Data'!N100","v":0},{"$f":"'mnt Data'!O100","v":0},{"$f":"'mnt Data'!P100","v":0},{"$f":"'mnt Data'!Q100","v":0},{"$f":"'mnt Data'!R100","v":0},{"$f":"'mnt Data'!S100","v":0},{"$f":"'mnt Data'!T100","v":0},{"$f":"'mnt Data'!U100","v":0},{"$f":"'mnt Data'!V100","v":0},{"$f":"'mnt Data'!W100","v":0},{"$f":"'mnt Data'!X100","v":0},{"$f":"'mnt Data'!Y100","v":0},{"$f":"'mnt Data'!Z100","v":0},{"$f":"'mnt Data'!AA100","v":0},{"$f":"'mnt Data'!AB100","v":0},{"$f":"'mnt Data'!AC100","v":0},{"$f":"'mnt Data'!AD100","v":0},{"$f":"'mnt Data'!AE100","v":0},{"$f":"'mnt Data'!AF100","v":0},{"$f":"'mnt Data'!AG100","v":0},{"$f":"'mnt Data'!AH100","v":0},{"$f":"'mnt Data'!AI100","v":0},{"$f":"'mnt Data'!AJ100","v":0},{"$f":"'mnt Data'!AK100","v":0}]
[97,0,0,"No Gs",0,"No Gs","No Gs","Gs is needed","Gs is needed","Gs is needed","Need Max and Min","Need Max and Min","Fail",null,{"$f":"'mnt Data'!A101","v":0},{"$f":"'mnt Data'!B101","v":0},{"$f":"'mnt Data'!C101","v":0},{"$f":"'mnt Data'!D101","v":0},{"$f":"'mnt Data'!E101","v":0},{"$f":"'mnt Data'!F101","v":0},{"$f":"'mnt Data'!G101","v":0},{"$f":"'mnt Data'!H101","v":0},{"$f":"'mnt Data'!I101","v":0},{"$f":"'mnt Data'!J101","v":0},{"$f":"'mnt Data'!K101","v":0},{"$f":"'mnt Data'!L101","v":0},{"$f":"'mnt Data'!M101","v":0},{"$f":"'mnt Data'!N101","v":0},{"$f":"'mnt Data'!O101","v":0},{"$f":"'mnt Data'!P101","v":0},{"$f":"'mnt Data'!Q101","v":0},{"$f":"'mnt Data'!R101","v":0},{"$f":"'mnt Data'!S101","v":0},{"$f":"'mnt Data'!T101","v":0},{"$f":"'mnt Data'!U101","v":0},{"$f":"'mnt Data'!V101","v":0},{"$f":"'mnt Data'!W101","v":0},{"$f":"'mnt Data'!X101","v":0},{"$f":"'mnt Data'!Y101","v":0},{"$f":"'mnt Data'!Z101","v":0},{"$f":"'mnt Data'!AA101","v":0},{"$f":"'mnt Data'!AB101","v":0},{"$f":"'mnt Data'!AC101","v":0},{"$f":"'mnt Data'!AD101","v":0},{"$f":"'mnt Data'!AE101","v":0},{"$f":"'mnt Data'!AF101","v":0},{"$f":"'mnt Data'!AG101","v":0},{"$f":"'mnt Data'!AH101","v":0},{"$f":"'mnt Data'!AI101","v":0},{"$f":"'mnt Data'!AJ101","v":0},{"$f":"'mnt Data'!AK101","v":0}]
[98,0,0,"No Gs",0,"No Gs","No Gs","Gs is needed","Gs is needed","Gs is needed","Need Max and Min","Need Max and Min","Fail",null,{"$f":"'mnt Data'!A102","v":0},{"$f":"'mnt Data'!B102","v":0},{"$f":"'mnt Data'!C102","v":0},{"$f":"'mnt Data'!D102","v":0},{"$f":"'mnt Data'!E102","v":0},{"$f":"'mnt Data'!F102","v":0},{"$f":"'mnt Data'!G102","v":0},{"$f":"'mnt Data'!H102","v":0},{"$f":"'mnt Data'!I102","v":0},{"$f":"'mnt Data'!J102","v":0},{"$f":"'mnt Data'!K102","v":0},{"$f":"'mnt Data'!L102","v":0},{"$f":"'mnt Data'!M102","v":0},{"$f":"'mnt Data'!N102","v":0},{"$f":"'mnt Data'!O102","v":0},{"$f":"'mnt Data'!P102","v":0},{"$f":"'mnt Data'!Q102","v":0},{"$f":"'mnt Data'!R102","v":0},{"$f":"'mnt Data'!S102","v":0},{"$f":"'mnt Data'!T102","v":0},{"$f":"'mnt Data'!U102","v":0},{"$f":"'mnt Data'!V102","v":0},{"$f":"'mnt Data'!W102","v":0},{"$f":"'mnt Data'!X102","v":0},{"$f":"'mnt Data'!Y102","v":0},{"$f":"'mnt Data'!Z102","v":0},{"$f":"'mnt Data'!AA102","v":0},{"$f":"'mnt Data'!AB102","v":0},{"$f":"'mnt Data'!AC102","v":0},{"$f":"'mnt Data'!AD102","v":0},{"$f":"'mnt Data'!AE102","v":0},{"$f":"'mnt Data'!AF102","v":0},{"$f":"'mnt Data'!AG102","v":0},{"$f":"'mnt Data'!AH102","v":0},{"$f":"'mnt Data'!AI102","v":0},{"$f":"'mnt Data'!AJ102","v":0},{"$f":"'mnt Data'!AK102","v":0}]
[99,0,0,"No Gs",0,"No Gs","No Gs","Gs is needed","Gs is needed","Gs is needed","Need Max and Min","Need Max and Min","Fail",null,{"$f":"'mnt Data'!A103","v":0},{"$f":"'mnt Data'!B103","v":0},{"$f":"'mnt Data'!C103","v":0},{"$f":"'mnt Data'!D103","v":0},{"$f":"'mnt Data'!E103","v":0},{"$f":"'mnt Data'!F103","v":0},{"$f":"'mnt Data'!G103","v":0},{"$f":"'mnt Data'!H103","v":0},{"$f":"'mnt Data'!I103","v":0},{"$f":"'mnt Data'!J103","v":0},{"$f":"'mnt Data'!K103","v":0},{"$f":"'mnt Data'!L103","v":0},{"$f":"'mnt Data'!M103","v":0},{"$f":"'mnt Data'!N103","v":0},{"$f":"'mnt Data'!O103","v":0},{"$f":"'mnt Data'!P103","v":0},{"$f":"'mnt Data'!Q103","v":0},{"$f":"'mnt Data'!R103","v":0},{"$f":"'mnt Data'!S103","v":0},{"$f":"'mnt Data'!T103","v":0},{"$f":"'mnt Data'!U103","v":0},{"$f":"'mnt Data'!V103","v":0},{"$f":"'mnt Data'!W103","v":0},{"$f":"'mnt Data'!X103","v":0},{"$f":"'mnt Data'!Y103","v":0},{"$f":"'mnt Data'!Z103","v":0},{"$f":"'mnt Data'!AA103","v":0},{"$f":"'mnt Data'!AB103","v":0},{"$f":"'mnt Data'!AC103","v":0},{"$f":"'mnt Data'!AD103","v":0},{"$f":"'mnt Data'!AE103","v":0},{"$f":"'mnt Data'!AF103","v":0},{"$f":"'mnt Data'!AG103","v":0},{"$f":"'mnt Data'!AH103","v":0},{"$f":"'mnt Data'!AI103","v":0},{"$f":"'mnt Data'!AJ103","v":0},{"$f":"'mnt Data'!AK103","v":0}]
[100,0,0,"No Gs",0,"No Gs","No Gs","Gs is needed","Gs is needed","Gs is needed","Need Max and Min","Need Max and Min","Fail",null,{"$f":"'mnt Data'!A104","v":0},{"$f":"'mnt Data'!B104","v":0},{"$f":"'mnt Data'!C104","v":0},{"$f":"'mnt Data'!D104","v":0},{"$f":"'mnt Data'!E104","v":0},{"$f":"'mnt Data'!F104","v":0},{"$f":"'mnt Data'!G104","v":0},{"$f":"'mnt Data'!H104","v":0},{"$f":"'mnt Data'!I104","v":0},{"$f":"'mnt Data'!J104","v":0},{"$f":"'mnt Data'!K104","v":0},{"$f":"'mnt Data'!L104","v":0},{"$f":"'mnt Data'!M104","v":0},{"$f":"'mnt Data'!N104","v":0},{"$f":"'mnt Data'!O104","v":0},{"$f":"'mnt Data'!P104","v":0},{"$f":"'mnt Data'!Q104","v":0},{"$f":"'mnt Data'!R104","v":0},{"$f":"'mnt Data'!S104","v":0},{"$f":"'mnt Data'!T104","v":0},{"$f":"'mnt Data'!U104","v":0},{"$f":"'mnt Data'!V104","v":0},{"$f":"'mnt Data'!W104","v":0},{"$f":"'mnt Data'!X104","v":0},{"$f":"'mnt Data'!Y104","v":0},{"$f":"'mnt Data'!Z104","v":0},{"$f":"'mnt Data'!AA104","v":0},{"$f":"'mnt Data'!AB104","v":0},{"$f":"'mnt Data'!AC104","v":0},{"$f":"'mnt Data'!AD104","v":0},{"$f":"'mnt Data'!AE104","v":0},{"$f":"'mnt Data'!AF104","v":0},{"$f":"'mnt Data'!AG104","v":0},{"$f":"'mnt Data'!AH104","v":0},{"$f":"'mnt Data'!AI104","v":0},{"$f":"'mnt Data'!AJ104","v":0},{"$f":"'mnt Data'!AK104","v":0}]
[101,0,0,"No Gs",0,"No Gs","No Gs","Gs is needed","Gs is needed","Gs is needed","Need Max and Min","Need Max and Min","Fail",null,{"$f":"'mnt Data'!A105","v":0},{"$f":"'mnt Data'!B105","v":0},{"$f":"'mnt Data'!C105","v":0},{"$f":"'mnt Data'!D105","v":0},{"$f":"'mnt Data'!E105","v":0},{"$f":"'mnt Data'!F105","v":0},{"$f":"'mnt Data'!G105","v":0},{"$f":"'mnt Data'!H105","v":0},{"$f":"'mnt Data'!I105","v":0},{"$f":"'mnt Data'!J105","v":0},{"$f":"'mnt Data'!K105","v":0},{"$f":"'mnt Data'!L105","v":0},{"$f":"'mnt Data'!M105","v":0},{"$f":"'mnt Data'!N105","v":0},{"$f":"'mnt Data'!O105","v":0},{"$f":"'mnt Data'!P105","v":0},{"$f":"'mnt Data'!Q105","v":0},{"$f":"'mnt Data'!R105","v":0},{"$f":"'mnt Data'!S105","v":0},{"$f":"'mnt Data'!T105","v":0},{"$f":"'mnt Data'!U105","v":0},{"$f":"'mnt Data'!V105","v":0},{"$f":"'mnt Data'!W105","v":0},{"$f":"'mnt Data'!X105","v":0},{"$f":"'mnt Data'!Y105","v":0},{"$f":"'mnt Data'!Z105","v":0},{"$f":"'mnt Data'!AA105","v":0},{"$f":"'mnt Data'!AB105","v":0},{"$f":"'mnt Data'!AC105","v":0},{"$f":"'mnt Data'!AD105","v":0},{"$f":"'mnt Data'!AE105","v":0},{"$f":"'mnt Data'!AF105","v":0},{"$f":"'mnt Data'!AG105","v":0},{"$f":"'mnt Data'!AH105","v":0},{"$f":"'mnt Data'!AI105","v":0},{"$f":"'mnt Data'!AJ105","v":0},{"$f":"'mnt Data'!AK105","v":0}]
[102,0,0,"No Gs",0,"No Gs","No Gs","Gs is needed","Gs is needed","Gs is needed","Need Max and Min","Need Max and Min","Fail",null,{"$f":"'mnt Data'!A106","v":0},{"$f":"'mnt Data'!B106","v":0},{"$f":"'mnt Data'!C106","v":0},{"$f":"'mnt Data'!D106","v":0},{"$f":"'mnt Data'!E106","v":0},{"$f":"'mnt Data'!F106","v":0},{"$f":"'mnt Data'!G106","v":0},{"$f":"'mnt Data'!H106","v":0},{"$f":"'mnt Data'!I106","v":0},{"$f":"'mnt Data'!J106","v":0},{"$f":"'mnt Data'!K106","v":0},{"$f":"'mnt Data'!L106","v":0},{"$f":"'mnt Data'!M106","v":0},{"$f":"'mnt Data'!N106","v":0},{"$f":"'mnt Data'!O106","v":0},{"$f":"'mnt Data'!P106","v":0},{"$f":"'mnt Data'!Q106","v":0},{"$f":"'mnt Data'!R106","v":0},{"$f":"'mnt Data'!S106","v":0},{"$f":"'mnt Data'!T106","v":0},{"$f":"'mnt Data'!U106","v":0},{"$f":"'mnt Data'!V106","v":0},{"$f":"'mnt Data'!W106","v":0},{"$f":"'mnt Data'!X106","v":0},{"$f":"'mnt Data'!Y106","v":0},{"$f":"'mnt Data'!Z106","v":0},{"$f":"'mnt Data'!AA106","v":0},{"$f":"'mnt Data'!AB106","v":0},{"$f":"'mnt Data'!AC106","v":0},{"$f":"'mnt Data'!AD106","v":0},{"$f":"'mnt Data'!AE106","v":0},{"$f":"'mnt Data'!AF106","v":0},{"$f":"'mnt Data'!AG106","v":0},{"$f":"'mnt Data'!AH106","v":0},{"$f":"'mnt Data'!AI106","v":0},{"$f":"'mnt Data'!AJ106","v":0},{"$f":"'mnt Data'!AK106","v":0}]
[103,0,0,"No Gs",0,"No Gs","No Gs","Gs is needed","Gs is needed","Gs is needed","Need Max and Min","Need Max and Min","Fail",null,{"$f":"'mnt Data'!A107","v":0},{"$f":"'mnt Data'!B107","v":0},{"$f":"'mnt Data'!C107","v":0},{"$f":"'mnt Data'!D107","v":0},{"$f":"'mnt Data'!E107","v":0},{"$f":"'mnt Data'!F107","v":0},{"$f":"'mnt Data'!G107","v":0},{"$f":"'mnt Data'!H107","v":0},{"$f":"'mnt Data'!I107","v":0},{"$f":"'mnt Data'!J107","v":0},{"$f":"'mnt Data'!K107","v":0},{"$f":"'mnt Data'!L107","v":0},{"$f":"'mnt Data'!M107","v":0},{"$f":"'mnt Data'!N107","v":0},{"$f":"'mnt Data'!O107","v":0},{"$f":"'mnt Data'!P107","v":0},{"$f":"'mnt Data'!Q107","v":0},{"$f":"'mnt Data'!R107","v":0},{"$f":"'mnt Data'!S107","v":0},{"$f":"'mnt Data'!T107","v":0},{"$f":"'mnt Data'!U107","v":0},{"$f":"'mnt Data'!V107","v":0},{"$f":"'mnt Data'!W107","v":0},{"$f":"'mnt Data'!X107","v":0},{"$f":"'mnt Data'!Y107","v":0},{"$f":"'mnt Data'!Z107","v":0},{"$f":"'mnt Data'!AA107","v":0},{"$f":"'mnt Data'!AB107","v":0},{"$f":"'mnt Data'!AC107","v":0},{"$f":"'mnt Data'!AD107","v":0},{"$f":"'mnt Data'!AE107","v":0},{"$f":"'mnt Data'!AF107","v":0},{"$f":"'mnt Data'!AG107","v":0},{"$f":"'mnt Data'!AH107","v":0},{"$f":"'mnt Data'!AI107","v":0},{"$f":"'mnt Data'!AJ107","v":0},{"$f":"'mnt Data'!AK107","v":0}]
[104,{"$f":"O105","v":0},{"$f":"O105*(Q105/100)","v":0},"No Gs",0,"No Gs","No Gs",{"$f":"IFERROR(E105/G105,\"Gs is needed\")","v":"Gs is needed"},{"$f":"IFERROR(G105/1,\"Gs is needed\")","v":"Gs is needed"},{"$f":"IFERROR(G105/D105,\"Gs is needed\")","v":"Gs is needed"},"Need Max and Min","Need Max and Min","Fail",null,{"$f":"'mnt Data'!A108","v":0},{"$f":"'mnt Data'!B108","v":0},{"$f":"'mnt Data'!C108","v":0},{"$f":"'mnt Data'!D108","v":0},{"$f":"'mnt Data'!E108","v":0},{"$f":"'mnt Data'!F108","v":0},{"$f":"'mnt Data'!G108","v":0},{"$f":"'mnt Data'!H108","v":0},{"$f":"'mnt Data'!I108","v":0},{"$f":"'mnt Data'!J108","v":0},{"$f":"'mnt Data'!K108","v":0},{"$f":"'mnt Data'!L108","v":0},{"$f":"'mnt Data'!M108","v":0},{"$f":"'mnt Data'!N108","v":0},{"$f":"'mnt Data'!O108","v":0},{"$f":"'mnt Data'!P108","v":0},{"$f":"'mnt Data'!Q108","v":0},{"$f":"'mnt Data'!R108","v":0},{"$f":"'mnt Data'!S108","v":0},{"$f":"'mnt Data'!T108","v":0},{"$f":"'mnt Data'!U108","v":0},{"$f":"'mnt Data'!V108","v":0},{"$f":"'mnt Data'!W108","v":0},{"$f":"'mnt Data'!X108","v":0},{"$f":"'mnt Data'!Y108","v":0},{"$f":"'mnt Data'!Z108","v":0},{"$f":"'mnt Data'!AA108","v":0},{"$f":"'mnt Data'!AB108","v":0},{"$f":"'mnt Data'!AC108","v":0},{"$f":"'mnt Data'!AD108","v":0},{"$f":"'mnt Data'!AE108","v":0},{"$f":"'mnt Data'!AF108","v":0},{"$f":"'mnt Data'!AG108","v":0},{"$f":"'mnt Data'!AH108","v":0},{"$f":"'mnt Data'!AI108","v":0},{"$f":"'mnt Data'!AJ108","v":0},{"$f":"'mnt Data'!AK108","v":0}]
[105,0,0,"No Gs",0,"No Gs","No Gs","Gs is needed","Gs is needed","Gs is needed","Need Max and Min","Need Max and Min","Fail",null,{"$f":"'mnt Data'!A109","v":0},{"$f":"'mnt Data'!B109","v":0},{"$f":"'mnt Data'!C109","v":0},{"$f":"'mnt Data'!D109","v":0},{"$f":"'mnt Data'!E109","v":0},{"$f":"'mnt Data'!F109","v":0},{"$f":"'mnt Data'!G109","v":0},{"$f":"'mnt Data'!H109","v":0},{"$f":"'mnt Data'!I109","v":0},{"$f":"'mnt Data'!J109","v":0},{"$f":"'mnt Data'!K109","v":0},{"$f":"'mnt Data'!L109","v":0},{"$f":"'mnt Data'!M109","v":0},{"$f":"'mnt Data'!N109","v":0},{"$f":"'mnt Data'!O109","v":0},{"$f":"'mnt Data'!P109","v":0},{"$f":"'mnt Data'!Q109","v":0},{"$f":"'mnt Data'!R109","v":0},{"$f":"'mnt Data'!S109","v":0},{"$f":"'mnt Data'!T109","v":0},{"$f":"'mnt Data'!U109","v":0},{"$f":"'mnt Data'!V109","v":0},{"$f":"'mnt Data'!W109","v":0},{"$f":"'mnt Data'!X109","v":0},{"$f":"'mnt Data'!Y109","v":0},{"$f":"'mnt Data'!Z109","v":0},{"$f":"'mnt Data'!AA109","v":0},{"$f":"'mnt Data'!AB109","v":0},{"$f":"'mnt Data'!AC109","v":0},{"$f":"'mnt Data'!AD109","v":0},{"$f":"'mnt Data'!AE109","v":0},{"$f":"'mnt Data'!AF109","v":0},{"$f":"'mnt Data'!AG109","v":0},{"$f":"'mnt Data'!AH109","v":0},{"$f":"'mnt Data'!AI109","v":0},{"$f":"'mnt Data'!AJ109","v":0},{"$f":"'mnt Data'!AK109","v":0}]
[106,0,0,"No Gs",0,"No Gs","No Gs","Gs is needed","Gs is needed","Gs is needed","Need Max and Min","Need Max and Min","Fail",null,{"$f":"'mnt Data'!A110","v":0},{"$f":"'mnt Data'!B110","v":0},{"$f":"'mnt Data'!C110","v":0},{"$f":"'mnt Data'!D110","v":0},{"$f":"'mnt Data'!E110","v":0},{"$f":"'mnt Data'!F110","v":0},{"$f":"'mnt Data'!G110","v":0},{"$f":"'mnt Data'!H110","v":0},{"$f":"'mnt Data'!I110","v":0},{"$f":"'mnt Data'!J110","v":0},{"$f":"'mnt Data'!K110","v":0},{"$f":"'mnt Data'!L110","v":0},{"$f":"'mnt Data'!M110","v":0},{"$f":"'mnt Data'!N110","v":0},{"$f":"'mnt Data'!O110","v":0},{"$f":"'mnt Data'!P110","v":0},{"$f":"'mnt Data'!Q110","v":0},{"$f":"'mnt Data'!R110","v":0},{"$f":"'mnt Data'!S110","v":0},{"$f":"'mnt Data'!T110","v":0},{"$f":"'mnt Data'!U110","v":0},{"$f":"'mnt Data'!V110","v":0},{"$f":"'mnt Data'!W110","v":0},{"$f":"'mnt Data'!X110","v":0},{"$f":"'mnt Data'!Y110","v":0},{"$f":"'mnt Data'!Z110","v":0},{"$f":"'mnt Data'!AA110","v":0},{"$f":"'mnt Data'!AB110","v":0},{"$f":"'mnt Data'!AC110","v":0},{"$f":"'mnt Data'!AD110","v":0},{"$f":"'mnt Data'!AE110","v":0},{"$f":"'mnt Data'!AF110","v":0},{"$f":"'mnt Data'!AG110","v":0},{"$f":"'mnt Data'!AH110","v":0},{"$f":"'mnt Data'!AI110","v":0},{"$f":"'mnt Data'!AJ110","v":0},{"$f":"'mnt Data'!AK110","v":0}]
[107,0,0,"No Gs",0,"No Gs","No Gs","Gs is needed","Gs is needed","Gs is needed","Need Max and Min","Need Max and Min","Fail",null,{"$f":"'mnt Data'!A111","v":0},{"$f":"'mnt Data'!B111","v":0},{"$f":"'mnt Data'!C111","v":0},{"$f":"'mnt Data'!D111","v":0},{"$f":"'mnt Data'!E111","v":0},{"$f":"'mnt Data'!F111","v":0},{"$f":"'mnt Data'!G111","v":0},{"$f":"'mnt Data'!H111","v":0},{"$f":"'mnt Data'!I111","v":0},{"$f":"'mnt Data'!J111","v":0},{"$f":"'mnt Data'!K111","v":0},{"$f":"'mnt Data'!L111","v":0},{"$f":"'mnt Data'!M111","v":0},{"$f":"'mnt Data'!N111","v":0},{"$f":"'mnt Data'!O111","v":0},{"$f":"'mnt Data'!P111","v":0},{"$f":"'mnt Data'!Q111","v":0},{"$f":"'mnt Data'!R111","v":0},{"$f":"'mnt Data'!S111","v":0},{"$f":"'mnt Data'!T111","v":0},{"$f":"'mnt Data'!U111","v":0},{"$f":"'mnt Data'!V111","v":0},{"$f":"'mnt Data'!W111","v":0},{"$f":"'mnt Data'!X111","v":0},{"$f":"'mnt Data'!Y111","v":0},{"$f":"'mnt Data'!Z111","v":0},{"$f":"'mnt Data'!AA111","v":0},{"$f":"'mnt Data'!AB111","v":0},{"$f":"'mnt Data'!AC111","v":0},{"$f":"'mnt Data'!AD111","v":0},{"$f":"'mnt Data'!AE111","v":0},{"$f":"'mnt Data'!AF111","v":0},{"$f":"'mnt Data'!AG111","v":0},{"$f":"'mnt Data'!AH111","v":0},{"$f":"'mnt Data'!AI111","v":0},{"$f":"'mnt Data'!AJ111","v":0},{"$f":"'mnt Data'!AK111","v":0}]
[108,0,0,"No Gs",0,"No Gs","No Gs","Gs is needed","Gs is needed","Gs is needed","Need Max and Min","Need Max and Min","Fail",null,{"$f":"'mnt Data'!A112","v":0},{"$f":"'mnt Data'!B112","v":0},{"$f":"'mnt Data'!C112","v":0},{"$f":"'mnt Data'!D112","v":0},{"$f":"'mnt Data'!E112","v":0},{"$f":"'mnt Data'!F112","v":0},{"$f":"'mnt Data'!G112","v":0},{"$f":"'mnt Data'!H112","v":0},{"$f":"'mnt Data'!I112","v":0},{"$f":"'mnt Data'!J112","v":0},{"$f":"'mnt Data'!K112","v":0},{"$f":"'mnt Data'!L112","v":0},{"$f":"'mnt Data'!M112","v":0},{"$f":"'mnt Data'!N112","v":0},{"$f":"'mnt Data'!O112","v":0},{"$f":"'mnt Data'!P112","v":0},{"$f":"'mnt Data'!Q112","v":0},{"$f":"'mnt Data'!R112","v":0},{"$f":"'mnt Data'!S112","v":0},{"$f":"'mnt Data'!T112","v":0},{"$f":"'mnt Data'!U112","v":0},{"$f":"'mnt Data'!V112","v":0},{"$f":"'mnt Data'!W112","v":0},{"$f":"'mnt Data'!X112","v":0},{"$f":"'mnt Data'!Y112","v":0},{"$f":"'mnt Data'!Z112","v":0},{"$f":"'mnt Data'!AA112","v":0},{"$f":"'mnt Data'!AB112","v":0},{"$f":"'mnt Data'!AC112","v":0},{"$f":"'mnt Data'!AD112","v":0},{"$f":"'mnt Data'!AE112","v":0},{"$f":"'mnt Data'!AF112","v":0},{"$f":"'mnt Data'!AG112","v":0},{"$f":"'mnt Data'!AH112","v":0},{"$f":"'mnt Data'!AI112","v":0},{"$f":"'mnt Data'!AJ112","v":0},{"$f":"'mnt Data'!AK112","v":0}]
[109,0,0,"No Gs",0,"No Gs","No Gs","Gs is needed","Gs is needed","Gs is needed","Need Max and Min","Need Max and Min","Fail",null,{"$f":"'mnt Data'!A113","v":0},{"$f":"'mnt Data'!B113","v":0},{"$f":"'mnt Data'!C113","v":0},{"$f":"'mnt Data'!D113","v":0},{"$f":"'mnt Data'!E113","v":0},{"$f":"'mnt Data'!F113","v":0},{"$f":"'mnt Data'!G113","v":0},{"$f":"'mnt Data'!H113","v":0},{"$f":"'mnt Data'!I113","v":0},{"$f":"'mnt Data'!J113","v":0},{"$f":"'mnt Data'!K113","v":0},{"$f":"'mnt Data'!L113","v":0},{"$f":"'mnt Data'!M113","v":0},{"$f":"'mnt Data'!N113","v":0},{"$f":"'mnt Data'!O113","v":0},{"$f":"'mnt Data'!P113","v":0},{"$f":"'mnt Data'!Q113","v":0},{"$f":"'mnt Data'!R113","v":0},{"$f":"'mnt Data'!S113","v":0},{"$f":"'mnt Data'!T113","v":0},{"$f":"'mnt Data'!U113","v":0},{"$f":"'mnt Data'!V113","v":0},{"$f":"'mnt Data'!W113","v":0},{"$f":"'mnt Data'!X113","v":0},{"$f":"'mnt Data'!Y113","v":0},{"$f":"'mnt Data'!Z113","v":0},{"$f":"'mnt Data'!AA113","v":0},{"$f":"'mnt Data'!AB113","v":0},{"$f":"'mnt Data'!AC113","v":0},{"$f":"'mnt Data'!AD113","v":0},{"$f":"'mnt Data'!AE113","v":0},{"$f":"'mnt Data'!AF113","v":0},{"$f":"'mnt Data'!AG113","v":0},{"$f":"'mnt Data'!AH113","v":0},{"$f":"'mnt Data'!AI113","v":0},{"$f":"'mnt Data'!AJ113","v":0},{"$f":"'mnt Data'!AK113","v":0}]
[110,0,0,"No Gs",0,"No Gs","No Gs","Gs is needed","Gs is needed","Gs is needed","Need Max and Min","Need Max and Min","Fail",null,{"$f":"'mnt Data'!A114","v":0},{"$f":"'mnt Data'!B114","v":0},{"$f":"'mnt Data'!C114","v":0},{"$f":"'mnt Data'!D114","v":0},{"$f":"'mnt Data'!E114","v":0},{"$f":"'mnt Data'!F114","v":0},{"$f":"'mnt Data'!G114","v":0},{"$f":"'mnt Data'!H114","v":0},{"$f":"'mnt Data'!I114","v":0},{"$f":"'mnt Data'!J114","v":0},{"$f":"'mnt Data'!K114","v":0},{"$f":"'mnt Data'!L114","v":0},{"$f":"'mnt Data'!M114","v":0},{"$f":"'mnt Data'!N114","v":0},{"$f":"'mnt Data'!O114","v":0},{"$f":"'mnt Data'!P114","v":0},{"$f":"'mnt Data'!Q114","v":0},{"$f":"'mnt Data'!R114","v":0},{"$f":"'mnt Data'!S114","v":0},{"$f":"'mnt Data'!T114","v":0},{"$f":"'mnt Data'!U114","v":0},{"$f":"'mnt Data'!V114","v":0},{"$f":"'mnt Data'!W114","v":0},{"$f":"'mnt Data'!X114","v":0},{"$f":"'mnt Data'!Y114","v":0},{"$f":"'mnt Data'!Z114","v":0},{"$f":"'mnt Data'!AA114","v":0},{"$f":"'mnt Data'!AB114","v":0},{"$f":"'mnt Data'!AC114","v":0},{"$f":"'mnt Data'!AD114","v":0},{"$f":"'mnt Data'!AE114","v":0},{"$f":"'mnt Data'!AF114","v":0},{"$f":"'mnt Data'!AG114","v":0},{"$f":"'mnt Data'!AH114","v":0},{"$f":"'mnt Data'!AI114","v":0},{"$f":"'mnt Data'!AJ114","v":0},{"$f":"'mnt Data'!AK114","v":0}]
[111,0,0,"No Gs",0,"No Gs","No Gs","Gs is needed","Gs is needed","Gs is needed","Need Max and Min","Need Max and Min","Fail",null,{"$f":"'mnt Data'!A115","v":0},{"$f":"'mnt Data'!B115","v":0},{"$f":"'mnt Data'!C115","v":0},{"$f":"'mnt Data'!D115","v":0},{"$f":"'mnt Data'!E115","v":0},{"$f":"'mnt Data'!F115","v":0},{"$f":"'mnt Data'!G115","v":0},{"$f":"'mnt Data'!H115","v":0},{"$f":"'mnt Data'!I115","v":0},{"$f":"'mnt Data'!J115","v":0},{"$f":"'mnt Data'!K115","v":0},{"$f":"'mnt Data'!L115","v":0},{"$f":"'mnt Data'!M115","v":0},{"$f":"'mnt Data'!N115","v":0},{"$f":"'mnt Data'!O115","v":0},{"$f":"'mnt Data'!P115","v":0},{"$f":"'mnt Data'!Q115","v":0},{"$f":"'mnt Data'!R115","v":0},{"$f":"'mnt Data'!S115","v":0},{"$f":"'mnt Data'!T115","v":0},{"$f":"'mnt Data'!U115","v":0},{"$f":"'mnt Data'!V115","v":0},{"$f":"'mnt Data'!W115","v":0},{"$f":"'mnt Data'!X115","v":0},{"$f":"'mnt Data'!Y115","v":0},{"$f":"'mnt Data'!Z115","v":0},{"$f":"'mnt Data'!AA115","v":0},{"$f":"'mnt Data'!AB115","v":0},{"$f":"'mnt Data'!AC115","v":0},{"$f":"'mnt Data'!AD115","v":0},{"$f":"'mnt Data'!AE115","v":0},{"$f":"'mnt Data'!AF115","v":0},{"$f":"'mnt Data'!AG115","v":0},{"$f":"'mnt Data'!AH115","v":0},{"$f":"'mnt Data'!AI115","v":0},{"$f":"'mnt Data'!AJ115","v":0},{"$f":"'mnt Data'!AK115","v":0}]
[112,0,0,"No Gs",0,"No Gs","No Gs","Gs is needed","Gs is needed","Gs is needed","Need Max and Min","Need Max and Min","Fail",null,{"$f":"'mnt Data'!A116","v":0},{"$f":"'mnt Data'!B116","v":0},{"$f":"'mnt Data'!C116","v":0},{"$f":"'mnt Data'!D116","v":0},{"$f":"'mnt Data'!E116","v":0},{"$f":"'mnt Data'!F116","v":0},{"$f":"'mnt Data'!G116","v":0},{"$f":"'mnt Data'!H116","v":0},{"$f":"'mnt Data'!I116","v":0},{"$f":"'mnt Data'!J116","v":0},{"$f":"'mnt Data'!K116","v":0},{"$f":"'mnt Data'!L116","v":0},{"$f":"'mnt Data'!M116","v":0},{"$f":"'mnt Data'!N116","v":0},{"$f":"'mnt Data'!O116","v":0},{"$f":"'mnt Data'!P116","v":0},{"$f":"'mnt Data'!Q116","v":0},{"$f":"'mnt Data'!R116","v":0},{"$f":"'mnt Data'!S116","v":0},{"$f":"'mnt Data'!T116","v":0},{"$f":"'mnt Data'!U116","v":0},{"$f":"'mnt Data'!V116","v":0},{"$f":"'mnt Data'!W116","v":0},{"$f":"'mnt Data'!X116","v":0},{"$f":"'mnt Data'!Y116","v":0},{"$f":"'mnt Data'!Z116","v":0},{"$f":"'mnt Data'!AA116","v":0},{"$f":"'mnt Data'!AB116","v":0},{"$f":"'mnt Data'!AC116","v":0},{"$f":"'mnt Data'!AD116","v":0},{"$f":"'mnt Data'!AE116","v":0},{"$f":"'mnt Data'!AF116","v":0},{"$f":"'mnt Data'!AG116","v":0},{"$f":"'mnt Data'!AH116","v":0},{"$f":"'mnt Data'!AI116","v":0},{"$f":"'mnt Data'!AJ116","v":0},{"$f":"'mnt Data'!AK116","v":0}]
[113,0,0,"No Gs",0,"No Gs","No Gs","Gs is needed","Gs is needed","Gs is needed","Need Max and Min","Need Max and Min","Fail",null,{"$f":"'mnt Data'!A117","v":0},{"$f":"'mnt Data'!B117","v":0},{"$f":"'mnt Data'!C117","v":0},{"$f":"'mnt Data'!D117","v":0},{"$f":"'mnt Data'!E117","v":0},{"$f":"'mnt Data'!F117","v":0},{"$f":"'mnt Data'!G117","v":0},{"$f":"'mnt Data'!H117","v":0},{"$f":"'mnt Data'!I117","v":0},{"$f":"'mnt Data'!J117","v":0},{"$f":"'mnt Data'!K117","v":0},{"$f":"'mnt Data'!L117","v":0},{"$f":"'mnt Data'!M117","v":0},{"$f":"'mnt Data'!N117","v":0},{"$f":"'mnt Data'!O117","v":0},{"$f":"'mnt Data'!P117","v":0},{"$f":"'mnt Data'!Q117","v":0},{"$f":"'mnt Data'!R117","v":0},{"$f":"'mnt Data'!S117","v":0},{"$f":"'mnt Data'!T117","v":0},{"$f":"'mnt Data'!U117","v":0},{"$f":"'mnt Data'!V117","v":0},{"$f":"'mnt Data'!W117","v":0},{"$f":"'mnt Data'!X117","v":0},{"$f":"'mnt Data'!Y117","v":0},{"$f":"'mnt Data'!Z117","v":0},{"$f":"'mnt Data'!AA117","v":0},{"$f":"'mnt Data'!AB117","v":0},{"$f":"'mnt Data'!AC117","v":0},{"$f":"'mnt Data'!AD117","v":0},{"$f":"'mnt Data'!AE117","v":0},{"$f":"'mnt Data'!AF117","v":0},{"$f":"'mnt Data'!AG117","v":0},{"$f":"'mnt Data'!AH117","v":0},{"$f":"'mnt Data'!AI117","v":0},{"$f":"'mnt Data'!AJ117","v":0},{"$f":"'mnt Data'!AK117","v":0}]
[114,0,0,"No Gs",0,"No Gs","No Gs","Gs is needed","Gs is needed","Gs is needed","Need Max and Min","Need Max and Min","Fail",null,{"$f":"'mnt Data'!A118","v":0},{"$f":"'mnt Data'!B118","v":0},{"$f":"'mnt Data'!C118","v":0},{"$f":"'mnt Data'!D118","v":0},{"$f":"'mnt Data'!E118","v":0},{"$f":"'mnt Data'!F118","v":0},{"$f":"'mnt Data'!G118","v":0},{"$f":"'mnt Data'!H118","v":0},{"$f":"'mnt Data'!I118","v":0},{"$f":"'mnt Data'!J118","v":0},{"$f":"'mnt Data'!K118","v":0},{"$f":"'mnt Data'!L118","v":0},{"$f":"'mnt Data'!M118","v":0},{"$f":"'mnt Data'!N118","v":0},{"$f":"'mnt Data'!O118","v":0},{"$f":"'mnt Data'!P118","v":0},{"$f":"'mnt Data'!Q118","v":0},{"$f":"'mnt Data'!R118","v":0},{"$f":"'mnt Data'!S118","v":0},{"$f":"'mnt Data'!T118","v":0},{"$f":"'mnt Data'!U118","v":0},{"$f":"'mnt Data'!V118","v":0},{"$f":"'mnt Data'!W118","v":0},{"$f":"'mnt Data'!X118","v":0},{"$f":"'mnt Data'!Y118","v":0},{"$f":"'mnt Data'!Z118","v":0},{"$f":"'mnt Data'!AA118","v":0},{"$f":"'mnt Data'!AB118","v":0},{"$f":"'mnt Data'!AC118","v":0},{"$f":"'mnt Data'!AD118","v":0},{"$f":"'mnt Data'!AE118","v":0},{"$f":"'mnt Data'!AF118","v":0},{"$f":"'mnt Data'!AG118","v":0},{"$f":"'mnt Data'!AH118","v":0},{"$f":"'mnt Data'!AI118","v":0},{"$f":"'mnt Data'!AJ118","v":0},{"$f":"'mnt Data'!AK118","v":0}]
[115,0,0,"No Gs",0,"No Gs","No Gs","Gs is needed","Gs is needed","Gs is needed","Need Max and Min","Need Max and Min","Fail",null,{"$f":"'mnt Data'!A119","v":0},{"$f":"'mnt Data'!B119","v":0},{"$f":"'mnt Data'!C119","v":0},{"$f":"'mnt Data'!D119","v":0},{"$f":"'mnt Data'!E119","v":0},{"$f":"'mnt Data'!F119","v":0},{"$f":"'mnt Data'!G119","v":0},{"$f":"'mnt Data'!H119","v":0},{"$f":"'mnt Data'!I119","v":0},{"$f":"'mnt Data'!J119","v":0},{"$f":"'mnt Data'!K119","v":0},{"$f":"'mnt Data'!L119","v":0},{"$f":"'mnt Data'!M119","v":0},{"$f":"'mnt Data'!N119","v":0},{"$f":"'mnt Data'!O119","v":0},{"$f":"'mnt Data'!P119","v":0},{"$f":"'mnt Data'!Q119","v":0},{"$f":"'mnt Data'!R119","v":0},{"$f":"'mnt Data'!S119","v":0},{"$f":"'mnt Data'!T119","v":0},{"$f":"'mnt Data'!U119","v":0},{"$f":"'mnt Data'!V119","v":0},{"$f":"'mnt Data'!W119","v":0},{"$f":"'mnt Data'!X119","v":0},{"$f":"'mnt Data'!Y119","v":0},{"$f":"'mnt Data'!Z119","v":0},{"$f":"'mnt Data'!AA119","v":0},{"$f":"'mnt Data'!AB119","v":0},{"$f":"'mnt Data'!AC119","v":0},{"$f":"'mnt Data'!AD119","v":0},{"$f":"'mnt Data'!AE119","v":0},{"$f":"'mnt Data'!AF119","v":0},{"$f":"'mnt Data'!AG119","v":0},{"$f":"'mnt Data'!AH119","v":0},{"$f":"'mnt Data'!AI119","v":0},{"$f":"'mnt Data'!AJ119","v":0},{"$f":"'mnt Data'!AK119","v":0}]
[116,0,0,"No Gs",0,"No Gs","No Gs","Gs is needed","Gs is needed","Gs is needed","Need Max and Min","Need Max and Min","Fail",null,{"$f":"'mnt Data'!A120","v":0},{"$f":"'mnt Data'!B120","v":0},{"$f":"'mnt Data'!C120","v":0},{"$f":"'mnt Data'!D120","v":0},{"$f":"'mnt Data'!E120","v":0},{"$f":"'mnt Data'!F120","v":0},{"$f":"'mnt Data'!G120","v":0},{"$f":"'mnt Data'!H120","v":0},{"$f":"'mnt Data'!I120","v":0},{"$f":"'mnt Data'!J120","v":0},{"$f":"'mnt Data'!K120","v":0},{"$f":"'mnt Data'!L120","v":0},{"$f":"'mnt Data'!M120","v":0},{"$f":"'mnt Data'!N120","v":0},{"$f":"'mnt Data'!O120","v":0},{"$f":"'mnt Data'!P120","v":0},{"$f":"'mnt Data'!Q120","v":0},{"$f":"'mnt Data'!R120","v":0},{"$f":"'mnt Data'!S120","v":0},{"$f":"'mnt Data'!T120","v":0},{"$f":"'mnt Data'!U120","v":0},{"$f":"'mnt Data'!V120","v":0},{"$f":"'mnt Data'!W120","v":0},{"$f":"'mnt Data'!X120","v":0},{"$f":"'mnt Data'!Y120","v":0},{"$f":"'mnt Data'!Z120","v":0},{"$f":"'mnt Data'!AA120","v":0},{"$f":"'mnt Data'!AB120","v":0},{"$f":"'mnt Data'!AC120","v":0},{"$f":"'mnt Data'!AD120","v":0},{"$f":"'mnt Data'!AE120","v":0},{"$f":"'mnt Data'!AF120","v":0},{"$f":"'mnt Data'!AG120","v":0},{"$f":"'mnt Data'!AH120","v":0},{"$f":"'mnt Data'!AI120","v":0},{"$f":"'mnt Data'!AJ120","v":0},{"$f":"'mnt Data'!AK120","v":0}]
[117,0,0,"No Gs",0,"No Gs","No Gs","Gs is needed","Gs is needed","Gs is needed","Need Max and Min","Need Max and Min","Fail",null,{"$f":"'mnt Data'!A121","v":0},{"$f":"'mnt Data'!B121","v":0},{"$f":"'mnt Data'!C121","v":0},{"$f":"'mnt Data'!D121","v":0},{"$f":"'mnt Data'!E121","v":0},{"$f":"'mnt Data'!F121","v":0},{"$f":"'mnt Data'!G121","v":0},{"$f":"'mnt Data'!H121","v":0},{"$f":"'mnt Data'!I121","v":0},{"$f":"'mnt Data'!J121","v":0},{"$f":"'mnt Data'!K121","v":0},{"$f":"'mnt Data'!L121","v":0},{"$f":"'mnt Data'!M121","v":0},{"$f":"'mnt Data'!N121","v":0},{"$f":"'mnt Data'!O121","v":0},{"$f":"'mnt Data'!P121","v":0},{"$f":"'mnt Data'!Q121","v":0},{"$f":"'mnt Data'!R121","v":0},{"$f":"'mnt Data'!S121","v":0},{"$f":"'mnt Data'!T121","v":0},{"$f":"'mnt Data'!U121","v":0},{"$f":"'mnt Data'!V121","v":0},{"$f":"'mnt Data'!W121","v":0},{"$f":"'mnt Data'!X121","v":0},{"$f":"'mnt Data'!Y121","v":0},{"$f":"'mnt Data'!Z121","v":0},{"$f":"'mnt Data'!AA121","v":0},{"$f":"'mnt Data'!AB121","v":0},{"$f":"'mnt Data'!AC121","v":0},{"$f":"'mnt Data'!AD121","v":0},{"$f":"'mnt Data'!AE121","v":0},{"$f":"'mnt Data'!AF121","v":0},{"$f":"'mnt Data'!AG121","v":0},{"$f":"'mnt Data'!AH121","v":0},{"$f":"'mnt Data'!AI121","v":0},{"$f":"'mnt Data'!AJ121","v":0},{"$f":"'mnt Data'!AK121","v":0}]
[118,0,0,"No Gs",0,"No Gs","No Gs","Gs is needed","Gs is needed","Gs is needed","Need Max and Min","Need Max and Min","Fail",null,{"$f":"'mnt Data'!A122","v":0},{"$f":"'mnt Data'!B122","v":0},{"$f":"'mnt Data'!C122","v":0},{"$f":"'mnt Data'!D122","v":0},{"$f":"'mnt Data'!E122","v":0},{"$f":"'mnt Data'!F122","v":0},{"$f":"'mnt Data'!G122","v":0},{"$f":"'mnt Data'!H122","v":0},{"$f":"'mnt Data'!I122","v":0},{"$f":"'mnt Data'!J122","v":0},{"$f":"'mnt Data'!K122","v":0},{"$f":"'mnt Data'!L122","v":0},{"$f":"'mnt Data'!M122","v":0},{"$f":"'mnt Data'!N122","v":0},{"$f":"'mnt Data'!O122","v":0},{"$f":"'mnt Data'!P122","v":0},{"$f":"'mnt Data'!Q122","v":0},{"$f":"'mnt Data'!R122","v":0},{"$f":"'mnt Data'!S122","v":0},{"$f":"'mnt Data'!T122","v":0},{"$f":"'mnt Data'!U122","v":0},{"$f":"'mnt Data'!V122","v":0},{"$f":"'mnt Data'!W122","v":0},{"$f":"'mnt Data'!X122","v":0},{"$f":"'mnt Data'!Y122","v":0},{"$f":"'mnt Data'!Z122","v":0},{"$f":"'mnt Data'!AA122","v":0},{"$f":"'mnt Data'!AB122","v":0},{"$f":"'mnt Data'!AC122","v":0},{"$f":"'mnt Data'!AD122","v":0},{"$f":"'mnt Data'!AE122","v":0},{"$f":"'mnt Data'!AF122","v":0},{"$f":"'mnt Data'!AG122","v":0},{"$f":"'mnt Data'!AH122","v":0},{"$f":"'mnt Data'!AI122","v":0},{"$f":"'mnt Data'!AJ122","v":0},{"$f":"'mnt Data'!AK122","v":0}]
[119,0,0,"No Gs",0,"No Gs","No Gs","Gs is needed","Gs is needed","Gs is needed","Need Max and Min","Need Max and Min","Fail",null,{"$f":"'mnt Data'!A123","v":0},{"$f":"'mnt Data'!B123","v":0},{"$f":"'mnt Data'!C123","v":0},{"$f":"'mnt Data'!D123","v":0},{"$f":"'mnt Data'!E123","v":0},{"$f":"'mnt Data'!F123","v":0},{"$f":"'mnt Data'!G123","v":0},{"$f":"'mnt Data'!H123","v":0},{"$f":"'mnt Data'!I123","v":0},{"$f":"'mnt Data'!J123","v":0},{"$f":"'mnt Data'!K123","v":0},{"$f":"'mnt Data'!L123","v":0},{"$f":"'mnt Data'!M123","v":0},{"$f":"'mnt Data'!N123","v":0},{"$f":"'mnt Data'!O123","v":0},{"$f":"'mnt Data'!P123","v":0},{"$f":"'mnt Data'!Q123","v":0},{"$f":"'mnt Data'!R123","v":0},{"$f":"'mnt Data'!S123","v":0},{"$f":"'mnt Data'!T123","v":0},{"$f":"'mnt Data'!U123","v":0},{"$f":"'mnt Data'!V123","v":0},{"$f":"'mnt Data'!W123","v":0},{"$f":"'mnt Data'!X123","v":0},{"$f":"'mnt Data'!Y123","v":0},{"$f":"'mnt Data'!Z123","v":0},{"$f":"'mnt Data'!AA123","v":0},{"$f":"'mnt Data'!AB123","v":0},{"$f":"'mnt Data'!AC123","v":0},{"$f":"'mnt Data'!AD123","v":0},{"$f":"'mnt Data'!AE123","v":0},{"$f":"'mnt Data'!AF123","v":0},{"$f":"'mnt Data'!AG123","v":0},{"$f":"'mnt Data'!AH123","v":0},{"$f":"'mnt Data'!AI123","v":0},{"$f":"'mnt Data'!AJ123","v":0},{"$f":"'mnt Data'!AK123","v":0}]
[120,0,0,"No Gs",0,"No Gs","No Gs","Gs is needed","Gs is needed","Gs is needed","Need Max and Min","Need Max and Min","Fail",null,{"$f":"'mnt Data'!A124","v":0},{"$f":"'mnt Data'!B124","v":0},{"$f":"'mnt Data'!C124","v":0},{"$f":"'mnt Data'!D124","v":0},{"$f":"'mnt Data'!E124","v":0},{"$f":"'mnt Data'!F124","v":0},{"$f":"'mnt Data'!G124","v":0},{"$f":"'mnt Data'!H124","v":0},{"$f":"'mnt Data'!I124","v":0},{"$f":"'mnt Data'!J124","v":0},{"$f":"'mnt Data'!K124","v":0},{"$f":"'mnt Data'!L124","v":0},{"$f":"'mnt Data'!M124","v":0},{"$f":"'mnt Data'!N124","v":0},{"$f":"'mnt Data'!O124","v":0},{"$f":"'mnt Data'!P124","v":0},{"$f":"'mnt Data'!Q124","v":0},{"$f":"'mnt Data'!R124","v":0},{"$f":"'mnt Data'!S124","v":0},{"$f":"'mnt Data'!T124","v":0},{"$f":"'mnt Data'!U124","v":0},{"$f":"'mnt Data'!V124","v":0},{"$f":"'mnt Data'!W124","v":0},{"$f":"'mnt Data'!X124","v":0},{"$f":"'mnt Data'!Y124","v":0},{"$f":"'mnt Data'!Z124","v":0},{"$f":"'mnt Data'!AA124","v":0},{"$f":"'mnt Data'!AB124","v":0},{"$f":"'mnt Data'!AC124","v":0},{"$f":"'mnt Data'!AD124","v":0},{"$f":"'mnt Data'!AE124","v":0},{"$f":"'mnt Data'!AF124","v":0},{"$f":"'mnt Data'!AG124","v":0},{"$f":"'mnt Data'!AH124","v":0},{"$f":"'mnt Data'!AI124","v":0},{"$f":"'mnt Data'!AJ124","v":0},{"$f":"'mnt Data'!AK124","v":0}]
[121,0,0,"No Gs",0,"No Gs","No Gs","Gs is needed","Gs is needed","Gs is needed","Need Max and Min","Need Max and Min","Fail",null,{"$f":"'mnt Data'!A125","v":0},{"$f":"'mnt Data'!B125","v":0},{"$f":"'mnt Data'!C125","v":0},{"$f":"'mnt Data'!D125","v":0},{"$f":"'mnt Data'!E125","v":0},{"$f":"'mnt Data'!F125","v":0},{"$f":"'mnt Data'!G125","v":0},{"$f":"'mnt Data'!H125","v":0},{"$f":"'mnt Data'!I125","v":0},{"$f":"'mnt Data'!J125","v":0},{"$f":"'mnt Data'!K125","v":0},{"$f":"'mnt Data'!L125","v":0},{"$f":"'mnt Data'!M125","v":0},{"$f":"'mnt Data'!N125","v":0},{"$f":"'mnt Data'!O125","v":0},{"$f":"'mnt Data'!P125","v":0},{"$f":"'mnt Data'!Q125","v":0},{"$f":"'mnt Data'!R125","v":0},{"$f":"'mnt Data'!S125","v":0},{"$f":"'mnt Data'!T125","v":0},{"$f":"'mnt Data'!U125","v":0},{"$f":"'mnt Data'!V125","v":0},{"$f":"'mnt Data'!W125","v":0},{"$f":"'mnt Data'!X125","v":0},{"$f":"'mnt Data'!Y125","v":0},{"$f":"'mnt Data'!Z125","v":0},{"$f":"'mnt Data'!AA125","v":0},{"$f":"'mnt Data'!AB125","v":0},{"$f":"'mnt Data'!AC125","v":0},{"$f":"'mnt Data'!AD125","v":0},{"$f":"'mnt Data'!AE125","v":0},{"$f":"'mnt Data'!AF125","v":0},{"$f":"'mnt Data'!AG125","v":0},{"$f":"'mnt Data'!AH125","v":0},{"$f":"'mnt Data'!AI125","v":0},{"$f":"'mnt Data'!AJ125","v":0},{"$f":"'mnt Data'!AK125","v":0}]
[122,0,0,"No Gs",0,"No Gs","No Gs","Gs is needed","Gs is needed","Gs is needed","Need Max and Min","Need Max and Min","Fail",null,{"$f":"'mnt Data'!A126","v":0},{"$f":"'mnt Data'!B126","v":0},{"$f":"'mnt Data'!C126","v":0},{"$f":"'mnt Data'!D126","v":0},{"$f":"'mnt Data'!E126","v":0},{"$f":"'mnt Data'!F126","v":0},{"$f":"'mnt Data'!G126","v":0},{"$f":"'mnt Data'!H126","v":0},{"$f":"'mnt Data'!I126","v":0},{"$f":"'mnt Data'!J126","v":0},{"$f":"'mnt Data'!K126","v":0},{"$f":"'mnt Data'!L126","v":0},{"$f":"'mnt Data'!M126","v":0},{"$f":"'mnt Data'!N126","v":0},{"$f":"'mnt Data'!O126","v":0},{"$f":"'mnt Data'!P126","v":0},{"$f":"'mnt Data'!Q126","v":0},{"$f":"'mnt Data'!R126","v":0},{"$f":"'mnt Data'!S126","v":0},{"$f":"'mnt Data'!T126","v":0},{"$f":"'mnt Data'!U126","v":0},{"$f":"'mnt Data'!V126","v":0},{"$f":"'mnt Data'!W126","v":0},{"$f":"'mnt Data'!X126","v":0},{"$f":"'mnt Data'!Y126","v":0},{"$f":"'mnt Data'!Z126","v":0},{"$f":"'mnt Data'!AA126","v":0},{"$f":"'mnt Data'!AB126","v":0},{"$f":"'mnt Data'!AC126","v":0},{"$f":"'mnt Data'!AD126","v":0},{"$f":"'mnt Data'!AE126","v":0},{"$f":"'mnt Data'!AF126","v":0},{"$f":"'mnt Data'!AG126","v":0},{"$f":"'mnt Data'!AH126","v":0},{"$f":"'mnt Data'!AI126","v":0},{"$f":"'mnt Data'!AJ126","v":0},{"$f":"'mnt Data'!AK126","v":0}]
[123,0,0,"No Gs",0,"No Gs","No Gs","Gs is needed","Gs is needed","Gs is needed","Need Max and Min","Need Max and Min","Fail",null,{"$f":"'mnt Data'!A127","v":0},{"$f":"'mnt Data'!B127","v":0},{"$f":"'mnt Data'!C127","v":0},{"$f":"'mnt Data'!D127","v":0},{"$f":"'mnt Data'!E127","v":0},{"$f":"'mnt Data'!F127","v":0},{"$f":"'mnt Data'!G127","v":0},{"$f":"'mnt Data'!H127","v":0},{"$f":"'mnt Data'!I127","v":0},{"$f":"'mnt Data'!J127","v":0},{"$f":"'mnt Data'!K127","v":0},{"$f":"'mnt Data'!L127","v":0},{"$f":"'mnt Data'!M127","v":0},{"$f":"'mnt Data'!N127","v":0},{"$f":"'mnt Data'!O127","v":0},{"$f":"'mnt Data'!P127","v":0},{"$f":"'mnt Data'!Q127","v":0},{"$f":"'mnt Data'!R127","v":0},{"$f":"'mnt Data'!S127","v":0},{"$f":"'mnt Data'!T127","v":0},{"$f":"'mnt Data'!U127","v":0},{"$f":"'mnt Data'!V127","v":0},{"$f":"'mnt Data'!W127","v":0},{"$f":"'mnt Data'!X127","v":0},{"$f":"'mnt Data'!Y127","v":0},{"$f":"'mnt Data'!Z127","v":0},{"$f":"'mnt Data'!AA127","v":0},{"$f":"'mnt Data'!AB127","v":0},{"$f":"'mnt Data'!AC127","v":0},{"$f":"'mnt Data'!AD127","v":0},{"$f":"'mnt Data'!AE127","v":0},{"$f":"'mnt Data'!AF127","v":0},{"$f":"'mnt Data'!AG127","v":0},{"$f":"'mnt Data'!AH127","v":0},{"$f":"'mnt Data'!AI127","v":0},{"$f":"'mnt Data'!AJ127","v":0},{"$f":"'mnt Data'!AK127","v":0}]
[124,0,0,"No Gs",0,"No Gs","No Gs","Gs is needed","Gs is needed","Gs is needed","Need Max and Min","Need Max and Min","Fail",null,{"$f":"'mnt Data'!A128","v":0},{"$f":"'mnt Data'!B128","v":0},{"$f":"'mnt Data'!C128","v":0},{"$f":"'mnt Data'!D128","v":0},{"$f":"'mnt Data'!E128","v":0},{"$f":"'mnt Data'!F128","v":0},{"$f":"'mnt Data'!G128","v":0},{"$f":"'mnt Data'!H128","v":0},{"$f":"'mnt Data'!I128","v":0},{"$f":"'mnt Data'!J128","v":0},{"$f":"'mnt Data'!K128","v":0},{"$f":"'mnt Data'!L128","v":0},{"$f":"'mnt Data'!M128","v":0},{"$f":"'mnt Data'!N128","v":0},{"$f":"'mnt Data'!O128","v":0},{"$f":"'mnt Data'!P128","v":0},{"$f":"'mnt Data'!Q128","v":0},{"$f":"'mnt Data'!R128","v":0},{"$f":"'mnt Data'!S128","v":0},{"$f":"'mnt Data'!T128","v":0},{"$f":"'mnt Data'!U128","v":0},{"$f":"'mnt Data'!V128","v":0},{"$f":"'mnt Data'!W128","v":0},{"$f":"'mnt Data'!X128","v":0},{"$f":"'mnt Data'!Y128","v":0},{"$f":"'mnt Data'!Z128","v":0},{"$f":"'mnt Data'!AA128","v":0},{"$f":"'mnt Data'!AB128","v":0},{"$f":"'mnt Data'!AC128","v":0},{"$f":"'mnt Data'!AD128","v":0},{"$f":"'mnt Data'!AE128","v":0},{"$f":"'mnt Data'!AF128","v":0},{"$f":"'mnt Data'!AG128","v":0},{"$f":"'mnt Data'!AH128","v":0},{"$f":"'mnt Data'!AI128","v":0},{"$f":"'mnt Data'!AJ128","v":0},{"$f":"'mnt Data'!AK128","v":0}]
[125,0,0,"No Gs",0,"No Gs","No Gs","Gs is needed","Gs is needed","Gs is needed","Need Max and Min","Need Max and Min","Fail",null,{"$f":"'mnt Data'!A129","v":0},{"$f":"'mnt Data'!B129","v":0},{"$f":"'mnt Data'!C129","v":0},{"$f":"'mnt Data'!D129","v":0},{"$f":"'mnt Data'!E129","v":0},{"$f":"'mnt Data'!F129","v":0},{"$f":"'mnt Data'!G129","v":0},{"$f":"'mnt Data'!H129","v":0},{"$f":"'mnt Data'!I129","v":0},{"$f":"'mnt Data'!J129","v":0},{"$f":"'mnt Data'!K129","v":0},{"$f":"'mnt Data'!L129","v":0},{"$f":"'mnt Data'!M129","v":0},{"$f":"'mnt Data'!N129","v":0},{"$f":"'mnt Data'!O129","v":0},{"$f":"'mnt Data'!P129","v":0},{"$f":"'mnt Data'!Q129","v":0},{"$f":"'mnt Data'!R129","v":0},{"$f":"'mnt Data'!S129","v":0},{"$f":"'mnt Data'!T129","v":0},{"$f":"'mnt Data'!U129","v":0},{"$f":"'mnt Data'!V129","v":0},{"$f":"'mnt Data'!W129","v":0},{"$f":"'mnt Data'!X129","v":0},{"$f":"'mnt Data'!Y129","v":0},{"$f":"'mnt Data'!Z129","v":0},{"$f":"'mnt Data'!AA129","v":0},{"$f":"'mnt Data'!AB129","v":0},{"$f":"'mnt Data'!AC129","v":0},{"$f":"'mnt Data'!AD129","v":0},{"$f":"'mnt Data'!AE129","v":0},{"$f":"'mnt Data'!AF129","v":0},{"$f":"'mnt Data'!AG129","v":0},{"$f":"'mnt Data'!AH129","v":0},{"$f":"'mnt Data'!AI129","v":0},{"$f":"'mnt Data'!AJ129","v":0},{"$f":"'mnt Data'!AK129","v":0}]
[126,0,0,"No Gs",0,"No Gs","No Gs","Gs is needed","Gs is needed","Gs is needed","Need Max and Min","Need Max and Min","Fail",null,{"$f":"'mnt Data'!A130","v":0},{"$f":"'mnt Data'!B130","v":0},{"$f":"'mnt Data'!C130","v":0},{"$f":"'mnt Data'!D130","v":0},{"$f":"'mnt Data'!E130","v":0},{"$f":"'mnt Data'!F130","v":0},{"$f":"'mnt Data'!G130","v":0},{"$f":"'mnt Data'!H130","v":0},{"$f":"'mnt Data'!I130","v":0},{"$f":"'mnt Data'!J130","v":0},{"$f":"'mnt Data'!K130","v":0},{"$f":"'mnt Data'!L130","v":0},{"$f":"'mnt Data'!M130","v":0},{"$f":"'mnt Data'!N130","v":0},{"$f":"'mnt Data'!O130","v":0},{"$f":"'mnt Data'!P130","v":0},{"$f":"'mnt Data'!Q130","v":0},{"$f":"'mnt Data'!R130","v":0},{"$f":"'mnt Data'!S130","v":0},{"$f":"'mnt Data'!T130","v":0},{"$f":"'mnt Data'!U130","v":0},{"$f":"'mnt Data'!V130","v":0},{"$f":"'mnt Data'!W130","v":0},{"$f":"'mnt Data'!X130","v":0},{"$f":"'mnt Data'!Y130","v":0},{"$f":"'mnt Data'!Z130","v":0},{"$f":"'mnt Data'!AA130","v":0},{"$f":"'mnt Data'!AB130","v":0},{"$f":"'mnt Data'!AC130","v":0},{"$f":"'mnt Data'!AD130","v":0},{"$f":"'mnt Data'!AE130","v":0},{"$f":"'mnt Data'!AF130","v":0},{"$f":"'mnt Data'!AG130","v":0},{"$f":"'mnt Data'!AH130","v":0},{"$f":"'mnt Data'!AI130","v":0},{"$f":"'mnt Data'!AJ130","v":0},{"$f":"'mnt Data'!AK130","v":0}]
[127,0,0,"No Gs",0,"No Gs","No Gs","Gs is needed","Gs is needed","Gs is needed","Need Max and Min","Need Max and Min","Fail",null,{"$f":"'mnt Data'!A131","v":0},{"$f":"'mnt Data'!B131","v":0},{"$f":"'mnt Data'!C131","v":0},{"$f":"'mnt Data'!D131","v":0},{"$f":"'mnt Data'!E131","v":0},{"$f":"'mnt Data'!F131","v":0},{"$f":"'mnt Data'!G131","v":0},{"$f":"'mnt Data'!H131","v":0},{"$f":"'mnt Data'!I131","v":0},{"$f":"'mnt Data'!J131","v":0},{"$f":"'mnt Data'!K131","v":0},{"$f":"'mnt Data'!L131","v":0},{"$f":"'mnt Data'!M131","v":0},{"$f":"'mnt Data'!N131","v":0},{"$f":"'mnt Data'!O131","v":0},{"$f":"'mnt Data'!P131","v":0},{"$f":"'mnt Data'!Q131","v":0},{"$f":"'mnt Data'!R131","v":0},{"$f":"'mnt Data'!S131","v":0},{"$f":"'mnt Data'!T131","v":0},{"$f":"'mnt Data'!U131","v":0},{"$f":"'mnt Data'!V131","v":0},{"$f":"'mnt Data'!W131","v":0},{"$f":"'mnt Data'!X131","v":0},{"$f":"'mnt Data'!Y131","v":0},{"$f":"'mnt Data'!Z131","v":0},{"$f":"'mnt Data'!AA131","v":0},{"$f":"'mnt Data'!AB131","v":0},{"$f":"'mnt Data'!AC131","v":0},{"$f":"'mnt Data'!AD131","v":0},{"$f":"'mnt Data'!AE131","v":0},{"$f":"'mnt Data'!AF131","v":0},{"$f":"'mnt Data'!AG131","v":0},{"$f":"'mnt Data'!AH131","v":0},{"$f":"'mnt Data'!AI131","v":0},{"$f":"'mnt Data'!AJ131","v":0},{"$f":"'mnt Data'!AK131","v":0}]
[128,0,0,"No Gs",0,"No Gs","No Gs","Gs is needed","Gs is needed","Gs is needed","Need Max and Min","Need Max and Min","Fail",null,{"$f":"'mnt Data'!A132","v":0},{"$f":"'mnt Data'!B132","v":0},{"$f":"'mnt Data'!C132","v":0},{"$f":"'mnt Data'!D132","v":0},{"$f":"'mnt Data'!E132","v":0},{"$f":"'mnt Data'!F132","v":0},{"$f":"'mnt Data'!G132","v":0},{"$f":"'mnt Data'!H132","v":0},{"$f":"'mnt Data'!I132","v":0},{"$f":"'mnt Data'!J132","v":0},{"$f":"'mnt Data'!K132","v":0},{"$f":"'mnt Data'!L132","v":0},{"$f":"'mnt Data'!M132","v":0},{"$f":"'mnt Data'!N132","v":0},{"$f":"'mnt Data'!O132","v":0},{"$f":"'mnt Data'!P132","v":0},{"$f":"'mnt Data'!Q132","v":0},{"$f":"'mnt Data'!R132","v":0},{"$f":"'mnt Data'!S132","v":0},{"$f":"'mnt Data'!T132","v":0},{"$f":"'mnt Data'!U132","v":0},{"$f":"'mnt Data'!V132","v":0},{"$f":"'mnt Data'!W132","v":0},{"$f":"'mnt Data'!X132","v":0},{"$f":"'mnt Data'!Y132","v":0},{"$f":"'mnt Data'!Z132","v":0},{"$f":"'mnt Data'!AA132","v":0},{"$f":"'mnt Data'!AB132","v":0},{"$f":"'mnt Data'!AC132","v":0},{"$f":"'mnt Data'!AD132","v":0},{"$f":"'mnt Data'!AE132","v":0},{"$f":"'mnt Data'!AF132","v":0},{"$f":"'mnt Data'!AG132","v":0},{"$f":"'mnt Data'!AH132","v":0},{"$f":"'mnt Data'!AI132","v":0},{"$f":"'mnt Data'!AJ132","v":0},{"$f":"'mnt Data'!AK132","v":0}]
[129,0,0,{"$f":"IFERROR(B130/(Gs*(IF(O130>1000,998,62.4))),\"No Gs\")","v":"No Gs"},0,"No Gs","No Gs","Gs is needed","Gs is needed","Gs is needed",{"$f":"IFERROR((100*(DMax*(O130-DMin))/(O130*(DMax-DMin))),\"Need Max and Min\")","v":"Need Max and Min"},{"$f":"IF(K130=\"Need Max and Min\",K130,(100*((O130-DMin)/(DMax-DMin))))","v":"Need Max and Min"},{"$f":"IF((Min+Max)=0,\"Need Max and Min Density\",IF(AND(S130>Min,S130<Max),\"Pass\",\"Fail\"))","v":"Fail"},null,{"$f":"'mnt Data'!A133","v":0},{"$f":"'mnt Data'!B133","v":0},{"$f":"'mnt Data'!C133","v":0},{"$f":"'mnt Data'!D133","v":0},{"$f":"'mnt Data'!E133","v":0},{"$f":"'mnt Data'!F133","v":0},{"$f":"'mnt Data'!G133","v":0},{"$f":"'mnt Data'!H133","v":0},{"$f":"'mnt Data'!I133","v":0},{"$f":"'mnt Data'!J133","v":0},{"$f":"'mnt Data'!K133","v":0},{"$f":"'mnt Data'!L133","v":0},{"$f":"'mnt Data'!M133","v":0},{"$f":"'mnt Data'!N133","v":0},{"$f":"'mnt Data'!O133","v":0},{"$f":"'mnt Data'!P133","v":0},{"$f":"'mnt Data'!Q133","v":0},{"$f":"'mnt Data'!R133","v":0},{"$f":"'mnt Data'!S133","v":0},{"$f":"'mnt Data'!T133","v":0},{"$f":"'mnt Data'!U133","v":0},{"$f":"'mnt Data'!V133","v":0},{"$f":"'mnt Data'!W133","v":0},{"$f":"'mnt Data'!X133","v":0},{"$f":"'mnt Data'!Y133","v":0},{"$f":"'mnt Data'!Z133","v":0},{"$f":"'mnt Data'!AA133","v":0},{"$f":"'mnt Data'!AB133","v":0},{"$f":"'mnt Data'!AC133","v":0},{"$f":"'mnt Data'!AD133","v":0},{"$f":"'mnt Data'!AE133","v":0},{"$f":"'mnt Data'!AF133","v":0},{"$f":"'mnt Data'!AG133","v":0},{"$f":"'mnt Data'!AH133","v":0},{"$f":"'mnt Data'!AI133","v":0},{"$f":"'mnt Data'!AJ133","v":0},{"$f":"'mnt Data'!AK133","v":0}]
[130,0,0,"No Gs",{"$f":"C131/(IF(O131>1000,998,62.4))","v":0},{"$f":"IFERROR(1-D131-E131,\"No Gs\")","v":"No Gs"},{"$f":"IFERROR(E131+F131,\"No Gs\")","v":"No Gs"},"Gs is needed","Gs is needed","Gs is needed","Need Max and Min","Need Max and Min","Fail",null,{"$f":"'mnt Data'!A134","v":0},{"$f":"'mnt Data'!B134","v":0},{"$f":"'mnt Data'!C134","v":0},{"$f":"'mnt Data'!D134","v":0},{"$f":"'mnt Data'!E134","v":0},{"$f":"'mnt Data'!F134","v":0},{"$f":"'mnt Data'!G134","v":0},{"$f":"'mnt Data'!H134","v":0},{"$f":"'mnt Data'!I134","v":0},{"$f":"'mnt Data'!J134","v":0},{"$f":"'mnt Data'!K134","v":0},{"$f":"'mnt Data'!L134","v":0},{"$f":"'mnt Data'!M134","v":0},{"$f":"'mnt Data'!N134","v":0},{"$f":"'mnt Data'!O134","v":0},{"$f":"'mnt Data'!P134","v":0},{"$f":"'mnt Data'!Q134","v":0},{"$f":"'mnt Data'!R134","v":0},{"$f":"'mnt Data'!S134","v":0},{"$f":"'mnt Data'!T134","v":0},{"$f":"'mnt Data'!U134","v":0},{"$f":"'mnt Data'!V134","v":0},{"$f":"'mnt Data'!W134","v":0},{"$f":"'mnt Data'!X134","v":0},{"$f":"'mnt Data'!Y134","v":0},{"$f":"'mnt Data'!Z134","v":0},{"$f":"'mnt Data'!AA134","v":0},{"$f":"'mnt Data'!AB134","v":0},{"$f":"'mnt Data'!AC134","v":0},{"$f":"'mnt Data'!AD134","v":0},{"$f":"'mnt Data'!AE134","v":0},{"$f":"'mnt Data'!AF134","v":0},{"$f":"'mnt Data'!AG134","v":0},{"$f":"'mnt Data'!AH134","v":0},{"$f":"'mnt Data'!AI134","v":0},{"$f":"'mnt Data'!AJ134","v":0},{"$f":"'mnt Data'!AK134","v":0}]
[131,0,0,"No Gs",0,"No Gs","No Gs","Gs is needed","Gs is needed","Gs is needed","Need Max and Min","Need Max and Min","Fail",null,{"$f":"'mnt Data'!A135","v":0},{"$f":"'mnt Data'!B135","v":0},{"$f":"'mnt Data'!C135","v":0},{"$f":"'mnt Data'!D135","v":0},{"$f":"'mnt Data'!E135","v":0},{"$f":"'mnt Data'!F135","v":0},{"$f":"'mnt Data'!G135","v":0},{"$f":"'mnt Data'!H135","v":0},{"$f":"'mnt Data'!I135","v":0},{"$f":"'mnt Data'!J135","v":0},{"$f":"'mnt Data'!K135","v":0},{"$f":"'mnt Data'!L135","v":0},{"$f":"'mnt Data'!M135","v":0},{"$f":"'mnt Data'!N135","v":0},{"$f":"'mnt Data'!O135","v":0},{"$f":"'mnt Data'!P135","v":0},{"$f":"'mnt Data'!Q135","v":0},{"$f":"'mnt Data'!R135","v":0},{"$f":"'mnt Data'!S135","v":0},{"$f":"'mnt Data'!T135","v":0},{"$f":"'mnt Data'!U135","v":0},{"$f":"'mnt Data'!V135","v":0},{"$f":"'mnt Data'!W135","v":0},{"$f":"'mnt Data'!X135","v":0},{"$f":"'mnt Data'!Y135","v":0},{"$f":"'mnt Data'!Z135","v":0},{"$f":"'mnt Data'!AA135","v":0},{"$f":"'mnt Data'!AB135","v":0},{"$f":"'mnt Data'!AC135","v":0},{"$f":"'mnt Data'!AD135","v":0},{"$f":"'mnt Data'!AE135","v":0},{"$f":"'mnt Data'!AF135","v":0},{"$f":"'mnt Data'!AG135","v":0},{"$f":"'mnt Data'!AH135","v":0},{"$f":"'mnt Data'!AI135","v":0},{"$f":"'mnt Data'!AJ135","v":0},{"$f":"'mnt Data'!AK135","v":0}]
[132,0,0,"No Gs",0,"No Gs","No Gs","Gs is needed","Gs is needed","Gs is needed","Need Max and Min","Need Max and Min","Fail",null,{"$f":"'mnt Data'!A136","v":0},{"$f":"'mnt Data'!B136","v":0},{"$f":"'mnt Data'!C136","v":0},{"$f":"'mnt Data'!D136","v":0},{"$f":"'mnt Data'!E136","v":0},{"$f":"'mnt Data'!F136","v":0},{"$f":"'mnt Data'!G136","v":0},{"$f":"'mnt Data'!H136","v":0},{"$f":"'mnt Data'!I136","v":0},{"$f":"'mnt Data'!J136","v":0},{"$f":"'mnt Data'!K136","v":0},{"$f":"'mnt Data'!L136","v":0},{"$f":"'mnt Data'!M136","v":0},{"$f":"'mnt Data'!N136","v":0},{"$f":"'mnt Data'!O136","v":0},{"$f":"'mnt Data'!P136","v":0},{"$f":"'mnt Data'!Q136","v":0},{"$f":"'mnt Data'!R136","v":0},{"$f":"'mnt Data'!S136","v":0},{"$f":"'mnt Data'!T136","v":0},{"$f":"'mnt Data'!U136","v":0},{"$f":"'mnt Data'!V136","v":0},{"$f":"'mnt Data'!W136","v":0},{"$f":"'mnt Data'!X136","v":0},{"$f":"'mnt Data'!Y136","v":0},{"$f":"'mnt Data'!Z136","v":0},{"$f":"'mnt Data'!AA136","v":0},{"$f":"'mnt Data'!AB136","v":0},{"$f":"'mnt Data'!AC136","v":0},{"$f":"'mnt Data'!AD136","v":0},{"$f":"'mnt Data'!AE136","v":0},{"$f":"'mnt Data'!AF136","v":0},{"$f":"'mnt Data'!AG136","v":0},{"$f":"'mnt Data'!AH136","v":0},{"$f":"'mnt Data'!AI136","v":0},{"$f":"'mnt Data'!AJ136","v":0},{"$f":"'mnt Data'!AK136","v":0}]
[133,0,0,"No Gs",0,"No Gs","No Gs","Gs is needed","Gs is needed","Gs is needed","Need Max and Min","Need Max and Min","Fail",null,{"$f":"'mnt Data'!A137","v":0},{"$f":"'mnt Data'!B137","v":0},{"$f":"'mnt Data'!C137","v":0},{"$f":"'mnt Data'!D137","v":0},{"$f":"'mnt Data'!E137","v":0},{"$f":"'mnt Data'!F137","v":0},{"$f":"'mnt Data'!G137","v":0},{"$f":"'mnt Data'!H137","v":0},{"$f":"'mnt Data'!I137","v":0},{"$f":"'mnt Data'!J137","v":0},{"$f":"'mnt Data'!K137","v":0},{"$f":"'mnt Data'!L137","v":0},{"$f":"'mnt Data'!M137","v":0},{"$f":"'mnt Data'!N137","v":0},{"$f":"'mnt Data'!O137","v":0},{"$f":"'mnt Data'!P137","v":0},{"$f":"'mnt Data'!Q137","v":0},{"$f":"'mnt Data'!R137","v":0},{"$f":"'mnt Data'!S137","v":0},{"$f":"'mnt Data'!T137","v":0},{"$f":"'mnt Data'!U137","v":0},{"$f":"'mnt Data'!V137","v":0},{"$f":"'mnt Data'!W137","v":0},{"$f":"'mnt Data'!X137","v":0},{"$f":"'mnt Data'!Y137","v":0},{"$f":"'mnt Data'!Z137","v":0},{"$f":"'mnt Data'!AA137","v":0},{"$f":"'mnt Data'!AB137","v":0},{"$f":"'mnt Data'!AC137","v":0},{"$f":"'mnt Data'!AD137","v":0},{"$f":"'mnt Data'!AE137","v":0},{"$f":"'mnt Data'!AF137","v":0},{"$f":"'mnt Data'!AG137","v":0},{"$f":"'mnt Data'!AH137","v":0},{"$f":"'mnt Data'!AI137","v":0},{"$f":"'mnt Data'!AJ137","v":0},{"$f":"'mnt Data'!AK137","v":0}]
[134,0,0,"No Gs",0,"No Gs","No Gs","Gs is needed","Gs is needed","Gs is needed","Need Max and Min","Need Max and Min","Fail",null,{"$f":"'mnt Data'!A138","v":0},{"$f":"'mnt Data'!B138","v":0},{"$f":"'mnt Data'!C138","v":0},{"$f":"'mnt Data'!D138","v":0},{"$f":"'mnt Data'!E138","v":0},{"$f":"'mnt Data'!F138","v":0},{"$f":"'mnt Data'!G138","v":0},{"$f":"'mnt Data'!H138","v":0},{"$f":"'mnt Data'!I138","v":0},{"$f":"'mnt Data'!J138","v":0},{"$f":"'mnt Data'!K138","v":0},{"$f":"'mnt Data'!L138","v":0},{"$f":"'mnt Data'!M138","v":0},{"$f":"'mnt Data'!N138","v":0},{"$f":"'mnt Data'!O138","v":0},{"$f":"'mnt Data'!P138","v":0},{"$f":"'mnt Data'!Q138","v":0},{"$f":"'mnt Data'!R138","v":0},{"$f":"'mnt Data'!S138","v":0},{"$f":"'mnt Data'!T138","v":0},{"$f":"'mnt Data'!U138","v":0},{"$f":"'mnt Data'!V138","v":0},{"$f":"'mnt Data'!W138","v":0},{"$f":"'mnt Data'!X138","v":0},{"$f":"'mnt Data'!Y138","v":0},{"$f":"'mnt Data'!Z138","v":0},{"$f":"'mnt Data'!AA138","v":0},{"$f":"'mnt Data'!AB138","v":0},{"$f":"'mnt Data'!AC138","v":0},{"$f":"'mnt Data'!AD138","v":0},{"$f":"'mnt Data'!AE138","v":0},{"$f":"'mnt Data'!AF138","v":0},{"$f":"'mnt Data'!AG138","v":0},{"$f":"'mnt Data'!AH138","v":0},{"$f":"'mnt Data'!AI138","v":0},{"$f":"'mnt Data'!AJ138","v":0},{"$f":"'mnt Data'!AK138","v":0}]
[135,0,0,"No Gs",0,"No Gs","No Gs","Gs is needed","Gs is needed","Gs is needed","Need Max and Min","Need Max and Min","Fail",null,{"$f":"'mnt Data'!A139","v":0},{"$f":"'mnt Data'!B139","v":0},{"$f":"'mnt Data'!C139","v":0},{"$f":"'mnt Data'!D139","v":0},{"$f":"'mnt Data'!E139","v":0},{"$f":"'mnt Data'!F139","v":0},{"$f":"'mnt Data'!G139","v":0},{"$f":"'mnt Data'!H139","v":0},{"$f":"'mnt Data'!I139","v":0},{"$f":"'mnt Data'!J139","v":0},{"$f":"'mnt Data'!K139","v":0},{"$f":"'mnt Data'!L139","v":0},{"$f":"'mnt Data'!M139","v":0},{"$f":"'mnt Data'!N139","v":0},{"$f":"'mnt Data'!O139","v":0},{"$f":"'mnt Data'!P139","v":0},{"$f":"'mnt Data'!Q139","v":0},{"$f":"'mnt Data'!R139","v":0},{"$f":"'mnt Data'!S139","v":0},{"$f":"'mnt Data'!T139","v":0},{"$f":"'mnt Data'!U139","v":0},{"$f":"'mnt Data'!V139","v":0},{"$f":"'mnt Data'!W139","v":0},{"$f":"'mnt Data'!X139","v":0},{"$f":"'mnt Data'!Y139","v":0},{"$f":"'mnt Data'!Z139","v":0},{"$f":"'mnt Data'!AA139","v":0},{"$f":"'mnt Data'!AB139","v":0},{"$f":"'mnt Data'!AC139","v":0},{"$f":"'mnt Data'!AD139","v":0},{"$f":"'mnt Data'!AE139","v":0},{"$f":"'mnt Data'!AF139","v":0},{"$f":"'mnt Data'!AG139","v":0},{"$f":"'mnt Data'!AH139","v":0},{"$f":"'mnt Data'!AI139","v":0},{"$f":"'mnt Data'!AJ139","v":0},{"$f":"'mnt Data'!AK139","v":0}]
[136,0,0,"No Gs",0,"No Gs","No Gs","Gs is needed","Gs is needed","Gs is needed","Need Max and Min","Need Max and Min","Fail",null,{"$f":"'mnt Data'!A140","v":0},{"$f":"'mnt Data'!B140","v":0},{"$f":"'mnt Data'!C140","v":0},{"$f":"'mnt Data'!D140","v":0},{"$f":"'mnt Data'!E140","v":0},{"$f":"'mnt Data'!F140","v":0},{"$f":"'mnt Data'!G140","v":0},{"$f":"'mnt Data'!H140","v":0},{"$f":"'mnt Data'!I140","v":0},{"$f":"'mnt Data'!J140","v":0},{"$f":"'mnt Data'!K140","v":0},{"$f":"'mnt Data'!L140","v":0},{"$f":"'mnt Data'!M140","v":0},{"$f":"'mnt Data'!N140","v":0},{"$f":"'mnt Data'!O140","v":0},{"$f":"'mnt Data'!P140","v":0},{"$f":"'mnt Data'!Q140","v":0},{"$f":"'mnt Data'!R140","v":0},{"$f":"'mnt Data'!S140","v":0},{"$f":"'mnt Data'!T140","v":0},{"$f":"'mnt Data'!U140","v":0},{"$f":"'mnt Data'!V140","v":0},{"$f":"'mnt Data'!W140","v":0},{"$f":"'mnt Data'!X140","v":0},{"$f":"'mnt Data'!Y140","v":0},{"$f":"'mnt Data'!Z140","v":0},{"$f":"'mnt Data'!AA140","v":0},{"$f":"'mnt Data'!AB140","v":0},{"$f":"'mnt Data'!AC140","v":0},{"$f":"'mnt Data'!AD140","v":0},{"$f":"'mnt Data'!AE140","v":0},{"$f":"'mnt Data'!AF140","v":0},{"$f":"'mnt Data'!AG140","v":0},{"$f":"'mnt Data'!AH140","v":0},{"$f":"'mnt Data'!AI140","v":0},{"$f":"'mnt Data'!AJ140","v":0},{"$f":"'mnt Data'!AK140","v":0}]
[137,0,0,"No Gs",0,"No Gs","No Gs","Gs is needed","Gs is needed","Gs is needed","Need Max and Min","Need Max and Min","Fail",null,{"$f":"'mnt Data'!A141","v":0},{"$f":"'mnt Data'!B141","v":0},{"$f":"'mnt Data'!C141","v":0},{"$f":"'mnt Data'!D141","v":0},{"$f":"'mnt Data'!E141","v":0},{"$f":"'mnt Data'!F141","v":0},{"$f":"'mnt Data'!G141","v":0},{"$f":"'mnt Data'!H141","v":0},{"$f":"'mnt Data'!I141","v":0},{"$f":"'mnt Data'!J141","v":0},{"$f":"'mnt Data'!K141","v":0},{"$f":"'mnt Data'!L141","v":0},{"$f":"'mnt Data'!M141","v":0},{"$f":"'mnt Data'!N141","v":0},{"$f":"'mnt Data'!O141","v":0},{"$f":"'mnt Data'!P141","v":0},{"$f":"'mnt Data'!Q141","v":0},{"$f":"'mnt Data'!R141","v":0},{"$f":"'mnt Data'!S141","v":0},{"$f":"'mnt Data'!T141","v":0},{"$f":"'mnt Data'!U141","v":0},{"$f":"'mnt Data'!V141","v":0},{"$f":"'mnt Data'!W141","v":0},{"$f":"'mnt Data'!X141","v":0},{"$f":"'mnt Data'!Y141","v":0},{"$f":"'mnt Data'!Z141","v":0},{"$f":"'mnt Data'!AA141","v":0},{"$f":"'mnt Data'!AB141","v":0},{"$f":"'mnt Data'!AC141","v":0},{"$f":"'mnt Data'!AD141","v":0},{"$f":"'mnt Data'!AE141","v":0},{"$f":"'mnt Data'!AF141","v":0},{"$f":"'mnt Data'!AG141","v":0},{"$f":"'mnt Data'!AH141","v":0},{"$f":"'mnt Data'!AI141","v":0},{"$f":"'mnt Data'!AJ141","v":0},{"$f":"'mnt Data'!AK141","v":0}]
[138,0,0,"No Gs",0,"No Gs","No Gs","Gs is needed","Gs is needed","Gs is needed","Need Max and Min","Need Max and Min","Fail",null,{"$f":"'mnt Data'!A142","v":0},{"$f":"'mnt Data'!B142","v":0},{"$f":"'mnt Data'!C142","v":0},{"$f":"'mnt Data'!D142","v":0},{"$f":"'mnt Data'!E142","v":0},{"$f":"'mnt Data'!F142","v":0},{"$f":"'mnt Data'!G142","v":0},{"$f":"'mnt Data'!H142","v":0},{"$f":"'mnt Data'!I142","v":0},{"$f":"'mnt Data'!J142","v":0},{"$f":"'mnt Data'!K142","v":0},{"$f":"'mnt Data'!L142","v":0},{"$f":"'mnt Data'!M142","v":0},{"$f":"'mnt Data'!N142","v":0},{"$f":"'mnt Data'!O142","v":0},{"$f":"'mnt Data'!P142","v":0},{"$f":"'mnt Data'!Q142","v":0},{"$f":"'mnt Data'!R142","v":0},{"$f":"'mnt Data'!S142","v":0},{"$f":"'mnt Data'!T142","v":0},{"$f":"'mnt Data'!U142","v":0},{"$f":"'mnt Data'!V142","v":0},{"$f":"'mnt Data'!W142","v":0},{"$f":"'mnt Data'!X142","v":0},{"$f":"'mnt Data'!Y142","v":0},{"$f":"'mnt Data'!Z142","v":0},{"$f":"'mnt Data'!AA142","v":0},{"$f":"'mnt Data'!AB142","v":0},{"$f":"'mnt Data'!AC142","v":0},{"$f":"'mnt Data'!AD142","v":0},{"$f":"'mnt Data'!AE142","v":0},{"$f":"'mnt Data'!AF142","v":0},{"$f":"'mnt Data'!AG142","v":0},{"$f":"'mnt Data'!AH142","v":0},{"$f":"'mnt Data'!AI142","v":0},{"$f":"'mnt Data'!AJ142","v":0},{"$f":"'mnt Data'!AK142","v":0}]
[139,0,0,"No Gs",0,"No Gs","No Gs","Gs is needed","Gs is needed","Gs is needed","Need Max and Min","Need Max and Min","Fail",null,{"$f":"'mnt Data'!A143","v":0},{"$f":"'mnt Data'!B143","v":0},{"$f":"'mnt Data'!C143","v":0},{"$f":"'mnt Data'!D143","v":0},{"$f":"'mnt Data'!E143","v":0},{"$f":"'mnt Data'!F143","v":0},{"$f":"'mnt Data'!G143","v":0},{"$f":"'mnt Data'!H143","v":0},{"$f":"'mnt Data'!I143","v":0},{"$f":"'mnt Data'!J143","v":0},{"$f":"'mnt Data'!K143","v":0},{"$f":"'mnt Data'!L143","v":0},{"$f":"'mnt Data'!M143","v":0},{"$f":"'mnt Data'!N143","v":0},{"$f":"'mnt Data'!O143","v":0},{"$f":"'mnt Data'!P143","v":0},{"$f":"'mnt Data'!Q143","v":0},{"$f":"'mnt Data'!R143","v":0},{"$f":"'mnt Data'!S143","v":0},{"$f":"'mnt Data'!T143","v":0},{"$f":"'mnt Data'!U143","v":0},{"$f":"'mnt Data'!V143","v":0},{"$f":"'mnt Data'!W143","v":0},{"$f":"'mnt Data'!X143","v":0},{"$f":"'mnt Data'!Y143","v":0},{"$f":"'mnt Data'!Z143","v":0},{"$f":"'mnt Data'!AA143","v":0},{"$f":"'mnt Data'!AB143","v":0},{"$f":"'mnt Data'!AC143","v":0},{"$f":"'mnt Data'!AD143","v":0},{"$f":"'mnt Data'!AE143","v":0},{"$f":"'mnt Data'!AF143","v":0},{"$f":"'mnt Data'!AG143","v":0},{"$f":"'mnt Data'!AH143","v":0},{"$f":"'mnt Data'!AI143","v":0},{"$f":"'mnt Data'!AJ143","v":0},{"$f":"'mnt Data'!AK143","v":0}]
[140,0,0,"No Gs",0,"No Gs","No Gs","Gs is needed","Gs is needed","Gs is needed","Need Max and Min","Need Max and Min","Fail",null,{"$f":"'mnt Data'!A144","v":0},{"$f":"'mnt Data'!B144","v":0},{"$f":"'mnt Data'!C144","v":0},{"$f":"'mnt Data'!D144","v":0},{"$f":"'mnt Data'!E144","v":0},{"$f":"'mnt Data'!F144","v":0},{"$f":"'mnt Data'!G144","v":0},{"$f":"'mnt Data'!H144","v":0},{"$f":"'mnt Data'!I144","v":0},{"$f":"'mnt Data'!J144","v":0},{"$f":"'mnt Data'!K144","v":0},{"$f":"'mnt Data'!L144","v":0},{"$f":"'mnt Data'!M144","v":0},{"$f":"'mnt Data'!N144","v":0},{"$f":"'mnt Data'!O144","v":0},{"$f":"'mnt Data'!P144","v":0},{"$f":"'mnt Data'!Q144","v":0},{"$f":"'mnt Data'!R144","v":0},{"$f":"'mnt Data'!S144","v":0},{"$f":"'mnt Data'!T144","v":0},{"$f":"'mnt Data'!U144","v":0},{"$f":"'mnt Data'!V144","v":0},{"$f":"'mnt Data'!W144","v":0},{"$f":"'mnt Data'!X144","v":0},{"$f":"'mnt Data'!Y144","v":0},{"$f":"'mnt Data'!Z144","v":0},{"$f":"'mnt Data'!AA144","v":0},{"$f":"'mnt Data'!AB144","v":0},{"$f":"'mnt Data'!AC144","v":0},{"$f":"'mnt Data'!AD144","v":0},{"$f":"'mnt Data'!AE144","v":0},{"$f":"'mnt Data'!AF144","v":0},{"$f":"'mnt Data'!AG144","v":0},{"$f":"'mnt Data'!AH144","v":0},{"$f":"'mnt Data'!AI144","v":0},{"$f":"'mnt Data'!AJ144","v":0},{"$f":"'mnt Data'!AK144","v":0}]
[141,0,0,"No Gs",0,"No Gs","No Gs","Gs is needed","Gs is needed","Gs is needed","Need Max and Min","Need Max and Min","Fail",null,{"$f":"'mnt Data'!A145","v":0},{"$f":"'mnt Data'!B145","v":0},{"$f":"'mnt Data'!C145","v":0},{"$f":"'mnt Data'!D145","v":0},{"$f":"'mnt Data'!E145","v":0},{"$f":"'mnt Data'!F145","v":0},{"$f":"'mnt Data'!G145","v":0},{"$f":"'mnt Data'!H145","v":0},{"$f":"'mnt Data'!I145","v":0},{"$f":"'mnt Data'!J145","v":0},{"$f":"'mnt Data'!K145","v":0},{"$f":"'mnt Data'!L145","v":0},{"$f":"'mnt Data'!M145","v":0},{"$f":"'mnt Data'!N145","v":0},{"$f":"'mnt Data'!O145","v":0},{"$f":"'mnt Data'!P145","v":0},{"$f":"'mnt Data'!Q145","v":0},{"$f":"'mnt Data'!R145","v":0},{"$f":"'mnt Data'!S145","v":0},{"$f":"'mnt Data'!T145","v":0},{"$f":"'mnt Data'!U145","v":0},{"$f":"'mnt Data'!V145","v":0},{"$f":"'mnt Data'!W145","v":0},{"$f":"'mnt Data'!X145","v":0},{"$f":"'mnt Data'!Y145","v":0},{"$f":"'mnt Data'!Z145","v":0},{"$f":"'mnt Data'!AA145","v":0},{"$f":"'mnt Data'!AB145","v":0},{"$f":"'mnt Data'!AC145","v":0},{"$f":"'mnt Data'!AD145","v":0},{"$f":"'mnt Data'!AE145","v":0},{"$f":"'mnt Data'!AF145","v":0},{"$f":"'mnt Data'!AG145","v":0},{"$f":"'mnt Data'!AH145","v":0},{"$f":"'mnt Data'!AI145","v":0},{"$f":"'mnt Data'!AJ145","v":0},{"$f":"'mnt Data'!AK145","v":0}]
[142,0,0,"No Gs",0,"No Gs","No Gs","Gs is needed","Gs is needed","Gs is needed","Need Max and Min","Need Max and Min","Fail",null,{"$f":"'mnt Data'!A146","v":0},{"$f":"'mnt Data'!B146","v":0},{"$f":"'mnt Data'!C146","v":0},{"$f":"'mnt Data'!D146","v":0},{"$f":"'mnt Data'!E146","v":0},{"$f":"'mnt Data'!F146","v":0},{"$f":"'mnt Data'!G146","v":0},{"$f":"'mnt Data'!H146","v":0},{"$f":"'mnt Data'!I146","v":0},{"$f":"'mnt Data'!J146","v":0},{"$f":"'mnt Data'!K146","v":0},{"$f":"'mnt Data'!L146","v":0},{"$f":"'mnt Data'!M146","v":0},{"$f":"'mnt Data'!N146","v":0},{"$f":"'mnt Data'!O146","v":0},{"$f":"'mnt Data'!P146","v":0},{"$f":"'mnt Data'!Q146","v":0},{"$f":"'mnt Data'!R146","v":0},{"$f":"'mnt Data'!S146","v":0},{"$f":"'mnt Data'!T146","v":0},{"$f":"'mnt Data'!U146","v":0},{"$f":"'mnt Data'!V146","v":0},{"$f":"'mnt Data'!W146","v":0},{"$f":"'mnt Data'!X146","v":0},{"$f":"'mnt Data'!Y146","v":0},{"$f":"'mnt Data'!Z146","v":0},{"$f":"'mnt Data'!AA146","v":0},{"$f":"'mnt Data'!AB146","v":0},{"$f":"'mnt Data'!AC146","v":0},{"$f":"'mnt Data'!AD146","v":0},{"$f":"'mnt Data'!AE146","v":0},{"$f":"'mnt Data'!AF146","v":0},{"$f":"'mnt Data'!AG146","v":0},{"$f":"'mnt Data'!AH146","v":0},{"$f":"'mnt Data'!AI146","v":0},{"$f":"'mnt Data'!AJ146","v":0},{"$f":"'mnt Data'!AK146","v":0}]
[143,0,0,"No Gs",0,"No Gs","No Gs","Gs is needed","Gs is needed","Gs is needed","Need Max and Min","Need Max and Min","Fail",null,{"$f":"'mnt Data'!A147","v":0},{"$f":"'mnt Data'!B147","v":0},{"$f":"'mnt Data'!C147","v":0},{"$f":"'mnt Data'!D147","v":0},{"$f":"'mnt Data'!E147","v":0},{"$f":"'mnt Data'!F147","v":0},{"$f":"'mnt Data'!G147","v":0},{"$f":"'mnt Data'!H147","v":0},{"$f":"'mnt Data'!I147","v":0},{"$f":"'mnt Data'!J147","v":0},{"$f":"'mnt Data'!K147","v":0},{"$f":"'mnt Data'!L147","v":0},{"$f":"'mnt Data'!M147","v":0},{"$f":"'mnt Data'!N147","v":0},{"$f":"'mnt Data'!O147","v":0},{"$f":"'mnt Data'!P147","v":0},{"$f":"'mnt Data'!Q147","v":0},{"$f":"'mnt Data'!R147","v":0},{"$f":"'mnt Data'!S147","v":0},{"$f":"'mnt Data'!T147","v":0},{"$f":"'mnt Data'!U147","v":0},{"$f":"'mnt Data'!V147","v":0},{"$f":"'mnt Data'!W147","v":0},{"$f":"'mnt Data'!X147","v":0},{"$f":"'mnt Data'!Y147","v":0},{"$f":"'mnt Data'!Z147","v":0},{"$f":"'mnt Data'!AA147","v":0},{"$f":"'mnt Data'!AB147","v":0},{"$f":"'mnt Data'!AC147","v":0},{"$f":"'mnt Data'!AD147","v":0},{"$f":"'mnt Data'!AE147","v":0},{"$f":"'mnt Data'!AF147","v":0},{"$f":"'mnt Data'!AG147","v":0},{"$f":"'mnt Data'!AH147","v":0},{"$f":"'mnt Data'!AI147","v":0},{"$f":"'mnt Data'!AJ147","v":0},{"$f":"'mnt Data'!AK147","v":0}]
[144,0,0,"No Gs",0,"No Gs","No Gs","Gs is needed","Gs is needed","Gs is needed","Need Max and Min","Need Max and Min","Fail",null,{"$f":"'mnt Data'!A148","v":0},{"$f":"'mnt Data'!B148","v":0},{"$f":"'mnt Data'!C148","v":0},{"$f":"'mnt Data'!D148","v":0},{"$f":"'mnt Data'!E148","v":0},{"$f":"'mnt Data'!F148","v":0},{"$f":"'mnt Data'!G148","v":0},{"$f":"'mnt Data'!H148","v":0},{"$f":"'mnt Data'!I148","v":0},{"$f":"'mnt Data'!J148","v":0},{"$f":"'mnt Data'!K148","v":0},{"$f":"'mnt Data'!L148","v":0},{"$f":"'mnt Data'!M148","v":0},{"$f":"'mnt Data'!N148","v":0},{"$f":"'mnt Data'!O148","v":0},{"$f":"'mnt Data'!P148","v":0},{"$f":"'mnt Data'!Q148","v":0},{"$f":"'mnt Data'!R148","v":0},{"$f":"'mnt Data'!S148","v":0},{"$f":"'mnt Data'!T148","v":0},{"$f":"'mnt Data'!U148","v":0},{"$f":"'mnt Data'!V148","v":0},{"$f":"'mnt Data'!W148","v":0},{"$f":"'mnt Data'!X148","v":0},{"$f":"'mnt Data'!Y148","v":0},{"$f":"'mnt Data'!Z148","v":0},{"$f":"'mnt Data'!AA148","v":0},{"$f":"'mnt Data'!AB148","v":0},{"$f":"'mnt Data'!AC148","v":0},{"$f":"'mnt Data'!AD148","v":0},{"$f":"'mnt Data'!AE148","v":0},{"$f":"'mnt Data'!AF148","v":0},{"$f":"'mnt Data'!AG148","v":0},{"$f":"'mnt Data'!AH148","v":0},{"$f":"'mnt Data'!AI148","v":0},{"$f":"'mnt Data'!AJ148","v":0},{"$f":"'mnt Data'!AK148","v":0}]
[145,0,0,"No Gs",0,"No Gs","No Gs","Gs is needed","Gs is needed","Gs is needed","Need Max and Min","Need Max and Min","Fail",null,{"$f":"'mnt Data'!A149","v":0},{"$f":"'mnt Data'!B149","v":0},{"$f":"'mnt Data'!C149","v":0},{"$f":"'mnt Data'!D149","v":0},{"$f":"'mnt Data'!E149","v":0},{"$f":"'mnt Data'!F149","v":0},{"$f":"'mnt Data'!G149","v":0},{"$f":"'mnt Data'!H149","v":0},{"$f":"'mnt Data'!I149","v":0},{"$f":"'mnt Data'!J149","v":0},{"$f":"'mnt Data'!K149","v":0},{"$f":"'mnt Data'!L149","v":0},{"$f":"'mnt Data'!M149","v":0},{"$f":"'mnt Data'!N149","v":0},{"$f":"'mnt Data'!O149","v":0},{"$f":"'mnt Data'!P149","v":0},{"$f":"'mnt Data'!Q149","v":0},{"$f":"'mnt Data'!R149","v":0},{"$f":"'mnt Data'!S149","v":0},{"$f":"'mnt Data'!T149","v":0},{"$f":"'mnt Data'!U149","v":0},{"$f":"'mnt Data'!V149","v":0},{"$f":"'mnt Data'!W149","v":0},{"$f":"'mnt Data'!X149","v":0},{"$f":"'mnt Data'!Y149","v":0},{"$f":"'mnt Data'!Z149","v":0},{"$f":"'mnt Data'!AA149","v":0},{"$f":"'mnt Data'!AB149","v":0},{"$f":"'mnt Data'!AC149","v":0},{"$f":"'mnt Data'!AD149","v":0},{"$f":"'mnt Data'!AE149","v":0},{"$f":"'mnt Data'!AF149","v":0},{"$f":"'mnt Data'!AG149","v":0},{"$f":"'mnt Data'!AH149","v":0},{"$f":"'mnt Data'!AI149","v":0},{"$f":"'mnt Data'!AJ149","v":0},{"$f":"'mnt Data'!AK149","v":0}]
[146,0,0,"No Gs",0,"No Gs","No Gs","Gs is needed","Gs is needed","Gs is needed","Need Max and Min","Need Max and Min","Fail",null,{"$f":"'mnt Data'!A150","v":0},{"$f":"'mnt Data'!B150","v":0},{"$f":"'mnt Data'!C150","v":0},{"$f":"'mnt Data'!D150","v":0},{"$f":"'mnt Data'!E150","v":0},{"$f":"'mnt Data'!F150","v":0},{"$f":"'mnt Data'!G150","v":0},{"$f":"'mnt Data'!H150","v":0},{"$f":"'mnt Data'!I150","v":0},{"$f":"'mnt Data'!J150","v":0},{"$f":"'mnt Data'!K150","v":0},{"$f":"'mnt Data'!L150","v":0},{"$f":"'mnt Data'!M150","v":0},{"$f":"'mnt Data'!N150","v":0},{"$f":"'mnt Data'!O150","v":0},{"$f":"'mnt Data'!P150","v":0},{"$f":"'mnt Data'!Q150","v":0},{"$f":"'mnt Data'!R150","v":0},{"$f":"'mnt Data'!S150","v":0},{"$f":"'mnt Data'!T150","v":0},{"$f":"'mnt Data'!U150","v":0},{"$f":"'mnt Data'!V150","v":0},{"$f":"'mnt Data'!W150","v":0},{"$f":"'mnt Data'!X150","v":0},{"$f":"'mnt Data'!Y150","v":0},{"$f":"'mnt Data'!Z150","v":0},{"$f":"'mnt Data'!AA150","v":0},{"$f":"'mnt Data'!AB150","v":0},{"$f":"'mnt Data'!AC150","v":0},{"$f":"'mnt Data'!AD150","v":0},{"$f":"'mnt Data'!AE150","v":0},{"$f":"'mnt Data'!AF150","v":0},{"$f":"'mnt Data'!AG150","v":0},{"$f":"'mnt Data'!AH150","v":0},{"$f":"'mnt Data'!AI150","v":0},{"$f":"'mnt Data'!AJ150","v":0},{"$f":"'mnt Data'!AK150","v":0}]
[147,0,0,"No Gs",0,"No Gs","No Gs","Gs is needed","Gs is needed","Gs is needed","Need Max and Min","Need Max and Min","Fail",null,{"$f":"'mnt Data'!A151","v":0},{"$f":"'mnt Data'!B151","v":0},{"$f":"'mnt Data'!C151","v":0},{"$f":"'mnt Data'!D151","v":0},{"$f":"'mnt Data'!E151","v":0},{"$f":"'mnt Data'!F151","v":0},{"$f":"'mnt Data'!G151","v":0},{"$f":"'mnt Data'!H151","v":0},{"$f":"'mnt Data'!I151","v":0},{"$f":"'mnt Data'!J151","v":0},{"$f":"'mnt Data'!K151","v":0},{"$f":"'mnt Data'!L151","v":0},{"$f":"'mnt Data'!M151","v":0},{"$f":"'mnt Data'!N151","v":0},{"$f":"'mnt Data'!O151","v":0},{"$f":"'mnt Data'!P151","v":0},{"$f":"'mnt Data'!Q151","v":0},{"$f":"'mnt Data'!R151","v":0},{"$f":"'mnt Data'!S151","v":0},{"$f":"'mnt Data'!T151","v":0},{"$f":"'mnt Data'!U151","v":0},{"$f":"'mnt Data'!V151","v":0},{"$f":"'mnt Data'!W151","v":0},{"$f":"'mnt Data'!X151","v":0},{"$f":"'mnt Data'!Y151","v":0},{"$f":"'mnt Data'!Z151","v":0},{"$f":"'mnt Data'!AA151","v":0},{"$f":"'mnt Data'!AB151","v":0},{"$f":"'mnt Data'!AC151","v":0},{"$f":"'mnt Data'!AD151","v":0},{"$f":"'mnt Data'!AE151","v":0},{"$f":"'mnt Data'!AF151","v":0},{"$f":"'mnt Data'!AG151","v":0},{"$f":"'mnt Data'!AH151","v":0},{"$f":"'mnt Data'!AI151","v":0},{"$f":"'mnt Data'!AJ151","v":0},{"$f":"'mnt Data'!AK151","v":0}]
[148,0,0,"No Gs",0,"No Gs","No Gs","Gs is needed","Gs is needed","Gs is needed","Need Max and Min","Need Max and Min","Fail",null,{"$f":"'mnt Data'!A152","v":0},{"$f":"'mnt Data'!B152","v":0},{"$f":"'mnt Data'!C152","v":0},{"$f":"'mnt Data'!D152","v":0},{"$f":"'mnt Data'!E152","v":0},{"$f":"'mnt Data'!F152","v":0},{"$f":"'mnt Data'!G152","v":0},{"$f":"'mnt Data'!H152","v":0},{"$f":"'mnt Data'!I152","v":0},{"$f":"'mnt Data'!J152","v":0},{"$f":"'mnt Data'!K152","v":0},{"$f":"'mnt Data'!L152","v":0},{"$f":"'mnt Data'!M152","v":0},{"$f":"'mnt Data'!N152","v":0},{"$f":"'mnt Data'!O152","v":0},{"$f":"'mnt Data'!P152","v":0},{"$f":"'mnt Data'!Q152","v":0},{"$f":"'mnt Data'!R152","v":0},{"$f":"'mnt Data'!S152","v":0},{"$f":"'mnt Data'!T152","v":0},{"$f":"'mnt Data'!U152","v":0},{"$f":"'mnt Data'!V152","v":0},{"$f":"'mnt Data'!W152","v":0},{"$f":"'mnt Data'!X152","v":0},{"$f":"'mnt Data'!Y152","v":0},{"$f":"'mnt Data'!Z152","v":0},{"$f":"'mnt Data'!AA152","v":0},{"$f":"'mnt Data'!AB152","v":0},{"$f":"'mnt Data'!AC152","v":0},{"$f":"'mnt Data'!AD152","v":0},{"$f":"'mnt Data'!AE152","v":0},{"$f":"'mnt Data'!AF152","v":0},{"$f":"'mnt Data'!AG152","v":0},{"$f":"'mnt Data'!AH152","v":0},{"$f":"'mnt Data'!AI152","v":0},{"$f":"'mnt Data'!AJ152","v":0},{"$f":"'mnt Data'!AK152","v":0}]
[149,0,0,"No Gs",0,"No Gs","No Gs","Gs is needed","Gs is needed","Gs is needed","Need Max and Min","Need Max and Min","Fail",null,{"$f":"'mnt Data'!A153","v":0},{"$f":"'mnt Data'!B153","v":0},{"$f":"'mnt Data'!C153","v":0},{"$f":"'mnt Data'!D153","v":0},{"$f":"'mnt Data'!E153","v":0},{"$f":"'mnt Data'!F153","v":0},{"$f":"'mnt Data'!G153","v":0},{"$f":"'mnt Data'!H153","v":0},{"$f":"'mnt Data'!I153","v":0},{"$f":"'mnt Data'!J153","v":0},{"$f":"'mnt Data'!K153","v":0},{"$f":"'mnt Data'!L153","v":0},{"$f":"'mnt Data'!M153","v":0},{"$f":"'mnt Data'!N153","v":0},{"$f":"'mnt Data'!O153","v":0},{"$f":"'mnt Data'!P153","v":0},{"$f":"'mnt Data'!Q153","v":0},{"$f":"'mnt Data'!R153","v":0},{"$f":"'mnt Data'!S153","v":0},{"$f":"'mnt Data'!T153","v":0},{"$f":"'mnt Data'!U153","v":0},{"$f":"'mnt Data'!V153","v":0},{"$f":"'mnt Data'!W153","v":0},{"$f":"'mnt Data'!X153","v":0},{"$f":"'mnt Data'!Y153","v":0},{"$f":"'mnt Data'!Z153","v":0},{"$f":"'mnt Data'!AA153","v":0},{"$f":"'mnt Data'!AB153","v":0},{"$f":"'mnt Data'!AC153","v":0},{"$f":"'mnt Data'!AD153","v":0},{"$f":"'mnt Data'!AE153","v":0},{"$f":"'mnt Data'!AF153","v":0},{"$f":"'mnt Data'!AG153","v":0},{"$f":"'mnt Data'!AH153","v":0},{"$f":"'mnt Data'!AI153","v":0},{"$f":"'mnt Data'!AJ153","v":0},{"$f":"'mnt Data'!AK153","v":0}]
[150,0,0,"No Gs",0,"No Gs","No Gs","Gs is needed","Gs is needed","Gs is needed","Need Max and Min","Need Max and Min","Fail",null,{"$f":"'mnt Data'!A154","v":0},{"$f":"'mnt Data'!B154","v":0},{"$f":"'mnt Data'!C154","v":0},{"$f":"'mnt Data'!D154","v":0},{"$f":"'mnt Data'!E154","v":0},{"$f":"'mnt Data'!F154","v":0},{"$f":"'mnt Data'!G154","v":0},{"$f":"'mnt Data'!H154","v":0},{"$f":"'mnt Data'!I154","v":0},{"$f":"'mnt Data'!J154","v":0},{"$f":"'mnt Data'!K154","v":0},{"$f":"'mnt Data'!L154","v":0},{"$f":"'mnt Data'!M154","v":0},{"$f":"'mnt Data'!N154","v":0},{"$f":"'mnt Data'!O154","v":0},{"$f":"'mnt Data'!P154","v":0},{"$f":"'mnt Data'!Q154","v":0},{"$f":"'mnt Data'!R154","v":0},{"$f":"'mnt Data'!S154","v":0},{"$f":"'mnt Data'!T154","v":0},{"$f":"'mnt Data'!U154","v":0},{"$f":"'mnt Data'!V154","v":0},{"$f":"'mnt Data'!W154","v":0},{"$f":"'mnt Data'!X154","v":0},{"$f":"'mnt Data'!Y154","v":0},{"$f":"'mnt Data'!Z154","v":0},{"$f":"'mnt Data'!AA154","v":0},{"$f":"'mnt Data'!AB154","v":0},{"$f":"'mnt Data'!AC154","v":0},{"$f":"'mnt Data'!AD154","v":0},{"$f":"'mnt Data'!AE154","v":0},{"$f":"'mnt Data'!AF154","v":0},{"$f":"'mnt Data'!AG154","v":0},{"$f":"'mnt Data'!AH154","v":0},{"$f":"'mnt Data'!AI154","v":0},{"$f":"'mnt Data'!AJ154","v":0},{"$f":"'mnt Data'!AK154","v":0}]
[151,0,0,"No Gs",0,"No Gs","No Gs","Gs is needed","Gs is needed","Gs is needed","Need Max and Min","Need Max and Min","Fail",null,{"$f":"'mnt Data'!A155","v":0},{"$f":"'mnt Data'!B155","v":0},{"$f":"'mnt Data'!C155","v":0},{"$f":"'mnt Data'!D155","v":0},{"$f":"'mnt Data'!E155","v":0},{"$f":"'mnt Data'!F155","v":0},{"$f":"'mnt Data'!G155","v":0},{"$f":"'mnt Data'!H155","v":0},{"$f":"'mnt Data'!I155","v":0},{"$f":"'mnt Data'!J155","v":0},{"$f":"'mnt Data'!K155","v":0},{"$f":"'mnt Data'!L155","v":0},{"$f":"'mnt Data'!M155","v":0},{"$f":"'mnt Data'!N155","v":0},{"$f":"'mnt Data'!O155","v":0},{"$f":"'mnt Data'!P155","v":0},{"$f":"'mnt Data'!Q155","v":0},{"$f":"'mnt Data'!R155","v":0},{"$f":"'mnt Data'!S155","v":0},{"$f":"'mnt Data'!T155","v":0},{"$f":"'mnt Data'!U155","v":0},{"$f":"'mnt Data'!V155","v":0},{"$f":"'mnt Data'!W155","v":0},{"$f":"'mnt Data'!X155","v":0},{"$f":"'mnt Data'!Y155","v":0},{"$f":"'mnt Data'!Z155","v":0},{"$f":"'mnt Data'!AA155","v":0},{"$f":"'mnt Data'!AB155","v":0},{"$f":"'mnt Data'!AC155","v":0},{"$f":"'mnt Data'!AD155","v":0},{"$f":"'mnt Data'!AE155","v":0},{"$f":"'mnt Data'!AF155","v":0},{"$f":"'mnt Data'!AG155","v":0},{"$f":"'mnt Data'!AH155","v":0},{"$f":"'mnt Data'!AI155","v":0},{"$f":"'mnt Data'!AJ155","v":0},{"$f":"'mnt Data'!AK155","v":0}]
[152,0,0,"No Gs",0,"No Gs","No Gs","Gs is needed","Gs is needed","Gs is needed","Need Max and Min","Need Max and Min","Fail",null,{"$f":"'mnt Data'!A156","v":0},{"$f":"'mnt Data'!B156","v":0},{"$f":"'mnt Data'!C156","v":0},{"$f":"'mnt Data'!D156","v":0},{"$f":"'mnt Data'!E156","v":0},{"$f":"'mnt Data'!F156","v":0},{"$f":"'mnt Data'!G156","v":0},{"$f":"'mnt Data'!H156","v":0},{"$f":"'mnt Data'!I156","v":0},{"$f":"'mnt Data'!J156","v":0},{"$f":"'mnt Data'!K156","v":0},{"$f":"'mnt Data'!L156","v":0},{"$f":"'mnt Data'!M156","v":0},{"$f":"'mnt Data'!N156","v":0},{"$f":"'mnt Data'!O156","v":0},{"$f":"'mnt Data'!P156","v":0},{"$f":"'mnt Data'!Q156","v":0},{"$f":"'mnt Data'!R156","v":0},{"$f":"'mnt Data'!S156","v":0},{"$f":"'mnt Data'!T156","v":0},{"$f":"'mnt Data'!U156","v":0},{"$f":"'mnt Data'!V156","v":0},{"$f":"'mnt Data'!W156","v":0},{"$f":"'mnt Data'!X156","v":0},{"$f":"'mnt Data'!Y156","v":0},{"$f":"'mnt Data'!Z156","v":0},{"$f":"'mnt Data'!AA156","v":0},{"$f":"'mnt Data'!AB156","v":0},{"$f":"'mnt Data'!AC156","v":0},{"$f":"'mnt Data'!AD156","v":0},{"$f":"'mnt Data'!AE156","v":0},{"$f":"'mnt Data'!AF156","v":0},{"$f":"'mnt Data'!AG156","v":0},{"$f":"'mnt Data'!AH156","v":0},{"$f":"'mnt Data'!AI156","v":0},{"$f":"'mnt Data'!AJ156","v":0},{"$f":"'mnt Data'!AK156","v":0}]
[153,0,0,"No Gs",0,"No Gs","No Gs","Gs is needed","Gs is needed","Gs is needed","Need Max and Min","Need Max and Min","Fail",null,{"$f":"'mnt Data'!A157","v":0},{"$f":"'mnt Data'!B157","v":0},{"$f":"'mnt Data'!C157","v":0},{"$f":"'mnt Data'!D157","v":0},{"$f":"'mnt Data'!E157","v":0},{"$f":"'mnt Data'!F157","v":0},{"$f":"'mnt Data'!G157","v":0},{"$f":"'mnt Data'!H157","v":0},{"$f":"'mnt Data'!I157","v":0},{"$f":"'mnt Data'!J157","v":0},{"$f":"'mnt Data'!K157","v":0},{"$f":"'mnt Data'!L157","v":0},{"$f":"'mnt Data'!M157","v":0},{"$f":"'mnt Data'!N157","v":0},{"$f":"'mnt Data'!O157","v":0},{"$f":"'mnt Data'!P157","v":0},{"$f":"'mnt Data'!Q157","v":0},{"$f":"'mnt Data'!R157","v":0},{"$f":"'mnt Data'!S157","v":0},{"$f":"'mnt Data'!T157","v":0},{"$f":"'mnt Data'!U157","v":0},{"$f":"'mnt Data'!V157","v":0},{"$f":"'mnt Data'!W157","v":0},{"$f":"'mnt Data'!X157","v":0},{"$f":"'mnt Data'!Y157","v":0},{"$f":"'mnt Data'!Z157","v":0},{"$f":"'mnt Data'!AA157","v":0},{"$f":"'mnt Data'!AB157","v":0},{"$f":"'mnt Data'!AC157","v":0},{"$f":"'mnt Data'!AD157","v":0},{"$f":"'mnt Data'!AE157","v":0},{"$f":"'mnt Data'!AF157","v":0},{"$f":"'mnt Data'!AG157","v":0},{"$f":"'mnt Data'!AH157","v":0},{"$f":"'mnt Data'!AI157","v":0},{"$f":"'mnt Data'!AJ157","v":0},{"$f":"'mnt Data'!AK157","v":0}]
[154,0,0,"No Gs",0,"No Gs","No Gs","Gs is needed","Gs is needed","Gs is needed","Need Max and Min","Need Max and Min","Fail",null,{"$f":"'mnt Data'!A158","v":0},{"$f":"'mnt Data'!B158","v":0},{"$f":"'mnt Data'!C158","v":0},{"$f":"'mnt Data'!D158","v":0},{"$f":"'mnt Data'!E158","v":0},{"$f":"'mnt Data'!F158","v":0},{"$f":"'mnt Data'!G158","v":0},{"$f":"'mnt Data'!H158","v":0},{"$f":"'mnt Data'!I158","v":0},{"$f":"'mnt Data'!J158","v":0},{"$f":"'mnt Data'!K158","v":0},{"$f":"'mnt Data'!L158","v":0},{"$f":"'mnt Data'!M158","v":0},{"$f":"'mnt Data'!N158","v":0},{"$f":"'mnt Data'!O158","v":0},{"$f":"'mnt Data'!P158","v":0},{"$f":"'mnt Data'!Q158","v":0},{"$f":"'mnt Data'!R158","v":0},{"$f":"'mnt Data'!S158","v":0},{"$f":"'mnt Data'!T158","v":0},{"$f":"'mnt Data'!U158","v":0},{"$f":"'mnt Data'!V158","v":0},{"$f":"'mnt Data'!W158","v":0},{"$f":"'mnt Data'!X158","v":0},{"$f":"'mnt Data'!Y158","v":0},{"$f":"'mnt Data'!Z158","v":0},{"$f":"'mnt Data'!AA158","v":0},{"$f":"'mnt Data'!AB158","v":0},{"$f":"'mnt Data'!AC158","v":0},{"$f":"'mnt Data'!AD158","v":0},{"$f":"'mnt Data'!AE158","v":0},{"$f":"'mnt Data'!AF158","v":0},{"$f":"'mnt Data'!AG158","v":0},{"$f":"'mnt Data'!AH158","v":0},{"$f":"'mnt Data'!AI158","v":0},{"$f":"'mnt Data'!AJ158","v":0},{"$f":"'mnt Data'!AK158","v":0}]
[155,0,0,"No Gs",0,"No Gs","No Gs","Gs is needed","Gs is needed","Gs is needed","Need Max and Min","Need Max and Min","Fail",null,{"$f":"'mnt Data'!A159","v":0},{"$f":"'mnt Data'!B159","v":0},{"$f":"'mnt Data'!C159","v":0},{"$f":"'mnt Data'!D159","v":0},{"$f":"'mnt Data'!E159","v":0},{"$f":"'mnt Data'!F159","v":0},{"$f":"'mnt Data'!G159","v":0},{"$f":"'mnt Data'!H159","v":0},{"$f":"'mnt Data'!I159","v":0},{"$f":"'mnt Data'!J159","v":0},{"$f":"'mnt Data'!K159","v":0},{"$f":"'mnt Data'!L159","v":0},{"$f":"'mnt Data'!M159","v":0},{"$f":"'mnt Data'!N159","v":0},{"$f":"'mnt Data'!O159","v":0},{"$f":"'mnt Data'!P159","v":0},{"$f":"'mnt Data'!Q159","v":0},{"$f":"'mnt Data'!R159","v":0},{"$f":"'mnt Data'!S159","v":0},{"$f":"'mnt Data'!T159","v":0},{"$f":"'mnt Data'!U159","v":0},{"$f":"'mnt Data'!V159","v":0},{"$f":"'mnt Data'!W159","v":0},{"$f":"'mnt Data'!X159","v":0},{"$f":"'mnt Data'!Y159","v":0},{"$f":"'mnt Data'!Z159","v":0},{"$f":"'mnt Data'!AA159","v":0},{"$f":"'mnt Data'!AB159","v":0},{"$f":"'mnt Data'!AC159","v":0},{"$f":"'mnt Data'!AD159","v":0},{"$f":"'mnt Data'!AE159","v":0},{"$f":"'mnt Data'!AF159","v":0},{"$f":"'mnt Data'!AG159","v":0},{"$f":"'mnt Data'!AH159","v":0},{"$f":"'mnt Data'!AI159","v":0},{"$f":"'mnt Data'!AJ159","v":0},{"$f":"'mnt Data'!AK159","v":0}]
[156,0,0,"No Gs",0,"No Gs","No Gs","Gs is needed","Gs is needed","Gs is needed","Need Max and Min","Need Max and Min","Fail",null,{"$f":"'mnt Data'!A160","v":0},{"$f":"'mnt Data'!B160","v":0},{"$f":"'mnt Data'!C160","v":0},{"$f":"'mnt Data'!D160","v":0},{"$f":"'mnt Data'!E160","v":0},{"$f":"'mnt Data'!F160","v":0},{"$f":"'mnt Data'!G160","v":0},{"$f":"'mnt Data'!H160","v":0},{"$f":"'mnt Data'!I160","v":0},{"$f":"'mnt Data'!J160","v":0},{"$f":"'mnt Data'!K160","v":0},{"$f":"'mnt Data'!L160","v":0},{"$f":"'mnt Data'!M160","v":0},{"$f":"'mnt Data'!N160","v":0},{"$f":"'mnt Data'!O160","v":0},{"$f":"'mnt Data'!P160","v":0},{"$f":"'mnt Data'!Q160","v":0},{"$f":"'mnt Data'!R160","v":0},{"$f":"'mnt Data'!S160","v":0},{"$f":"'mnt Data'!T160","v":0},{"$f":"'mnt Data'!U160","v":0},{"$f":"'mnt Data'!V160","v":0},{"$f":"'mnt Data'!W160","v":0},{"$f":"'mnt Data'!X160","v":0},{"$f":"'mnt Data'!Y160","v":0},{"$f":"'mnt Data'!Z160","v":0},{"$f":"'mnt Data'!AA160","v":0},{"$f":"'mnt Data'!AB160","v":0},{"$f":"'mnt Data'!AC160","v":0},{"$f":"'mnt Data'!AD160","v":0},{"$f":"'mnt Data'!AE160","v":0},{"$f":"'mnt Data'!AF160","v":0},{"$f":"'mnt Data'!AG160","v":0},{"$f":"'mnt Data'!AH160","v":0},{"$f":"'mnt Data'!AI160","v":0},{"$f":"'mnt Data'!AJ160","v":0},{"$f":"'mnt Data'!AK160","v":0}]
[157,0,0,"No Gs",0,"No Gs","No Gs","Gs is needed","Gs is needed","Gs is needed","Need Max and Min","Need Max and Min","Fail",null,{"$f":"'mnt Data'!A161","v":0},{"$f":"'mnt Data'!B161","v":0},{"$f":"'mnt Data'!C161","v":0},{"$f":"'mnt Data'!D161","v":0},{"$f":"'mnt Data'!E161","v":0},{"$f":"'mnt Data'!F161","v":0},{"$f":"'mnt Data'!G161","v":0},{"$f":"'mnt Data'!H161","v":0},{"$f":"'mnt Data'!I161","v":0},{"$f":"'mnt Data'!J161","v":0},{"$f":"'mnt Data'!K161","v":0},{"$f":"'mnt Data'!L161","v":0},{"$f":"'mnt Data'!M161","v":0},{"$f":"'mnt Data'!N161","v":0},{"$f":"'mnt Data'!O161","v":0},{"$f":"'mnt Data'!P161","v":0},{"$f":"'mnt Data'!Q161","v":0},{"$f":"'mnt Data'!R161","v":0},{"$f":"'mnt Data'!S161","v":0},{"$f":"'mnt Data'!T161","v":0},{"$f":"'mnt Data'!U161","v":0},{"$f":"'mnt Data'!V161","v":0},{"$f":"'mnt Data'!W161","v":0},{"$f":"'mnt Data'!X161","v":0},{"$f":"'mnt Data'!Y161","v":0},{"$f":"'mnt Data'!Z161","v":0},{"$f":"'mnt Data'!AA161","v":0},{"$f":"'mnt Data'!AB161","v":0},{"$f":"'mnt Data'!AC161","v":0},{"$f":"'mnt Data'!AD161","v":0},{"$f":"'mnt Data'!AE161","v":0},{"$f":"'mnt Data'!AF161","v":0},{"$f":"'mnt Data'!AG161","v":0},{"$f":"'mnt Data'!AH161","v":0},{"$f":"'mnt Data'!AI161","v":0},{"$f":"'mnt Data'!AJ161","v":0},{"$f":"'mnt Data'!AK161","v":0}]
[158,0,0,"No Gs",0,"No Gs","No Gs","Gs is needed","Gs is needed","Gs is needed","Need Max and Min","Need Max and Min","Fail",null,{"$f":"'mnt Data'!A162","v":0},{"$f":"'mnt Data'!B162","v":0},{"$f":"'mnt Data'!C162","v":0},{"$f":"'mnt Data'!D162","v":0},{"$f":"'mnt Data'!E162","v":0},{"$f":"'mnt Data'!F162","v":0},{"$f":"'mnt Data'!G162","v":0},{"$f":"'mnt Data'!H162","v":0},{"$f":"'mnt Data'!I162","v":0},{"$f":"'mnt Data'!J162","v":0},{"$f":"'mnt Data'!K162","v":0},{"$f":"'mnt Data'!L162","v":0},{"$f":"'mnt Data'!M162","v":0},{"$f":"'mnt Data'!N162","v":0},{"$f":"'mnt Data'!O162","v":0},{"$f":"'mnt Data'!P162","v":0},{"$f":"'mnt Data'!Q162","v":0},{"$f":"'mnt Data'!R162","v":0},{"$f":"'mnt Data'!S162","v":0},{"$f":"'mnt Data'!T162","v":0},{"$f":"'mnt Data'!U162","v":0},{"$f":"'mnt Data'!V162","v":0},{"$f":"'mnt Data'!W162","v":0},{"$f":"'mnt Data'!X162","v":0},{"$f":"'mnt Data'!Y162","v":0},{"$f":"'mnt Data'!Z162","v":0},{"$f":"'mnt Data'!AA162","v":0},{"$f":"'mnt Data'!AB162","v":0},{"$f":"'mnt Data'!AC162","v":0},{"$f":"'mnt Data'!AD162","v":0},{"$f":"'mnt Data'!AE162","v":0},{"$f":"'mnt Data'!AF162","v":0},{"$f":"'mnt Data'!AG162","v":0},{"$f":"'mnt Data'!AH162","v":0},{"$f":"'mnt Data'!AI162","v":0},{"$f":"'mnt Data'!AJ162","v":0},{"$f":"'mnt Data'!AK162","v":0}]
[159,0,0,"No Gs",0,"No Gs","No Gs","Gs is needed","Gs is needed","Gs is needed","Need Max and Min","Need Max and Min","Fail",null,{"$f":"'mnt Data'!A163","v":0},{"$f":"'mnt Data'!B163","v":0},{"$f":"'mnt Data'!C163","v":0},{"$f":"'mnt Data'!D163","v":0},{"$f":"'mnt Data'!E163","v":0},{"$f":"'mnt Data'!F163","v":0},{"$f":"'mnt Data'!G163","v":0},{"$f":"'mnt Data'!H163","v":0},{"$f":"'mnt Data'!I163","v":0},{"$f":"'mnt Data'!J163","v":0},{"$f":"'mnt Data'!K163","v":0},{"$f":"'mnt Data'!L163","v":0},{"$f":"'mnt Data'!M163","v":0},{"$f":"'mnt Data'!N163","v":0},{"$f":"'mnt Data'!O163","v":0},{"$f":"'mnt Data'!P163","v":0},{"$f":"'mnt Data'!Q163","v":0},{"$f":"'mnt Data'!R163","v":0},{"$f":"'mnt Data'!S163","v":0},{"$f":"'mnt Data'!T163","v":0},{"$f":"'mnt Data'!U163","v":0},{"$f":"'mnt Data'!V163","v":0},{"$f":"'mnt Data'!W163","v":0},{"$f":"'mnt Data'!X163","v":0},{"$f":"'mnt Data'!Y163","v":0},{"$f":"'mnt Data'!Z163","v":0},{"$f":"'mnt Data'!AA163","v":0},{"$f":"'mnt Data'!AB163","v":0},{"$f":"'mnt Data'!AC163","v":0},{"$f":"'mnt Data'!AD163","v":0},{"$f":"'mnt Data'!AE163","v":0},{"$f":"'mnt Data'!AF163","v":0},{"$f":"'mnt Data'!AG163","v":0},{"$f":"'mnt Data'!AH163","v":0},{"$f":"'mnt Data'!AI163","v":0},{"$f":"'mnt Data'!AJ163","v":0},{"$f":"'mnt Data'!AK163","v":0}]
[160,0,0,"No Gs",0,"No Gs","No Gs","Gs is needed","Gs is needed","Gs is needed","Need Max and Min","Need Max and Min","Fail",null,{"$f":"'mnt Data'!A164","v":0},{"$f":"'mnt Data'!B164","v":0},{"$f":"'mnt Data'!C164","v":0},{"$f":"'mnt Data'!D164","v":0},{"$f":"'mnt Data'!E164","v":0},{"$f":"'mnt Data'!F164","v":0},{"$f":"'mnt Data'!G164","v":0},{"$f":"'mnt Data'!H164","v":0},{"$f":"'mnt Data'!I164","v":0},{"$f":"'mnt Data'!J164","v":0},{"$f":"'mnt Data'!K164","v":0},{"$f":"'mnt Data'!L164","v":0},{"$f":"'mnt Data'!M164","v":0},{"$f":"'mnt Data'!N164","v":0},{"$f":"'mnt Data'!O164","v":0},{"$f":"'mnt Data'!P164","v":0},{"$f":"'mnt Data'!Q164","v":0},{"$f":"'mnt Data'!R164","v":0},{"$f":"'mnt Data'!S164","v":0},{"$f":"'mnt Data'!T164","v":0},{"$f":"'mnt Data'!U164","v":0},{"$f":"'mnt Data'!V164","v":0},{"$f":"'mnt Data'!W164","v":0},{"$f":"'mnt Data'!X164","v":0},{"$f":"'mnt Data'!Y164","v":0},{"$f":"'mnt Data'!Z164","v":0},{"$f":"'mnt Data'!AA164","v":0},{"$f":"'mnt Data'!AB164","v":0},{"$f":"'mnt Data'!AC164","v":0},{"$f":"'mnt Data'!AD164","v":0},{"$f":"'mnt Data'!AE164","v":0},{"$f":"'mnt Data'!AF164","v":0},{"$f":"'mnt Data'!AG164","v":0},{"$f":"'mnt Data'!AH164","v":0},{"$f":"'mnt Data'!AI164","v":0},{"$f":"'mnt Data'!AJ164","v":0},{"$f":"'mnt Data'!AK164","v":0}]
[161,0,0,"No Gs",0,"No Gs","No Gs","Gs is needed","Gs is needed","Gs is needed","Need Max and Min","Need Max and Min","Fail",null,{"$f":"'mnt Data'!A165","v":0},{"$f":"'mnt Data'!B165","v":0},{"$f":"'mnt Data'!C165","v":0},{"$f":"'mnt Data'!D165","v":0},{"$f":"'mnt Data'!E165","v":0},{"$f":"'mnt Data'!F165","v":0},{"$f":"'mnt Data'!G165","v":0},{"$f":"'mnt Data'!H165","v":0},{"$f":"'mnt Data'!I165","v":0},{"$f":"'mnt Data'!J165","v":0},{"$f":"'mnt Data'!K165","v":0},{"$f":"'mnt Data'!L165","v":0},{"$f":"'mnt Data'!M165","v":0},{"$f":"'mnt Data'!N165","v":0},{"$f":"'mnt Data'!O165","v":0},{"$f":"'mnt Data'!P165","v":0},{"$f":"'mnt Data'!Q165","v":0},{"$f":"'mnt Data'!R165","v":0},{"$f":"'mnt Data'!S165","v":0},{"$f":"'mnt Data'!T165","v":0},{"$f":"'mnt Data'!U165","v":0},{"$f":"'mnt Data'!V165","v":0},{"$f":"'mnt Data'!W165","v":0},{"$f":"'mnt Data'!X165","v":0},{"$f":"'mnt Data'!Y165","v":0},{"$f":"'mnt Data'!Z165","v":0},{"$f":"'mnt Data'!AA165","v":0},{"$f":"'mnt Data'!AB165","v":0},{"$f":"'mnt Data'!AC165","v":0},{"$f":"'mnt Data'!AD165","v":0},{"$f":"'mnt Data'!AE165","v":0},{"$f":"'mnt Data'!AF165","v":0},{"$f":"'mnt Data'!AG165","v":0},{"$f":"'mnt Data'!AH165","v":0},{"$f":"'mnt Data'!AI165","v":0},{"$f":"'mnt Data'!AJ165","v":0},{"$f":"'mnt Data'!AK165","v":0}]
[162,0,0,"No Gs",0,"No Gs","No Gs","Gs is needed","Gs is needed","Gs is needed","Need Max and Min","Need Max and Min","Fail",null,{"$f":"'mnt Data'!A166","v":0},{"$f":"'mnt Data'!B166","v":0},{"$f":"'mnt Data'!C166","v":0},{"$f":"'mnt Data'!D166","v":0},{"$f":"'mnt Data'!E166","v":0},{"$f":"'mnt Data'!F166","v":0},{"$f":"'mnt Data'!G166","v":0},{"$f":"'mnt Data'!H166","v":0},{"$f":"'mnt Data'!I166","v":0},{"$f":"'mnt Data'!J166","v":0},{"$f":"'mnt Data'!K166","v":0},{"$f":"'mnt Data'!L166","v":0},{"$f":"'mnt Data'!M166","v":0},{"$f":"'mnt Data'!N166","v":0},{"$f":"'mnt Data'!O166","v":0},{"$f":"'mnt Data'!P166","v":0},{"$f":"'mnt Data'!Q166","v":0},{"$f":"'mnt Data'!R166","v":0},{"$f":"'mnt Data'!S166","v":0},{"$f":"'mnt Data'!T166","v":0},{"$f":"'mnt Data'!U166","v":0},{"$f":"'mnt Data'!V166","v":0},{"$f":"'mnt Data'!W166","v":0},{"$f":"'mnt Data'!X166","v":0},{"$f":"'mnt Data'!Y166","v":0},{"$f":"'mnt Data'!Z166","v":0},{"$f":"'mnt Data'!AA166","v":0},{"$f":"'mnt Data'!AB166","v":0},{"$f":"'mnt Data'!AC166","v":0},{"$f":"'mnt Data'!AD166","v":0},{"$f":"'mnt Data'!AE166","v":0},{"$f":"'mnt Data'!AF166","v":0},{"$f":"'mnt Data'!AG166","v":0},{"$f":"'mnt Data'!AH166","v":0},{"$f":"'mnt Data'!AI166","v":0},{"$f":"'mnt Data'!AJ166","v":0},{"$f":"'mnt Data'!AK166","v":0}]
[163,0,0,"No Gs",0,"No Gs","No Gs","Gs is needed","Gs is needed","Gs is needed","Need Max and Min","Need Max and Min","Fail",null,{"$f":"'mnt Data'!A167","v":0},{"$f":"'mnt Data'!B167","v":0},{"$f":"'mnt Data'!C167","v":0},{"$f":"'mnt Data'!D167","v":0},{"$f":"'mnt Data'!E167","v":0},{"$f":"'mnt Data'!F167","v":0},{"$f":"'mnt Data'!G167","v":0},{"$f":"'mnt Data'!H167","v":0},{"$f":"'mnt Data'!I167","v":0},{"$f":"'mnt Data'!J167","v":0},{"$f":"'mnt Data'!K167","v":0},{"$f":"'mnt Data'!L167","v":0},{"$f":"'mnt Data'!M167","v":0},{"$f":"'mnt Data'!N167","v":0},{"$f":"'mnt Data'!O167","v":0},{"$f":"'mnt Data'!P167","v":0},{"$f":"'mnt Data'!Q167","v":0},{"$f":"'mnt Data'!R167","v":0},{"$f":"'mnt Data'!S167","v":0},{"$f":"'mnt Data'!T167","v":0},{"$f":"'mnt Data'!U167","v":0},{"$f":"'mnt Data'!V167","v":0},{"$f":"'mnt Data'!W167","v":0},{"$f":"'mnt Data'!X167","v":0},{"$f":"'mnt Data'!Y167","v":0},{"$f":"'mnt Data'!Z167","v":0},{"$f":"'mnt Data'!AA167","v":0},{"$f":"'mnt Data'!AB167","v":0},{"$f":"'mnt Data'!AC167","v":0},{"$f":"'mnt Data'!AD167","v":0},{"$f":"'mnt Data'!AE167","v":0},{"$f":"'mnt Data'!AF167","v":0},{"$f":"'mnt Data'!AG167","v":0},{"$f":"'mnt Data'!AH167","v":0},{"$f":"'mnt Data'!AI167","v":0},{"$f":"'mnt Data'!AJ167","v":0},{"$f":"'mnt Data'!AK167","v":0}]
[164,0,0,"No Gs",0,"No Gs","No Gs","Gs is needed","Gs is needed","Gs is needed","Need Max and Min","Need Max and Min","Fail",null,{"$f":"'mnt Data'!A168","v":0},{"$f":"'mnt Data'!B168","v":0},{"$f":"'mnt Data'!C168","v":0},{"$f":"'mnt Data'!D168","v":0},{"$f":"'mnt Data'!E168","v":0},{"$f":"'mnt Data'!F168","v":0},{"$f":"'mnt Data'!G168","v":0},{"$f":"'mnt Data'!H168","v":0},{"$f":"'mnt Data'!I168","v":0},{"$f":"'mnt Data'!J168","v":0},{"$f":"'mnt Data'!K168","v":0},{"$f":"'mnt Data'!L168","v":0},{"$f":"'mnt Data'!M168","v":0},{"$f":"'mnt Data'!N168","v":0},{"$f":"'mnt Data'!O168","v":0},{"$f":"'mnt Data'!P168","v":0},{"$f":"'mnt Data'!Q168","v":0},{"$f":"'mnt Data'!R168","v":0},{"$f":"'mnt Data'!S168","v":0},{"$f":"'mnt Data'!T168","v":0},{"$f":"'mnt Data'!U168","v":0},{"$f":"'mnt Data'!V168","v":0},{"$f":"'mnt Data'!W168","v":0},{"$f":"'mnt Data'!X168","v":0},{"$f":"'mnt Data'!Y168","v":0},{"$f":"'mnt Data'!Z168","v":0},{"$f":"'mnt Data'!AA168","v":0},{"$f":"'mnt Data'!AB168","v":0},{"$f":"'mnt Data'!AC168","v":0},{"$f":"'mnt Data'!AD168","v":0},{"$f":"'mnt Data'!AE168","v":0},{"$f":"'mnt Data'!AF168","v":0},{"$f":"'mnt Data'!AG168","v":0},{"$f":"'mnt Data'!AH168","v":0},{"$f":"'mnt Data'!AI168","v":0},{"$f":"'mnt Data'!AJ168","v":0},{"$f":"'mnt Data'!AK168","v":0}]
[165,0,0,"No Gs",0,"No Gs","No Gs","Gs is needed","Gs is needed","Gs is needed","Need Max and Min","Need Max and Min","Fail",null,{"$f":"'mnt Data'!A169","v":0},{"$f":"'mnt Data'!B169","v":0},{"$f":"'mnt Data'!C169","v":0},{"$f":"'mnt Data'!D169","v":0},{"$f":"'mnt Data'!E169","v":0},{"$f":"'mnt Data'!F169","v":0},{"$f":"'mnt Data'!G169","v":0},{"$f":"'mnt Data'!H169","v":0},{"$f":"'mnt Data'!I169","v":0},{"$f":"'mnt Data'!J169","v":0},{"$f":"'mnt Data'!K169","v":0},{"$f":"'mnt Data'!L169","v":0},{"$f":"'mnt Data'!M169","v":0},{"$f":"'mnt Data'!N169","v":0},{"$f":"'mnt Data'!O169","v":0},{"$f":"'mnt Data'!P169","v":0},{"$f":"'mnt Data'!Q169","v":0},{"$f":"'mnt Data'!R169","v":0},{"$f":"'mnt Data'!S169","v":0},{"$f":"'mnt Data'!T169","v":0},{"$f":"'mnt Data'!U169","v":0},{"$f":"'mnt Data'!V169","v":0},{"$f":"'mnt Data'!W169","v":0},{"$f":"'mnt Data'!X169","v":0},{"$f":"'mnt Data'!Y169","v":0},{"$f":"'mnt Data'!Z169","v":0},{"$f":"'mnt Data'!AA169","v":0},{"$f":"'mnt Data'!AB169","v":0},{"$f":"'mnt Data'!AC169","v":0},{"$f":"'mnt Data'!AD169","v":0},{"$f":"'mnt Data'!AE169","v":0},{"$f":"'mnt Data'!AF169","v":0},{"$f":"'mnt Data'!AG169","v":0},{"$f":"'mnt Data'!AH169","v":0},{"$f":"'mnt Data'!AI169","v":0},{"$f":"'mnt Data'!AJ169","v":0},{"$f":"'mnt Data'!AK169","v":0}]
[166,0,0,"No Gs",0,"No Gs","No Gs","Gs is needed","Gs is needed","Gs is needed","Need Max and Min","Need Max and Min","Fail",null,{"$f":"'mnt Data'!A170","v":0},{"$f":"'mnt Data'!B170","v":0},{"$f":"'mnt Data'!C170","v":0},{"$f":"'mnt Data'!D170","v":0},{"$f":"'mnt Data'!E170","v":0},{"$f":"'mnt Data'!F170","v":0},{"$f":"'mnt Data'!G170","v":0},{"$f":"'mnt Data'!H170","v":0},{"$f":"'mnt Data'!I170","v":0},{"$f":"'mnt Data'!J170","v":0},{"$f":"'mnt Data'!K170","v":0},{"$f":"'mnt Data'!L170","v":0},{"$f":"'mnt Data'!M170","v":0},{"$f":"'mnt Data'!N170","v":0},{"$f":"'mnt Data'!O170","v":0},{"$f":"'mnt Data'!P170","v":0},{"$f":"'mnt Data'!Q170","v":0},{"$f":"'mnt Data'!R170","v":0},{"$f":"'mnt Data'!S170","v":0},{"$f":"'mnt Data'!T170","v":0},{"$f":"'mnt Data'!U170","v":0},{"$f":"'mnt Data'!V170","v":0},{"$f":"'mnt Data'!W170","v":0},{"$f":"'mnt Data'!X170","v":0},{"$f":"'mnt Data'!Y170","v":0},{"$f":"'mnt Data'!Z170","v":0},{"$f":"'mnt Data'!AA170","v":0},{"$f":"'mnt Data'!AB170","v":0},{"$f":"'mnt Data'!AC170","v":0},{"$f":"'mnt Data'!AD170","v":0},{"$f":"'mnt Data'!AE170","v":0},{"$f":"'mnt Data'!AF170","v":0},{"$f":"'mnt Data'!AG170","v":0},{"$f":"'mnt Data'!AH170","v":0},{"$f":"'mnt Data'!AI170","v":0},{"$f":"'mnt Data'!AJ170","v":0},{"$f":"'mnt Data'!AK170","v":0}]
[167,0,0,"No Gs",0,"No Gs","No Gs","Gs is needed","Gs is needed","Gs is needed","Need Max and Min","Need Max and Min","Fail",null,{"$f":"'mnt Data'!A171","v":0},{"$f":"'mnt Data'!B171","v":0},{"$f":"'mnt Data'!C171","v":0},{"$f":"'mnt Data'!D171","v":0},{"$f":"'mnt Data'!E171","v":0},{"$f":"'mnt Data'!F171","v":0},{"$f":"'mnt Data'!G171","v":0},{"$f":"'mnt Data'!H171","v":0},{"$f":"'mnt Data'!I171","v":0},{"$f":"'mnt Data'!J171","v":0},{"$f":"'mnt Data'!K171","v":0},{"$f":"'mnt Data'!L171","v":0},{"$f":"'mnt Data'!M171","v":0},{"$f":"'mnt Data'!N171","v":0},{"$f":"'mnt Data'!O171","v":0},{"$f":"'mnt Data'!P171","v":0},{"$f":"'mnt Data'!Q171","v":0},{"$f":"'mnt Data'!R171","v":0},{"$f":"'mnt Data'!S171","v":0},{"$f":"'mnt Data'!T171","v":0},{"$f":"'mnt Data'!U171","v":0},{"$f":"'mnt Data'!V171","v":0},{"$f":"'mnt Data'!W171","v":0},{"$f":"'mnt Data'!X171","v":0},{"$f":"'mnt Data'!Y171","v":0},{"$f":"'mnt Data'!Z171","v":0},{"$f":"'mnt Data'!AA171","v":0},{"$f":"'mnt Data'!AB171","v":0},{"$f":"'mnt Data'!AC171","v":0},{"$f":"'mnt Data'!AD171","v":0},{"$f":"'mnt Data'!AE171","v":0},{"$f":"'mnt Data'!AF171","v":0},{"$f":"'mnt Data'!AG171","v":0},{"$f":"'mnt Data'!AH171","v":0},{"$f":"'mnt Data'!AI171","v":0},{"$f":"'mnt Data'!AJ171","v":0},{"$f":"'mnt Data'!AK171","v":0}]
[168,{"$f":"O169","v":0},{"$f":"O169*(Q169/100)","v":0},"No Gs",0,"No Gs","No Gs",{"$f":"IFERROR(E169/G169,\"Gs is needed\")","v":"Gs is needed"},{"$f":"IFERROR(G169/1,\"Gs is needed\")","v":"Gs is needed"},{"$f":"IFERROR(G169/D169,\"Gs is needed\")","v":"Gs is needed"},"Need Max and Min","Need Max and Min","Fail",null,{"$f":"'mnt Data'!A172","v":0},{"$f":"'mnt Data'!B172","v":0},{"$f":"'mnt Data'!C172","v":0},{"$f":"'mnt Data'!D172","v":0},{"$f":"'mnt Data'!E172","v":0},{"$f":"'mnt Data'!F172","v":0},{"$f":"'mnt Data'!G172","v":0},{"$f":"'mnt Data'!H172","v":0},{"$f":"'mnt Data'!I172","v":0},{"$f":"'mnt Data'!J172","v":0},{"$f":"'mnt Data'!K172","v":0},{"$f":"'mnt Data'!L172","v":0},{"$f":"'mnt Data'!M172","v":0},{"$f":"'mnt Data'!N172","v":0},{"$f":"'mnt Data'!O172","v":0},{"$f":"'mnt Data'!P172","v":0},{"$f":"'mnt Data'!Q172","v":0},{"$f":"'mnt Data'!R172","v":0},{"$f":"'mnt Data'!S172","v":0},{"$f":"'mnt Data'!T172","v":0},{"$f":"'mnt Data'!U172","v":0},{"$f":"'mnt Data'!V172","v":0},{"$f":"'mnt Data'!W172","v":0},{"$f":"'mnt Data'!X172","v":0},{"$f":"'mnt Data'!Y172","v":0},{"$f":"'mnt Data'!Z172","v":0},{"$f":"'mnt Data'!AA172","v":0},{"$f":"'mnt Data'!AB172","v":0},{"$f":"'mnt Data'!AC172","v":0},{"$f":"'mnt Data'!AD172","v":0},{"$f":"'mnt Data'!AE172","v":0},{"$f":"'mnt Data'!AF172","v":0},{"$f":"'mnt Data'!AG172","v":0},{"$f":"'mnt Data'!AH172","v":0},{"$f":"'mnt Data'!AI172","v":0},{"$f":"'mnt Data'!AJ172","v":0},{"$f":"'mnt Data'!AK172","v":0}]
[169,0,0,"No Gs",0,"No Gs","No Gs","Gs is needed","Gs is needed","Gs is needed","Need Max and Min","Need Max and Min","Fail",null,{"$f":"'mnt Data'!A173","v":0},{"$f":"'mnt Data'!B173","v":0},{"$f":"'mnt Data'!C173","v":0},{"$f":"'mnt Data'!D173","v":0},{"$f":"'mnt Data'!E173","v":0},{"$f":"'mnt Data'!F173","v":0},{"$f":"'mnt Data'!G173","v":0},{"$f":"'mnt Data'!H173","v":0},{"$f":"'mnt Data'!I173","v":0},{"$f":"'mnt Data'!J173","v":0},{"$f":"'mnt Data'!K173","v":0},{"$f":"'mnt Data'!L173","v":0},{"$f":"'mnt Data'!M173","v":0},{"$f":"'mnt Data'!N173","v":0},{"$f":"'mnt Data'!O173","v":0},{"$f":"'mnt Data'!P173","v":0},{"$f":"'mnt Data'!Q173","v":0},{"$f":"'mnt Data'!R173","v":0},{"$f":"'mnt Data'!S173","v":0},{"$f":"'mnt Data'!T173","v":0},{"$f":"'mnt Data'!U173","v":0},{"$f":"'mnt Data'!V173","v":0},{"$f":"'mnt Data'!W173","v":0},{"$f":"'mnt Data'!X173","v":0},{"$f":"'mnt Data'!Y173","v":0},{"$f":"'mnt Data'!Z173","v":0},{"$f":"'mnt Data'!AA173","v":0},{"$f":"'mnt Data'!AB173","v":0},{"$f":"'mnt Data'!AC173","v":0},{"$f":"'mnt Data'!AD173","v":0},{"$f":"'mnt Data'!AE173","v":0},{"$f":"'mnt Data'!AF173","v":0},{"$f":"'mnt Data'!AG173","v":0},{"$f":"'mnt Data'!AH173","v":0},{"$f":"'mnt Data'!AI173","v":0},{"$f":"'mnt Data'!AJ173","v":0},{"$f":"'mnt Data'!AK173","v":0}]
[170,0,0,"No Gs",0,"No Gs","No Gs","Gs is needed","Gs is needed","Gs is needed","Need Max and Min","Need Max and Min","Fail",null,{"$f":"'mnt Data'!A174","v":0},{"$f":"'mnt Data'!B174","v":0},{"$f":"'mnt Data'!C174","v":0},{"$f":"'mnt Data'!D174","v":0},{"$f":"'mnt Data'!E174","v":0},{"$f":"'mnt Data'!F174","v":0},{"$f":"'mnt Data'!G174","v":0},{"$f":"'mnt Data'!H174","v":0},{"$f":"'mnt Data'!I174","v":0},{"$f":"'mnt Data'!J174","v":0},{"$f":"'mnt Data'!K174","v":0},{"$f":"'mnt Data'!L174","v":0},{"$f":"'mnt Data'!M174","v":0},{"$f":"'mnt Data'!N174","v":0},{"$f":"'mnt Data'!O174","v":0},{"$f":"'mnt Data'!P174","v":0},{"$f":"'mnt Data'!Q174","v":0},{"$f":"'mnt Data'!R174","v":0},{"$f":"'mnt Data'!S174","v":0},{"$f":"'mnt Data'!T174","v":0},{"$f":"'mnt Data'!U174","v":0},{"$f":"'mnt Data'!V174","v":0},{"$f":"'mnt Data'!W174","v":0},{"$f":"'mnt Data'!X174","v":0},{"$f":"'mnt Data'!Y174","v":0},{"$f":"'mnt Data'!Z174","v":0},{"$f":"'mnt Data'!AA174","v":0},{"$f":"'mnt Data'!AB174","v":0},{"$f":"'mnt Data'!AC174","v":0},{"$f":"'mnt Data'!AD174","v":0},{"$f":"'mnt Data'!AE174","v":0},{"$f":"'mnt Data'!AF174","v":0},{"$f":"'mnt Data'!AG174","v":0},{"$f":"'mnt Data'!AH174","v":0},{"$f":"'mnt Data'!AI174","v":0},{"$f":"'mnt Data'!AJ174","v":0},{"$f":"'mnt Data'!AK174","v":0}]
[171,0,0,"No Gs",0,"No Gs","No Gs","Gs is needed","Gs is needed","Gs is needed","Need Max and Min","Need Max and Min","Fail",null,{"$f":"'mnt Data'!A175","v":0},{"$f":"'mnt Data'!B175","v":0},{"$f":"'mnt Data'!C175","v":0},{"$f":"'mnt Data'!D175","v":0},{"$f":"'mnt Data'!E175","v":0},{"$f":"'mnt Data'!F175","v":0},{"$f":"'mnt Data'!G175","v":0},{"$f":"'mnt Data'!H175","v":0},{"$f":"'mnt Data'!I175","v":0},{"$f":"'mnt Data'!J175","v":0},{"$f":"'mnt Data'!K175","v":0},{"$f":"'mnt Data'!L175","v":0},{"$f":"'mnt Data'!M175","v":0},{"$f":"'mnt Data'!N175","v":0},{"$f":"'mnt Data'!O175","v":0},{"$f":"'mnt Data'!P175","v":0},{"$f":"'mnt Data'!Q175","v":0},{"$f":"'mnt Data'!R175","v":0},{"$f":"'mnt Data'!S175","v":0},{"$f":"'mnt Data'!T175","v":0},{"$f":"'mnt Data'!U175","v":0},{"$f":"'mnt Data'!V175","v":0},{"$f":"'mnt Data'!W175","v":0},{"$f":"'mnt Data'!X175","v":0},{"$f":"'mnt Data'!Y175","v":0},{"$f":"'mnt Data'!Z175","v":0},{"$f":"'mnt Data'!AA175","v":0},{"$f":"'mnt Data'!AB175","v":0},{"$f":"'mnt Data'!AC175","v":0},{"$f":"'mnt Data'!AD175","v":0},{"$f":"'mnt Data'!AE175","v":0},{"$f":"'mnt Data'!AF175","v":0},{"$f":"'mnt Data'!AG175","v":0},{"$f":"'mnt Data'!AH175","v":0},{"$f":"'mnt Data'!AI175","v":0},{"$f":"'mnt Data'!AJ175","v":0},{"$f":"'mnt Data'!AK175","v":0}]
[172,0,0,"No Gs",0,"No Gs","No Gs","Gs is needed","Gs is needed","Gs is needed","Need Max and Min","Need Max and Min","Fail",null,{"$f":"'mnt Data'!A176","v":0},{"$f":"'mnt Data'!B176","v":0},{"$f":"'mnt Data'!C176","v":0},{"$f":"'mnt Data'!D176","v":0},{"$f":"'mnt Data'!E176","v":0},{"$f":"'mnt Data'!F176","v":0},{"$f":"'mnt Data'!G176","v":0},{"$f":"'mnt Data'!H176","v":0},{"$f":"'mnt Data'!I176","v":0},{"$f":"'mnt Data'!J176","v":0},{"$f":"'mnt Data'!K176","v":0},{"$f":"'mnt Data'!L176","v":0},{"$f":"'mnt Data'!M176","v":0},{"$f":"'mnt Data'!N176","v":0},{"$f":"'mnt Data'!O176","v":0},{"$f":"'mnt Data'!P176","v":0},{"$f":"'mnt Data'!Q176","v":0},{"$f":"'mnt Data'!R176","v":0},{"$f":"'mnt Data'!S176","v":0},{"$f":"'mnt Data'!T176","v":0},{"$f":"'mnt Data'!U176","v":0},{"$f":"'mnt Data'!V176","v":0},{"$f":"'mnt Data'!W176","v":0},{"$f":"'mnt Data'!X176","v":0},{"$f":"'mnt Data'!Y176","v":0},{"$f":"'mnt Data'!Z176","v":0},{"$f":"'mnt Data'!AA176","v":0},{"$f":"'mnt Data'!AB176","v":0},{"$f":"'mnt Data'!AC176","v":0},{"$f":"'mnt Data'!AD176","v":0},{"$f":"'mnt Data'!AE176","v":0},{"$f":"'mnt Data'!AF176","v":0},{"$f":"'mnt Data'!AG176","v":0},{"$f":"'mnt Data'!AH176","v":0},{"$f":"'mnt Data'!AI176","v":0},{"$f":"'mnt Data'!AJ176","v":0},{"$f":"'mnt Data'!AK176","v":0}]
[173,0,0,"No Gs",0,"No Gs","No Gs","Gs is needed","Gs is needed","Gs is needed","Need Max and Min","Need Max and Min","Fail",null,{"$f":"'mnt Data'!A177","v":0},{"$f":"'mnt Data'!B177","v":0},{"$f":"'mnt Data'!C177","v":0},{"$f":"'mnt Data'!D177","v":0},{"$f":"'mnt Data'!E177","v":0},{"$f":"'mnt Data'!F177","v":0},{"$f":"'mnt Data'!G177","v":0},{"$f":"'mnt Data'!H177","v":0},{"$f":"'mnt Data'!I177","v":0},{"$f":"'mnt Data'!J177","v":0},{"$f":"'mnt Data'!K177","v":0},{"$f":"'mnt Data'!L177","v":0},{"$f":"'mnt Data'!M177","v":0},{"$f":"'mnt Data'!N177","v":0},{"$f":"'mnt Data'!O177","v":0},{"$f":"'mnt Data'!P177","v":0},{"$f":"'mnt Data'!Q177","v":0},{"$f":"'mnt Data'!R177","v":0},{"$f":"'mnt Data'!S177","v":0},{"$f":"'mnt Data'!T177","v":0},{"$f":"'mnt Data'!U177","v":0},{"$f":"'mnt Data'!V177","v":0},{"$f":"'mnt Data'!W177","v":0},{"$f":"'mnt Data'!X177","v":0},{"$f":"'mnt Data'!Y177","v":0},{"$f":"'mnt Data'!Z177","v":0},{"$f":"'mnt Data'!AA177","v":0},{"$f":"'mnt Data'!AB177","v":0},{"$f":"'mnt Data'!AC177","v":0},{"$f":"'mnt Data'!AD177","v":0},{"$f":"'mnt Data'!AE177","v":0},{"$f":"'mnt Data'!AF177","v":0},{"$f":"'mnt Data'!AG177","v":0},{"$f":"'mnt Data'!AH177","v":0},{"$f":"'mnt Data'!AI177","v":0},{"$f":"'mnt Data'!AJ177","v":0},{"$f":"'mnt Data'!AK177","v":0}]
[174,0,0,"No Gs",0,"No Gs","No Gs","Gs is needed","Gs is needed","Gs is needed","Need Max and Min","Need Max and Min","Fail",null,{"$f":"'mnt Data'!A178","v":0},{"$f":"'mnt Data'!B178","v":0},{"$f":"'mnt Data'!C178","v":0},{"$f":"'mnt Data'!D178","v":0},{"$f":"'mnt Data'!E178","v":0},{"$f":"'mnt Data'!F178","v":0},{"$f":"'mnt Data'!G178","v":0},{"$f":"'mnt Data'!H178","v":0},{"$f":"'mnt Data'!I178","v":0},{"$f":"'mnt Data'!J178","v":0},{"$f":"'mnt Data'!K178","v":0},{"$f":"'mnt Data'!L178","v":0},{"$f":"'mnt Data'!M178","v":0},{"$f":"'mnt Data'!N178","v":0},{"$f":"'mnt Data'!O178","v":0},{"$f":"'mnt Data'!P178","v":0},{"$f":"'mnt Data'!Q178","v":0},{"$f":"'mnt Data'!R178","v":0},{"$f":"'mnt Data'!S178","v":0},{"$f":"'mnt Data'!T178","v":0},{"$f":"'mnt Data'!U178","v":0},{"$f":"'mnt Data'!V178","v":0},{"$f":"'mnt Data'!W178","v":0},{"$f":"'mnt Data'!X178","v":0},{"$f":"'mnt Data'!Y178","v":0},{"$f":"'mnt Data'!Z178","v":0},{"$f":"'mnt Data'!AA178","v":0},{"$f":"'mnt Data'!AB178","v":0},{"$f":"'mnt Data'!AC178","v":0},{"$f":"'mnt Data'!AD178","v":0},{"$f":"'mnt Data'!AE178","v":0},{"$f":"'mnt Data'!AF178","v":0},{"$f":"'mnt Data'!AG178","v":0},{"$f":"'mnt Data'!AH178","v":0},{"$f":"'mnt Data'!AI178","v":0},{"$f":"'mnt Data'!AJ178","v":0},{"$f":"'mnt Data'!AK178","v":0}]
[175,0,0,"No Gs",0,"No Gs","No Gs","Gs is needed","Gs is needed","Gs is needed","Need Max and Min","Need Max and Min","Fail",null,{"$f":"'mnt Data'!A179","v":0},{"$f":"'mnt Data'!B179","v":0},{"$f":"'mnt Data'!C179","v":0},{"$f":"'mnt Data'!D179","v":0},{"$f":"'mnt Data'!E179","v":0},{"$f":"'mnt Data'!F179","v":0},{"$f":"'mnt Data'!G179","v":0},{"$f":"'mnt Data'!H179","v":0},{"$f":"'mnt Data'!I179","v":0},{"$f":"'mnt Data'!J179","v":0},{"$f":"'mnt Data'!K179","v":0},{"$f":"'mnt Data'!L179","v":0},{"$f":"'mnt Data'!M179","v":0},{"$f":"'mnt Data'!N179","v":0},{"$f":"'mnt Data'!O179","v":0},{"$f":"'mnt Data'!P179","v":0},{"$f":"'mnt Data'!Q179","v":0},{"$f":"'mnt Data'!R179","v":0},{"$f":"'mnt Data'!S179","v":0},{"$f":"'mnt Data'!T179","v":0},{"$f":"'mnt Data'!U179","v":0},{"$f":"'mnt Data'!V179","v":0},{"$f":"'mnt Data'!W179","v":0},{"$f":"'mnt Data'!X179","v":0},{"$f":"'mnt Data'!Y179","v":0},{"$f":"'mnt Data'!Z179","v":0},{"$f":"'mnt Data'!AA179","v":0},{"$f":"'mnt Data'!AB179","v":0},{"$f":"'mnt Data'!AC179","v":0},{"$f":"'mnt Data'!AD179","v":0},{"$f":"'mnt Data'!AE179","v":0},{"$f":"'mnt Data'!AF179","v":0},{"$f":"'mnt Data'!AG179","v":0},{"$f":"'mnt Data'!AH179","v":0},{"$f":"'mnt Data'!AI179","v":0},{"$f":"'mnt Data'!AJ179","v":0},{"$f":"'mnt Data'!AK179","v":0}]
[176,0,0,"No Gs",0,"No Gs","No Gs","Gs is needed","Gs is needed","Gs is needed","Need Max and Min","Need Max and Min","Fail",null,{"$f":"'mnt Data'!A180","v":0},{"$f":"'mnt Data'!B180","v":0},{"$f":"'mnt Data'!C180","v":0},{"$f":"'mnt Data'!D180","v":0},{"$f":"'mnt Data'!E180","v":0},{"$f":"'mnt Data'!F180","v":0},{"$f":"'mnt Data'!G180","v":0},{"$f":"'mnt Data'!H180","v":0},{"$f":"'mnt Data'!I180","v":0},{"$f":"'mnt Data'!J180","v":0},{"$f":"'mnt Data'!K180","v":0},{"$f":"'mnt Data'!L180","v":0},{"$f":"'mnt Data'!M180","v":0},{"$f":"'mnt Data'!N180","v":0},{"$f":"'mnt Data'!O180","v":0},{"$f":"'mnt Data'!P180","v":0},{"$f":"'mnt Data'!Q180","v":0},{"$f":"'mnt Data'!R180","v":0},{"$f":"'mnt Data'!S180","v":0},{"$f":"'mnt Data'!T180","v":0},{"$f":"'mnt Data'!U180","v":0},{"$f":"'mnt Data'!V180","v":0},{"$f":"'mnt Data'!W180","v":0},{"$f":"'mnt Data'!X180","v":0},{"$f":"'mnt Data'!Y180","v":0},{"$f":"'mnt Data'!Z180","v":0},{"$f":"'mnt Data'!AA180","v":0},{"$f":"'mnt Data'!AB180","v":0},{"$f":"'mnt Data'!AC180","v":0},{"$f":"'mnt Data'!AD180","v":0},{"$f":"'mnt Data'!AE180","v":0},{"$f":"'mnt Data'!AF180","v":0},{"$f":"'mnt Data'!AG180","v":0},{"$f":"'mnt Data'!AH180","v":0},{"$f":"'mnt Data'!AI180","v":0},{"$f":"'mnt Data'!AJ180","v":0},{"$f":"'mnt Data'!AK180","v":0}]
[177,0,0,"No Gs",0,"No Gs","No Gs","Gs is needed","Gs is needed","Gs is needed","Need Max and Min","Need Max and Min","Fail",null,{"$f":"'mnt Data'!A181","v":0},{"$f":"'mnt Data'!B181","v":0},{"$f":"'mnt Data'!C181","v":0},{"$f":"'mnt Data'!D181","v":0},{"$f":"'mnt Data'!E181","v":0},{"$f":"'mnt Data'!F181","v":0},{"$f":"'mnt Data'!G181","v":0},{"$f":"'mnt Data'!H181","v":0},{"$f":"'mnt Data'!I181","v":0},{"$f":"'mnt Data'!J181","v":0},{"$f":"'mnt Data'!K181","v":0},{"$f":"'mnt Data'!L181","v":0},{"$f":"'mnt Data'!M181","v":0},{"$f":"'mnt Data'!N181","v":0},{"$f":"'mnt Data'!O181","v":0},{"$f":"'mnt Data'!P181","v":0},{"$f":"'mnt Data'!Q181","v":0},{"$f":"'mnt Data'!R181","v":0},{"$f":"'mnt Data'!S181","v":0},{"$f":"'mnt Data'!T181","v":0},{"$f":"'mnt Data'!U181","v":0},{"$f":"'mnt Data'!V181","v":0},{"$f":"'mnt Data'!W181","v":0},{"$f":"'mnt Data'!X181","v":0},{"$f":"'mnt Data'!Y181","v":0},{"$f":"'mnt Data'!Z181","v":0},{"$f":"'mnt Data'!AA181","v":0},{"$f":"'mnt Data'!AB181","v":0},{"$f":"'mnt Data'!AC181","v":0},{"$f":"'mnt Data'!AD181","v":0},{"$f":"'mnt Data'!AE181","v":0},{"$f":"'mnt Data'!AF181","v":0},{"$f":"'mnt Data'!AG181","v":0},{"$f":"'mnt Data'!AH181","v":0},{"$f":"'mnt Data'!AI181","v":0},{"$f":"'mnt Data'!AJ181","v":0},{"$f":"'mnt Data'!AK181","v":0}]
[178,0,0,"No Gs",0,"No Gs","No Gs","Gs is needed","Gs is needed","Gs is needed","Need Max and Min","Need Max and Min","Fail",null,{"$f":"'mnt Data'!A182","v":0},{"$f":"'mnt Data'!B182","v":0},{"$f":"'mnt Data'!C182","v":0},{"$f":"'mnt Data'!D182","v":0},{"$f":"'mnt Data'!E182","v":0},{"$f":"'mnt Data'!F182","v":0},{"$f":"'mnt Data'!G182","v":0},{"$f":"'mnt Data'!H182","v":0},{"$f":"'mnt Data'!I182","v":0},{"$f":"'mnt Data'!J182","v":0},{"$f":"'mnt Data'!K182","v":0},{"$f":"'mnt Data'!L182","v":0},{"$f":"'mnt Data'!M182","v":0},{"$f":"'mnt Data'!N182","v":0},{"$f":"'mnt Data'!O182","v":0},{"$f":"'mnt Data'!P182","v":0},{"$f":"'mnt Data'!Q182","v":0},{"$f":"'mnt Data'!R182","v":0},{"$f":"'mnt Data'!S182","v":0},{"$f":"'mnt Data'!T182","v":0},{"$f":"'mnt Data'!U182","v":0},{"$f":"'mnt Data'!V182","v":0},{"$f":"'mnt Data'!W182","v":0},{"$f":"'mnt Data'!X182","v":0},{"$f":"'mnt Data'!Y182","v":0},{"$f":"'mnt Data'!Z182","v":0},{"$f":"'mnt Data'!AA182","v":0},{"$f":"'mnt Data'!AB182","v":0},{"$f":"'mnt Data'!AC182","v":0},{"$f":"'mnt Data'!AD182","v":0},{"$f":"'mnt Data'!AE182","v":0},{"$f":"'mnt Data'!AF182","v":0},{"$f":"'mnt Data'!AG182","v":0},{"$f":"'mnt Data'!AH182","v":0},{"$f":"'mnt Data'!AI182","v":0},{"$f":"'mnt Data'!AJ182","v":0},{"$f":"'mnt Data'!AK182","v":0}]
[179,0,0,"No Gs",0,"No Gs","No Gs","Gs is needed","Gs is needed","Gs is needed","Need Max and Min","Need Max and Min","Fail",null,{"$f":"'mnt Data'!A183","v":0},{"$f":"'mnt Data'!B183","v":0},{"$f":"'mnt Data'!C183","v":0},{"$f":"'mnt Data'!D183","v":0},{"$f":"'mnt Data'!E183","v":0},{"$f":"'mnt Data'!F183","v":0},{"$f":"'mnt Data'!G183","v":0},{"$f":"'mnt Data'!H183","v":0},{"$f":"'mnt Data'!I183","v":0},{"$f":"'mnt Data'!J183","v":0},{"$f":"'mnt Data'!K183","v":0},{"$f":"'mnt Data'!L183","v":0},{"$f":"'mnt Data'!M183","v":0},{"$f":"'mnt Data'!N183","v":0},{"$f":"'mnt Data'!O183","v":0},{"$f":"'mnt Data'!P183","v":0},{"$f":"'mnt Data'!Q183","v":0},{"$f":"'mnt Data'!R183","v":0},{"$f":"'mnt Data'!S183","v":0},{"$f":"'mnt Data'!T183","v":0},{"$f":"'mnt Data'!U183","v":0},{"$f":"'mnt Data'!V183","v":0},{"$f":"'mnt Data'!W183","v":0},{"$f":"'mnt Data'!X183","v":0},{"$f":"'mnt Data'!Y183","v":0},{"$f":"'mnt Data'!Z183","v":0},{"$f":"'mnt Data'!AA183","v":0},{"$f":"'mnt Data'!AB183","v":0},{"$f":"'mnt Data'!AC183","v":0},{"$f":"'mnt Data'!AD183","v":0},{"$f":"'mnt Data'!AE183","v":0},{"$f":"'mnt Data'!AF183","v":0},{"$f":"'mnt Data'!AG183","v":0},{"$f":"'mnt Data'!AH183","v":0},{"$f":"'mnt Data'!AI183","v":0},{"$f":"'mnt Data'!AJ183","v":0},{"$f":"'mnt Data'!AK183","v":0}]
[180,0,0,"No Gs",0,"No Gs","No Gs","Gs is needed","Gs is needed","Gs is needed","Need Max and Min","Need Max and Min","Fail",null,{"$f":"'mnt Data'!A184","v":0},{"$f":"'mnt Data'!B184","v":0},{"$f":"'mnt Data'!C184","v":0},{"$f":"'mnt Data'!D184","v":0},{"$f":"'mnt Data'!E184","v":0},{"$f":"'mnt Data'!F184","v":0},{"$f":"'mnt Data'!G184","v":0},{"$f":"'mnt Data'!H184","v":0},{"$f":"'mnt Data'!I184","v":0},{"$f":"'mnt Data'!J184","v":0},{"$f":"'mnt Data'!K184","v":0},{"$f":"'mnt Data'!L184","v":0},{"$f":"'mnt Data'!M184","v":0},{"$f":"'mnt Data'!N184","v":0},{"$f":"'mnt Data'!O184","v":0},{"$f":"'mnt Data'!P184","v":0},{"$f":"'mnt Data'!Q184","v":0},{"$f":"'mnt Data'!R184","v":0},{"$f":"'mnt Data'!S184","v":0},{"$f":"'mnt Data'!T184","v":0},{"$f":"'mnt Data'!U184","v":0},{"$f":"'mnt Data'!V184","v":0},{"$f":"'mnt Data'!W184","v":0},{"$f":"'mnt Data'!X184","v":0},{"$f":"'mnt Data'!Y184","v":0},{"$f":"'mnt Data'!Z184","v":0},{"$f":"'mnt Data'!AA184","v":0},{"$f":"'mnt Data'!AB184","v":0},{"$f":"'mnt Data'!AC184","v":0},{"$f":"'mnt Data'!AD184","v":0},{"$f":"'mnt Data'!AE184","v":0},{"$f":"'mnt Data'!AF184","v":0},{"$f":"'mnt Data'!AG184","v":0},{"$f":"'mnt Data'!AH184","v":0},{"$f":"'mnt Data'!AI184","v":0},{"$f":"'mnt Data'!AJ184","v":0},{"$f":"'mnt Data'!AK184","v":0}]
[181,0,0,"No Gs",0,"No Gs","No Gs","Gs is needed","Gs is needed","Gs is needed","Need Max and Min","Need Max and Min","Fail",null,{"$f":"'mnt Data'!A185","v":0},{"$f":"'mnt Data'!B185","v":0},{"$f":"'mnt Data'!C185","v":0},{"$f":"'mnt Data'!D185","v":0},{"$f":"'mnt Data'!E185","v":0},{"$f":"'mnt Data'!F185","v":0},{"$f":"'mnt Data'!G185","v":0},{"$f":"'mnt Data'!H185","v":0},{"$f":"'mnt Data'!I185","v":0},{"$f":"'mnt Data'!J185","v":0},{"$f":"'mnt Data'!K185","v":0},{"$f":"'mnt Data'!L185","v":0},{"$f":"'mnt Data'!M185","v":0},{"$f":"'mnt Data'!N185","v":0},{"$f":"'mnt Data'!O185","v":0},{"$f":"'mnt Data'!P185","v":0},{"$f":"'mnt Data'!Q185","v":0},{"$f":"'mnt Data'!R185","v":0},{"$f":"'mnt Data'!S185","v":0},{"$f":"'mnt Data'!T185","v":0},{"$f":"'mnt Data'!U185","v":0},{"$f":"'mnt Data'!V185","v":0},{"$f":"'mnt Data'!W185","v":0},{"$f":"'mnt Data'!X185","v":0},{"$f":"'mnt Data'!Y185","v":0},{"$f":"'mnt Data'!Z185","v":0},{"$f":"'mnt Data'!AA185","v":0},{"$f":"'mnt Data'!AB185","v":0},{"$f":"'mnt Data'!AC185","v":0},{"$f":"'mnt Data'!AD185","v":0},{"$f":"'mnt Data'!AE185","v":0},{"$f":"'mnt Data'!AF185","v":0},{"$f":"'mnt Data'!AG185","v":0},{"$f":"'mnt Data'!AH185","v":0},{"$f":"'mnt Data'!AI185","v":0},{"$f":"'mnt Data'!AJ185","v":0},{"$f":"'mnt Data'!AK185","v":0}]
[182,0,0,"No Gs",0,"No Gs","No Gs","Gs is needed","Gs is needed","Gs is needed","Need Max and Min","Need Max and Min","Fail",null,{"$f":"'mnt Data'!A186","v":0},{"$f":"'mnt Data'!B186","v":0},{"$f":"'mnt Data'!C186","v":0},{"$f":"'mnt Data'!D186","v":0},{"$f":"'mnt Data'!E186","v":0},{"$f":"'mnt Data'!F186","v":0},{"$f":"'mnt Data'!G186","v":0},{"$f":"'mnt Data'!H186","v":0},{"$f":"'mnt Data'!I186","v":0},{"$f":"'mnt Data'!J186","v":0},{"$f":"'mnt Data'!K186","v":0},{"$f":"'mnt Data'!L186","v":0},{"$f":"'mnt Data'!M186","v":0},{"$f":"'mnt Data'!N186","v":0},{"$f":"'mnt Data'!O186","v":0},{"$f":"'mnt Data'!P186","v":0},{"$f":"'mnt Data'!Q186","v":0},{"$f":"'mnt Data'!R186","v":0},{"$f":"'mnt Data'!S186","v":0},{"$f":"'mnt Data'!T186","v":0},{"$f":"'mnt Data'!U186","v":0},{"$f":"'mnt Data'!V186","v":0},{"$f":"'mnt Data'!W186","v":0},{"$f":"'mnt Data'!X186","v":0},{"$f":"'mnt Data'!Y186","v":0},{"$f":"'mnt Data'!Z186","v":0},{"$f":"'mnt Data'!AA186","v":0},{"$f":"'mnt Data'!AB186","v":0},{"$f":"'mnt Data'!AC186","v":0},{"$f":"'mnt Data'!AD186","v":0},{"$f":"'mnt Data'!AE186","v":0},{"$f":"'mnt Data'!AF186","v":0},{"$f":"'mnt Data'!AG186","v":0},{"$f":"'mnt Data'!AH186","v":0},{"$f":"'mnt Data'!AI186","v":0},{"$f":"'mnt Data'!AJ186","v":0},{"$f":"'mnt Data'!AK186","v":0}]
[183,0,0,"No Gs",0,"No Gs","No Gs","Gs is needed","Gs is needed","Gs is needed","Need Max and Min","Need Max and Min","Fail",null,{"$f":"'mnt Data'!A187","v":0},{"$f":"'mnt Data'!B187","v":0},{"$f":"'mnt Data'!C187","v":0},{"$f":"'mnt Data'!D187","v":0},{"$f":"'mnt Data'!E187","v":0},{"$f":"'mnt Data'!F187","v":0},{"$f":"'mnt Data'!G187","v":0},{"$f":"'mnt Data'!H187","v":0},{"$f":"'mnt Data'!I187","v":0},{"$f":"'mnt Data'!J187","v":0},{"$f":"'mnt Data'!K187","v":0},{"$f":"'mnt Data'!L187","v":0},{"$f":"'mnt Data'!M187","v":0},{"$f":"'mnt Data'!N187","v":0},{"$f":"'mnt Data'!O187","v":0},{"$f":"'mnt Data'!P187","v":0},{"$f":"'mnt Data'!Q187","v":0},{"$f":"'mnt Data'!R187","v":0},{"$f":"'mnt Data'!S187","v":0},{"$f":"'mnt Data'!T187","v":0},{"$f":"'mnt Data'!U187","v":0},{"$f":"'mnt Data'!V187","v":0},{"$f":"'mnt Data'!W187","v":0},{"$f":"'mnt Data'!X187","v":0},{"$f":"'mnt Data'!Y187","v":0},{"$f":"'mnt Data'!Z187","v":0},{"$f":"'mnt Data'!AA187","v":0},{"$f":"'mnt Data'!AB187","v":0},{"$f":"'mnt Data'!AC187","v":0},{"$f":"'mnt Data'!AD187","v":0},{"$f":"'mnt Data'!AE187","v":0},{"$f":"'mnt Data'!AF187","v":0},{"$f":"'mnt Data'!AG187","v":0},{"$f":"'mnt Data'!AH187","v":0},{"$f":"'mnt Data'!AI187","v":0},{"$f":"'mnt Data'!AJ187","v":0},{"$f":"'mnt Data'!AK187","v":0}]
[184,0,0,"No Gs",0,"No Gs","No Gs","Gs is needed","Gs is needed","Gs is needed","Need Max and Min","Need Max and Min","Fail",null,{"$f":"'mnt Data'!A188","v":0},{"$f":"'mnt Data'!B188","v":0},{"$f":"'mnt Data'!C188","v":0},{"$f":"'mnt Data'!D188","v":0},{"$f":"'mnt Data'!E188","v":0},{"$f":"'mnt Data'!F188","v":0},{"$f":"'mnt Data'!G188","v":0},{"$f":"'mnt Data'!H188","v":0},{"$f":"'mnt Data'!I188","v":0},{"$f":"'mnt Data'!J188","v":0},{"$f":"'mnt Data'!K188","v":0},{"$f":"'mnt Data'!L188","v":0},{"$f":"'mnt Data'!M188","v":0},{"$f":"'mnt Data'!N188","v":0},{"$f":"'mnt Data'!O188","v":0},{"$f":"'mnt Data'!P188","v":0},{"$f":"'mnt Data'!Q188","v":0},{"$f":"'mnt Data'!R188","v":0},{"$f":"'mnt Data'!S188","v":0},{"$f":"'mnt Data'!T188","v":0},{"$f":"'mnt Data'!U188","v":0},{"$f":"'mnt Data'!V188","v":0},{"$f":"'mnt Data'!W188","v":0},{"$f":"'mnt Data'!X188","v":0},{"$f":"'mnt Data'!Y188","v":0},{"$f":"'mnt Data'!Z188","v":0},{"$f":"'mnt Data'!AA188","v":0},{"$f":"'mnt Data'!AB188","v":0},{"$f":"'mnt Data'!AC188","v":0},{"$f":"'mnt Data'!AD188","v":0},{"$f":"'mnt Data'!AE188","v":0},{"$f":"'mnt Data'!AF188","v":0},{"$f":"'mnt Data'!AG188","v":0},{"$f":"'mnt Data'!AH188","v":0},{"$f":"'mnt Data'!AI188","v":0},{"$f":"'mnt Data'!AJ188","v":0},{"$f":"'mnt Data'!AK188","v":0}]
[185,0,0,"No Gs",0,"No Gs","No Gs","Gs is needed","Gs is needed","Gs is needed","Need Max and Min","Need Max and Min","Fail",null,{"$f":"'mnt Data'!A189","v":0},{"$f":"'mnt Data'!B189","v":0},{"$f":"'mnt Data'!C189","v":0},{"$f":"'mnt Data'!D189","v":0},{"$f":"'mnt Data'!E189","v":0},{"$f":"'mnt Data'!F189","v":0},{"$f":"'mnt Data'!G189","v":0},{"$f":"'mnt Data'!H189","v":0},{"$f":"'mnt Data'!I189","v":0},{"$f":"'mnt Data'!J189","v":0},{"$f":"'mnt Data'!K189","v":0},{"$f":"'mnt Data'!L189","v":0},{"$f":"'mnt Data'!M189","v":0},{"$f":"'mnt Data'!N189","v":0},{"$f":"'mnt Data'!O189","v":0},{"$f":"'mnt Data'!P189","v":0},{"$f":"'mnt Data'!Q189","v":0},{"$f":"'mnt Data'!R189","v":0},{"$f":"'mnt Data'!S189","v":0},{"$f":"'mnt Data'!T189","v":0},{"$f":"'mnt Data'!U189","v":0},{"$f":"'mnt Data'!V189","v":0},{"$f":"'mnt Data'!W189","v":0},{"$f":"'mnt Data'!X189","v":0},{"$f":"'mnt Data'!Y189","v":0},{"$f":"'mnt Data'!Z189","v":0},{"$f":"'mnt Data'!AA189","v":0},{"$f":"'mnt Data'!AB189","v":0},{"$f":"'mnt Data'!AC189","v":0},{"$f":"'mnt Data'!AD189","v":0},{"$f":"'mnt Data'!AE189","v":0},{"$f":"'mnt Data'!AF189","v":0},{"$f":"'mnt Data'!AG189","v":0},{"$f":"'mnt Data'!AH189","v":0},{"$f":"'mnt Data'!AI189","v":0},{"$f":"'mnt Data'!AJ189","v":0},{"$f":"'mnt Data'!AK189","v":0}]
[186,0,0,"No Gs",0,"No Gs","No Gs","Gs is needed","Gs is needed","Gs is needed","Need Max and Min","Need Max and Min","Fail",null,{"$f":"'mnt Data'!A190","v":0},{"$f":"'mnt Data'!B190","v":0},{"$f":"'mnt Data'!C190","v":0},{"$f":"'mnt Data'!D190","v":0},{"$f":"'mnt Data'!E190","v":0},{"$f":"'mnt Data'!F190","v":0},{"$f":"'mnt Data'!G190","v":0},{"$f":"'mnt Data'!H190","v":0},{"$f":"'mnt Data'!I190","v":0},{"$f":"'mnt Data'!J190","v":0},{"$f":"'mnt Data'!K190","v":0},{"$f":"'mnt Data'!L190","v":0},{"$f":"'mnt Data'!M190","v":0},{"$f":"'mnt Data'!N190","v":0},{"$f":"'mnt Data'!O190","v":0},{"$f":"'mnt Data'!P190","v":0},{"$f":"'mnt Data'!Q190","v":0},{"$f":"'mnt Data'!R190","v":0},{"$f":"'mnt Data'!S190","v":0},{"$f":"'mnt Data'!T190","v":0},{"$f":"'mnt Data'!U190","v":0},{"$f":"'mnt Data'!V190","v":0},{"$f":"'mnt Data'!W190","v":0},{"$f":"'mnt Data'!X190","v":0},{"$f":"'mnt Data'!Y190","v":0},{"$f":"'mnt Data'!Z190","v":0},{"$f":"'mnt Data'!AA190","v":0},{"$f":"'mnt Data'!AB190","v":0},{"$f":"'mnt Data'!AC190","v":0},{"$f":"'mnt Data'!AD190","v":0},{"$f":"'mnt Data'!AE190","v":0},{"$f":"'mnt Data'!AF190","v":0},{"$f":"'mnt Data'!AG190","v":0},{"$f":"'mnt Data'!AH190","v":0},{"$f":"'mnt Data'!AI190","v":0},{"$f":"'mnt Data'!AJ190","v":0},{"$f":"'mnt Data'!AK190","v":0}]
[187,0,0,"No Gs",0,"No Gs","No Gs","Gs is needed","Gs is needed","Gs is needed","Need Max and Min","Need Max and Min","Fail",null,{"$f":"'mnt Data'!A191","v":0},{"$f":"'mnt Data'!B191","v":0},{"$f":"'mnt Data'!C191","v":0},{"$f":"'mnt Data'!D191","v":0},{"$f":"'mnt Data'!E191","v":0},{"$f":"'mnt Data'!F191","v":0},{"$f":"'mnt Data'!G191","v":0},{"$f":"'mnt Data'!H191","v":0},{"$f":"'mnt Data'!I191","v":0},{"$f":"'mnt Data'!J191","v":0},{"$f":"'mnt Data'!K191","v":0},{"$f":"'mnt Data'!L191","v":0},{"$f":"'mnt Data'!M191","v":0},{"$f":"'mnt Data'!N191","v":0},{"$f":"'mnt Data'!O191","v":0},{"$f":"'mnt Data'!P191","v":0},{"$f":"'mnt Data'!Q191","v":0},{"$f":"'mnt Data'!R191","v":0},{"$f":"'mnt Data'!S191","v":0},{"$f":"'mnt Data'!T191","v":0},{"$f":"'mnt Data'!U191","v":0},{"$f":"'mnt Data'!V191","v":0},{"$f":"'mnt Data'!W191","v":0},{"$f":"'mnt Data'!X191","v":0},{"$f":"'mnt Data'!Y191","v":0},{"$f":"'mnt Data'!Z191","v":0},{"$f":"'mnt Data'!AA191","v":0},{"$f":"'mnt Data'!AB191","v":0},{"$f":"'mnt Data'!AC191","v":0},{"$f":"'mnt Data'!AD191","v":0},{"$f":"'mnt Data'!AE191","v":0},{"$f":"'mnt Data'!AF191","v":0},{"$f":"'mnt Data'!AG191","v":0},{"$f":"'mnt Data'!AH191","v":0},{"$f":"'mnt Data'!AI191","v":0},{"$f":"'mnt Data'!AJ191","v":0},{"$f":"'mnt Data'!AK191","v":0}]
[188,0,0,"No Gs",0,"No Gs","No Gs","Gs is needed","Gs is needed","Gs is needed","Need Max and Min","Need Max and Min","Fail",null,{"$f":"'mnt Data'!A192","v":0},{"$f":"'mnt Data'!B192","v":0},{"$f":"'mnt Data'!C192","v":0},{"$f":"'mnt Data'!D192","v":0},{"$f":"'mnt Data'!E192","v":0},{"$f":"'mnt Data'!F192","v":0},{"$f":"'mnt Data'!G192","v":0},{"$f":"'mnt Data'!H192","v":0},{"$f":"'mnt Data'!I192","v":0},{"$f":"'mnt Data'!J192","v":0},{"$f":"'mnt Data'!K192","v":0},{"$f":"'mnt Data'!L192","v":0},{"$f":"'mnt Data'!M192","v":0},{"$f":"'mnt Data'!N192","v":0},{"$f":"'mnt Data'!O192","v":0},{"$f":"'mnt Data'!P192","v":0},{"$f":"'mnt Data'!Q192","v":0},{"$f":"'mnt Data'!R192","v":0},{"$f":"'mnt Data'!S192","v":0},{"$f":"'mnt Data'!T192","v":0},{"$f":"'mnt Data'!U192","v":0},{"$f":"'mnt Data'!V192","v":0},{"$f":"'mnt Data'!W192","v":0},{"$f":"'mnt Data'!X192","v":0},{"$f":"'mnt Data'!Y192","v":0},{"$f":"'mnt Data'!Z192","v":0},{"$f":"'mnt Data'!AA192","v":0},{"$f":"'mnt Data'!AB192","v":0},{"$f":"'mnt Data'!AC192","v":0},{"$f":"'mnt Data'!AD192","v":0},{"$f":"'mnt Data'!AE192","v":0},{"$f":"'mnt Data'!AF192","v":0},{"$f":"'mnt Data'!AG192","v":0},{"$f":"'mnt Data'!AH192","v":0},{"$f":"'mnt Data'!AI192","v":0},{"$f":"'mnt Data'!AJ192","v":0},{"$f":"'mnt Data'!AK192","v":0}]
[189,0,0,"No Gs",0,"No Gs","No Gs","Gs is needed","Gs is needed","Gs is needed","Need Max and Min","Need Max and Min","Fail",null,{"$f":"'mnt Data'!A193","v":0},{"$f":"'mnt Data'!B193","v":0},{"$f":"'mnt Data'!C193","v":0},{"$f":"'mnt Data'!D193","v":0},{"$f":"'mnt Data'!E193","v":0},{"$f":"'mnt Data'!F193","v":0},{"$f":"'mnt Data'!G193","v":0},{"$f":"'mnt Data'!H193","v":0},{"$f":"'mnt Data'!I193","v":0},{"$f":"'mnt Data'!J193","v":0},{"$f":"'mnt Data'!K193","v":0},{"$f":"'mnt Data'!L193","v":0},{"$f":"'mnt Data'!M193","v":0},{"$f":"'mnt Data'!N193","v":0},{"$f":"'mnt Data'!O193","v":0},{"$f":"'mnt Data'!P193","v":0},{"$f":"'mnt Data'!Q193","v":0},{"$f":"'mnt Data'!R193","v":0},{"$f":"'mnt Data'!S193","v":0},{"$f":"'mnt Data'!T193","v":0},{"$f":"'mnt Data'!U193","v":0},{"$f":"'mnt Data'!V193","v":0},{"$f":"'mnt Data'!W193","v":0},{"$f":"'mnt Data'!X193","v":0},{"$f":"'mnt Data'!Y193","v":0},{"$f":"'mnt Data'!Z193","v":0},{"$f":"'mnt Data'!AA193","v":0},{"$f":"'mnt Data'!AB193","v":0},{"$f":"'mnt Data'!AC193","v":0},{"$f":"'mnt Data'!AD193","v":0},{"$f":"'mnt Data'!AE193","v":0},{"$f":"'mnt Data'!AF193","v":0},{"$f":"'mnt Data'!AG193","v":0},{"$f":"'mnt Data'!AH193","v":0},{"$f":"'mnt Data'!AI193","v":0},{"$f":"'mnt Data'!AJ193","v":0},{"$f":"'mnt Data'!AK193","v":0}]
[190,0,0,"No Gs",0,"No Gs","No Gs","Gs is needed","Gs is needed","Gs is needed","Need Max and Min","Need Max and Min","Fail",null,{"$f":"'mnt Data'!A194","v":0},{"$f":"'mnt Data'!B194","v":0},{"$f":"'mnt Data'!C194","v":0},{"$f":"'mnt Data'!D194","v":0},{"$f":"'mnt Data'!E194","v":0},{"$f":"'mnt Data'!F194","v":0},{"$f":"'mnt Data'!G194","v":0},{"$f":"'mnt Data'!H194","v":0},{"$f":"'mnt Data'!I194","v":0},{"$f":"'mnt Data'!J194","v":0},{"$f":"'mnt Data'!K194","v":0},{"$f":"'mnt Data'!L194","v":0},{"$f":"'mnt Data'!M194","v":0},{"$f":"'mnt Data'!N194","v":0},{"$f":"'mnt Data'!O194","v":0},{"$f":"'mnt Data'!P194","v":0},{"$f":"'mnt Data'!Q194","v":0},{"$f":"'mnt Data'!R194","v":0},{"$f":"'mnt Data'!S194","v":0},{"$f":"'mnt Data'!T194","v":0},{"$f":"'mnt Data'!U194","v":0},{"$f":"'mnt Data'!V194","v":0},{"$f":"'mnt Data'!W194","v":0},{"$f":"'mnt Data'!X194","v":0},{"$f":"'mnt Data'!Y194","v":0},{"$f":"'mnt Data'!Z194","v":0},{"$f":"'mnt Data'!AA194","v":0},{"$f":"'mnt Data'!AB194","v":0},{"$f":"'mnt Data'!AC194","v":0},{"$f":"'mnt Data'!AD194","v":0},{"$f":"'mnt Data'!AE194","v":0},{"$f":"'mnt Data'!AF194","v":0},{"$f":"'mnt Data'!AG194","v":0},{"$f":"'mnt Data'!AH194","v":0},{"$f":"'mnt Data'!AI194","v":0},{"$f":"'mnt Data'!AJ194","v":0},{"$f":"'mnt Data'!AK194","v":0}]
[191,0,0,"No Gs",0,"No Gs","No Gs","Gs is needed","Gs is needed","Gs is needed","Need Max and Min","Need Max and Min","Fail",null,{"$f":"'mnt Data'!A195","v":0},{"$f":"'mnt Data'!B195","v":0},{"$f":"'mnt Data'!C195","v":0},{"$f":"'mnt Data'!D195","v":0},{"$f":"'mnt Data'!E195","v":0},{"$f":"'mnt Data'!F195","v":0},{"$f":"'mnt Data'!G195","v":0},{"$f":"'mnt Data'!H195","v":0},{"$f":"'mnt Data'!I195","v":0},{"$f":"'mnt Data'!J195","v":0},{"$f":"'mnt Data'!K195","v":0},{"$f":"'mnt Data'!L195","v":0},{"$f":"'mnt Data'!M195","v":0},{"$f":"'mnt Data'!N195","v":0},{"$f":"'mnt Data'!O195","v":0},{"$f":"'mnt Data'!P195","v":0},{"$f":"'mnt Data'!Q195","v":0},{"$f":"'mnt Data'!R195","v":0},{"$f":"'mnt Data'!S195","v":0},{"$f":"'mnt Data'!T195","v":0},{"$f":"'mnt Data'!U195","v":0},{"$f":"'mnt Data'!V195","v":0},{"$f":"'mnt Data'!W195","v":0},{"$f":"'mnt Data'!X195","v":0},{"$f":"'mnt Data'!Y195","v":0},{"$f":"'mnt Data'!Z195","v":0},{"$f":"'mnt Data'!AA195","v":0},{"$f":"'mnt Data'!AB195","v":0},{"$f":"'mnt Data'!AC195","v":0},{"$f":"'mnt Data'!AD195","v":0},{"$f":"'mnt Data'!AE195","v":0},{"$f":"'mnt Data'!AF195","v":0},{"$f":"'mnt Data'!AG195","v":0},{"$f":"'mnt Data'!AH195","v":0},{"$f":"'mnt Data'!AI195","v":0},{"$f":"'mnt Data'!AJ195","v":0},{"$f":"'mnt Data'!AK195","v":0}]
[192,0,0,"No Gs",0,"No Gs","No Gs","Gs is needed","Gs is needed","Gs is needed","Need Max and Min","Need Max and Min","Fail",null,{"$f":"'mnt Data'!A196","v":0},{"$f":"'mnt Data'!B196","v":0},{"$f":"'mnt Data'!C196","v":0},{"$f":"'mnt Data'!D196","v":0},{"$f":"'mnt Data'!E196","v":0},{"$f":"'mnt Data'!F196","v":0},{"$f":"'mnt Data'!G196","v":0},{"$f":"'mnt Data'!H196","v":0},{"$f":"'mnt Data'!I196","v":0},{"$f":"'mnt Data'!J196","v":0},{"$f":"'mnt Data'!K196","v":0},{"$f":"'mnt Data'!L196","v":0},{"$f":"'mnt Data'!M196","v":0},{"$f":"'mnt Data'!N196","v":0},{"$f":"'mnt Data'!O196","v":0},{"$f":"'mnt Data'!P196","v":0},{"$f":"'mnt Data'!Q196","v":0},{"$f":"'mnt Data'!R196","v":0},{"$f":"'mnt Data'!S196","v":0},{"$f":"'mnt Data'!T196","v":0},{"$f":"'mnt Data'!U196","v":0},{"$f":"'mnt Data'!V196","v":0},{"$f":"'mnt Data'!W196","v":0},{"$f":"'mnt Data'!X196","v":0},{"$f":"'mnt Data'!Y196","v":0},{"$f":"'mnt Data'!Z196","v":0},{"$f":"'mnt Data'!AA196","v":0},{"$f":"'mnt Data'!AB196","v":0},{"$f":"'mnt Data'!AC196","v":0},{"$f":"'mnt Data'!AD196","v":0},{"$f":"'mnt Data'!AE196","v":0},{"$f":"'mnt Data'!AF196","v":0},{"$f":"'mnt Data'!AG196","v":0},{"$f":"'mnt Data'!AH196","v":0},{"$f":"'mnt Data'!AI196","v":0},{"$f":"'mnt Data'!AJ196","v":0},{"$f":"'mnt Data'!AK196","v":0}]
[193,0,0,{"$f":"IFERROR(B194/(Gs*(IF(O194>1000,998,62.4))),\"No Gs\")","v":"No Gs"},0,"No Gs","No Gs","Gs is needed","Gs is needed","Gs is needed",{"$f":"IFERROR((100*(DMax*(O194-DMin))/(O194*(DMax-DMin))),\"Need Max and Min\")","v":"Need Max and Min"},{"$f":"IF(K194=\"Need Max and Min\",K194,(100*((O194-DMin)/(DMax-DMin))))","v":"Need Max and Min"},{"$f":"IF((Min+Max)=0,\"Need Max and Min Density\",IF(AND(S194>Min,S194<Max),\"Pass\",\"Fail\"))","v":"Fail"},null,{"$f":"'mnt Data'!A197","v":0},{"$f":"'mnt Data'!B197","v":0},{"$f":"'mnt Data'!C197","v":0},{"$f":"'mnt Data'!D197","v":0},{"$f":"'mnt Data'!E197","v":0},{"$f":"'mnt Data'!F197","v":0},{"$f":"'mnt Data'!G197","v":0},{"$f":"'mnt Data'!H197","v":0},{"$f":"'mnt Data'!I197","v":0},{"$f":"'mnt Data'!J197","v":0},{"$f":"'mnt Data'!K197","v":0},{"$f":"'mnt Data'!L197","v":0},{"$f":"'mnt Data'!M197","v":0},{"$f":"'mnt Data'!N197","v":0},{"$f":"'mnt Data'!O197","v":0},{"$f":"'mnt Data'!P197","v":0},{"$f":"'mnt Data'!Q197","v":0},{"$f":"'mnt Data'!R197","v":0},{"$f":"'mnt Data'!S197","v":0},{"$f":"'mnt Data'!T197","v":0},{"$f":"'mnt Data'!U197","v":0},{"$f":"'mnt Data'!V197","v":0},{"$f":"'mnt Data'!W197","v":0},{"$f":"'mnt Data'!X197","v":0},{"$f":"'mnt Data'!Y197","v":0},{"$f":"'mnt Data'!Z197","v":0},{"$f":"'mnt Data'!AA197","v":0},{"$f":"'mnt Data'!AB197","v":0},{"$f":"'mnt Data'!AC197","v":0},{"$f":"'mnt Data'!AD197","v":0},{"$f":"'mnt Data'!AE197","v":0},{"$f":"'mnt Data'!AF197","v":0},{"$f":"'mnt Data'!AG197","v":0},{"$f":"'mnt Data'!AH197","v":0},{"$f":"'mnt Data'!AI197","v":0},{"$f":"'mnt Data'!AJ197","v":0},{"$f":"'mnt Data'!AK197","v":0}]
[194,0,0,"No Gs",{"$f":"C195/(IF(O195>1000,998,62.4))","v":0},{"$f":"IFERROR(1-D195-E195,\"No Gs\")","v":"No Gs"},{"$f":"IFERROR(E195+F195,\"No Gs\")","v":"No Gs"},"Gs is needed","Gs is needed","Gs is needed","Need Max and Min","Need Max and Min","Fail",null,{"$f":"'mnt Data'!A198","v":0},{"$f":"'mnt Data'!B198","v":0},{"$f":"'mnt Data'!C198","v":0},{"$f":"'mnt Data'!D198","v":0},{"$f":"'mnt Data'!E198","v":0},{"$f":"'mnt Data'!F198","v":0},{"$f":"'mnt Data'!G198","v":0},{"$f":"'mnt Data'!H198","v":0},{"$f":"'mnt Data'!I198","v":0},{"$f":"'mnt Data'!J198","v":0},{"$f":"'mnt Data'!K198","v":0},{"$f":"'mnt Data'!L198","v":0},{"$f":"'mnt Data'!M198","v":0},{"$f":"'mnt Data'!N198","v":0},{"$f":"'mnt Data'!O198","v":0},{"$f":"'mnt Data'!P198","v":0},{"$f":"'mnt Data'!Q198","v":0},{"$f":"'mnt Data'!R198","v":0},{"$f":"'mnt Data'!S198","v":0},{"$f":"'mnt Data'!T198","v":0},{"$f":"'mnt Data'!U198","v":0},{"$f":"'mnt Data'!V198","v":0},{"$f":"'mnt Data'!W198","v":0},{"$f":"'mnt Data'!X198","v":0},{"$f":"'mnt Data'!Y198","v":0},{"$f":"'mnt Data'!Z198","v":0},{"$f":"'mnt Data'!AA198","v":0},{"$f":"'mnt Data'!AB198","v":0},{"$f":"'mnt Data'!AC198","v":0},{"$f":"'mnt Data'!AD198","v":0},{"$f":"'mnt Data'!AE198","v":0},{"$f":"'mnt Data'!AF198","v":0},{"$f":"'mnt Data'!AG198","v":0},{"$f":"'mnt Data'!AH198","v":0},{"$f":"'mnt Data'!AI198","v":0},{"$f":"'mnt Data'!AJ198","v":0},{"$f":"'mnt Data'!AK198","v":0}]
[195,0,0,"No Gs",0,"No Gs","No Gs","Gs is needed","Gs is needed","Gs is needed","Need Max and Min","Need Max and Min","Fail",null,{"$f":"'mnt Data'!A199","v":0},{"$f":"'mnt Data'!B199","v":0},{"$f":"'mnt Data'!C199","v":0},{"$f":"'mnt Data'!D199","v":0},{"$f":"'mnt Data'!E199","v":0},{"$f":"'mnt Data'!F199","v":0},{"$f":"'mnt Data'!G199","v":0},{"$f":"'mnt Data'!H199","v":0},{"$f":"'mnt Data'!I199","v":0},{"$f":"'mnt Data'!J199","v":0},{"$f":"'mnt Data'!K199","v":0},{"$f":"'mnt Data'!L199","v":0},{"$f":"'mnt Data'!M199","v":0},{"$f":"'mnt Data'!N199","v":0},{"$f":"'mnt Data'!O199","v":0},{"$f":"'mnt Data'!P199","v":0},{"$f":"'mnt Data'!Q199","v":0},{"$f":"'mnt Data'!R199","v":0},{"$f":"'mnt Data'!S199","v":0},{"$f":"'mnt Data'!T199","v":0},{"$f":"'mnt Data'!U199","v":0},{"$f":"'mnt Data'!V199","v":0},{"$f":"'mnt Data'!W199","v":0},{"$f":"'mnt Data'!X199","v":0},{"$f":"'mnt Data'!Y199","v":0},{"$f":"'mnt Data'!Z199","v":0},{"$f":"'mnt Data'!AA199","v":0},{"$f":"'mnt Data'!AB199","v":0},{"$f":"'mnt Data'!AC199","v":0},{"$f":"'mnt Data'!AD199","v":0},{"$f":"'mnt Data'!AE199","v":0},{"$f":"'mnt Data'!AF199","v":0},{"$f":"'mnt Data'!AG199","v":0},{"$f":"'mnt Data'!AH199","v":0},{"$f":"'mnt Data'!AI199","v":0},{"$f":"'mnt Data'!AJ199","v":0},{"$f":"'mnt Data'!AK199","v":0}]
[196,0,0,"No Gs",0,"No Gs","No Gs","Gs is needed","Gs is needed","Gs is needed","Need Max and Min","Need Max and Min","Fail",null,{"$f":"'mnt Data'!A200","v":0},{"$f":"'mnt Data'!B200","v":0},{"$f":"'mnt Data'!C200","v":0},{"$f":"'mnt Data'!D200","v":0},{"$f":"'mnt Data'!E200","v":0},{"$f":"'mnt Data'!F200","v":0},{"$f":"'mnt Data'!G200","v":0},{"$f":"'mnt Data'!H200","v":0},{"$f":"'mnt Data'!I200","v":0},{"$f":"'mnt Data'!J200","v":0},{"$f":"'mnt Data'!K200","v":0},{"$f":"'mnt Data'!L200","v":0},{"$f":"'mnt Data'!M200","v":0},{"$f":"'mnt Data'!N200","v":0},{"$f":"'mnt Data'!O200","v":0},{"$f":"'mnt Data'!P200","v":0},{"$f":"'mnt Data'!Q200","v":0},{"$f":"'mnt Data'!R200","v":0},{"$f":"'mnt Data'!S200","v":0},{"$f":"'mnt Data'!T200","v":0},{"$f":"'mnt Data'!U200","v":0},{"$f":"'mnt Data'!V200","v":0},{"$f":"'mnt Data'!W200","v":0},{"$f":"'mnt Data'!X200","v":0},{"$f":"'mnt Data'!Y200","v":0},{"$f":"'mnt Data'!Z200","v":0},{"$f":"'mnt Data'!AA200","v":0},{"$f":"'mnt Data'!AB200","v":0},{"$f":"'mnt Data'!AC200","v":0},{"$f":"'mnt Data'!AD200","v":0},{"$f":"'mnt Data'!AE200","v":0},{"$f":"'mnt Data'!AF200","v":0},{"$f":"'mnt Data'!AG200","v":0},{"$f":"'mnt Data'!AH200","v":0},{"$f":"'mnt Data'!AI200","v":0},{"$f":"'mnt Data'!AJ200","v":0},{"$f":"'mnt Data'!AK200","v":0}]
[197,0,0,"No Gs",0,"No Gs","No Gs","Gs is needed","Gs is needed","Gs is needed","Need Max and Min","Need Max and Min","Fail",null,{"$f":"'mnt Data'!A201","v":0},{"$f":"'mnt Data'!B201","v":0},{"$f":"'mnt Data'!C201","v":0},{"$f":"'mnt Data'!D201","v":0},{"$f":"'mnt Data'!E201","v":0},{"$f":"'mnt Data'!F201","v":0},{"$f":"'mnt Data'!G201","v":0},{"$f":"'mnt Data'!H201","v":0},{"$f":"'mnt Data'!I201","v":0},{"$f":"'mnt Data'!J201","v":0},{"$f":"'mnt Data'!K201","v":0},{"$f":"'mnt Data'!L201","v":0},{"$f":"'mnt Data'!M201","v":0},{"$f":"'mnt Data'!N201","v":0},{"$f":"'mnt Data'!O201","v":0},{"$f":"'mnt Data'!P201","v":0},{"$f":"'mnt Data'!Q201","v":0},{"$f":"'mnt Data'!R201","v":0},{"$f":"'mnt Data'!S201","v":0},{"$f":"'mnt Data'!T201","v":0},{"$f":"'mnt Data'!U201","v":0},{"$f":"'mnt Data'!V201","v":0},{"$f":"'mnt Data'!W201","v":0},{"$f":"'mnt Data'!X201","v":0},{"$f":"'mnt Data'!Y201","v":0},{"$f":"'mnt Data'!Z201","v":0},{"$f":"'mnt Data'!AA201","v":0},{"$f":"'mnt Data'!AB201","v":0},{"$f":"'mnt Data'!AC201","v":0},{"$f":"'mnt Data'!AD201","v":0},{"$f":"'mnt Data'!AE201","v":0},{"$f":"'mnt Data'!AF201","v":0},{"$f":"'mnt Data'!AG201","v":0},{"$f":"'mnt Data'!AH201","v":0},{"$f":"'mnt Data'!AI201","v":0},{"$f":"'mnt Data'!AJ201","v":0},{"$f":"'mnt Data'!AK201","v":0}]
[198,0,0,"No Gs",0,"No Gs","No Gs","Gs is needed","Gs is needed","Gs is needed","Need Max and Min","Need Max and Min","Fail",null,{"$f":"'mnt Data'!A202","v":0},{"$f":"'mnt Data'!B202","v":0},{"$f":"'mnt Data'!C202","v":0},{"$f":"'mnt Data'!D202","v":0},{"$f":"'mnt Data'!E202","v":0},{"$f":"'mnt Data'!F202","v":0},{"$f":"'mnt Data'!G202","v":0},{"$f":"'mnt Data'!H202","v":0},{"$f":"'mnt Data'!I202","v":0},{"$f":"'mnt Data'!J202","v":0},{"$f":"'mnt Data'!K202","v":0},{"$f":"'mnt Data'!L202","v":0},{"$f":"'mnt Data'!M202","v":0},{"$f":"'mnt Data'!N202","v":0},{"$f":"'mnt Data'!O202","v":0},{"$f":"'mnt Data'!P202","v":0},{"$f":"'mnt Data'!Q202","v":0},{"$f":"'mnt Data'!R202","v":0},{"$f":"'mnt Data'!S202","v":0},{"$f":"'mnt Data'!T202","v":0},{"$f":"'mnt Data'!U202","v":0},{"$f":"'mnt Data'!V202","v":0},{"$f":"'mnt Data'!W202","v":0},{"$f":"'mnt Data'!X202","v":0},{"$f":"'mnt Data'!Y202","v":0},{"$f":"'mnt Data'!Z202","v":0},{"$f":"'mnt Data'!AA202","v":0},{"$f":"'mnt Data'!AB202","v":0},{"$f":"'mnt Data'!AC202","v":0},{"$f":"'mnt Data'!AD202","v":0},{"$f":"'mnt Data'!AE202","v":0},{"$f":"'mnt Data'!AF202","v":0},{"$f":"'mnt Data'!AG202","v":0},{"$f":"'mnt Data'!AH202","v":0},{"$f":"'mnt Data'!AI202","v":0},{"$f":"'mnt Data'!AJ202","v":0},{"$f":"'mnt Data'!AK202","v":0}]
[199,0,0,"No Gs",0,"No Gs","No Gs","Gs is needed","Gs is needed","Gs is needed","Need Max and Min","Need Max and Min","Fail",null,{"$f":"'mnt Data'!A203","v":0},{"$f":"'mnt Data'!B203","v":0},{"$f":"'mnt Data'!C203","v":0},{"$f":"'mnt Data'!D203","v":0},{"$f":"'mnt Data'!E203","v":0},{"$f":"'mnt Data'!F203","v":0},{"$f":"'mnt Data'!G203","v":0},{"$f":"'mnt Data'!H203","v":0},{"$f":"'mnt Data'!I203","v":0},{"$f":"'mnt Data'!J203","v":0},{"$f":"'mnt Data'!K203","v":0},{"$f":"'mnt Data'!L203","v":0},{"$f":"'mnt Data'!M203","v":0},{"$f":"'mnt Data'!N203","v":0},{"$f":"'mnt Data'!O203","v":0},{"$f":"'mnt Data'!P203","v":0},{"$f":"'mnt Data'!Q203","v":0},{"$f":"'mnt Data'!R203","v":0},{"$f":"'mnt Data'!S203","v":0},{"$f":"'mnt Data'!T203","v":0},{"$f":"'mnt Data'!U203","v":0},{"$f":"'mnt Data'!V203","v":0},{"$f":"'mnt Data'!W203","v":0},{"$f":"'mnt Data'!X203","v":0},{"$f":"'mnt Data'!Y203","v":0},{"$f":"'mnt Data'!Z203","v":0},{"$f":"'mnt Data'!AA203","v":0},{"$f":"'mnt Data'!AB203","v":0},{"$f":"'mnt Data'!AC203","v":0},{"$f":"'mnt Data'!AD203","v":0},{"$f":"'mnt Data'!AE203","v":0},{"$f":"'mnt Data'!AF203","v":0},{"$f":"'mnt Data'!AG203","v":0},{"$f":"'mnt Data'!AH203","v":0},{"$f":"'mnt Data'!AI203","v":0},{"$f":"'mnt Data'!AJ203","v":0},{"$f":"'mnt Data'!AK203","v":0}]
[200,0,0,"No Gs",0,"No Gs","No Gs","Gs is needed","Gs is needed","Gs is needed","Need Max and Min","Need Max and Min","Fail",null,{"$f":"'mnt Data'!A204","v":0},{"$f":"'mnt Data'!B204","v":0},{"$f":"'mnt Data'!C204","v":0},{"$f":"'mnt Data'!D204","v":0},{"$f":"'mnt Data'!E204","v":0},{"$f":"'mnt Data'!F204","v":0},{"$f":"'mnt Data'!G204","v":0},{"$f":"'mnt Data'!H204","v":0},{"$f":"'mnt Data'!I204","v":0},{"$f":"'mnt Data'!J204","v":0},{"$f":"'mnt Data'!K204","v":0},{"$f":"'mnt Data'!L204","v":0},{"$f":"'mnt Data'!M204","v":0},{"$f":"'mnt Data'!N204","v":0},{"$f":"'mnt Data'!O204","v":0},{"$f":"'mnt Data'!P204","v":0},{"$f":"'mnt Data'!Q204","v":0},{"$f":"'mnt Data'!R204","v":0},{"$f":"'mnt Data'!S204","v":0},{"$f":"'mnt Data'!T204","v":0},{"$f":"'mnt Data'!U204","v":0},{"$f":"'mnt Data'!V204","v":0},{"$f":"'mnt Data'!W204","v":0},{"$f":"'mnt Data'!X204","v":0},{"$f":"'mnt Data'!Y204","v":0},{"$f":"'mnt Data'!Z204","v":0},{"$f":"'mnt Data'!AA204","v":0},{"$f":"'mnt Data'!AB204","v":0},{"$f":"'mnt Data'!AC204","v":0},{"$f":"'mnt Data'!AD204","v":0},{"$f":"'mnt Data'!AE204","v":0},{"$f":"'mnt Data'!AF204","v":0},{"$f":"'mnt Data'!AG204","v":0},{"$f":"'mnt Data'!AH204","v":0},{"$f":"'mnt Data'!AI204","v":0},{"$f":"'mnt Data'!AJ204","v":0},{"$f":"'mnt Data'!AK204","v":0}]
[201,0,0,"No Gs",0,"No Gs","No Gs","Gs is needed","Gs is needed","Gs is needed","Need Max and Min","Need Max and Min","Fail",null,{"$f":"'mnt Data'!A205","v":0},{"$f":"'mnt Data'!B205","v":0},{"$f":"'mnt Data'!C205","v":0},{"$f":"'mnt Data'!D205","v":0},{"$f":"'mnt Data'!E205","v":0},{"$f":"'mnt Data'!F205","v":0},{"$f":"'mnt Data'!G205","v":0},{"$f":"'mnt Data'!H205","v":0},{"$f":"'mnt Data'!I205","v":0},{"$f":"'mnt Data'!J205","v":0},{"$f":"'mnt Data'!K205","v":0},{"$f":"'mnt Data'!L205","v":0},{"$f":"'mnt Data'!M205","v":0},{"$f":"'mnt Data'!N205","v":0},{"$f":"'mnt Data'!O205","v":0},{"$f":"'mnt Data'!P205","v":0},{"$f":"'mnt Data'!Q205","v":0},{"$f":"'mnt Data'!R205","v":0},{"$f":"'mnt Data'!S205","v":0},{"$f":"'mnt Data'!T205","v":0},{"$f":"'mnt Data'!U205","v":0},{"$f":"'mnt Data'!V205","v":0},{"$f":"'mnt Data'!W205","v":0},{"$f":"'mnt Data'!X205","v":0},{"$f":"'mnt Data'!Y205","v":0},{"$f":"'mnt Data'!Z205","v":0},{"$f":"'mnt Data'!AA205","v":0},{"$f":"'mnt Data'!AB205","v":0},{"$f":"'mnt Data'!AC205","v":0},{"$f":"'mnt Data'!AD205","v":0},{"$f":"'mnt Data'!AE205","v":0},{"$f":"'mnt Data'!AF205","v":0},{"$f":"'mnt Data'!AG205","v":0},{"$f":"'mnt Data'!AH205","v":0},{"$f":"'mnt Data'!AI205","v":0},{"$f":"'mnt Data'!AJ205","v":0},{"$f":"'mnt Data'!AK205","v":0}]
[202,0,0,"No Gs",0,"No Gs","No Gs","Gs is needed","Gs is needed","Gs is needed","Need Max and Min","Need Max and Min","Fail",null,{"$f":"'mnt Data'!A206","v":0},{"$f":"'mnt Data'!B206","v":0},{"$f":"'mnt Data'!C206","v":0},{"$f":"'mnt Data'!D206","v":0},{"$f":"'mnt Data'!E206","v":0},{"$f":"'mnt Data'!F206","v":0},{"$f":"'mnt Data'!G206","v":0},{"$f":"'mnt Data'!H206","v":0},{"$f":"'mnt Data'!I206","v":0},{"$f":"'mnt Data'!J206","v":0},{"$f":"'mnt Data'!K206","v":0},{"$f":"'mnt Data'!L206","v":0},{"$f":"'mnt Data'!M206","v":0},{"$f":"'mnt Data'!N206","v":0},{"$f":"'mnt Data'!O206","v":0},{"$f":"'mnt Data'!P206","v":0},{"$f":"'mnt Data'!Q206","v":0},{"$f":"'mnt Data'!R206","v":0},{"$f":"'mnt Data'!S206","v":0},{"$f":"'mnt Data'!T206","v":0},{"$f":"'mnt Data'!U206","v":0},{"$f":"'mnt Data'!V206","v":0},{"$f":"'mnt Data'!W206","v":0},{"$f":"'mnt Data'!X206","v":0},{"$f":"'mnt Data'!Y206","v":0},{"$f":"'mnt Data'!Z206","v":0},{"$f":"'mnt Data'!AA206","v":0},{"$f":"'mnt Data'!AB206","v":0},{"$f":"'mnt Data'!AC206","v":0},{"$f":"'mnt Data'!AD206","v":0},{"$f":"'mnt Data'!AE206","v":0},{"$f":"'mnt Data'!AF206","v":0},{"$f":"'mnt Data'!AG206","v":0},{"$f":"'mnt Data'!AH206","v":0},{"$f":"'mnt Data'!AI206","v":0},{"$f":"'mnt Data'!AJ206","v":0},{"$f":"'mnt Data'!AK206","v":0}]
[203,0,0,"No Gs",0,"No Gs","No Gs","Gs is needed","Gs is needed","Gs is needed","Need Max and Min","Need Max and Min","Fail",null,{"$f":"'mnt Data'!A207","v":0},{"$f":"'mnt Data'!B207","v":0},{"$f":"'mnt Data'!C207","v":0},{"$f":"'mnt Data'!D207","v":0},{"$f":"'mnt Data'!E207","v":0},{"$f":"'mnt Data'!F207","v":0},{"$f":"'mnt Data'!G207","v":0},{"$f":"'mnt Data'!H207","v":0},{"$f":"'mnt Data'!I207","v":0},{"$f":"'mnt Data'!J207","v":0},{"$f":"'mnt Data'!K207","v":0},{"$f":"'mnt Data'!L207","v":0},{"$f":"'mnt Data'!M207","v":0},{"$f":"'mnt Data'!N207","v":0},{"$f":"'mnt Data'!O207","v":0},{"$f":"'mnt Data'!P207","v":0},{"$f":"'mnt Data'!Q207","v":0},{"$f":"'mnt Data'!R207","v":0},{"$f":"'mnt Data'!S207","v":0},{"$f":"'mnt Data'!T207","v":0},{"$f":"'mnt Data'!U207","v":0},{"$f":"'mnt Data'!V207","v":0},{"$f":"'mnt Data'!W207","v":0},{"$f":"'mnt Data'!X207","v":0},{"$f":"'mnt Data'!Y207","v":0},{"$f":"'mnt Data'!Z207","v":0},{"$f":"'mnt Data'!AA207","v":0},{"$f":"'mnt Data'!AB207","v":0},{"$f":"'mnt Data'!AC207","v":0},{"$f":"'mnt Data'!AD207","v":0},{"$f":"'mnt Data'!AE207","v":0},{"$f":"'mnt Data'!AF207","v":0},{"$f":"'mnt Data'!AG207","v":0},{"$f":"'mnt Data'!AH207","v":0},{"$f":"'mnt Data'!AI207","v":0},{"$f":"'mnt Data'!AJ207","v":0},{"$f":"'mnt Data'!AK207","v":0}]
[204,0,0,"No Gs",0,"No Gs","No Gs","Gs is needed","Gs is needed","Gs is needed","Need Max and Min","Need Max and Min","Fail",null,{"$f":"'mnt Data'!A208","v":0},{"$f":"'mnt Data'!B208","v":0},{"$f":"'mnt Data'!C208","v":0},{"$f":"'mnt Data'!D208","v":0},{"$f":"'mnt Data'!E208","v":0},{"$f":"'mnt Data'!F208","v":0},{"$f":"'mnt Data'!G208","v":0},{"$f":"'mnt Data'!H208","v":0},{"$f":"'mnt Data'!I208","v":0},{"$f":"'mnt Data'!J208","v":0},{"$f":"'mnt Data'!K208","v":0},{"$f":"'mnt Data'!L208","v":0},{"$f":"'mnt Data'!M208","v":0},{"$f":"'mnt Data'!N208","v":0},{"$f":"'mnt Data'!O208","v":0},{"$f":"'mnt Data'!P208","v":0},{"$f":"'mnt Data'!Q208","v":0},{"$f":"'mnt Data'!R208","v":0},{"$f":"'mnt Data'!S208","v":0},{"$f":"'mnt Data'!T208","v":0},{"$f":"'mnt Data'!U208","v":0},{"$f":"'mnt Data'!V208","v":0},{"$f":"'mnt Data'!W208","v":0},{"$f":"'mnt Data'!X208","v":0},{"$f":"'mnt Data'!Y208","v":0},{"$f":"'mnt Data'!Z208","v":0},{"$f":"'mnt Data'!AA208","v":0},{"$f":"'mnt Data'!AB208","v":0},{"$f":"'mnt Data'!AC208","v":0},{"$f":"'mnt Data'!AD208","v":0},{"$f":"'mnt Data'!AE208","v":0},{"$f":"'mnt Data'!AF208","v":0},{"$f":"'mnt Data'!AG208","v":0},{"$f":"'mnt Data'!AH208","v":0},{"$f":"'mnt Data'!AI208","v":0},{"$f":"'mnt Data'!AJ208","v":0},{"$f":"'mnt Data'!AK208","v":0}]
[205,0,0,"No Gs",0,"No Gs","No Gs","Gs is needed","Gs is needed","Gs is needed","Need Max and Min","Need Max and Min","Fail",null,{"$f":"'mnt Data'!A209","v":0},{"$f":"'mnt Data'!B209","v":0},{"$f":"'mnt Data'!C209","v":0},{"$f":"'mnt Data'!D209","v":0},{"$f":"'mnt Data'!E209","v":0},{"$f":"'mnt Data'!F209","v":0},{"$f":"'mnt Data'!G209","v":0},{"$f":"'mnt Data'!H209","v":0},{"$f":"'mnt Data'!I209","v":0},{"$f":"'mnt Data'!J209","v":0},{"$f":"'mnt Data'!K209","v":0},{"$f":"'mnt Data'!L209","v":0},{"$f":"'mnt Data'!M209","v":0},{"$f":"'mnt Data'!N209","v":0},{"$f":"'mnt Data'!O209","v":0},{"$f":"'mnt Data'!P209","v":0},{"$f":"'mnt Data'!Q209","v":0},{"$f":"'mnt Data'!R209","v":0},{"$f":"'mnt Data'!S209","v":0},{"$f":"'mnt Data'!T209","v":0},{"$f":"'mnt Data'!U209","v":0},{"$f":"'mnt Data'!V209","v":0},{"$f":"'mnt Data'!W209","v":0},{"$f":"'mnt Data'!X209","v":0},{"$f":"'mnt Data'!Y209","v":0},{"$f":"'mnt Data'!Z209","v":0},{"$f":"'mnt Data'!AA209","v":0},{"$f":"'mnt Data'!AB209","v":0},{"$f":"'mnt Data'!AC209","v":0},{"$f":"'mnt Data'!AD209","v":0},{"$f":"'mnt Data'!AE209","v":0},{"$f":"'mnt Data'!AF209","v":0},{"$f":"'mnt Data'!AG209","v":0},{"$f":"'mnt Data'!AH209","v":0},{"$f":"'mnt Data'!AI209","v":0},{"$f":"'mnt Data'!AJ209","v":0},{"$f":"'mnt Data'!AK209","v":0}]
[206,0,0,"No Gs",0,"No Gs","No Gs","Gs is needed","Gs is needed","Gs is needed","Need Max and Min","Need Max and Min","Fail",null,{"$f":"'mnt Data'!A210","v":0},{"$f":"'mnt Data'!B210","v":0},{"$f":"'mnt Data'!C210","v":0},{"$f":"'mnt Data'!D210","v":0},{"$f":"'mnt Data'!E210","v":0},{"$f":"'mnt Data'!F210","v":0},{"$f":"'mnt Data'!G210","v":0},{"$f":"'mnt Data'!H210","v":0},{"$f":"'mnt Data'!I210","v":0},{"$f":"'mnt Data'!J210","v":0},{"$f":"'mnt Data'!K210","v":0},{"$f":"'mnt Data'!L210","v":0},{"$f":"'mnt Data'!M210","v":0},{"$f":"'mnt Data'!N210","v":0},{"$f":"'mnt Data'!O210","v":0},{"$f":"'mnt Data'!P210","v":0},{"$f":"'mnt Data'!Q210","v":0},{"$f":"'mnt Data'!R210","v":0},{"$f":"'mnt Data'!S210","v":0},{"$f":"'mnt Data'!T210","v":0},{"$f":"'mnt Data'!U210","v":0},{"$f":"'mnt Data'!V210","v":0},{"$f":"'mnt Data'!W210","v":0},{"$f":"'mnt Data'!X210","v":0},{"$f":"'mnt Data'!Y210","v":0},{"$f":"'mnt Data'!Z210","v":0},{"$f":"'mnt Data'!AA210","v":0},{"$f":"'mnt Data'!AB210","v":0},{"$f":"'mnt Data'!AC210","v":0},{"$f":"'mnt Data'!AD210","v":0},{"$f":"'mnt Data'!AE210","v":0},{"$f":"'mnt Data'!AF210","v":0},{"$f":"'mnt Data'!AG210","v":0},{"$f":"'mnt Data'!AH210","v":0},{"$f":"'mnt Data'!AI210","v":0},{"$f":"'mnt Data'!AJ210","v":0},{"$f":"'mnt Data'!AK210","v":0}]
[207,0,0,"No Gs",0,"No Gs","No Gs","Gs is needed","Gs is needed","Gs is needed","Need Max and Min","Need Max and Min","Fail",null,{"$f":"'mnt Data'!A211","v":0},{"$f":"'mnt Data'!B211","v":0},{"$f":"'mnt Data'!C211","v":0},{"$f":"'mnt Data'!D211","v":0},{"$f":"'mnt Data'!E211","v":0},{"$f":"'mnt Data'!F211","v":0},{"$f":"'mnt Data'!G211","v":0},{"$f":"'mnt Data'!H211","v":0},{"$f":"'mnt Data'!I211","v":0},{"$f":"'mnt Data'!J211","v":0},{"$f":"'mnt Data'!K211","v":0},{"$f":"'mnt Data'!L211","v":0},{"$f":"'mnt Data'!M211","v":0},{"$f":"'mnt Data'!N211","v":0},{"$f":"'mnt Data'!O211","v":0},{"$f":"'mnt Data'!P211","v":0},{"$f":"'mnt Data'!Q211","v":0},{"$f":"'mnt Data'!R211","v":0},{"$f":"'mnt Data'!S211","v":0},{"$f":"'mnt Data'!T211","v":0},{"$f":"'mnt Data'!U211","v":0},{"$f":"'mnt Data'!V211","v":0},{"$f":"'mnt Data'!W211","v":0},{"$f":"'mnt Data'!X211","v":0},{"$f":"'mnt Data'!Y211","v":0},{"$f":"'mnt Data'!Z211","v":0},{"$f":"'mnt Data'!AA211","v":0},{"$f":"'mnt Data'!AB211","v":0},{"$f":"'mnt Data'!AC211","v":0},{"$f":"'mnt Data'!AD211","v":0},{"$f":"'mnt Data'!AE211","v":0},{"$f":"'mnt Data'!AF211","v":0},{"$f":"'mnt Data'!AG211","v":0},{"$f":"'mnt Data'!AH211","v":0},{"$f":"'mnt Data'!AI211","v":0},{"$f":"'mnt Data'!AJ211","v":0},{"$f":"'mnt Data'!AK211","v":0}]
[208,0,0,"No Gs",0,"No Gs","No Gs","Gs is needed","Gs is needed","Gs is needed","Need Max and Min","Need Max and Min","Fail",null,{"$f":"'mnt Data'!A212","v":0},{"$f":"'mnt Data'!B212","v":0},{"$f":"'mnt Data'!C212","v":0},{"$f":"'mnt Data'!D212","v":0},{"$f":"'mnt Data'!E212","v":0},{"$f":"'mnt Data'!F212","v":0},{"$f":"'mnt Data'!G212","v":0},{"$f":"'mnt Data'!H212","v":0},{"$f":"'mnt Data'!I212","v":0},{"$f":"'mnt Data'!J212","v":0},{"$f":"'mnt Data'!K212","v":0},{"$f":"'mnt Data'!L212","v":0},{"$f":"'mnt Data'!M212","v":0},{"$f":"'mnt Data'!N212","v":0},{"$f":"'mnt Data'!O212","v":0},{"$f":"'mnt Data'!P212","v":0},{"$f":"'mnt Data'!Q212","v":0},{"$f":"'mnt Data'!R212","v":0},{"$f":"'mnt Data'!S212","v":0},{"$f":"'mnt Data'!T212","v":0},{"$f":"'mnt Data'!U212","v":0},{"$f":"'mnt Data'!V212","v":0},{"$f":"'mnt Data'!W212","v":0},{"$f":"'mnt Data'!X212","v":0},{"$f":"'mnt Data'!Y212","v":0},{"$f":"'mnt Data'!Z212","v":0},{"$f":"'mnt Data'!AA212","v":0},{"$f":"'mnt Data'!AB212","v":0},{"$f":"'mnt Data'!AC212","v":0},{"$f":"'mnt Data'!AD212","v":0},{"$f":"'mnt Data'!AE212","v":0},{"$f":"'mnt Data'!AF212","v":0},{"$f":"'mnt Data'!AG212","v":0},{"$f":"'mnt Data'!AH212","v":0},{"$f":"'mnt Data'!AI212","v":0},{"$f":"'mnt Data'!AJ212","v":0},{"$f":"'mnt Data'!AK212","v":0}]
[209,0,0,"No Gs",0,"No Gs","No Gs","Gs is needed","Gs is needed","Gs is needed","Need Max and Min","Need Max and Min","Fail",null,{"$f":"'mnt Data'!A213","v":0},{"$f":"'mnt Data'!B213","v":0},{"$f":"'mnt Data'!C213","v":0},{"$f":"'mnt Data'!D213","v":0},{"$f":"'mnt Data'!E213","v":0},{"$f":"'mnt Data'!F213","v":0},{"$f":"'mnt Data'!G213","v":0},{"$f":"'mnt Data'!H213","v":0},{"$f":"'mnt Data'!I213","v":0},{"$f":"'mnt Data'!J213","v":0},{"$f":"'mnt Data'!K213","v":0},{"$f":"'mnt Data'!L213","v":0},{"$f":"'mnt Data'!M213","v":0},{"$f":"'mnt Data'!N213","v":0},{"$f":"'mnt Data'!O213","v":0},{"$f":"'mnt Data'!P213","v":0},{"$f":"'mnt Data'!Q213","v":0},{"$f":"'mnt Data'!R213","v":0},{"$f":"'mnt Data'!S213","v":0},{"$f":"'mnt Data'!T213","v":0},{"$f":"'mnt Data'!U213","v":0},{"$f":"'mnt Data'!V213","v":0},{"$f":"'mnt Data'!W213","v":0},{"$f":"'mnt Data'!X213","v":0},{"$f":"'mnt Data'!Y213","v":0},{"$f":"'mnt Data'!Z213","v":0},{"$f":"'mnt Data'!AA213","v":0},{"$f":"'mnt Data'!AB213","v":0},{"$f":"'mnt Data'!AC213","v":0},{"$f":"'mnt Data'!AD213","v":0},{"$f":"'mnt Data'!AE213","v":0},{"$f":"'mnt Data'!AF213","v":0},{"$f":"'mnt Data'!AG213","v":0},{"$f":"'mnt Data'!AH213","v":0},{"$f":"'mnt Data'!AI213","v":0},{"$f":"'mnt Data'!AJ213","v":0},{"$f":"'mnt Data'!AK213","v":0}]
[210,0,0,"No Gs",0,"No Gs","No Gs","Gs is needed","Gs is needed","Gs is needed","Need Max and Min","Need Max and Min","Fail",null,{"$f":"'mnt Data'!A214","v":0},{"$f":"'mnt Data'!B214","v":0},{"$f":"'mnt Data'!C214","v":0},{"$f":"'mnt Data'!D214","v":0},{"$f":"'mnt Data'!E214","v":0},{"$f":"'mnt Data'!F214","v":0},{"$f":"'mnt Data'!G214","v":0},{"$f":"'mnt Data'!H214","v":0},{"$f":"'mnt Data'!I214","v":0},{"$f":"'mnt Data'!J214","v":0},{"$f":"'mnt Data'!K214","v":0},{"$f":"'mnt Data'!L214","v":0},{"$f":"'mnt Data'!M214","v":0},{"$f":"'mnt Data'!N214","v":0},{"$f":"'mnt Data'!O214","v":0},{"$f":"'mnt Data'!P214","v":0},{"$f":"'mnt Data'!Q214","v":0},{"$f":"'mnt Data'!R214","v":0},{"$f":"'mnt Data'!S214","v":0},{"$f":"'mnt Data'!T214","v":0},{"$f":"'mnt Data'!U214","v":0},{"$f":"'mnt Data'!V214","v":0},{"$f":"'mnt Data'!W214","v":0},{"$f":"'mnt Data'!X214","v":0},{"$f":"'mnt Data'!Y214","v":0},{"$f":"'mnt Data'!Z214","v":0},{"$f":"'mnt Data'!AA214","v":0},{"$f":"'mnt Data'!AB214","v":0},{"$f":"'mnt Data'!AC214","v":0},{"$f":"'mnt Data'!AD214","v":0},{"$f":"'mnt Data'!AE214","v":0},{"$f":"'mnt Data'!AF214","v":0},{"$f":"'mnt Data'!AG214","v":0},{"$f":"'mnt Data'!AH214","v":0},{"$f":"'mnt Data'!AI214","v":0},{"$f":"'mnt Data'!AJ214","v":0},{"$f":"'mnt Data'!AK214","v":0}]
[211,0,0,"No Gs",0,"No Gs","No Gs","Gs is needed","Gs is needed","Gs is needed","Need Max and Min","Need Max and Min","Fail",null,{"$f":"'mnt Data'!A215","v":0},{"$f":"'mnt Data'!B215","v":0},{"$f":"'mnt Data'!C215","v":0},{"$f":"'mnt Data'!D215","v":0},{"$f":"'mnt Data'!E215","v":0},{"$f":"'mnt Data'!F215","v":0},{"$f":"'mnt Data'!G215","v":0},{"$f":"'mnt Data'!H215","v":0},{"$f":"'mnt Data'!I215","v":0},{"$f":"'mnt Data'!J215","v":0},{"$f":"'mnt Data'!K215","v":0},{"$f":"'mnt Data'!L215","v":0},{"$f":"'mnt Data'!M215","v":0},{"$f":"'mnt Data'!N215","v":0},{"$f":"'mnt Data'!O215","v":0},{"$f":"'mnt Data'!P215","v":0},{"$f":"'mnt Data'!Q215","v":0},{"$f":"'mnt Data'!R215","v":0},{"$f":"'mnt Data'!S215","v":0},{"$f":"'mnt Data'!T215","v":0},{"$f":"'mnt Data'!U215","v":0},{"$f":"'mnt Data'!V215","v":0},{"$f":"'mnt Data'!W215","v":0},{"$f":"'mnt Data'!X215","v":0},{"$f":"'mnt Data'!Y215","v":0},{"$f":"'mnt Data'!Z215","v":0},{"$f":"'mnt Data'!AA215","v":0},{"$f":"'mnt Data'!AB215","v":0},{"$f":"'mnt Data'!AC215","v":0},{"$f":"'mnt Data'!AD215","v":0},{"$f":"'mnt Data'!AE215","v":0},{"$f":"'mnt Data'!AF215","v":0},{"$f":"'mnt Data'!AG215","v":0},{"$f":"'mnt Data'!AH215","v":0},{"$f":"'mnt Data'!AI215","v":0},{"$f":"'mnt Data'!AJ215","v":0},{"$f":"'mnt Data'!AK215","v":0}]
[212,0,0,"No Gs",0,"No Gs","No Gs","Gs is needed","Gs is needed","Gs is needed","Need Max and Min","Need Max and Min","Fail",null,{"$f":"'mnt Data'!A216","v":0},{"$f":"'mnt Data'!B216","v":0},{"$f":"'mnt Data'!C216","v":0},{"$f":"'mnt Data'!D216","v":0},{"$f":"'mnt Data'!E216","v":0},{"$f":"'mnt Data'!F216","v":0},{"$f":"'mnt Data'!G216","v":0},{"$f":"'mnt Data'!H216","v":0},{"$f":"'mnt Data'!I216","v":0},{"$f":"'mnt Data'!J216","v":0},{"$f":"'mnt Data'!K216","v":0},{"$f":"'mnt Data'!L216","v":0},{"$f":"'mnt Data'!M216","v":0},{"$f":"'mnt Data'!N216","v":0},{"$f":"'mnt Data'!O216","v":0},{"$f":"'mnt Data'!P216","v":0},{"$f":"'mnt Data'!Q216","v":0},{"$f":"'mnt Data'!R216","v":0},{"$f":"'mnt Data'!S216","v":0},{"$f":"'mnt Data'!T216","v":0},{"$f":"'mnt Data'!U216","v":0},{"$f":"'mnt Data'!V216","v":0},{"$f":"'mnt Data'!W216","v":0},{"$f":"'mnt Data'!X216","v":0},{"$f":"'mnt Data'!Y216","v":0},{"$f":"'mnt Data'!Z216","v":0},{"$f":"'mnt Data'!AA216","v":0},{"$f":"'mnt Data'!AB216","v":0},{"$f":"'mnt Data'!AC216","v":0},{"$f":"'mnt Data'!AD216","v":0},{"$f":"'mnt Data'!AE216","v":0},{"$f":"'mnt Data'!AF216","v":0},{"$f":"'mnt Data'!AG216","v":0},{"$f":"'mnt Data'!AH216","v":0},{"$f":"'mnt Data'!AI216","v":0},{"$f":"'mnt Data'!AJ216","v":0},{"$f":"'mnt Data'!AK216","v":0}]
[213,0,0,"No Gs",0,"No Gs","No Gs","Gs is needed","Gs is needed","Gs is needed","Need Max and Min","Need Max and Min","Fail",null,{"$f":"'mnt Data'!A217","v":0},{"$f":"'mnt Data'!B217","v":0},{"$f":"'mnt Data'!C217","v":0},{"$f":"'mnt Data'!D217","v":0},{"$f":"'mnt Data'!E217","v":0},{"$f":"'mnt Data'!F217","v":0},{"$f":"'mnt Data'!G217","v":0},{"$f":"'mnt Data'!H217","v":0},{"$f":"'mnt Data'!I217","v":0},{"$f":"'mnt Data'!J217","v":0},{"$f":"'mnt Data'!K217","v":0},{"$f":"'mnt Data'!L217","v":0},{"$f":"'mnt Data'!M217","v":0},{"$f":"'mnt Data'!N217","v":0},{"$f":"'mnt Data'!O217","v":0},{"$f":"'mnt Data'!P217","v":0},{"$f":"'mnt Data'!Q217","v":0},{"$f":"'mnt Data'!R217","v":0},{"$f":"'mnt Data'!S217","v":0},{"$f":"'mnt Data'!T217","v":0},{"$f":"'mnt Data'!U217","v":0},{"$f":"'mnt Data'!V217","v":0},{"$f":"'mnt Data'!W217","v":0},{"$f":"'mnt Data'!X217","v":0},{"$f":"'mnt Data'!Y217","v":0},{"$f":"'mnt Data'!Z217","v":0},{"$f":"'mnt Data'!AA217","v":0},{"$f":"'mnt Data'!AB217","v":0},{"$f":"'mnt Data'!AC217","v":0},{"$f":"'mnt Data'!AD217","v":0},{"$f":"'mnt Data'!AE217","v":0},{"$f":"'mnt Data'!AF217","v":0},{"$f":"'mnt Data'!AG217","v":0},{"$f":"'mnt Data'!AH217","v":0},{"$f":"'mnt Data'!AI217","v":0},{"$f":"'mnt Data'!AJ217","v":0},{"$f":"'mnt Data'!AK217","v":0}]
[214,0,0,"No Gs",0,"No Gs","No Gs","Gs is needed","Gs is needed","Gs is needed","Need Max and Min","Need Max and Min","Fail",null,{"$f":"'mnt Data'!A218","v":0},{"$f":"'mnt Data'!B218","v":0},{"$f":"'mnt Data'!C218","v":0},{"$f":"'mnt Data'!D218","v":0},{"$f":"'mnt Data'!E218","v":0},{"$f":"'mnt Data'!F218","v":0},{"$f":"'mnt Data'!G218","v":0},{"$f":"'mnt Data'!H218","v":0},{"$f":"'mnt Data'!I218","v":0},{"$f":"'mnt Data'!J218","v":0},{"$f":"'mnt Data'!K218","v":0},{"$f":"'mnt Data'!L218","v":0},{"$f":"'mnt Data'!M218","v":0},{"$f":"'mnt Data'!N218","v":0},{"$f":"'mnt Data'!O218","v":0},{"$f":"'mnt Data'!P218","v":0},{"$f":"'mnt Data'!Q218","v":0},{"$f":"'mnt Data'!R218","v":0},{"$f":"'mnt Data'!S218","v":0},{"$f":"'mnt Data'!T218","v":0},{"$f":"'mnt Data'!U218","v":0},{"$f":"'mnt Data'!V218","v":0},{"$f":"'mnt Data'!W218","v":0},{"$f":"'mnt Data'!X218","v":0},{"$f":"'mnt Data'!Y218","v":0},{"$f":"'mnt Data'!Z218","v":0},{"$f":"'mnt Data'!AA218","v":0},{"$f":"'mnt Data'!AB218","v":0},{"$f":"'mnt Data'!AC218","v":0},{"$f":"'mnt Data'!AD218","v":0},{"$f":"'mnt Data'!AE218","v":0},{"$f":"'mnt Data'!AF218","v":0},{"$f":"'mnt Data'!AG218","v":0},{"$f":"'mnt Data'!AH218","v":0},{"$f":"'mnt Data'!AI218","v":0},{"$f":"'mnt Data'!AJ218","v":0},{"$f":"'mnt Data'!AK218","v":0}]
[215,0,0,"No Gs",0,"No Gs","No Gs","Gs is needed","Gs is needed","Gs is needed","Need Max and Min","Need Max and Min","Fail",null,{"$f":"'mnt Data'!A219","v":0},{"$f":"'mnt Data'!B219","v":0},{"$f":"'mnt Data'!C219","v":0},{"$f":"'mnt Data'!D219","v":0},{"$f":"'mnt Data'!E219","v":0},{"$f":"'mnt Data'!F219","v":0},{"$f":"'mnt Data'!G219","v":0},{"$f":"'mnt Data'!H219","v":0},{"$f":"'mnt Data'!I219","v":0},{"$f":"'mnt Data'!J219","v":0},{"$f":"'mnt Data'!K219","v":0},{"$f":"'mnt Data'!L219","v":0},{"$f":"'mnt Data'!M219","v":0},{"$f":"'mnt Data'!N219","v":0},{"$f":"'mnt Data'!O219","v":0},{"$f":"'mnt Data'!P219","v":0},{"$f":"'mnt Data'!Q219","v":0},{"$f":"'mnt Data'!R219","v":0},{"$f":"'mnt Data'!S219","v":0},{"$f":"'mnt Data'!T219","v":0},{"$f":"'mnt Data'!U219","v":0},{"$f":"'mnt Data'!V219","v":0},{"$f":"'mnt Data'!W219","v":0},{"$f":"'mnt Data'!X219","v":0},{"$f":"'mnt Data'!Y219","v":0},{"$f":"'mnt Data'!Z219","v":0},{"$f":"'mnt Data'!AA219","v":0},{"$f":"'mnt Data'!AB219","v":0},{"$f":"'mnt Data'!AC219","v":0},{"$f":"'mnt Data'!AD219","v":0},{"$f":"'mnt Data'!AE219","v":0},{"$f":"'mnt Data'!AF219","v":0},{"$f":"'mnt Data'!AG219","v":0},{"$f":"'mnt Data'!AH219","v":0},{"$f":"'mnt Data'!AI219","v":0},{"$f":"'mnt Data'!AJ219","v":0},{"$f":"'mnt Data'!AK219","v":0}]
[216,0,0,"No Gs",0,"No Gs","No Gs","Gs is needed","Gs is needed","Gs is needed","Need Max and Min","Need Max and Min","Fail",null,{"$f":"'mnt Data'!A220","v":0},{"$f":"'mnt Data'!B220","v":0},{"$f":"'mnt Data'!C220","v":0},{"$f":"'mnt Data'!D220","v":0},{"$f":"'mnt Data'!E220","v":0},{"$f":"'mnt Data'!F220","v":0},{"$f":"'mnt Data'!G220","v":0},{"$f":"'mnt Data'!H220","v":0},{"$f":"'mnt Data'!I220","v":0},{"$f":"'mnt Data'!J220","v":0},{"$f":"'mnt Data'!K220","v":0},{"$f":"'mnt Data'!L220","v":0},{"$f":"'mnt Data'!M220","v":0},{"$f":"'mnt Data'!N220","v":0},{"$f":"'mnt Data'!O220","v":0},{"$f":"'mnt Data'!P220","v":0},{"$f":"'mnt Data'!Q220","v":0},{"$f":"'mnt Data'!R220","v":0},{"$f":"'mnt Data'!S220","v":0},{"$f":"'mnt Data'!T220","v":0},{"$f":"'mnt Data'!U220","v":0},{"$f":"'mnt Data'!V220","v":0},{"$f":"'mnt Data'!W220","v":0},{"$f":"'mnt Data'!X220","v":0},{"$f":"'mnt Data'!Y220","v":0},{"$f":"'mnt Data'!Z220","v":0},{"$f":"'mnt Data'!AA220","v":0},{"$f":"'mnt Data'!AB220","v":0},{"$f":"'mnt Data'!AC220","v":0},{"$f":"'mnt Data'!AD220","v":0},{"$f":"'mnt Data'!AE220","v":0},{"$f":"'mnt Data'!AF220","v":0},{"$f":"'mnt Data'!AG220","v":0},{"$f":"'mnt Data'!AH220","v":0},{"$f":"'mnt Data'!AI220","v":0},{"$f":"'mnt Data'!AJ220","v":0},{"$f":"'mnt Data'!AK220","v":0}]
[217,0,0,"No Gs",0,"No Gs","No Gs","Gs is needed","Gs is needed","Gs is needed","Need Max and Min","Need Max and Min","Fail",null,{"$f":"'mnt Data'!A221","v":0},{"$f":"'mnt Data'!B221","v":0},{"$f":"'mnt Data'!C221","v":0},{"$f":"'mnt Data'!D221","v":0},{"$f":"'mnt Data'!E221","v":0},{"$f":"'mnt Data'!F221","v":0},{"$f":"'mnt Data'!G221","v":0},{"$f":"'mnt Data'!H221","v":0},{"$f":"'mnt Data'!I221","v":0},{"$f":"'mnt Data'!J221","v":0},{"$f":"'mnt Data'!K221","v":0},{"$f":"'mnt Data'!L221","v":0},{"$f":"'mnt Data'!M221","v":0},{"$f":"'mnt Data'!N221","v":0},{"$f":"'mnt Data'!O221","v":0},{"$f":"'mnt Data'!P221","v":0},{"$f":"'mnt Data'!Q221","v":0},{"$f":"'mnt Data'!R221","v":0},{"$f":"'mnt Data'!S221","v":0},{"$f":"'mnt Data'!T221","v":0},{"$f":"'mnt Data'!U221","v":0},{"$f":"'mnt Data'!V221","v":0},{"$f":"'mnt Data'!W221","v":0},{"$f":"'mnt Data'!X221","v":0},{"$f":"'mnt Data'!Y221","v":0},{"$f":"'mnt Data'!Z221","v":0},{"$f":"'mnt Data'!AA221","v":0},{"$f":"'mnt Data'!AB221","v":0},{"$f":"'mnt Data'!AC221","v":0},{"$f":"'mnt Data'!AD221","v":0},{"$f":"'mnt Data'!AE221","v":0},{"$f":"'mnt Data'!AF221","v":0},{"$f":"'mnt Data'!AG221","v":0},{"$f":"'mnt Data'!AH221","v":0},{"$f":"'mnt Data'!AI221","v":0},{"$f":"'mnt Data'!AJ221","v":0},{"$f":"'mnt Data'!AK221","v":0}]
[218,0,0,"No Gs",0,"No Gs","No Gs","Gs is needed","Gs is needed","Gs is needed","Need Max and Min","Need Max and Min","Fail",null,{"$f":"'mnt Data'!A222","v":0},{"$f":"'mnt Data'!B222","v":0},{"$f":"'mnt Data'!C222","v":0},{"$f":"'mnt Data'!D222","v":0},{"$f":"'mnt Data'!E222","v":0},{"$f":"'mnt Data'!F222","v":0},{"$f":"'mnt Data'!G222","v":0},{"$f":"'mnt Data'!H222","v":0},{"$f":"'mnt Data'!I222","v":0},{"$f":"'mnt Data'!J222","v":0},{"$f":"'mnt Data'!K222","v":0},{"$f":"'mnt Data'!L222","v":0},{"$f":"'mnt Data'!M222","v":0},{"$f":"'mnt Data'!N222","v":0},{"$f":"'mnt Data'!O222","v":0},{"$f":"'mnt Data'!P222","v":0},{"$f":"'mnt Data'!Q222","v":0},{"$f":"'mnt Data'!R222","v":0},{"$f":"'mnt Data'!S222","v":0},{"$f":"'mnt Data'!T222","v":0},{"$f":"'mnt Data'!U222","v":0},{"$f":"'mnt Data'!V222","v":0},{"$f":"'mnt Data'!W222","v":0},{"$f":"'mnt Data'!X222","v":0},{"$f":"'mnt Data'!Y222","v":0},{"$f":"'mnt Data'!Z222","v":0},{"$f":"'mnt Data'!AA222","v":0},{"$f":"'mnt Data'!AB222","v":0},{"$f":"'mnt Data'!AC222","v":0},{"$f":"'mnt Data'!AD222","v":0},{"$f":"'mnt Data'!AE222","v":0},{"$f":"'mnt Data'!AF222","v":0},{"$f":"'mnt Data'!AG222","v":0},{"$f":"'mnt Data'!AH222","v":0},{"$f":"'mnt Data'!AI222","v":0},{"$f":"'mnt Data'!AJ222","v":0},{"$f":"'mnt Data'!AK222","v":0}]
[219,0,0,"No Gs",0,"No Gs","No Gs","Gs is needed","Gs is needed","Gs is needed","Need Max and Min","Need Max and Min","Fail",null,{"$f":"'mnt Data'!A223","v":0},{"$f":"'mnt Data'!B223","v":0},{"$f":"'mnt Data'!C223","v":0},{"$f":"'mnt Data'!D223","v":0},{"$f":"'mnt Data'!E223","v":0},{"$f":"'mnt Data'!F223","v":0},{"$f":"'mnt Data'!G223","v":0},{"$f":"'mnt Data'!H223","v":0},{"$f":"'mnt Data'!I223","v":0},{"$f":"'mnt Data'!J223","v":0},{"$f":"'mnt Data'!K223","v":0},{"$f":"'mnt Data'!L223","v":0},{"$f":"'mnt Data'!M223","v":0},{"$f":"'mnt Data'!N223","v":0},{"$f":"'mnt Data'!O223","v":0},{"$f":"'mnt Data'!P223","v":0},{"$f":"'mnt Data'!Q223","v":0},{"$f":"'mnt Data'!R223","v":0},{"$f":"'mnt Data'!S223","v":0},{"$f":"'mnt Data'!T223","v":0},{"$f":"'mnt Data'!U223","v":0},{"$f":"'mnt Data'!V223","v":0},{"$f":"'mnt Data'!W223","v":0},{"$f":"'mnt Data'!X223","v":0},{"$f":"'mnt Data'!Y223","v":0},{"$f":"'mnt Data'!Z223","v":0},{"$f":"'mnt Data'!AA223","v":0},{"$f":"'mnt Data'!AB223","v":0},{"$f":"'mnt Data'!AC223","v":0},{"$f":"'mnt Data'!AD223","v":0},{"$f":"'mnt Data'!AE223","v":0},{"$f":"'mnt Data'!AF223","v":0},{"$f":"'mnt Data'!AG223","v":0},{"$f":"'mnt Data'!AH223","v":0},{"$f":"'mnt Data'!AI223","v":0},{"$f":"'mnt Data'!AJ223","v":0},{"$f":"'mnt Data'!AK223","v":0}]
[220,0,0,"No Gs",0,"No Gs","No Gs","Gs is needed","Gs is needed","Gs is needed","Need Max and Min","Need Max and Min","Fail",null,{"$f":"'mnt Data'!A224","v":0},{"$f":"'mnt Data'!B224","v":0},{"$f":"'mnt Data'!C224","v":0},{"$f":"'mnt Data'!D224","v":0},{"$f":"'mnt Data'!E224","v":0},{"$f":"'mnt Data'!F224","v":0},{"$f":"'mnt Data'!G224","v":0},{"$f":"'mnt Data'!H224","v":0},{"$f":"'mnt Data'!I224","v":0},{"$f":"'mnt Data'!J224","v":0},{"$f":"'mnt Data'!K224","v":0},{"$f":"'mnt Data'!L224","v":0},{"$f":"'mnt Data'!M224","v":0},{"$f":"'mnt Data'!N224","v":0},{"$f":"'mnt Data'!O224","v":0},{"$f":"'mnt Data'!P224","v":0},{"$f":"'mnt Data'!Q224","v":0},{"$f":"'mnt Data'!R224","v":0},{"$f":"'mnt Data'!S224","v":0},{"$f":"'mnt Data'!T224","v":0},{"$f":"'mnt Data'!U224","v":0},{"$f":"'mnt Data'!V224","v":0},{"$f":"'mnt Data'!W224","v":0},{"$f":"'mnt Data'!X224","v":0},{"$f":"'mnt Data'!Y224","v":0},{"$f":"'mnt Data'!Z224","v":0},{"$f":"'mnt Data'!AA224","v":0},{"$f":"'mnt Data'!AB224","v":0},{"$f":"'mnt Data'!AC224","v":0},{"$f":"'mnt Data'!AD224","v":0},{"$f":"'mnt Data'!AE224","v":0},{"$f":"'mnt Data'!AF224","v":0},{"$f":"'mnt Data'!AG224","v":0},{"$f":"'mnt Data'!AH224","v":0},{"$f":"'mnt Data'!AI224","v":0},{"$f":"'mnt Data'!AJ224","v":0},{"$f":"'mnt Data'!AK224","v":0}]
[221,0,0,"No Gs",0,"No Gs","No Gs","Gs is needed","Gs is needed","Gs is needed","Need Max and Min","Need Max and Min","Fail",null,{"$f":"'mnt Data'!A225","v":0},{"$f":"'mnt Data'!B225","v":0},{"$f":"'mnt Data'!C225","v":0},{"$f":"'mnt Data'!D225","v":0},{"$f":"'mnt Data'!E225","v":0},{"$f":"'mnt Data'!F225","v":0},{"$f":"'mnt Data'!G225","v":0},{"$f":"'mnt Data'!H225","v":0},{"$f":"'mnt Data'!I225","v":0},{"$f":"'mnt Data'!J225","v":0},{"$f":"'mnt Data'!K225","v":0},{"$f":"'mnt Data'!L225","v":0},{"$f":"'mnt Data'!M225","v":0},{"$f":"'mnt Data'!N225","v":0},{"$f":"'mnt Data'!O225","v":0},{"$f":"'mnt Data'!P225","v":0},{"$f":"'mnt Data'!Q225","v":0},{"$f":"'mnt Data'!R225","v":0},{"$f":"'mnt Data'!S225","v":0},{"$f":"'mnt Data'!T225","v":0},{"$f":"'mnt Data'!U225","v":0},{"$f":"'mnt Data'!V225","v":0},{"$f":"'mnt Data'!W225","v":0},{"$f":"'mnt Data'!X225","v":0},{"$f":"'mnt Data'!Y225","v":0},{"$f":"'mnt Data'!Z225","v":0},{"$f":"'mnt Data'!AA225","v":0},{"$f":"'mnt Data'!AB225","v":0},{"$f":"'mnt Data'!AC225","v":0},{"$f":"'mnt Data'!AD225","v":0},{"$f":"'mnt Data'!AE225","v":0},{"$f":"'mnt Data'!AF225","v":0},{"$f":"'mnt Data'!AG225","v":0},{"$f":"'mnt Data'!AH225","v":0},{"$f":"'mnt Data'!AI225","v":0},{"$f":"'mnt Data'!AJ225","v":0},{"$f":"'mnt Data'!AK225","v":0}]
[222,0,0,"No Gs",0,"No Gs","No Gs","Gs is needed","Gs is needed","Gs is needed","Need Max and Min","Need Max and Min","Fail",null,{"$f":"'mnt Data'!A226","v":0},{"$f":"'mnt Data'!B226","v":0},{"$f":"'mnt Data'!C226","v":0},{"$f":"'mnt Data'!D226","v":0},{"$f":"'mnt Data'!E226","v":0},{"$f":"'mnt Data'!F226","v":0},{"$f":"'mnt Data'!G226","v":0},{"$f":"'mnt Data'!H226","v":0},{"$f":"'mnt Data'!I226","v":0},{"$f":"'mnt Data'!J226","v":0},{"$f":"'mnt Data'!K226","v":0},{"$f":"'mnt Data'!L226","v":0},{"$f":"'mnt Data'!M226","v":0},{"$f":"'mnt Data'!N226","v":0},{"$f":"'mnt Data'!O226","v":0},{"$f":"'mnt Data'!P226","v":0},{"$f":"'mnt Data'!Q226","v":0},{"$f":"'mnt Data'!R226","v":0},{"$f":"'mnt Data'!S226","v":0},{"$f":"'mnt Data'!T226","v":0},{"$f":"'mnt Data'!U226","v":0},{"$f":"'mnt Data'!V226","v":0},{"$f":"'mnt Data'!W226","v":0},{"$f":"'mnt Data'!X226","v":0},{"$f":"'mnt Data'!Y226","v":0},{"$f":"'mnt Data'!Z226","v":0},{"$f":"'mnt Data'!AA226","v":0},{"$f":"'mnt Data'!AB226","v":0},{"$f":"'mnt Data'!AC226","v":0},{"$f":"'mnt Data'!AD226","v":0},{"$f":"'mnt Data'!AE226","v":0},{"$f":"'mnt Data'!AF226","v":0},{"$f":"'mnt Data'!AG226","v":0},{"$f":"'mnt Data'!AH226","v":0},{"$f":"'mnt Data'!AI226","v":0},{"$f":"'mnt Data'!AJ226","v":0},{"$f":"'mnt Data'!AK226","v":0}]
[223,0,0,"No Gs",0,"No Gs","No Gs","Gs is needed","Gs is needed","Gs is needed","Need Max and Min","Need Max and Min","Fail",null,{"$f":"'mnt Data'!A227","v":0},{"$f":"'mnt Data'!B227","v":0},{"$f":"'mnt Data'!C227","v":0},{"$f":"'mnt Data'!D227","v":0},{"$f":"'mnt Data'!E227","v":0},{"$f":"'mnt Data'!F227","v":0},{"$f":"'mnt Data'!G227","v":0},{"$f":"'mnt Data'!H227","v":0},{"$f":"'mnt Data'!I227","v":0},{"$f":"'mnt Data'!J227","v":0},{"$f":"'mnt Data'!K227","v":0},{"$f":"'mnt Data'!L227","v":0},{"$f":"'mnt Data'!M227","v":0},{"$f":"'mnt Data'!N227","v":0},{"$f":"'mnt Data'!O227","v":0},{"$f":"'mnt Data'!P227","v":0},{"$f":"'mnt Data'!Q227","v":0},{"$f":"'mnt Data'!R227","v":0},{"$f":"'mnt Data'!S227","v":0},{"$f":"'mnt Data'!T227","v":0},{"$f":"'mnt Data'!U227","v":0},{"$f":"'mnt Data'!V227","v":0},{"$f":"'mnt Data'!W227","v":0},{"$f":"'mnt Data'!X227","v":0},{"$f":"'mnt Data'!Y227","v":0},{"$f":"'mnt Data'!Z227","v":0},{"$f":"'mnt Data'!AA227","v":0},{"$f":"'mnt Data'!AB227","v":0},{"$f":"'mnt Data'!AC227","v":0},{"$f":"'mnt Data'!AD227","v":0},{"$f":"'mnt Data'!AE227","v":0},{"$f":"'mnt Data'!AF227","v":0},{"$f":"'mnt Data'!AG227","v":0},{"$f":"'mnt Data'!AH227","v":0},{"$f":"'mnt Data'!AI227","v":0},{"$f":"'mnt Data'!AJ227","v":0},{"$f":"'mnt Data'!AK227","v":0}]
[224,0,0,"No Gs",0,"No Gs","No Gs","Gs is needed","Gs is needed","Gs is needed","Need Max and Min","Need Max and Min","Fail",null,{"$f":"'mnt Data'!A228","v":0},{"$f":"'mnt Data'!B228","v":0},{"$f":"'mnt Data'!C228","v":0},{"$f":"'mnt Data'!D228","v":0},{"$f":"'mnt Data'!E228","v":0},{"$f":"'mnt Data'!F228","v":0},{"$f":"'mnt Data'!G228","v":0},{"$f":"'mnt Data'!H228","v":0},{"$f":"'mnt Data'!I228","v":0},{"$f":"'mnt Data'!J228","v":0},{"$f":"'mnt Data'!K228","v":0},{"$f":"'mnt Data'!L228","v":0},{"$f":"'mnt Data'!M228","v":0},{"$f":"'mnt Data'!N228","v":0},{"$f":"'mnt Data'!O228","v":0},{"$f":"'mnt Data'!P228","v":0},{"$f":"'mnt Data'!Q228","v":0},{"$f":"'mnt Data'!R228","v":0},{"$f":"'mnt Data'!S228","v":0},{"$f":"'mnt Data'!T228","v":0},{"$f":"'mnt Data'!U228","v":0},{"$f":"'mnt Data'!V228","v":0},{"$f":"'mnt Data'!W228","v":0},{"$f":"'mnt Data'!X228","v":0},{"$f":"'mnt Data'!Y228","v":0},{"$f":"'mnt Data'!Z228","v":0},{"$f":"'mnt Data'!AA228","v":0},{"$f":"'mnt Data'!AB228","v":0},{"$f":"'mnt Data'!AC228","v":0},{"$f":"'mnt Data'!AD228","v":0},{"$f":"'mnt Data'!AE228","v":0},{"$f":"'mnt Data'!AF228","v":0},{"$f":"'mnt Data'!AG228","v":0},{"$f":"'mnt Data'!AH228","v":0},{"$f":"'mnt Data'!AI228","v":0},{"$f":"'mnt Data'!AJ228","v":0},{"$f":"'mnt Data'!AK228","v":0}]
[225,0,0,"No Gs",0,"No Gs","No Gs","Gs is needed","Gs is needed","Gs is needed","Need Max and Min","Need Max and Min","Fail",null,{"$f":"'mnt Data'!A229","v":0},{"$f":"'mnt Data'!B229","v":0},{"$f":"'mnt Data'!C229","v":0},{"$f":"'mnt Data'!D229","v":0},{"$f":"'mnt Data'!E229","v":0},{"$f":"'mnt Data'!F229","v":0},{"$f":"'mnt Data'!G229","v":0},{"$f":"'mnt Data'!H229","v":0},{"$f":"'mnt Data'!I229","v":0},{"$f":"'mnt Data'!J229","v":0},{"$f":"'mnt Data'!K229","v":0},{"$f":"'mnt Data'!L229","v":0},{"$f":"'mnt Data'!M229","v":0},{"$f":"'mnt Data'!N229","v":0},{"$f":"'mnt Data'!O229","v":0},{"$f":"'mnt Data'!P229","v":0},{"$f":"'mnt Data'!Q229","v":0},{"$f":"'mnt Data'!R229","v":0},{"$f":"'mnt Data'!S229","v":0},{"$f":"'mnt Data'!T229","v":0},{"$f":"'mnt Data'!U229","v":0},{"$f":"'mnt Data'!V229","v":0},{"$f":"'mnt Data'!W229","v":0},{"$f":"'mnt Data'!X229","v":0},{"$f":"'mnt Data'!Y229","v":0},{"$f":"'mnt Data'!Z229","v":0},{"$f":"'mnt Data'!AA229","v":0},{"$f":"'mnt Data'!AB229","v":0},{"$f":"'mnt Data'!AC229","v":0},{"$f":"'mnt Data'!AD229","v":0},{"$f":"'mnt Data'!AE229","v":0},{"$f":"'mnt Data'!AF229","v":0},{"$f":"'mnt Data'!AG229","v":0},{"$f":"'mnt Data'!AH229","v":0},{"$f":"'mnt Data'!AI229","v":0},{"$f":"'mnt Data'!AJ229","v":0},{"$f":"'mnt Data'!AK229","v":0}]
[226,0,0,"No Gs",0,"No Gs","No Gs","Gs is needed","Gs is needed","Gs is needed","Need Max and Min","Need Max and Min","Fail",null,{"$f":"'mnt Data'!A230","v":0},{"$f":"'mnt Data'!B230","v":0},{"$f":"'mnt Data'!C230","v":0},{"$f":"'mnt Data'!D230","v":0},{"$f":"'mnt Data'!E230","v":0},{"$f":"'mnt Data'!F230","v":0},{"$f":"'mnt Data'!G230","v":0},{"$f":"'mnt Data'!H230","v":0},{"$f":"'mnt Data'!I230","v":0},{"$f":"'mnt Data'!J230","v":0},{"$f":"'mnt Data'!K230","v":0},{"$f":"'mnt Data'!L230","v":0},{"$f":"'mnt Data'!M230","v":0},{"$f":"'mnt Data'!N230","v":0},{"$f":"'mnt Data'!O230","v":0},{"$f":"'mnt Data'!P230","v":0},{"$f":"'mnt Data'!Q230","v":0},{"$f":"'mnt Data'!R230","v":0},{"$f":"'mnt Data'!S230","v":0},{"$f":"'mnt Data'!T230","v":0},{"$f":"'mnt Data'!U230","v":0},{"$f":"'mnt Data'!V230","v":0},{"$f":"'mnt Data'!W230","v":0},{"$f":"'mnt Data'!X230","v":0},{"$f":"'mnt Data'!Y230","v":0},{"$f":"'mnt Data'!Z230","v":0},{"$f":"'mnt Data'!AA230","v":0},{"$f":"'mnt Data'!AB230","v":0},{"$f":"'mnt Data'!AC230","v":0},{"$f":"'mnt Data'!AD230","v":0},{"$f":"'mnt Data'!AE230","v":0},{"$f":"'mnt Data'!AF230","v":0},{"$f":"'mnt Data'!AG230","v":0},{"$f":"'mnt Data'!AH230","v":0},{"$f":"'mnt Data'!AI230","v":0},{"$f":"'mnt Data'!AJ230","v":0},{"$f":"'mnt Data'!AK230","v":0}]
[227,0,0,"No Gs",0,"No Gs","No Gs","Gs is needed","Gs is needed","Gs is needed","Need Max and Min","Need Max and Min","Fail",null,{"$f":"'mnt Data'!A231","v":0},{"$f":"'mnt Data'!B231","v":0},{"$f":"'mnt Data'!C231","v":0},{"$f":"'mnt Data'!D231","v":0},{"$f":"'mnt Data'!E231","v":0},{"$f":"'mnt Data'!F231","v":0},{"$f":"'mnt Data'!G231","v":0},{"$f":"'mnt Data'!H231","v":0},{"$f":"'mnt Data'!I231","v":0},{"$f":"'mnt Data'!J231","v":0},{"$f":"'mnt Data'!K231","v":0},{"$f":"'mnt Data'!L231","v":0},{"$f":"'mnt Data'!M231","v":0},{"$f":"'mnt Data'!N231","v":0},{"$f":"'mnt Data'!O231","v":0},{"$f":"'mnt Data'!P231","v":0},{"$f":"'mnt Data'!Q231","v":0},{"$f":"'mnt Data'!R231","v":0},{"$f":"'mnt Data'!S231","v":0},{"$f":"'mnt Data'!T231","v":0},{"$f":"'mnt Data'!U231","v":0},{"$f":"'mnt Data'!V231","v":0},{"$f":"'mnt Data'!W231","v":0},{"$f":"'mnt Data'!X231","v":0},{"$f":"'mnt Data'!Y231","v":0},{"$f":"'mnt Data'!Z231","v":0},{"$f":"'mnt Data'!AA231","v":0},{"$f":"'mnt Data'!AB231","v":0},{"$f":"'mnt Data'!AC231","v":0},{"$f":"'mnt Data'!AD231","v":0},{"$f":"'mnt Data'!AE231","v":0},{"$f":"'mnt Data'!AF231","v":0},{"$f":"'mnt Data'!AG231","v":0},{"$f":"'mnt Data'!AH231","v":0},{"$f":"'mnt Data'!AI231","v":0},{"$f":"'mnt Data'!AJ231","v":0},{"$f":"'mnt Data'!AK231","v":0}]
[228,0,0,"No Gs",0,"No Gs","No Gs","Gs is needed","Gs is needed","Gs is needed","Need Max and Min","Need Max and Min","Fail",null,{"$f":"'mnt Data'!A232","v":0},{"$f":"'mnt Data'!B232","v":0},{"$f":"'mnt Data'!C232","v":0},{"$f":"'mnt Data'!D232","v":0},{"$f":"'mnt Data'!E232","v":0},{"$f":"'mnt Data'!F232","v":0},{"$f":"'mnt Data'!G232","v":0},{"$f":"'mnt Data'!H232","v":0},{"$f":"'mnt Data'!I232","v":0},{"$f":"'mnt Data'!J232","v":0},{"$f":"'mnt Data'!K232","v":0},{"$f":"'mnt Data'!L232","v":0},{"$f":"'mnt Data'!M232","v":0},{"$f":"'mnt Data'!N232","v":0},{"$f":"'mnt Data'!O232","v":0},{"$f":"'mnt Data'!P232","v":0},{"$f":"'mnt Data'!Q232","v":0},{"$f":"'mnt Data'!R232","v":0},{"$f":"'mnt Data'!S232","v":0},{"$f":"'mnt Data'!T232","v":0},{"$f":"'mnt Data'!U232","v":0},{"$f":"'mnt Data'!V232","v":0},{"$f":"'mnt Data'!W232","v":0},{"$f":"'mnt Data'!X232","v":0},{"$f":"'mnt Data'!Y232","v":0},{"$f":"'mnt Data'!Z232","v":0},{"$f":"'mnt Data'!AA232","v":0},{"$f":"'mnt Data'!AB232","v":0},{"$f":"'mnt Data'!AC232","v":0},{"$f":"'mnt Data'!AD232","v":0},{"$f":"'mnt Data'!AE232","v":0},{"$f":"'mnt Data'!AF232","v":0},{"$f":"'mnt Data'!AG232","v":0},{"$f":"'mnt Data'!AH232","v":0},{"$f":"'mnt Data'!AI232","v":0},{"$f":"'mnt Data'!AJ232","v":0},{"$f":"'mnt Data'!AK232","v":0}]
[229,0,0,"No Gs",0,"No Gs","No Gs","Gs is needed","Gs is needed","Gs is needed","Need Max and Min","Need Max and Min","Fail",null,{"$f":"'mnt Data'!A233","v":0},{"$f":"'mnt Data'!B233","v":0},{"$f":"'mnt Data'!C233","v":0},{"$f":"'mnt Data'!D233","v":0},{"$f":"'mnt Data'!E233","v":0},{"$f":"'mnt Data'!F233","v":0},{"$f":"'mnt Data'!G233","v":0},{"$f":"'mnt Data'!H233","v":0},{"$f":"'mnt Data'!I233","v":0},{"$f":"'mnt Data'!J233","v":0},{"$f":"'mnt Data'!K233","v":0},{"$f":"'mnt Data'!L233","v":0},{"$f":"'mnt Data'!M233","v":0},{"$f":"'mnt Data'!N233","v":0},{"$f":"'mnt Data'!O233","v":0},{"$f":"'mnt Data'!P233","v":0},{"$f":"'mnt Data'!Q233","v":0},{"$f":"'mnt Data'!R233","v":0},{"$f":"'mnt Data'!S233","v":0},{"$f":"'mnt Data'!T233","v":0},{"$f":"'mnt Data'!U233","v":0},{"$f":"'mnt Data'!V233","v":0},{"$f":"'mnt Data'!W233","v":0},{"$f":"'mnt Data'!X233","v":0},{"$f":"'mnt Data'!Y233","v":0},{"$f":"'mnt Data'!Z233","v":0},{"$f":"'mnt Data'!AA233","v":0},{"$f":"'mnt Data'!AB233","v":0},{"$f":"'mnt Data'!AC233","v":0},{"$f":"'mnt Data'!AD233","v":0},{"$f":"'mnt Data'!AE233","v":0},{"$f":"'mnt Data'!AF233","v":0},{"$f":"'mnt Data'!AG233","v":0},{"$f":"'mnt Data'!AH233","v":0},{"$f":"'mnt Data'!AI233","v":0},{"$f":"'mnt Data'!AJ233","v":0},{"$f":"'mnt Data'!AK233","v":0}]
[230,0,0,"No Gs",0,"No Gs","No Gs","Gs is needed","Gs is needed","Gs is needed","Need Max and Min","Need Max and Min","Fail",null,{"$f":"'mnt Data'!A234","v":0},{"$f":"'mnt Data'!B234","v":0},{"$f":"'mnt Data'!C234","v":0},{"$f":"'mnt Data'!D234","v":0},{"$f":"'mnt Data'!E234","v":0},{"$f":"'mnt Data'!F234","v":0},{"$f":"'mnt Data'!G234","v":0},{"$f":"'mnt Data'!H234","v":0},{"$f":"'mnt Data'!I234","v":0},{"$f":"'mnt Data'!J234","v":0},{"$f":"'mnt Data'!K234","v":0},{"$f":"'mnt Data'!L234","v":0},{"$f":"'mnt Data'!M234","v":0},{"$f":"'mnt Data'!N234","v":0},{"$f":"'mnt Data'!O234","v":0},{"$f":"'mnt Data'!P234","v":0},{"$f":"'mnt Data'!Q234","v":0},{"$f":"'mnt Data'!R234","v":0},{"$f":"'mnt Data'!S234","v":0},{"$f":"'mnt Data'!T234","v":0},{"$f":"'mnt Data'!U234","v":0},{"$f":"'mnt Data'!V234","v":0},{"$f":"'mnt Data'!W234","v":0},{"$f":"'mnt Data'!X234","v":0},{"$f":"'mnt Data'!Y234","v":0},{"$f":"'mnt Data'!Z234","v":0},{"$f":"'mnt Data'!AA234","v":0},{"$f":"'mnt Data'!AB234","v":0},{"$f":"'mnt Data'!AC234","v":0},{"$f":"'mnt Data'!AD234","v":0},{"$f":"'mnt Data'!AE234","v":0},{"$f":"'mnt Data'!AF234","v":0},{"$f":"'mnt Data'!AG234","v":0},{"$f":"'mnt Data'!AH234","v":0},{"$f":"'mnt Data'!AI234","v":0},{"$f":"'mnt Data'!AJ234","v":0},{"$f":"'mnt Data'!AK234","v":0}]
[231,0,0,"No Gs",0,"No Gs","No Gs","Gs is needed","Gs is needed","Gs is needed","Need Max and Min","Need Max and Min","Fail",null,{"$f":"'mnt Data'!A235","v":0},{"$f":"'mnt Data'!B235","v":0},{"$f":"'mnt Data'!C235","v":0},{"$f":"'mnt Data'!D235","v":0},{"$f":"'mnt Data'!E235","v":0},{"$f":"'mnt Data'!F235","v":0},{"$f":"'mnt Data'!G235","v":0},{"$f":"'mnt Data'!H235","v":0},{"$f":"'mnt Data'!I235","v":0},{"$f":"'mnt Data'!J235","v":0},{"$f":"'mnt Data'!K235","v":0},{"$f":"'mnt Data'!L235","v":0},{"$f":"'mnt Data'!M235","v":0},{"$f":"'mnt Data'!N235","v":0},{"$f":"'mnt Data'!O235","v":0},{"$f":"'mnt Data'!P235","v":0},{"$f":"'mnt Data'!Q235","v":0},{"$f":"'mnt Data'!R235","v":0},{"$f":"'mnt Data'!S235","v":0},{"$f":"'mnt Data'!T235","v":0},{"$f":"'mnt Data'!U235","v":0},{"$f":"'mnt Data'!V235","v":0},{"$f":"'mnt Data'!W235","v":0},{"$f":"'mnt Data'!X235","v":0},{"$f":"'mnt Data'!Y235","v":0},{"$f":"'mnt Data'!Z235","v":0},{"$f":"'mnt Data'!AA235","v":0},{"$f":"'mnt Data'!AB235","v":0},{"$f":"'mnt Data'!AC235","v":0},{"$f":"'mnt Data'!AD235","v":0},{"$f":"'mnt Data'!AE235","v":0},{"$f":"'mnt Data'!AF235","v":0},{"$f":"'mnt Data'!AG235","v":0},{"$f":"'mnt Data'!AH235","v":0},{"$f":"'mnt Data'!AI235","v":0},{"$f":"'mnt Data'!AJ235","v":0},{"$f":"'mnt Data'!AK235","v":0}]
[232,{"$f":"O233","v":0},{"$f":"O233*(Q233/100)","v":0},"No Gs",0,"No Gs","No Gs",{"$f":"IFERROR(E233/G233,\"Gs is needed\")","v":"Gs is needed"},{"$f":"IFERROR(G233/1,\"Gs is needed\")","v":"Gs is needed"},{"$f":"IFERROR(G233/D233,\"Gs is needed\")","v":"Gs is needed"},"Need Max and Min","Need Max and Min","Fail",null,{"$f":"'mnt Data'!A236","v":0},{"$f":"'mnt Data'!B236","v":0},{"$f":"'mnt Data'!C236","v":0},{"$f":"'mnt Data'!D236","v":0},{"$f":"'mnt Data'!E236","v":0},{"$f":"'mnt Data'!F236","v":0},{"$f":"'mnt Data'!G236","v":0},{"$f":"'mnt Data'!H236","v":0},{"$f":"'mnt Data'!I236","v":0},{"$f":"'mnt Data'!J236","v":0},{"$f":"'mnt Data'!K236","v":0},{"$f":"'mnt Data'!L236","v":0},{"$f":"'mnt Data'!M236","v":0},{"$f":"'mnt Data'!N236","v":0},{"$f":"'mnt Data'!O236","v":0},{"$f":"'mnt Data'!P236","v":0},{"$f":"'mnt Data'!Q236","v":0},{"$f":"'mnt Data'!R236","v":0},{"$f":"'mnt Data'!S236","v":0},{"$f":"'mnt Data'!T236","v":0},{"$f":"'mnt Data'!U236","v":0},{"$f":"'mnt Data'!V236","v":0},{"$f":"'mnt Data'!W236","v":0},{"$f":"'mnt Data'!X236","v":0},{"$f":"'mnt Data'!Y236","v":0},{"$f":"'mnt Data'!Z236","v":0},{"$f":"'mnt Data'!AA236","v":0},{"$f":"'mnt Data'!AB236","v":0},{"$f":"'mnt Data'!AC236","v":0},{"$f":"'mnt Data'!AD236","v":0},{"$f":"'mnt Data'!AE236","v":0},{"$f":"'mnt Data'!AF236","v":0},{"$f":"'mnt Data'!AG236","v":0},{"$f":"'mnt Data'!AH236","v":0},{"$f":"'mnt Data'!AI236","v":0},{"$f":"'mnt Data'!AJ236","v":0},{"$f":"'mnt Data'!AK236","v":0}]
[233,0,0,"No Gs",0,"No Gs","No Gs","Gs is needed","Gs is needed","Gs is needed","Need Max and Min","Need Max and Min","Fail",null,{"$f":"'mnt Data'!A237","v":0},{"$f":"'mnt Data'!B237","v":0},{"$f":"'mnt Data'!C237","v":0},{"$f":"'mnt Data'!D237","v":0},{"$f":"'mnt Data'!E237","v":0},{"$f":"'mnt Data'!F237","v":0},{"$f":"'mnt Data'!G237","v":0},{"$f":"'mnt Data'!H237","v":0},{"$f":"'mnt Data'!I237","v":0},{"$f":"'mnt Data'!J237","v":0},{"$f":"'mnt Data'!K237","v":0},{"$f":"'mnt Data'!L237","v":0},{"$f":"'mnt Data'!M237","v":0},{"$f":"'mnt Data'!N237","v":0},{"$f":"'mnt Data'!O237","v":0},{"$f":"'mnt Data'!P237","v":0},{"$f":"'mnt Data'!Q237","v":0},{"$f":"'mnt Data'!R237","v":0},{"$f":"'mnt Data'!S237","v":0},{"$f":"'mnt Data'!T237","v":0},{"$f":"'mnt Data'!U237","v":0},{"$f":"'mnt Data'!V237","v":0},{"$f":"'mnt Data'!W237","v":0},{"$f":"'mnt Data'!X237","v":0},{"$f":"'mnt Data'!Y237","v":0},{"$f":"'mnt Data'!Z237","v":0},{"$f":"'mnt Data'!AA237","v":0},{"$f":"'mnt Data'!AB237","v":0},{"$f":"'mnt Data'!AC237","v":0},{"$f":"'mnt Data'!AD237","v":0},{"$f":"'mnt Data'!AE237","v":0},{"$f":"'mnt Data'!AF237","v":0},{"$f":"'mnt Data'!AG237","v":0},{"$f":"'mnt Data'!AH237","v":0},{"$f":"'mnt Data'!AI237","v":0},{"$f":"'mnt Data'!AJ237","v":0},{"$f":"'mnt Data'!AK237","v":0}]
[234,0,0,"No Gs",0,"No Gs","No Gs","Gs is needed","Gs is needed","Gs is needed","Need Max and Min","Need Max and Min","Fail",null,{"$f":"'mnt Data'!A238","v":0},{"$f":"'mnt Data'!B238","v":0},{"$f":"'mnt Data'!C238","v":0},{"$f":"'mnt Data'!D238","v":0},{"$f":"'mnt Data'!E238","v":0},{"$f":"'mnt Data'!F238","v":0},{"$f":"'mnt Data'!G238","v":0},{"$f":"'mnt Data'!H238","v":0},{"$f":"'mnt Data'!I238","v":0},{"$f":"'mnt Data'!J238","v":0},{"$f":"'mnt Data'!K238","v":0},{"$f":"'mnt Data'!L238","v":0},{"$f":"'mnt Data'!M238","v":0},{"$f":"'mnt Data'!N238","v":0},{"$f":"'mnt Data'!O238","v":0},{"$f":"'mnt Data'!P238","v":0},{"$f":"'mnt Data'!Q238","v":0},{"$f":"'mnt Data'!R238","v":0},{"$f":"'mnt Data'!S238","v":0},{"$f":"'mnt Data'!T238","v":0},{"$f":"'mnt Data'!U238","v":0},{"$f":"'mnt Data'!V238","v":0},{"$f":"'mnt Data'!W238","v":0},{"$f":"'mnt Data'!X238","v":0},{"$f":"'mnt Data'!Y238","v":0},{"$f":"'mnt Data'!Z238","v":0},{"$f":"'mnt Data'!AA238","v":0},{"$f":"'mnt Data'!AB238","v":0},{"$f":"'mnt Data'!AC238","v":0},{"$f":"'mnt Data'!AD238","v":0},{"$f":"'mnt Data'!AE238","v":0},{"$f":"'mnt Data'!AF238","v":0},{"$f":"'mnt Data'!AG238","v":0},{"$f":"'mnt Data'!AH238","v":0},{"$f":"'mnt Data'!AI238","v":0},{"$f":"'mnt Data'!AJ238","v":0},{"$f":"'mnt Data'!AK238","v":0}]
[235,0,0,"No Gs",0,"No Gs","No Gs","Gs is needed","Gs is needed","Gs is needed","Need Max and Min","Need Max and Min","Fail",null,{"$f":"'mnt Data'!A239","v":0},{"$f":"'mnt Data'!B239","v":0},{"$f":"'mnt Data'!C239","v":0},{"$f":"'mnt Data'!D239","v":0},{"$f":"'mnt Data'!E239","v":0},{"$f":"'mnt Data'!F239","v":0},{"$f":"'mnt Data'!G239","v":0},{"$f":"'mnt Data'!H239","v":0},{"$f":"'mnt Data'!I239","v":0},{"$f":"'mnt Data'!J239","v":0},{"$f":"'mnt Data'!K239","v":0},{"$f":"'mnt Data'!L239","v":0},{"$f":"'mnt Data'!M239","v":0},{"$f":"'mnt Data'!N239","v":0},{"$f":"'mnt Data'!O239","v":0},{"$f":"'mnt Data'!P239","v":0},{"$f":"'mnt Data'!Q239","v":0},{"$f":"'mnt Data'!R239","v":0},{"$f":"'mnt Data'!S239","v":0},{"$f":"'mnt Data'!T239","v":0},{"$f":"'mnt Data'!U239","v":0},{"$f":"'mnt Data'!V239","v":0},{"$f":"'mnt Data'!W239","v":0},{"$f":"'mnt Data'!X239","v":0},{"$f":"'mnt Data'!Y239","v":0},{"$f":"'mnt Data'!Z239","v":0},{"$f":"'mnt Data'!AA239","v":0},{"$f":"'mnt Data'!AB239","v":0},{"$f":"'mnt Data'!AC239","v":0},{"$f":"'mnt Data'!AD239","v":0},{"$f":"'mnt Data'!AE239","v":0},{"$f":"'mnt Data'!AF239","v":0},{"$f":"'mnt Data'!AG239","v":0},{"$f":"'mnt Data'!AH239","v":0},{"$f":"'mnt Data'!AI239","v":0},{"$f":"'mnt Data'!AJ239","v":0},{"$f":"'mnt Data'!AK239","v":0}]
[236,0,0,"No Gs",0,"No Gs","No Gs","Gs is needed","Gs is needed","Gs is needed","Need Max and Min","Need Max and Min","Fail",null,{"$f":"'mnt Data'!A240","v":0},{"$f":"'mnt Data'!B240","v":0},{"$f":"'mnt Data'!C240","v":0},{"$f":"'mnt Data'!D240","v":0},{"$f":"'mnt Data'!E240","v":0},{"$f":"'mnt Data'!F240","v":0},{"$f":"'mnt Data'!G240","v":0},{"$f":"'mnt Data'!H240","v":0},{"$f":"'mnt Data'!I240","v":0},{"$f":"'mnt Data'!J240","v":0},{"$f":"'mnt Data'!K240","v":0},{"$f":"'mnt Data'!L240","v":0},{"$f":"'mnt Data'!M240","v":0},{"$f":"'mnt Data'!N240","v":0},{"$f":"'mnt Data'!O240","v":0},{"$f":"'mnt Data'!P240","v":0},{"$f":"'mnt Data'!Q240","v":0},{"$f":"'mnt Data'!R240","v":0},{"$f":"'mnt Data'!S240","v":0},{"$f":"'mnt Data'!T240","v":0},{"$f":"'mnt Data'!U240","v":0},{"$f":"'mnt Data'!V240","v":0},{"$f":"'mnt Data'!W240","v":0},{"$f":"'mnt Data'!X240","v":0},{"$f":"'mnt Data'!Y240","v":0},{"$f":"'mnt Data'!Z240","v":0},{"$f":"'mnt Data'!AA240","v":0},{"$f":"'mnt Data'!AB240","v":0},{"$f":"'mnt Data'!AC240","v":0},{"$f":"'mnt Data'!AD240","v":0},{"$f":"'mnt Data'!AE240","v":0},{"$f":"'mnt Data'!AF240","v":0},{"$f":"'mnt Data'!AG240","v":0},{"$f":"'mnt Data'!AH240","v":0},{"$f":"'mnt Data'!AI240","v":0},{"$f":"'mnt Data'!AJ240","v":0},{"$f":"'mnt Data'!AK240","v":0}]
[237,0,0,"No Gs",0,"No Gs","No Gs","Gs is needed","Gs is needed","Gs is needed","Need Max and Min","Need Max and Min","Fail",null,{"$f":"'mnt Data'!A241","v":0},{"$f":"'mnt Data'!B241","v":0},{"$f":"'mnt Data'!C241","v":0},{"$f":"'mnt Data'!D241","v":0},{"$f":"'mnt Data'!E241","v":0},{"$f":"'mnt Data'!F241","v":0},{"$f":"'mnt Data'!G241","v":0},{"$f":"'mnt Data'!H241","v":0},{"$f":"'mnt Data'!I241","v":0},{"$f":"'mnt Data'!J241","v":0},{"$f":"'mnt Data'!K241","v":0},{"$f":"'mnt Data'!L241","v":0},{"$f":"'mnt Data'!M241","v":0},{"$f":"'mnt Data'!N241","v":0},{"$f":"'mnt Data'!O241","v":0},{"$f":"'mnt Data'!P241","v":0},{"$f":"'mnt Data'!Q241","v":0},{"$f":"'mnt Data'!R241","v":0},{"$f":"'mnt Data'!S241","v":0},{"$f":"'mnt Data'!T241","v":0},{"$f":"'mnt Data'!U241","v":0},{"$f":"'mnt Data'!V241","v":0},{"$f":"'mnt Data'!W241","v":0},{"$f":"'mnt Data'!X241","v":0},{"$f":"'mnt Data'!Y241","v":0},{"$f":"'mnt Data'!Z241","v":0},{"$f":"'mnt Data'!AA241","v":0},{"$f":"'mnt Data'!AB241","v":0},{"$f":"'mnt Data'!AC241","v":0},{"$f":"'mnt Data'!AD241","v":0},{"$f":"'mnt Data'!AE241","v":0},{"$f":"'mnt Data'!AF241","v":0},{"$f":"'mnt Data'!AG241","v":0},{"$f":"'mnt Data'!AH241","v":0},{"$f":"'mnt Data'!AI241","v":0},{"$f":"'mnt Data'!AJ241","v":0},{"$f":"'mnt Data'!AK241","v":0}]
[238,0,0,"No Gs",0,"No Gs","No Gs","Gs is needed","Gs is needed","Gs is needed","Need Max and Min","Need Max and Min","Fail",null,{"$f":"'mnt Data'!A242","v":0},{"$f":"'mnt Data'!B242","v":0},{"$f":"'mnt Data'!C242","v":0},{"$f":"'mnt Data'!D242","v":0},{"$f":"'mnt Data'!E242","v":0},{"$f":"'mnt Data'!F242","v":0},{"$f":"'mnt Data'!G242","v":0},{"$f":"'mnt Data'!H242","v":0},{"$f":"'mnt Data'!I242","v":0},{"$f":"'mnt Data'!J242","v":0},{"$f":"'mnt Data'!K242","v":0},{"$f":"'mnt Data'!L242","v":0},{"$f":"'mnt Data'!M242","v":0},{"$f":"'mnt Data'!N242","v":0},{"$f":"'mnt Data'!O242","v":0},{"$f":"'mnt Data'!P242","v":0},{"$f":"'mnt Data'!Q242","v":0},{"$f":"'mnt Data'!R242","v":0},{"$f":"'mnt Data'!S242","v":0},{"$f":"'mnt Data'!T242","v":0},{"$f":"'mnt Data'!U242","v":0},{"$f":"'mnt Data'!V242","v":0},{"$f":"'mnt Data'!W242","v":0},{"$f":"'mnt Data'!X242","v":0},{"$f":"'mnt Data'!Y242","v":0},{"$f":"'mnt Data'!Z242","v":0},{"$f":"'mnt Data'!AA242","v":0},{"$f":"'mnt Data'!AB242","v":0},{"$f":"'mnt Data'!AC242","v":0},{"$f":"'mnt Data'!AD242","v":0},{"$f":"'mnt Data'!AE242","v":0},{"$f":"'mnt Data'!AF242","v":0},{"$f":"'mnt Data'!AG242","v":0},{"$f":"'mnt Data'!AH242","v":0},{"$f":"'mnt Data'!AI242","v":0},{"$f":"'mnt Data'!AJ242","v":0},{"$f":"'mnt Data'!AK242","v":0}]
[239,0,0,"No Gs",0,"No Gs","No Gs","Gs is needed","Gs is needed","Gs is needed","Need Max and Min","Need Max and Min","Fail",null,{"$f":"'mnt Data'!A243","v":0},{"$f":"'mnt Data'!B243","v":0},{"$f":"'mnt Data'!C243","v":0},{"$f":"'mnt Data'!D243","v":0},{"$f":"'mnt Data'!E243","v":0},{"$f":"'mnt Data'!F243","v":0},{"$f":"'mnt Data'!G243","v":0},{"$f":"'mnt Data'!H243","v":0},{"$f":"'mnt Data'!I243","v":0},{"$f":"'mnt Data'!J243","v":0},{"$f":"'mnt Data'!K243","v":0},{"$f":"'mnt Data'!L243","v":0},{"$f":"'mnt Data'!M243","v":0},{"$f":"'mnt Data'!N243","v":0},{"$f":"'mnt Data'!O243","v":0},{"$f":"'mnt Data'!P243","v":0},{"$f":"'mnt Data'!Q243","v":0},{"$f":"'mnt Data'!R243","v":0},{"$f":"'mnt Data'!S243","v":0},{"$f":"'mnt Data'!T243","v":0},{"$f":"'mnt Data'!U243","v":0},{"$f":"'mnt Data'!V243","v":0},{"$f":"'mnt Data'!W243","v":0},{"$f":"'mnt Data'!X243","v":0},{"$f":"'mnt Data'!Y243","v":0},{"$f":"'mnt Data'!Z243","v":0},{"$f":"'mnt Data'!AA243","v":0},{"$f":"'mnt Data'!AB243","v":0},{"$f":"'mnt Data'!AC243","v":0},{"$f":"'mnt Data'!AD243","v":0},{"$f":"'mnt Data'!AE243","v":0},{"$f":"'mnt Data'!AF243","v":0},{"$f":"'mnt Data'!AG243","v":0},{"$f":"'mnt Data'!AH243","v":0},{"$f":"'mnt Data'!AI243","v":0},{"$f":"'mnt Data'!AJ243","v":0},{"$f":"'mnt Data'!AK243","v":0}]
[240,0,0,"No Gs",0,"No Gs","No Gs","Gs is needed","Gs is needed","Gs is needed","Need Max and Min","Need Max and Min","Fail",null,{"$f":"'mnt Data'!A244","v":0},{"$f":"'mnt Data'!B244","v":0},{"$f":"'mnt Data'!C244","v":0},{"$f":"'mnt Data'!D244","v":0},{"$f":"'mnt Data'!E244","v":0},{"$f":"'mnt Data'!F244","v":0},{"$f":"'mnt Data'!G244","v":0},{"$f":"'mnt Data'!H244","v":0},{"$f":"'mnt Data'!I244","v":0},{"$f":"'mnt Data'!J244","v":0},{"$f":"'mnt Data'!K244","v":0},{"$f":"'mnt Data'!L244","v":0},{"$f":"'mnt Data'!M244","v":0},{"$f":"'mnt Data'!N244","v":0},{"$f":"'mnt Data'!O244","v":0},{"$f":"'mnt Data'!P244","v":0},{"$f":"'mnt Data'!Q244","v":0},{"$f":"'mnt Data'!R244","v":0},{"$f":"'mnt Data'!S244","v":0},{"$f":"'mnt Data'!T244","v":0},{"$f":"'mnt Data'!U244","v":0},{"$f":"'mnt Data'!V244","v":0},{"$f":"'mnt Data'!W244","v":0},{"$f":"'mnt Data'!X244","v":0},{"$f":"'mnt Data'!Y244","v":0},{"$f":"'mnt Data'!Z244","v":0},{"$f":"'mnt Data'!AA244","v":0},{"$f":"'mnt Data'!AB244","v":0},{"$f":"'mnt Data'!AC244","v":0},{"$f":"'mnt Data'!AD244","v":0},{"$f":"'mnt Data'!AE244","v":0},{"$f":"'mnt Data'!AF244","v":0},{"$f":"'mnt Data'!AG244","v":0},{"$f":"'mnt Data'!AH244","v":0},{"$f":"'mnt Data'!AI244","v":0},{"$f":"'mnt Data'!AJ244","v":0},{"$f":"'mnt Data'!AK244","v":0}]
[241,0,0,"No Gs",0,"No Gs","No Gs","Gs is needed","Gs is needed","Gs is needed","Need Max and Min","Need Max and Min","Fail",null,{"$f":"'mnt Data'!A245","v":0},{"$f":"'mnt Data'!B245","v":0},{"$f":"'mnt Data'!C245","v":0},{"$f":"'mnt Data'!D245","v":0},{"$f":"'mnt Data'!E245","v":0},{"$f":"'mnt Data'!F245","v":0},{"$f":"'mnt Data'!G245","v":0},{"$f":"'mnt Data'!H245","v":0},{"$f":"'mnt Data'!I245","v":0},{"$f":"'mnt Data'!J245","v":0},{"$f":"'mnt Data'!K245","v":0},{"$f":"'mnt Data'!L245","v":0},{"$f":"'mnt Data'!M245","v":0},{"$f":"'mnt Data'!N245","v":0},{"$f":"'mnt Data'!O245","v":0},{"$f":"'mnt Data'!P245","v":0},{"$f":"'mnt Data'!Q245","v":0},{"$f":"'mnt Data'!R245","v":0},{"$f":"'mnt Data'!S245","v":0},{"$f":"'mnt Data'!T245","v":0},{"$f":"'mnt Data'!U245","v":0},{"$f":"'mnt Data'!V245","v":0},{"$f":"'mnt Data'!W245","v":0},{"$f":"'mnt Data'!X245","v":0},{"$f":"'mnt Data'!Y245","v":0},{"$f":"'mnt Data'!Z245","v":0},{"$f":"'mnt Data'!AA245","v":0},{"$f":"'mnt Data'!AB245","v":0},{"$f":"'mnt Data'!AC245","v":0},{"$f":"'mnt Data'!AD245","v":0},{"$f":"'mnt Data'!AE245","v":0},{"$f":"'mnt Data'!AF245","v":0},{"$f":"'mnt Data'!AG245","v":0},{"$f":"'mnt Data'!AH245","v":0},{"$f":"'mnt Data'!AI245","v":0},{"$f":"'mnt Data'!AJ245","v":0},{"$f":"'mnt Data'!AK245","v":0}]
[242,0,0,"No Gs",0,"No Gs","No Gs","Gs is needed","Gs is needed","Gs is needed","Need Max and Min","Need Max and Min","Fail",null,{"$f":"'mnt Data'!A246","v":0},{"$f":"'mnt Data'!B246","v":0},{"$f":"'mnt Data'!C246","v":0},{"$f":"'mnt Data'!D246","v":0},{"$f":"'mnt Data'!E246","v":0},{"$f":"'mnt Data'!F246","v":0},{"$f":"'mnt Data'!G246","v":0},{"$f":"'mnt Data'!H246","v":0},{"$f":"'mnt Data'!I246","v":0},{"$f":"'mnt Data'!J246","v":0},{"$f":"'mnt Data'!K246","v":0},{"$f":"'mnt Data'!L246","v":0},{"$f":"'mnt Data'!M246","v":0},{"$f":"'mnt Data'!N246","v":0},{"$f":"'mnt Data'!O246","v":0},{"$f":"'mnt Data'!P246","v":0},{"$f":"'mnt Data'!Q246","v":0},{"$f":"'mnt Data'!R246","v":0},{"$f":"'mnt Data'!S246","v":0},{"$f":"'mnt Data'!T246","v":0},{"$f":"'mnt Data'!U246","v":0},{"$f":"'mnt Data'!V246","v":0},{"$f":"'mnt Data'!W246","v":0},{"$f":"'mnt Data'!X246","v":0},{"$f":"'mnt Data'!Y246","v":0},{"$f":"'mnt Data'!Z246","v":0},{"$f":"'mnt Data'!AA246","v":0},{"$f":"'mnt Data'!AB246","v":0},{"$f":"'mnt Data'!AC246","v":0},{"$f":"'mnt Data'!AD246","v":0},{"$f":"'mnt Data'!AE246","v":0},{"$f":"'mnt Data'!AF246","v":0},{"$f":"'mnt Data'!AG246","v":0},{"$f":"'mnt Data'!AH246","v":0},{"$f":"'mnt Data'!AI246","v":0},{"$f":"'mnt Data'!AJ246","v":0},{"$f":"'mnt Data'!AK246","v":0}]
[243,0,0,"No Gs",0,"No Gs","No Gs","Gs is needed","Gs is needed","Gs is needed","Need Max and Min","Need Max and Min","Fail",null,{"$f":"'mnt Data'!A247","v":0},{"$f":"'mnt Data'!B247","v":0},{"$f":"'mnt Data'!C247","v":0},{"$f":"'mnt Data'!D247","v":0},{"$f":"'mnt Data'!E247","v":0},{"$f":"'mnt Data'!F247","v":0},{"$f":"'mnt Data'!G247","v":0},{"$f":"'mnt Data'!H247","v":0},{"$f":"'mnt Data'!I247","v":0},{"$f":"'mnt Data'!J247","v":0},{"$f":"'mnt Data'!K247","v":0},{"$f":"'mnt Data'!L247","v":0},{"$f":"'mnt Data'!M247","v":0},{"$f":"'mnt Data'!N247","v":0},{"$f":"'mnt Data'!O247","v":0},{"$f":"'mnt Data'!P247","v":0},{"$f":"'mnt Data'!Q247","v":0},{"$f":"'mnt Data'!R247","v":0},{"$f":"'mnt Data'!S247","v":0},{"$f":"'mnt Data'!T247","v":0},{"$f":"'mnt Data'!U247","v":0},{"$f":"'mnt Data'!V247","v":0},{"$f":"'mnt Data'!W247","v":0},{"$f":"'mnt Data'!X247","v":0},{"$f":"'mnt Data'!Y247","v":0},{"$f":"'mnt Data'!Z247","v":0},{"$f":"'mnt Data'!AA247","v":0},{"$f":"'mnt Data'!AB247","v":0},{"$f":"'mnt Data'!AC247","v":0},{"$f":"'mnt Data'!AD247","v":0},{"$f":"'mnt Data'!AE247","v":0},{"$f":"'mnt Data'!AF247","v":0},{"$f":"'mnt Data'!AG247","v":0},{"$f":"'mnt Data'!AH247","v":0},{"$f":"'mnt Data'!AI247","v":0},{"$f":"'mnt Data'!AJ247","v":0},{"$f":"'mnt Data'!AK247","v":0}]
[244,0,0,"No Gs",0,"No Gs","No Gs","Gs is needed","Gs is needed","Gs is needed","Need Max and Min","Need Max and Min","Fail",null,{"$f":"'mnt Data'!A248","v":0},{"$f":"'mnt Data'!B248","v":0},{"$f":"'mnt Data'!C248","v":0},{"$f":"'mnt Data'!D248","v":0},{"$f":"'mnt Data'!E248","v":0},{"$f":"'mnt Data'!F248","v":0},{"$f":"'mnt Data'!G248","v":0},{"$f":"'mnt Data'!H248","v":0},{"$f":"'mnt Data'!I248","v":0},{"$f":"'mnt Data'!J248","v":0},{"$f":"'mnt Data'!K248","v":0},{"$f":"'mnt Data'!L248","v":0},{"$f":"'mnt Data'!M248","v":0},{"$f":"'mnt Data'!N248","v":0},{"$f":"'mnt Data'!O248","v":0},{"$f":"'mnt Data'!P248","v":0},{"$f":"'mnt Data'!Q248","v":0},{"$f":"'mnt Data'!R248","v":0},{"$f":"'mnt Data'!S248","v":0},{"$f":"'mnt Data'!T248","v":0},{"$f":"'mnt Data'!U248","v":0},{"$f":"'mnt Data'!V248","v":0},{"$f":"'mnt Data'!W248","v":0},{"$f":"'mnt Data'!X248","v":0},{"$f":"'mnt Data'!Y248","v":0},{"$f":"'mnt Data'!Z248","v":0},{"$f":"'mnt Data'!AA248","v":0},{"$f":"'mnt Data'!AB248","v":0},{"$f":"'mnt Data'!AC248","v":0},{"$f":"'mnt Data'!AD248","v":0},{"$f":"'mnt Data'!AE248","v":0},{"$f":"'mnt Data'!AF248","v":0},{"$f":"'mnt Data'!AG248","v":0},{"$f":"'mnt Data'!AH248","v":0},{"$f":"'mnt Data'!AI248","v":0},{"$f":"'mnt Data'!AJ248","v":0},{"$f":"'mnt Data'!AK248","v":0}]
[245,0,0,"No Gs",0,"No Gs","No Gs","Gs is needed","Gs is needed","Gs is needed","Need Max and Min","Need Max and Min","Fail",null,{"$f":"'mnt Data'!A249","v":0},{"$f":"'mnt Data'!B249","v":0},{"$f":"'mnt Data'!C249","v":0},{"$f":"'mnt Data'!D249","v":0},{"$f":"'mnt Data'!E249","v":0},{"$f":"'mnt Data'!F249","v":0},{"$f":"'mnt Data'!G249","v":0},{"$f":"'mnt Data'!H249","v":0},{"$f":"'mnt Data'!I249","v":0},{"$f":"'mnt Data'!J249","v":0},{"$f":"'mnt Data'!K249","v":0},{"$f":"'mnt Data'!L249","v":0},{"$f":"'mnt Data'!M249","v":0},{"$f":"'mnt Data'!N249","v":0},{"$f":"'mnt Data'!O249","v":0},{"$f":"'mnt Data'!P249","v":0},{"$f":"'mnt Data'!Q249","v":0},{"$f":"'mnt Data'!R249","v":0},{"$f":"'mnt Data'!S249","v":0},{"$f":"'mnt Data'!T249","v":0},{"$f":"'mnt Data'!U249","v":0},{"$f":"'mnt Data'!V249","v":0},{"$f":"'mnt Data'!W249","v":0},{"$f":"'mnt Data'!X249","v":0},{"$f":"'mnt Data'!Y249","v":0},{"$f":"'mnt Data'!Z249","v":0},{"$f":"'mnt Data'!AA249","v":0},{"$f":"'mnt Data'!AB249","v":0},{"$f":"'mnt Data'!AC249","v":0},{"$f":"'mnt Data'!AD249","v":0},{"$f":"'mnt Data'!AE249","v":0},{"$f":"'mnt Data'!AF249","v":0},{"$f":"'mnt Data'!AG249","v":0},{"$f":"'mnt Data'!AH249","v":0},{"$f":"'mnt Data'!AI249","v":0},{"$f":"'mnt Data'!AJ249","v":0},{"$f":"'mnt Data'!AK249","v":0}]
[246,0,0,"No Gs",0,"No Gs","No Gs","Gs is needed","Gs is needed","Gs is needed","Need Max and Min","Need Max and Min","Fail",null,{"$f":"'mnt Data'!A250","v":0},{"$f":"'mnt Data'!B250","v":0},{"$f":"'mnt Data'!C250","v":0},{"$f":"'mnt Data'!D250","v":0},{"$f":"'mnt Data'!E250","v":0},{"$f":"'mnt Data'!F250","v":0},{"$f":"'mnt Data'!G250","v":0},{"$f":"'mnt Data'!H250","v":0},{"$f":"'mnt Data'!I250","v":0},{"$f":"'mnt Data'!J250","v":0},{"$f":"'mnt Data'!K250","v":0},{"$f":"'mnt Data'!L250","v":0},{"$f":"'mnt Data'!M250","v":0},{"$f":"'mnt Data'!N250","v":0},{"$f":"'mnt Data'!O250","v":0},{"$f":"'mnt Data'!P250","v":0},{"$f":"'mnt Data'!Q250","v":0},{"$f":"'mnt Data'!R250","v":0},{"$f":"'mnt Data'!S250","v":0},{"$f":"'mnt Data'!T250","v":0},{"$f":"'mnt Data'!U250","v":0},{"$f":"'mnt Data'!V250","v":0},{"$f":"'mnt Data'!W250","v":0},{"$f":"'mnt Data'!X250","v":0},{"$f":"'mnt Data'!Y250","v":0},{"$f":"'mnt Data'!Z250","v":0},{"$f":"'mnt Data'!AA250","v":0},{"$f":"'mnt Data'!AB250","v":0},{"$f":"'mnt Data'!AC250","v":0},{"$f":"'mnt Data'!AD250","v":0},{"$f":"'mnt Data'!AE250","v":0},{"$f":"'mnt Data'!AF250","v":0},{"$f":"'mnt Data'!AG250","v":0},{"$f":"'mnt Data'!AH250","v":0},{"$f":"'mnt Data'!AI250","v":0},{"$f":"'mnt Data'!AJ250","v":0},{"$f":"'mnt Data'!AK250","v":0}]
[247,0,0,"No Gs",0,"No Gs","No Gs","Gs is needed","Gs is needed","Gs is needed","Need Max and Min","Need Max and Min","Fail",null,{"$f":"'mnt Data'!A251","v":0},{"$f":"'mnt Data'!B251","v":0},{"$f":"'mnt Data'!C251","v":0},{"$f":"'mnt Data'!D251","v":0},{"$f":"'mnt Data'!E251","v":0},{"$f":"'mnt Data'!F251","v":0},{"$f":"'mnt Data'!G251","v":0},{"$f":"'mnt Data'!H251","v":0},{"$f":"'mnt Data'!I251","v":0},{"$f":"'mnt Data'!J251","v":0},{"$f":"'mnt Data'!K251","v":0},{"$f":"'mnt Data'!L251","v":0},{"$f":"'mnt Data'!M251","v":0},{"$f":"'mnt Data'!N251","v":0},{"$f":"'mnt Data'!O251","v":0},{"$f":"'mnt Data'!P251","v":0},{"$f":"'mnt Data'!Q251","v":0},{"$f":"'mnt Data'!R251","v":0},{"$f":"'mnt Data'!S251","v":0},{"$f":"'mnt Data'!T251","v":0},{"$f":"'mnt Data'!U251","v":0},{"$f":"'mnt Data'!V251","v":0},{"$f":"'mnt Data'!W251","v":0},{"$f":"'mnt Data'!X251","v":0},{"$f":"'mnt Data'!Y251","v":0},{"$f":"'mnt Data'!Z251","v":0},{"$f":"'mnt Data'!AA251","v":0},{"$f":"'mnt Data'!AB251","v":0},{"$f":"'mnt Data'!AC251","v":0},{"$f":"'mnt Data'!AD251","v":0},{"$f":"'mnt Data'!AE251","v":0},{"$f":"'mnt Data'!AF251","v":0},{"$f":"'mnt Data'!AG251","v":0},{"$f":"'mnt Data'!AH251","v":0},{"$f":"'mnt Data'!AI251","v":0},{"$f":"'mnt Data'!AJ251","v":0},{"$f":"'mnt Data'!AK251","v":0}]
[248,0,0,"No Gs",0,"No Gs","No Gs","Gs is needed","Gs is needed","Gs is needed","Need Max and Min","Need Max and Min","Fail",null,{"$f":"'mnt Data'!A252","v":0},{"$f":"'mnt Data'!B252","v":0},{"$f":"'mnt Data'!C252","v":0},{"$f":"'mnt Data'!D252","v":0},{"$f":"'mnt Data'!E252","v":0},{"$f":"'mnt Data'!F252","v":0},{"$f":"'mnt Data'!G252","v":0},{"$f":"'mnt Data'!H252","v":0},{"$f":"'mnt Data'!I252","v":0},{"$f":"'mnt Data'!J252","v":0},{"$f":"'mnt Data'!K252","v":0},{"$f":"'mnt Data'!L252","v":0},{"$f":"'mnt Data'!M252","v":0},{"$f":"'mnt Data'!N252","v":0},{"$f":"'mnt Data'!O252","v":0},{"$f":"'mnt Data'!P252","v":0},{"$f":"'mnt Data'!Q252","v":0},{"$f":"'mnt Data'!R252","v":0},{"$f":"'mnt Data'!S252","v":0},{"$f":"'mnt Data'!T252","v":0},{"$f":"'mnt Data'!U252","v":0},{"$f":"'mnt Data'!V252","v":0},{"$f":"'mnt Data'!W252","v":0},{"$f":"'mnt Data'!X252","v":0},{"$f":"'mnt Data'!Y252","v":0},{"$f":"'mnt Data'!Z252","v":0},{"$f":"'mnt Data'!AA252","v":0},{"$f":"'mnt Data'!AB252","v":0},{"$f":"'mnt Data'!AC252","v":0},{"$f":"'mnt Data'!AD252","v":0},{"$f":"'mnt Data'!AE252","v":0},{"$f":"'mnt Data'!AF252","v":0},{"$f":"'mnt Data'!AG252","v":0},{"$f":"'mnt Data'!AH252","v":0},{"$f":"'mnt Data'!AI252","v":0},{"$f":"'mnt Data'!AJ252","v":0},{"$f":"'mnt Data'!AK252","v":0}]
[249,0,0,"No Gs",0,"No Gs","No Gs","Gs is needed","Gs is needed","Gs is needed","Need Max and Min","Need Max and Min","Fail",null,{"$f":"'mnt Data'!A253","v":0},{"$f":"'mnt Data'!B253","v":0},{"$f":"'mnt Data'!C253","v":0},{"$f":"'mnt Data'!D253","v":0},{"$f":"'mnt Data'!E253","v":0},{"$f":"'mnt Data'!F253","v":0},{"$f":"'mnt Data'!G253","v":0},{"$f":"'mnt Data'!H253","v":0},{"$f":"'mnt Data'!I253","v":0},{"$f":"'mnt Data'!J253","v":0},{"$f":"'mnt Data'!K253","v":0},{"$f":"'mnt Data'!L253","v":0},{"$f":"'mnt Data'!M253","v":0},{"$f":"'mnt Data'!N253","v":0},{"$f":"'mnt Data'!O253","v":0},{"$f":"'mnt Data'!P253","v":0},{"$f":"'mnt Data'!Q253","v":0},{"$f":"'mnt Data'!R253","v":0},{"$f":"'mnt Data'!S253","v":0},{"$f":"'mnt Data'!T253","v":0},{"$f":"'mnt Data'!U253","v":0},{"$f":"'mnt Data'!V253","v":0},{"$f":"'mnt Data'!W253","v":0},{"$f":"'mnt Data'!X253","v":0},{"$f":"'mnt Data'!Y253","v":0},{"$f":"'mnt Data'!Z253","v":0},{"$f":"'mnt Data'!AA253","v":0},{"$f":"'mnt Data'!AB253","v":0},{"$f":"'mnt Data'!AC253","v":0},{"$f":"'mnt Data'!AD253","v":0},{"$f":"'mnt Data'!AE253","v":0},{"$f":"'mnt Data'!AF253","v":0},{"$f":"'mnt Data'!AG253","v":0},{"$f":"'mnt Data'!AH253","v":0},{"$f":"'mnt Data'!AI253","v":0},{"$f":"'mnt Data'!AJ253","v":0},{"$f":"'mnt Data'!AK253","v":0}]
[250,0,0,"No Gs",0,"No Gs","No Gs","Gs is needed","Gs is needed","Gs is needed","Need Max and Min","Need Max and Min","Fail",null,{"$f":"'mnt Data'!A254","v":0},{"$f":"'mnt Data'!B254","v":0},{"$f":"'mnt Data'!C254","v":0},{"$f":"'mnt Data'!D254","v":0},{"$f":"'mnt Data'!E254","v":0},{"$f":"'mnt Data'!F254","v":0},{"$f":"'mnt Data'!G254","v":0},{"$f":"'mnt Data'!H254","v":0},{"$f":"'mnt Data'!I254","v":0},{"$f":"'mnt Data'!J254","v":0},{"$f":"'mnt Data'!K254","v":0},{"$f":"'mnt Data'!L254","v":0},{"$f":"'mnt Data'!M254","v":0},{"$f":"'mnt Data'!N254","v":0},{"$f":"'mnt Data'!O254","v":0},{"$f":"'mnt Data'!P254","v":0},{"$f":"'mnt Data'!Q254","v":0},{"$f":"'mnt Data'!R254","v":0},{"$f":"'mnt Data'!S254","v":0},{"$f":"'mnt Data'!T254","v":0},{"$f":"'mnt Data'!U254","v":0},{"$f":"'mnt Data'!V254","v":0},{"$f":"'mnt Data'!W254","v":0},{"$f":"'mnt Data'!X254","v":0},{"$f":"'mnt Data'!Y254","v":0},{"$f":"'mnt Data'!Z254","v":0},{"$f":"'mnt Data'!AA254","v":0},{"$f":"'mnt Data'!AB254","v":0},{"$f":"'mnt Data'!AC254","v":0},{"$f":"'mnt Data'!AD254","v":0},{"$f":"'mnt Data'!AE254","v":0},{"$f":"'mnt Data'!AF254","v":0},{"$f":"'mnt Data'!AG254","v":0},{"$f":"'mnt Data'!AH254","v":0},{"$f":"'mnt Data'!AI254","v":0},{"$f":"'mnt Data'!AJ254","v":0},{"$f":"'mnt Data'!AK254","v":0}]
[251,0,0,"No Gs",0,"No Gs","No Gs","Gs is needed","Gs is needed","Gs is needed","Need Max and Min","Need Max and Min","Fail",null,{"$f":"'mnt Data'!A255","v":0},{"$f":"'mnt Data'!B255","v":0},{"$f":"'mnt Data'!C255","v":0},{"$f":"'mnt Data'!D255","v":0},{"$f":"'mnt Data'!E255","v":0},{"$f":"'mnt Data'!F255","v":0},{"$f":"'mnt Data'!G255","v":0},{"$f":"'mnt Data'!H255","v":0},{"$f":"'mnt Data'!I255","v":0},{"$f":"'mnt Data'!J255","v":0},{"$f":"'mnt Data'!K255","v":0},{"$f":"'mnt Data'!L255","v":0},{"$f":"'mnt Data'!M255","v":0},{"$f":"'mnt Data'!N255","v":0},{"$f":"'mnt Data'!O255","v":0},{"$f":"'mnt Data'!P255","v":0},{"$f":"'mnt Data'!Q255","v":0},{"$f":"'mnt Data'!R255","v":0},{"$f":"'mnt Data'!S255","v":0},{"$f":"'mnt Data'!T255","v":0},{"$f":"'mnt Data'!U255","v":0},{"$f":"'mnt Data'!V255","v":0},{"$f":"'mnt Data'!W255","v":0},{"$f":"'mnt Data'!X255","v":0},{"$f":"'mnt Data'!Y255","v":0},{"$f":"'mnt Data'!Z255","v":0},{"$f":"'mnt Data'!AA255","v":0},{"$f":"'mnt Data'!AB255","v":0},{"$f":"'mnt Data'!AC255","v":0},{"$f":"'mnt Data'!AD255","v":0},{"$f":"'mnt Data'!AE255","v":0},{"$f":"'mnt Data'!AF255","v":0},{"$f":"'mnt Data'!AG255","v":0},{"$f":"'mnt Data'!AH255","v":0},{"$f":"'mnt Data'!AI255","v":0},{"$f":"'mnt Data'!AJ255","v":0},{"$f":"'mnt Data'!AK255","v":0}]
[252,0,0,"No Gs",0,"No Gs","No Gs","Gs is needed","Gs is needed","Gs is needed","Need Max and Min","Need Max and Min","Fail",null,{"$f":"'mnt Data'!A256","v":0},{"$f":"'mnt Data'!B256","v":0},{"$f":"'mnt Data'!C256","v":0},{"$f":"'mnt Data'!D256","v":0},{"$f":"'mnt Data'!E256","v":0},{"$f":"'mnt Data'!F256","v":0},{"$f":"'mnt Data'!G256","v":0},{"$f":"'mnt Data'!H256","v":0},{"$f":"'mnt Data'!I256","v":0},{"$f":"'mnt Data'!J256","v":0},{"$f":"'mnt Data'!K256","v":0},{"$f":"'mnt Data'!L256","v":0},{"$f":"'mnt Data'!M256","v":0},{"$f":"'mnt Data'!N256","v":0},{"$f":"'mnt Data'!O256","v":0},{"$f":"'mnt Data'!P256","v":0},{"$f":"'mnt Data'!Q256","v":0},{"$f":"'mnt Data'!R256","v":0},{"$f":"'mnt Data'!S256","v":0},{"$f":"'mnt Data'!T256","v":0},{"$f":"'mnt Data'!U256","v":0},{"$f":"'mnt Data'!V256","v":0},{"$f":"'mnt Data'!W256","v":0},{"$f":"'mnt Data'!X256","v":0},{"$f":"'mnt Data'!Y256","v":0},{"$f":"'mnt Data'!Z256","v":0},{"$f":"'mnt Data'!AA256","v":0},{"$f":"'mnt Data'!AB256","v":0},{"$f":"'mnt Data'!AC256","v":0},{"$f":"'mnt Data'!AD256","v":0},{"$f":"'mnt Data'!AE256","v":0},{"$f":"'mnt Data'!AF256","v":0},{"$f":"'mnt Data'!AG256","v":0},{"$f":"'mnt Data'!AH256","v":0},{"$f":"'mnt Data'!AI256","v":0},{"$f":"'mnt Data'!AJ256","v":0},{"$f":"'mnt Data'!AK256","v":0}]
[253,0,0,"No Gs",0,"No Gs","No Gs","Gs is needed","Gs is needed","Gs is needed","Need Max and Min","Need Max and Min","Fail",null,{"$f":"'mnt Data'!A257","v":0},{"$f":"'mnt Data'!B257","v":0},{"$f":"'mnt Data'!C257","v":0},{"$f":"'mnt Data'!D257","v":0},{"$f":"'mnt Data'!E257","v":0},{"$f":"'mnt Data'!F257","v":0},{"$f":"'mnt Data'!G257","v":0},{"$f":"'mnt Data'!H257","v":0},{"$f":"'mnt Data'!I257","v":0},{"$f":"'mnt Data'!J257","v":0},{"$f":"'mnt Data'!K257","v":0},{"$f":"'mnt Data'!L257","v":0},{"$f":"'mnt Data'!M257","v":0},{"$f":"'mnt Data'!N257","v":0},{"$f":"'mnt Data'!O257","v":0},{"$f":"'mnt Data'!P257","v":0},{"$f":"'mnt Data'!Q257","v":0},{"$f":"'mnt Data'!R257","v":0},{"$f":"'mnt Data'!S257","v":0},{"$f":"'mnt Data'!T257","v":0},{"$f":"'mnt Data'!U257","v":0},{"$f":"'mnt Data'!V257","v":0},{"$f":"'mnt Data'!W257","v":0},{"$f":"'mnt Data'!X257","v":0},{"$f":"'mnt Data'!Y257","v":0},{"$f":"'mnt Data'!Z257","v":0},{"$f":"'mnt Data'!AA257","v":0},{"$f":"'mnt Data'!AB257","v":0},{"$f":"'mnt Data'!AC257","v":0},{"$f":"'mnt Data'!AD257","v":0},{"$f":"'mnt Data'!AE257","v":0},{"$f":"'mnt Data'!AF257","v":0},{"$f":"'mnt Data'!AG257","v":0},{"$f":"'mnt Data'!AH257","v":0},{"$f":"'mnt Data'!AI257","v":0},{"$f":"'mnt Data'!AJ257","v":0},{"$f":"'mnt Data'!AK257","v":0}]
[254,0,0,"No Gs",0,"No Gs","No Gs","Gs is needed","Gs is needed","Gs is needed","Need Max and Min","Need Max and Min","Fail",null,{"$f":"'mnt Data'!A258","v":0},{"$f":"'mnt Data'!B258","v":0},{"$f":"'mnt Data'!C258","v":0},{"$f":"'mnt Data'!D258","v":0},{"$f":"'mnt Data'!E258","v":0},{"$f":"'mnt Data'!F258","v":0},{"$f":"'mnt Data'!G258","v":0},{"$f":"'mnt Data'!H258","v":0},{"$f":"'mnt Data'!I258","v":0},{"$f":"'mnt Data'!J258","v":0},{"$f":"'mnt Data'!K258","v":0},{"$f":"'mnt Data'!L258","v":0},{"$f":"'mnt Data'!M258","v":0},{"$f":"'mnt Data'!N258","v":0},{"$f":"'mnt Data'!O258","v":0},{"$f":"'mnt Data'!P258","v":0},{"$f":"'mnt Data'!Q258","v":0},{"$f":"'mnt Data'!R258","v":0},{"$f":"'mnt Data'!S258","v":0},{"$f":"'mnt Data'!T258","v":0},{"$f":"'mnt Data'!U258","v":0},{"$f":"'mnt Data'!V258","v":0},{"$f":"'mnt Data'!W258","v":0},{"$f":"'mnt Data'!X258","v":0},{"$f":"'mnt Data'!Y258","v":0},{"$f":"'mnt Data'!Z258","v":0},{"$f":"'mnt Data'!AA258","v":0},{"$f":"'mnt Data'!AB258","v":0},{"$f":"'mnt Data'!AC258","v":0},{"$f":"'mnt Data'!AD258","v":0},{"$f":"'mnt Data'!AE258","v":0},{"$f":"'mnt Data'!AF258","v":0},{"$f":"'mnt Data'!AG258","v":0},{"$f":"'mnt Data'!AH258","v":0},{"$f":"'mnt Data'!AI258","v":0},{"$f":"'mnt Data'!AJ258","v":0},{"$f":"'mnt Data'!AK258","v":0}]
[255,0,0,"No Gs",0,"No Gs","No Gs","Gs is needed","Gs is needed","Gs is needed","Need Max and Min","Need Max and Min","Fail",null,{"$f":"'mnt Data'!A259","v":0},{"$f":"'mnt Data'!B259","v":0},{"$f":"'mnt Data'!C259","v":0},{"$f":"'mnt Data'!D259","v":0},{"$f":"'mnt Data'!E259","v":0},{"$f":"'mnt Data'!F259","v":0},{"$f":"'mnt Data'!G259","v":0},{"$f":"'mnt Data'!H259","v":0},{"$f":"'mnt Data'!I259","v":0},{"$f":"'mnt Data'!J259","v":0},{"$f":"'mnt Data'!K259","v":0},{"$f":"'mnt Data'!L259","v":0},{"$f":"'mnt Data'!M259","v":0},{"$f":"'mnt Data'!N259","v":0},{"$f":"'mnt Data'!O259","v":0},{"$f":"'mnt Data'!P259","v":0},{"$f":"'mnt Data'!Q259","v":0},{"$f":"'mnt Data'!R259","v":0},{"$f":"'mnt Data'!S259","v":0},{"$f":"'mnt Data'!T259","v":0},{"$f":"'mnt Data'!U259","v":0},{"$f":"'mnt Data'!V259","v":0},{"$f":"'mnt Data'!W259","v":0},{"$f":"'mnt Data'!X259","v":0},{"$f":"'mnt Data'!Y259","v":0},{"$f":"'mnt Data'!Z259","v":0},{"$f":"'mnt Data'!AA259","v":0},{"$f":"'mnt Data'!AB259","v":0},{"$f":"'mnt Data'!AC259","v":0},{"$f":"'mnt Data'!AD259","v":0},{"$f":"'mnt Data'!AE259","v":0},{"$f":"'mnt Data'!AF259","v":0},{"$f":"'mnt Data'!AG259","v":0},{"$f":"'mnt Data'!AH259","v":0},{"$f":"'mnt Data'!AI259","v":0},{"$f":"'mnt Data'!AJ259","v":0},{"$f":"'mnt Data'!AK259","v":0}]
[256,0,0,"No Gs",0,"No Gs","No Gs","Gs is needed","Gs is needed","Gs is needed","Need Max and Min","Need Max and Min","Fail",null,{"$f":"'mnt Data'!A260","v":0},{"$f":"'mnt Data'!B260","v":0},{"$f":"'mnt Data'!C260","v":0},{"$f":"'mnt Data'!D260","v":0},{"$f":"'mnt Data'!E260","v":0},{"$f":"'mnt Data'!F260","v":0},{"$f":"'mnt Data'!G260","v":0},{"$f":"'mnt Data'!H260","v":0},{"$f":"'mnt Data'!I260","v":0},{"$f":"'mnt Data'!J260","v":0},{"$f":"'mnt Data'!K260","v":0},{"$f":"'mnt Data'!L260","v":0},{"$f":"'mnt Data'!M260","v":0},{"$f":"'mnt Data'!N260","v":0},{"$f":"'mnt Data'!O260","v":0},{"$f":"'mnt Data'!P260","v":0},{"$f":"'mnt Data'!Q260","v":0},{"$f":"'mnt Data'!R260","v":0},{"$f":"'mnt Data'!S260","v":0},{"$f":"'mnt Data'!T260","v":0},{"$f":"'mnt Data'!U260","v":0},{"$f":"'mnt Data'!V260","v":0},{"$f":"'mnt Data'!W260","v":0},{"$f":"'mnt Data'!X260","v":0},{"$f":"'mnt Data'!Y260","v":0},{"$f":"'mnt Data'!Z260","v":0},{"$f":"'mnt Data'!AA260","v":0},{"$f":"'mnt Data'!AB260","v":0},{"$f":"'mnt Data'!AC260","v":0},{"$f":"'mnt Data'!AD260","v":0},{"$f":"'mnt Data'!AE260","v":0},{"$f":"'mnt Data'!AF260","v":0},{"$f":"'mnt Data'!AG260","v":0},{"$f":"'mnt Data'!AH260","v":0},{"$f":"'mnt Data'!AI260","v":0},{"$f":"'mnt Data'!AJ260","v":0},{"$f":"'mnt Data'!AK260","v":0}]
[257,0,0,{"$f":"IFERROR(B258/(Gs*(IF(O258>1000,998,62.4))),\"No Gs\")","v":"No Gs"},0,"No Gs","No Gs","Gs is needed","Gs is needed","Gs is needed",{"$f":"IFERROR((100*(DMax*(O258-DMin))/(O258*(DMax-DMin))),\"Need Max and Min\")","v":"Need Max and Min"},{"$f":"IF(K258=\"Need Max and Min\",K258,(100*((O258-DMin)/(DMax-DMin))))","v":"Need Max and Min"},{"$f":"IF((Min+Max)=0,\"Need Max and Min Density\",IF(AND(S258>Min,S258<Max),\"Pass\",\"Fail\"))","v":"Fail"},null,{"$f":"'mnt Data'!A261","v":0},{"$f":"'mnt Data'!B261","v":0},{"$f":"'mnt Data'!C261","v":0},{"$f":"'mnt Data'!D261","v":0},{"$f":"'mnt Data'!E261","v":0},{"$f":"'mnt Data'!F261","v":0},{"$f":"'mnt Data'!G261","v":0},{"$f":"'mnt Data'!H261","v":0},{"$f":"'mnt Data'!I261","v":0},{"$f":"'mnt Data'!J261","v":0},{"$f":"'mnt Data'!K261","v":0},{"$f":"'mnt Data'!L261","v":0},{"$f":"'mnt Data'!M261","v":0},{"$f":"'mnt Data'!N261","v":0},{"$f":"'mnt Data'!O261","v":0},{"$f":"'mnt Data'!P261","v":0},{"$f":"'mnt Data'!Q261","v":0},{"$f":"'mnt Data'!R261","v":0},{"$f":"'mnt Data'!S261","v":0},{"$f":"'mnt Data'!T261","v":0},{"$f":"'mnt Data'!U261","v":0},{"$f":"'mnt Data'!V261","v":0},{"$f":"'mnt Data'!W261","v":0},{"$f":"'mnt Data'!X261","v":0},{"$f":"'mnt Data'!Y261","v":0},{"$f":"'mnt Data'!Z261","v":0},{"$f":"'mnt Data'!AA261","v":0},{"$f":"'mnt Data'!AB261","v":0},{"$f":"'mnt Data'!AC261","v":0},{"$f":"'mnt Data'!AD261","v":0},{"$f":"'mnt Data'!AE261","v":0},{"$f":"'mnt Data'!AF261","v":0},{"$f":"'mnt Data'!AG261","v":0},{"$f":"'mnt Data'!AH261","v":0},{"$f":"'mnt Data'!AI261","v":0},{"$f":"'mnt Data'!AJ261","v":0},{"$f":"'mnt Data'!AK261","v":0}]
[258,0,0,"No Gs",{"$f":"C259/(IF(O259>1000,998,62.4))","v":0},{"$f":"IFERROR(1-D259-E259,\"No Gs\")","v":"No Gs"},{"$f":"IFERROR(E259+F259,\"No Gs\")","v":"No Gs"},"Gs is needed","Gs is needed","Gs is needed","Need Max and Min","Need Max and Min","Fail",null,{"$f":"'mnt Data'!A262","v":0},{"$f":"'mnt Data'!B262","v":0},{"$f":"'mnt Data'!C262","v":0},{"$f":"'mnt Data'!D262","v":0},{"$f":"'mnt Data'!E262","v":0},{"$f":"'mnt Data'!F262","v":0},{"$f":"'mnt Data'!G262","v":0},{"$f":"'mnt Data'!H262","v":0},{"$f":"'mnt Data'!I262","v":0},{"$f":"'mnt Data'!J262","v":0},{"$f":"'mnt Data'!K262","v":0},{"$f":"'mnt Data'!L262","v":0},{"$f":"'mnt Data'!M262","v":0},{"$f":"'mnt Data'!N262","v":0},{"$f":"'mnt Data'!O262","v":0},{"$f":"'mnt Data'!P262","v":0},{"$f":"'mnt Data'!Q262","v":0},{"$f":"'mnt Data'!R262","v":0},{"$f":"'mnt Data'!S262","v":0},{"$f":"'mnt Data'!T262","v":0},{"$f":"'mnt Data'!U262","v":0},{"$f":"'mnt Data'!V262","v":0},{"$f":"'mnt Data'!W262","v":0},{"$f":"'mnt Data'!X262","v":0},{"$f":"'mnt Data'!Y262","v":0},{"$f":"'mnt Data'!Z262","v":0},{"$f":"'mnt Data'!AA262","v":0},{"$f":"'mnt Data'!AB262","v":0},{"$f":"'mnt Data'!AC262","v":0},{"$f":"'mnt Data'!AD262","v":0},{"$f":"'mnt Data'!AE262","v":0},{"$f":"'mnt Data'!AF262","v":0},{"$f":"'mnt Data'!AG262","v":0},{"$f":"'mnt Data'!AH262","v":0},{"$f":"'mnt Data'!AI262","v":0},{"$f":"'mnt Data'!AJ262","v":0},{"$f":"'mnt Data'!AK262","v":0}]
[259,0,0,"No Gs",0,"No Gs","No Gs","Gs is needed","Gs is needed","Gs is needed","Need Max and Min","Need Max and Min","Fail",null,{"$f":"'mnt Data'!A263","v":0},{"$f":"'mnt Data'!B263","v":0},{"$f":"'mnt Data'!C263","v":0},{"$f":"'mnt Data'!D263","v":0},{"$f":"'mnt Data'!E263","v":0},{"$f":"'mnt Data'!F263","v":0},{"$f":"'mnt Data'!G263","v":0},{"$f":"'mnt Data'!H263","v":0},{"$f":"'mnt Data'!I263","v":0},{"$f":"'mnt Data'!J263","v":0},{"$f":"'mnt Data'!K263","v":0},{"$f":"'mnt Data'!L263","v":0},{"$f":"'mnt Data'!M263","v":0},{"$f":"'mnt Data'!N263","v":0},{"$f":"'mnt Data'!O263","v":0},{"$f":"'mnt Data'!P263","v":0},{"$f":"'mnt Data'!Q263","v":0},{"$f":"'mnt Data'!R263","v":0},{"$f":"'mnt Data'!S263","v":0},{"$f":"'mnt Data'!T263","v":0},{"$f":"'mnt Data'!U263","v":0},{"$f":"'mnt Data'!V263","v":0},{"$f":"'mnt Data'!W263","v":0},{"$f":"'mnt Data'!X263","v":0},{"$f":"'mnt Data'!Y263","v":0},{"$f":"'mnt Data'!Z263","v":0},{"$f":"'mnt Data'!AA263","v":0},{"$f":"'mnt Data'!AB263","v":0},{"$f":"'mnt Data'!AC263","v":0},{"$f":"'mnt Data'!AD263","v":0},{"$f":"'mnt Data'!AE263","v":0},{"$f":"'mnt Data'!AF263","v":0},{"$f":"'mnt Data'!AG263","v":0},{"$f":"'mnt Data'!AH263","v":0},{"$f":"'mnt Data'!AI263","v":0},{"$f":"'mnt Data'!AJ263","v":0},{"$f":"'mnt Data'!AK263","v":0}]
[260,0,0,"No Gs",0,"No Gs","No Gs","Gs is needed","Gs is needed","Gs is needed","Need Max and Min","Need Max and Min","Fail",null,{"$f":"'mnt Data'!A264","v":0},{"$f":"'mnt Data'!B264","v":0},{"$f":"'mnt Data'!C264","v":0},{"$f":"'mnt Data'!D264","v":0},{"$f":"'mnt Data'!E264","v":0},{"$f":"'mnt Data'!F264","v":0},{"$f":"'mnt Data'!G264","v":0},{"$f":"'mnt Data'!H264","v":0},{"$f":"'mnt Data'!I264","v":0},{"$f":"'mnt Data'!J264","v":0},{"$f":"'mnt Data'!K264","v":0},{"$f":"'mnt Data'!L264","v":0},{"$f":"'mnt Data'!M264","v":0},{"$f":"'mnt Data'!N264","v":0},{"$f":"'mnt Data'!O264","v":0},{"$f":"'mnt Data'!P264","v":0},{"$f":"'mnt Data'!Q264","v":0},{"$f":"'mnt Data'!R264","v":0},{"$f":"'mnt Data'!S264","v":0},{"$f":"'mnt Data'!T264","v":0},{"$f":"'mnt Data'!U264","v":0},{"$f":"'mnt Data'!V264","v":0},{"$f":"'mnt Data'!W264","v":0},{"$f":"'mnt Data'!X264","v":0},{"$f":"'mnt Data'!Y264","v":0},{"$f":"'mnt Data'!Z264","v":0},{"$f":"'mnt Data'!AA264","v":0},{"$f":"'mnt Data'!AB264","v":0},{"$f":"'mnt Data'!AC264","v":0},{"$f":"'mnt Data'!AD264","v":0},{"$f":"'mnt Data'!AE264","v":0},{"$f":"'mnt Data'!AF264","v":0},{"$f":"'mnt Data'!AG264","v":0},{"$f":"'mnt Data'!AH264","v":0},{"$f":"'mnt Data'!AI264","v":0},{"$f":"'mnt Data'!AJ264","v":0},{"$f":"'mnt Data'!AK264","v":0}]
[261,0,0,"No Gs",0,"No Gs","No Gs","Gs is needed","Gs is needed","Gs is needed","Need Max and Min","Need Max and Min","Fail",null,{"$f":"'mnt Data'!A265","v":0},{"$f":"'mnt Data'!B265","v":0},{"$f":"'mnt Data'!C265","v":0},{"$f":"'mnt Data'!D265","v":0},{"$f":"'mnt Data'!E265","v":0},{"$f":"'mnt Data'!F265","v":0},{"$f":"'mnt Data'!G265","v":0},{"$f":"'mnt Data'!H265","v":0},{"$f":"'mnt Data'!I265","v":0},{"$f":"'mnt Data'!J265","v":0},{"$f":"'mnt Data'!K265","v":0},{"$f":"'mnt Data'!L265","v":0},{"$f":"'mnt Data'!M265","v":0},{"$f":"'mnt Data'!N265","v":0},{"$f":"'mnt Data'!O265","v":0},{"$f":"'mnt Data'!P265","v":0},{"$f":"'mnt Data'!Q265","v":0},{"$f":"'mnt Data'!R265","v":0},{"$f":"'mnt Data'!S265","v":0},{"$f":"'mnt Data'!T265","v":0},{"$f":"'mnt Data'!U265","v":0},{"$f":"'mnt Data'!V265","v":0},{"$f":"'mnt Data'!W265","v":0},{"$f":"'mnt Data'!X265","v":0},{"$f":"'mnt Data'!Y265","v":0},{"$f":"'mnt Data'!Z265","v":0},{"$f":"'mnt Data'!AA265","v":0},{"$f":"'mnt Data'!AB265","v":0},{"$f":"'mnt Data'!AC265","v":0},{"$f":"'mnt Data'!AD265","v":0},{"$f":"'mnt Data'!AE265","v":0},{"$f":"'mnt Data'!AF265","v":0},{"$f":"'mnt Data'!AG265","v":0},{"$f":"'mnt Data'!AH265","v":0},{"$f":"'mnt Data'!AI265","v":0},{"$f":"'mnt Data'!AJ265","v":0},{"$f":"'mnt Data'!AK265","v":0}]
[262,0,0,"No Gs",0,"No Gs","No Gs","Gs is needed","Gs is needed","Gs is needed","Need Max and Min","Need Max and Min","Fail",null,{"$f":"'mnt Data'!A266","v":0},{"$f":"'mnt Data'!B266","v":0},{"$f":"'mnt Data'!C266","v":0},{"$f":"'mnt Data'!D266","v":0},{"$f":"'mnt Data'!E266","v":0},{"$f":"'mnt Data'!F266","v":0},{"$f":"'mnt Data'!G266","v":0},{"$f":"'mnt Data'!H266","v":0},{"$f":"'mnt Data'!I266","v":0},{"$f":"'mnt Data'!J266","v":0},{"$f":"'mnt Data'!K266","v":0},{"$f":"'mnt Data'!L266","v":0},{"$f":"'mnt Data'!M266","v":0},{"$f":"'mnt Data'!N266","v":0},{"$f":"'mnt Data'!O266","v":0},{"$f":"'mnt Data'!P266","v":0},{"$f":"'mnt Data'!Q266","v":0},{"$f":"'mnt Data'!R266","v":0},{"$f":"'mnt Data'!S266","v":0},{"$f":"'mnt Data'!T266","v":0},{"$f":"'mnt Data'!U266","v":0},{"$f":"'mnt Data'!V266","v":0},{"$f":"'mnt Data'!W266","v":0},{"$f":"'mnt Data'!X266","v":0},{"$f":"'mnt Data'!Y266","v":0},{"$f":"'mnt Data'!Z266","v":0},{"$f":"'mnt Data'!AA266","v":0},{"$f":"'mnt Data'!AB266","v":0},{"$f":"'mnt Data'!AC266","v":0},{"$f":"'mnt Data'!AD266","v":0},{"$f":"'mnt Data'!AE266","v":0},{"$f":"'mnt Data'!AF266","v":0},{"$f":"'mnt Data'!AG266","v":0},{"$f":"'mnt Data'!AH266","v":0},{"$f":"'mnt Data'!AI266","v":0},{"$f":"'mnt Data'!AJ266","v":0},{"$f":"'mnt Data'!AK266","v":0}]
[263,0,0,"No Gs",0,"No Gs","No Gs","Gs is needed","Gs is needed","Gs is needed","Need Max and Min","Need Max and Min","Fail",null,{"$f":"'mnt Data'!A267","v":0},{"$f":"'mnt Data'!B267","v":0},{"$f":"'mnt Data'!C267","v":0},{"$f":"'mnt Data'!D267","v":0},{"$f":"'mnt Data'!E267","v":0},{"$f":"'mnt Data'!F267","v":0},{"$f":"'mnt Data'!G267","v":0},{"$f":"'mnt Data'!H267","v":0},{"$f":"'mnt Data'!I267","v":0},{"$f":"'mnt Data'!J267","v":0},{"$f":"'mnt Data'!K267","v":0},{"$f":"'mnt Data'!L267","v":0},{"$f":"'mnt Data'!M267","v":0},{"$f":"'mnt Data'!N267","v":0},{"$f":"'mnt Data'!O267","v":0},{"$f":"'mnt Data'!P267","v":0},{"$f":"'mnt Data'!Q267","v":0},{"$f":"'mnt Data'!R267","v":0},{"$f":"'mnt Data'!S267","v":0},{"$f":"'mnt Data'!T267","v":0},{"$f":"'mnt Data'!U267","v":0},{"$f":"'mnt Data'!V267","v":0},{"$f":"'mnt Data'!W267","v":0},{"$f":"'mnt Data'!X267","v":0},{"$f":"'mnt Data'!Y267","v":0},{"$f":"'mnt Data'!Z267","v":0},{"$f":"'mnt Data'!AA267","v":0},{"$f":"'mnt Data'!AB267","v":0},{"$f":"'mnt Data'!AC267","v":0},{"$f":"'mnt Data'!AD267","v":0},{"$f":"'mnt Data'!AE267","v":0},{"$f":"'mnt Data'!AF267","v":0},{"$f":"'mnt Data'!AG267","v":0},{"$f":"'mnt Data'!AH267","v":0},{"$f":"'mnt Data'!AI267","v":0},{"$f":"'mnt Data'!AJ267","v":0},{"$f":"'mnt Data'!AK267","v":0}]
[264,0,0,"No Gs",0,"No Gs","No Gs","Gs is needed","Gs is needed","Gs is needed","Need Max and Min","Need Max and Min","Fail",null,{"$f":"'mnt Data'!A268","v":0},{"$f":"'mnt Data'!B268","v":0},{"$f":"'mnt Data'!C268","v":0},{"$f":"'mnt Data'!D268","v":0},{"$f":"'mnt Data'!E268","v":0},{"$f":"'mnt Data'!F268","v":0},{"$f":"'mnt Data'!G268","v":0},{"$f":"'mnt Data'!H268","v":0},{"$f":"'mnt Data'!I268","v":0},{"$f":"'mnt Data'!J268","v":0},{"$f":"'mnt Data'!K268","v":0},{"$f":"'mnt Data'!L268","v":0},{"$f":"'mnt Data'!M268","v":0},{"$f":"'mnt Data'!N268","v":0},{"$f":"'mnt Data'!O268","v":0},{"$f":"'mnt Data'!P268","v":0},{"$f":"'mnt Data'!Q268","v":0},{"$f":"'mnt Data'!R268","v":0},{"$f":"'mnt Data'!S268","v":0},{"$f":"'mnt Data'!T268","v":0},{"$f":"'mnt Data'!U268","v":0},{"$f":"'mnt Data'!V268","v":0},{"$f":"'mnt Data'!W268","v":0},{"$f":"'mnt Data'!X268","v":0},{"$f":"'mnt Data'!Y268","v":0},{"$f":"'mnt Data'!Z268","v":0},{"$f":"'mnt Data'!AA268","v":0},{"$f":"'mnt Data'!AB268","v":0},{"$f":"'mnt Data'!AC268","v":0},{"$f":"'mnt Data'!AD268","v":0},{"$f":"'mnt Data'!AE268","v":0},{"$f":"'mnt Data'!AF268","v":0},{"$f":"'mnt Data'!AG268","v":0},{"$f":"'mnt Data'!AH268","v":0},{"$f":"'mnt Data'!AI268","v":0},{"$f":"'mnt Data'!AJ268","v":0},{"$f":"'mnt Data'!AK268","v":0}]
[265,0,0,"No Gs",0,"No Gs","No Gs","Gs is needed","Gs is needed","Gs is needed","Need Max and Min","Need Max and Min","Fail",null,{"$f":"'mnt Data'!A269","v":0},{"$f":"'mnt Data'!B269","v":0},{"$f":"'mnt Data'!C269","v":0},{"$f":"'mnt Data'!D269","v":0},{"$f":"'mnt Data'!E269","v":0},{"$f":"'mnt Data'!F269","v":0},{"$f":"'mnt Data'!G269","v":0},{"$f":"'mnt Data'!H269","v":0},{"$f":"'mnt Data'!I269","v":0},{"$f":"'mnt Data'!J269","v":0},{"$f":"'mnt Data'!K269","v":0},{"$f":"'mnt Data'!L269","v":0},{"$f":"'mnt Data'!M269","v":0},{"$f":"'mnt Data'!N269","v":0},{"$f":"'mnt Data'!O269","v":0},{"$f":"'mnt Data'!P269","v":0},{"$f":"'mnt Data'!Q269","v":0},{"$f":"'mnt Data'!R269","v":0},{"$f":"'mnt Data'!S269","v":0},{"$f":"'mnt Data'!T269","v":0},{"$f":"'mnt Data'!U269","v":0},{"$f":"'mnt Data'!V269","v":0},{"$f":"'mnt Data'!W269","v":0},{"$f":"'mnt Data'!X269","v":0},{"$f":"'mnt Data'!Y269","v":0},{"$f":"'mnt Data'!Z269","v":0},{"$f":"'mnt Data'!AA269","v":0},{"$f":"'mnt Data'!AB269","v":0},{"$f":"'mnt Data'!AC269","v":0},{"$f":"'mnt Data'!AD269","v":0},{"$f":"'mnt Data'!AE269","v":0},{"$f":"'mnt Data'!AF269","v":0},{"$f":"'mnt Data'!AG269","v":0},{"$f":"'mnt Data'!AH269","v":0},{"$f":"'mnt Data'!AI269","v":0},{"$f":"'mnt Data'!AJ269","v":0},{"$f":"'mnt Data'!AK269","v":0}]
[266,0,0,"No Gs",0,"No Gs","No Gs","Gs is needed","Gs is needed","Gs is needed","Need Max and Min","Need Max and Min","Fail",null,{"$f":"'mnt Data'!A270","v":0},{"$f":"'mnt Data'!B270","v":0},{"$f":"'mnt Data'!C270","v":0},{"$f":"'mnt Data'!D270","v":0},{"$f":"'mnt Data'!E270","v":0},{"$f":"'mnt Data'!F270","v":0},{"$f":"'mnt Data'!G270","v":0},{"$f":"'mnt Data'!H270","v":0},{"$f":"'mnt Data'!I270","v":0},{"$f":"'mnt Data'!J270","v":0},{"$f":"'mnt Data'!K270","v":0},{"$f":"'mnt Data'!L270","v":0},{"$f":"'mnt Data'!M270","v":0},{"$f":"'mnt Data'!N270","v":0},{"$f":"'mnt Data'!O270","v":0},{"$f":"'mnt Data'!P270","v":0},{"$f":"'mnt Data'!Q270","v":0},{"$f":"'mnt Data'!R270","v":0},{"$f":"'mnt Data'!S270","v":0},{"$f":"'mnt Data'!T270","v":0},{"$f":"'mnt Data'!U270","v":0},{"$f":"'mnt Data'!V270","v":0},{"$f":"'mnt Data'!W270","v":0},{"$f":"'mnt Data'!X270","v":0},{"$f":"'mnt Data'!Y270","v":0},{"$f":"'mnt Data'!Z270","v":0},{"$f":"'mnt Data'!AA270","v":0},{"$f":"'mnt Data'!AB270","v":0},{"$f":"'mnt Data'!AC270","v":0},{"$f":"'mnt Data'!AD270","v":0},{"$f":"'mnt Data'!AE270","v":0},{"$f":"'mnt Data'!AF270","v":0},{"$f":"'mnt Data'!AG270","v":0},{"$f":"'mnt Data'!AH270","v":0},{"$f":"'mnt Data'!AI270","v":0},{"$f":"'mnt Data'!AJ270","v":0},{"$f":"'mnt Data'!AK270","v":0}]
[267,0,0,"No Gs",0,"No Gs","No Gs","Gs is needed","Gs is needed","Gs is needed","Need Max and Min","Need Max and Min","Fail",null,{"$f":"'mnt Data'!A271","v":0},{"$f":"'mnt Data'!B271","v":0},{"$f":"'mnt Data'!C271","v":0},{"$f":"'mnt Data'!D271","v":0},{"$f":"'mnt Data'!E271","v":0},{"$f":"'mnt Data'!F271","v":0},{"$f":"'mnt Data'!G271","v":0},{"$f":"'mnt Data'!H271","v":0},{"$f":"'mnt Data'!I271","v":0},{"$f":"'mnt Data'!J271","v":0},{"$f":"'mnt Data'!K271","v":0},{"$f":"'mnt Data'!L271","v":0},{"$f":"'mnt Data'!M271","v":0},{"$f":"'mnt Data'!N271","v":0},{"$f":"'mnt Data'!O271","v":0},{"$f":"'mnt Data'!P271","v":0},{"$f":"'mnt Data'!Q271","v":0},{"$f":"'mnt Data'!R271","v":0},{"$f":"'mnt Data'!S271","v":0},{"$f":"'mnt Data'!T271","v":0},{"$f":"'mnt Data'!U271","v":0},{"$f":"'mnt Data'!V271","v":0},{"$f":"'mnt Data'!W271","v":0},{"$f":"'mnt Data'!X271","v":0},{"$f":"'mnt Data'!Y271","v":0},{"$f":"'mnt Data'!Z271","v":0},{"$f":"'mnt Data'!AA271","v":0},{"$f":"'mnt Data'!AB271","v":0},{"$f":"'mnt Data'!AC271","v":0},{"$f":"'mnt Data'!AD271","v":0},{"$f":"'mnt Data'!AE271","v":0},{"$f":"'mnt Data'!AF271","v":0},{"$f":"'mnt Data'!AG271","v":0},{"$f":"'mnt Data'!AH271","v":0},{"$f":"'mnt Data'!AI271","v":0},{"$f":"'mnt Data'!AJ271","v":0},{"$f":"'mnt Data'!AK271","v":0}]
[268,0,0,"No Gs",0,"No Gs","No Gs","Gs is needed","Gs is needed","Gs is needed","Need Max and Min","Need Max and Min","Fail",null,{"$f":"'mnt Data'!A272","v":0},{"$f":"'mnt Data'!B272","v":0},{"$f":"'mnt Data'!C272","v":0},{"$f":"'mnt Data'!D272","v":0},{"$f":"'mnt Data'!E272","v":0},{"$f":"'mnt Data'!F272","v":0},{"$f":"'mnt Data'!G272","v":0},{"$f":"'mnt Data'!H272","v":0},{"$f":"'mnt Data'!I272","v":0},{"$f":"'mnt Data'!J272","v":0},{"$f":"'mnt Data'!K272","v":0},{"$f":"'mnt Data'!L272","v":0},{"$f":"'mnt Data'!M272","v":0},{"$f":"'mnt Data'!N272","v":0},{"$f":"'mnt Data'!O272","v":0},{"$f":"'mnt Data'!P272","v":0},{"$f":"'mnt Data'!Q272","v":0},{"$f":"'mnt Data'!R272","v":0},{"$f":"'mnt Data'!S272","v":0},{"$f":"'mnt Data'!T272","v":0},{"$f":"'mnt Data'!U272","v":0},{"$f":"'mnt Data'!V272","v":0},{"$f":"'mnt Data'!W272","v":0},{"$f":"'mnt Data'!X272","v":0},{"$f":"'mnt Data'!Y272","v":0},{"$f":"'mnt Data'!Z272","v":0},{"$f":"'mnt Data'!AA272","v":0},{"$f":"'mnt Data'!AB272","v":0},{"$f":"'mnt Data'!AC272","v":0},{"$f":"'mnt Data'!AD272","v":0},{"$f":"'mnt Data'!AE272","v":0},{"$f":"'mnt Data'!AF272","v":0},{"$f":"'mnt Data'!AG272","v":0},{"$f":"'mnt Data'!AH272","v":0},{"$f":"'mnt Data'!AI272","v":0},{"$f":"'mnt Data'!AJ272","v":0},{"$f":"'mnt Data'!AK272","v":0}]
[269,0,0,"No Gs",0,"No Gs","No Gs","Gs is needed","Gs is needed","Gs is needed","Need Max and Min","Need Max and Min","Fail",null,{"$f":"'mnt Data'!A273","v":0},{"$f":"'mnt Data'!B273","v":0},{"$f":"'mnt Data'!C273","v":0},{"$f":"'mnt Data'!D273","v":0},{"$f":"'mnt Data'!E273","v":0},{"$f":"'mnt Data'!F273","v":0},{"$f":"'mnt Data'!G273","v":0},{"$f":"'mnt Data'!H273","v":0},{"$f":"'mnt Data'!I273","v":0},{"$f":"'mnt Data'!J273","v":0},{"$f":"'mnt Data'!K273","v":0},{"$f":"'mnt Data'!L273","v":0},{"$f":"'mnt Data'!M273","v":0},{"$f":"'mnt Data'!N273","v":0},{"$f":"'mnt Data'!O273","v":0},{"$f":"'mnt Data'!P273","v":0},{"$f":"'mnt Data'!Q273","v":0},{"$f":"'mnt Data'!R273","v":0},{"$f":"'mnt Data'!S273","v":0},{"$f":"'mnt Data'!T273","v":0},{"$f":"'mnt Data'!U273","v":0},{"$f":"'mnt Data'!V273","v":0},{"$f":"'mnt Data'!W273","v":0},{"$f":"'mnt Data'!X273","v":0},{"$f":"'mnt Data'!Y273","v":0},{"$f":"'mnt Data'!Z273","v":0},{"$f":"'mnt Data'!AA273","v":0},{"$f":"'mnt Data'!AB273","v":0},{"$f":"'mnt Data'!AC273","v":0},{"$f":"'mnt Data'!AD273","v":0},{"$f":"'mnt Data'!AE273","v":0},{"$f":"'mnt Data'!AF273","v":0},{"$f":"'mnt Data'!AG273","v":0},{"$f":"'mnt Data'!AH273","v":0},{"$f":"'mnt Data'!AI273","v":0},{"$f":"'mnt Data'!AJ273","v":0},{"$f":"'mnt Data'!AK273","v":0}]
[270,0,0,"No Gs",0,"No Gs","No Gs","Gs is needed","Gs is needed","Gs is needed","Need Max and Min","Need Max and Min","Fail",null,{"$f":"'mnt Data'!A274","v":0},{"$f":"'mnt Data'!B274","v":0},{"$f":"'mnt Data'!C274","v":0},{"$f":"'mnt Data'!D274","v":0},{"$f":"'mnt Data'!E274","v":0},{"$f":"'mnt Data'!F274","v":0},{"$f":"'mnt Data'!G274","v":0},{"$f":"'mnt Data'!H274","v":0},{"$f":"'mnt Data'!I274","v":0},{"$f":"'mnt Data'!J274","v":0},{"$f":"'mnt Data'!K274","v":0},{"$f":"'mnt Data'!L274","v":0},{"$f":"'mnt Data'!M274","v":0},{"$f":"'mnt Data'!N274","v":0},{"$f":"'mnt Data'!O274","v":0},{"$f":"'mnt Data'!P274","v":0},{"$f":"'mnt Data'!Q274","v":0},{"$f":"'mnt Data'!R274","v":0},{"$f":"'mnt Data'!S274","v":0},{"$f":"'mnt Data'!T274","v":0},{"$f":"'mnt Data'!U274","v":0},{"$f":"'mnt Data'!V274","v":0},{"$f":"'mnt Data'!W274","v":0},{"$f":"'mnt Data'!X274","v":0},{"$f":"'mnt Data'!Y274","v":0},{"$f":"'mnt Data'!Z274","v":0},{"$f":"'mnt Data'!AA274","v":0},{"$f":"'mnt Data'!AB274","v":0},{"$f":"'mnt Data'!AC274","v":0},{"$f":"'mnt Data'!AD274","v":0},{"$f":"'mnt Data'!AE274","v":0},{"$f":"'mnt Data'!AF274","v":0},{"$f":"'mnt Data'!AG274","v":0},{"$f":"'mnt Data'!AH274","v":0},{"$f":"'mnt Data'!AI274","v":0},{"$f":"'mnt Data'!AJ274","v":0},{"$f":"'mnt Data'!AK274","v":0}]
[271,0,0,"No Gs",0,"No Gs","No Gs","Gs is needed","Gs is needed","Gs is needed","Need Max and Min","Need Max and Min","Fail",null,{"$f":"'mnt Data'!A275","v":0},{"$f":"'mnt Data'!B275","v":0},{"$f":"'mnt Data'!C275","v":0},{"$f":"'mnt Data'!D275","v":0},{"$f":"'mnt Data'!E275","v":0},{"$f":"'mnt Data'!F275","v":0},{"$f":"'mnt Data'!G275","v":0},{"$f":"'mnt Data'!H275","v":0},{"$f":"'mnt Data'!I275","v":0},{"$f":"'mnt Data'!J275","v":0},{"$f":"'mnt Data'!K275","v":0},{"$f":"'mnt Data'!L275","v":0},{"$f":"'mnt Data'!M275","v":0},{"$f":"'mnt Data'!N275","v":0},{"$f":"'mnt Data'!O275","v":0},{"$f":"'mnt Data'!P275","v":0},{"$f":"'mnt Data'!Q275","v":0},{"$f":"'mnt Data'!R275","v":0},{"$f":"'mnt Data'!S275","v":0},{"$f":"'mnt Data'!T275","v":0},{"$f":"'mnt Data'!U275","v":0},{"$f":"'mnt Data'!V275","v":0},{"$f":"'mnt Data'!W275","v":0},{"$f":"'mnt Data'!X275","v":0},{"$f":"'mnt Data'!Y275","v":0},{"$f":"'mnt Data'!Z275","v":0},{"$f":"'mnt Data'!AA275","v":0},{"$f":"'mnt Data'!AB275","v":0},{"$f":"'mnt Data'!AC275","v":0},{"$f":"'mnt Data'!AD275","v":0},{"$f":"'mnt Data'!AE275","v":0},{"$f":"'mnt Data'!AF275","v":0},{"$f":"'mnt Data'!AG275","v":0},{"$f":"'mnt Data'!AH275","v":0},{"$f":"'mnt Data'!AI275","v":0},{"$f":"'mnt Data'!AJ275","v":0},{"$f":"'mnt Data'!AK275","v":0}]
[272,0,0,"No Gs",0,"No Gs","No Gs","Gs is needed","Gs is needed","Gs is needed","Need Max and Min","Need Max and Min","Fail",null,{"$f":"'mnt Data'!A276","v":0},{"$f":"'mnt Data'!B276","v":0},{"$f":"'mnt Data'!C276","v":0},{"$f":"'mnt Data'!D276","v":0},{"$f":"'mnt Data'!E276","v":0},{"$f":"'mnt Data'!F276","v":0},{"$f":"'mnt Data'!G276","v":0},{"$f":"'mnt Data'!H276","v":0},{"$f":"'mnt Data'!I276","v":0},{"$f":"'mnt Data'!J276","v":0},{"$f":"'mnt Data'!K276","v":0},{"$f":"'mnt Data'!L276","v":0},{"$f":"'mnt Data'!M276","v":0},{"$f":"'mnt Data'!N276","v":0},{"$f":"'mnt Data'!O276","v":0},{"$f":"'mnt Data'!P276","v":0},{"$f":"'mnt Data'!Q276","v":0},{"$f":"'mnt Data'!R276","v":0},{"$f":"'mnt Data'!S276","v":0},{"$f":"'mnt Data'!T276","v":0},{"$f":"'mnt Data'!U276","v":0},{"$f":"'mnt Data'!V276","v":0},{"$f":"'mnt Data'!W276","v":0},{"$f":"'mnt Data'!X276","v":0},{"$f":"'mnt Data'!Y276","v":0},{"$f":"'mnt Data'!Z276","v":0},{"$f":"'mnt Data'!AA276","v":0},{"$f":"'mnt Data'!AB276","v":0},{"$f":"'mnt Data'!AC276","v":0},{"$f":"'mnt Data'!AD276","v":0},{"$f":"'mnt Data'!AE276","v":0},{"$f":"'mnt Data'!AF276","v":0},{"$f":"'mnt Data'!AG276","v":0},{"$f":"'mnt Data'!AH276","v":0},{"$f":"'mnt Data'!AI276","v":0},{"$f":"'mnt Data'!AJ276","v":0},{"$f":"'mnt Data'!AK276","v":0}]
[273,0,0,"No Gs",0,"No Gs","No Gs","Gs is needed","Gs is needed","Gs is needed","Need Max and Min","Need Max and Min","Fail",null,{"$f":"'mnt Data'!A277","v":0},{"$f":"'mnt Data'!B277","v":0},{"$f":"'mnt Data'!C277","v":0},{"$f":"'mnt Data'!D277","v":0},{"$f":"'mnt Data'!E277","v":0},{"$f":"'mnt Data'!F277","v":0},{"$f":"'mnt Data'!G277","v":0},{"$f":"'mnt Data'!H277","v":0},{"$f":"'mnt Data'!I277","v":0},{"$f":"'mnt Data'!J277","v":0},{"$f":"'mnt Data'!K277","v":0},{"$f":"'mnt Data'!L277","v":0},{"$f":"'mnt Data'!M277","v":0},{"$f":"'mnt Data'!N277","v":0},{"$f":"'mnt Data'!O277","v":0},{"$f":"'mnt Data'!P277","v":0},{"$f":"'mnt Data'!Q277","v":0},{"$f":"'mnt Data'!R277","v":0},{"$f":"'mnt Data'!S277","v":0},{"$f":"'mnt Data'!T277","v":0},{"$f":"'mnt Data'!U277","v":0},{"$f":"'mnt Data'!V277","v":0},{"$f":"'mnt Data'!W277","v":0},{"$f":"'mnt Data'!X277","v":0},{"$f":"'mnt Data'!Y277","v":0},{"$f":"'mnt Data'!Z277","v":0},{"$f":"'mnt Data'!AA277","v":0},{"$f":"'mnt Data'!AB277","v":0},{"$f":"'mnt Data'!AC277","v":0},{"$f":"'mnt Data'!AD277","v":0},{"$f":"'mnt Data'!AE277","v":0},{"$f":"'mnt Data'!AF277","v":0},{"$f":"'mnt Data'!AG277","v":0},{"$f":"'mnt Data'!AH277","v":0},{"$f":"'mnt Data'!AI277","v":0},{"$f":"'mnt Data'!AJ277","v":0},{"$f":"'mnt Data'!AK277","v":0}]
[274,0,0,"No Gs",0,"No Gs","No Gs","Gs is needed","Gs is needed","Gs is needed","Need Max and Min","Need Max and Min","Fail",null,{"$f":"'mnt Data'!A278","v":0},{"$f":"'mnt Data'!B278","v":0},{"$f":"'mnt Data'!C278","v":0},{"$f":"'mnt Data'!D278","v":0},{"$f":"'mnt Data'!E278","v":0},{"$f":"'mnt Data'!F278","v":0},{"$f":"'mnt Data'!G278","v":0},{"$f":"'mnt Data'!H278","v":0},{"$f":"'mnt Data'!I278","v":0},{"$f":"'mnt Data'!J278","v":0},{"$f":"'mnt Data'!K278","v":0},{"$f":"'mnt Data'!L278","v":0},{"$f":"'mnt Data'!M278","v":0},{"$f":"'mnt Data'!N278","v":0},{"$f":"'mnt Data'!O278","v":0},{"$f":"'mnt Data'!P278","v":0},{"$f":"'mnt Data'!Q278","v":0},{"$f":"'mnt Data'!R278","v":0},{"$f":"'mnt Data'!S278","v":0},{"$f":"'mnt Data'!T278","v":0},{"$f":"'mnt Data'!U278","v":0},{"$f":"'mnt Data'!V278","v":0},{"$f":"'mnt Data'!W278","v":0},{"$f":"'mnt Data'!X278","v":0},{"$f":"'mnt Data'!Y278","v":0},{"$f":"'mnt Data'!Z278","v":0},{"$f":"'mnt Data'!AA278","v":0},{"$f":"'mnt Data'!AB278","v":0},{"$f":"'mnt Data'!AC278","v":0},{"$f":"'mnt Data'!AD278","v":0},{"$f":"'mnt Data'!AE278","v":0},{"$f":"'mnt Data'!AF278","v":0},{"$f":"'mnt Data'!AG278","v":0},{"$f":"'mnt Data'!AH278","v":0},{"$f":"'mnt Data'!AI278","v":0},{"$f":"'mnt Data'!AJ278","v":0},{"$f":"'mnt Data'!AK278","v":0}]
[275,0,0,"No Gs",0,"No Gs","No Gs","Gs is needed","Gs is needed","Gs is needed","Need Max and Min","Need Max and Min","Fail",null,{"$f":"'mnt Data'!A279","v":0},{"$f":"'mnt Data'!B279","v":0},{"$f":"'mnt Data'!C279","v":0},{"$f":"'mnt Data'!D279","v":0},{"$f":"'mnt Data'!E279","v":0},{"$f":"'mnt Data'!F279","v":0},{"$f":"'mnt Data'!G279","v":0},{"$f":"'mnt Data'!H279","v":0},{"$f":"'mnt Data'!I279","v":0},{"$f":"'mnt Data'!J279","v":0},{"$f":"'mnt Data'!K279","v":0},{"$f":"'mnt Data'!L279","v":0},{"$f":"'mnt Data'!M279","v":0},{"$f":"'mnt Data'!N279","v":0},{"$f":"'mnt Data'!O279","v":0},{"$f":"'mnt Data'!P279","v":0},{"$f":"'mnt Data'!Q279","v":0},{"$f":"'mnt Data'!R279","v":0},{"$f":"'mnt Data'!S279","v":0},{"$f":"'mnt Data'!T279","v":0},{"$f":"'mnt Data'!U279","v":0},{"$f":"'mnt Data'!V279","v":0},{"$f":"'mnt Data'!W279","v":0},{"$f":"'mnt Data'!X279","v":0},{"$f":"'mnt Data'!Y279","v":0},{"$f":"'mnt Data'!Z279","v":0},{"$f":"'mnt Data'!AA279","v":0},{"$f":"'mnt Data'!AB279","v":0},{"$f":"'mnt Data'!AC279","v":0},{"$f":"'mnt Data'!AD279","v":0},{"$f":"'mnt Data'!AE279","v":0},{"$f":"'mnt Data'!AF279","v":0},{"$f":"'mnt Data'!AG279","v":0},{"$f":"'mnt Data'!AH279","v":0},{"$f":"'mnt Data'!AI279","v":0},{"$f":"'mnt Data'!AJ279","v":0},{"$f":"'mnt Data'!AK279","v":0}]
[276,0,0,"No Gs",0,"No Gs","No Gs","Gs is needed","Gs is needed","Gs is needed","Need Max and Min","Need Max and Min","Fail",null,{"$f":"'mnt Data'!A280","v":0},{"$f":"'mnt Data'!B280","v":0},{"$f":"'mnt Data'!C280","v":0},{"$f":"'mnt Data'!D280","v":0},{"$f":"'mnt Data'!E280","v":0},{"$f":"'mnt Data'!F280","v":0},{"$f":"'mnt Data'!G280","v":0},{"$f":"'mnt Data'!H280","v":0},{"$f":"'mnt Data'!I280","v":0},{"$f":"'mnt Data'!J280","v":0},{"$f":"'mnt Data'!K280","v":0},{"$f":"'mnt Data'!L280","v":0},{"$f":"'mnt Data'!M280","v":0},{"$f":"'mnt Data'!N280","v":0},{"$f":"'mnt Data'!O280","v":0},{"$f":"'mnt Data'!P280","v":0},{"$f":"'mnt Data'!Q280","v":0},{"$f":"'mnt Data'!R280","v":0},{"$f":"'mnt Data'!S280","v":0},{"$f":"'mnt Data'!T280","v":0},{"$f":"'mnt Data'!U280","v":0},{"$f":"'mnt Data'!V280","v":0},{"$f":"'mnt Data'!W280","v":0},{"$f":"'mnt Data'!X280","v":0},{"$f":"'mnt Data'!Y280","v":0},{"$f":"'mnt Data'!Z280","v":0},{"$f":"'mnt Data'!AA280","v":0},{"$f":"'mnt Data'!AB280","v":0},{"$f":"'mnt Data'!AC280","v":0},{"$f":"'mnt Data'!AD280","v":0},{"$f":"'mnt Data'!AE280","v":0},{"$f":"'mnt Data'!AF280","v":0},{"$f":"'mnt Data'!AG280","v":0},{"$f":"'mnt Data'!AH280","v":0},{"$f":"'mnt Data'!AI280","v":0},{"$f":"'mnt Data'!AJ280","v":0},{"$f":"'mnt Data'!AK280","v":0}]
[277,0,0,"No Gs",0,"No Gs","No Gs","Gs is needed","Gs is needed","Gs is needed","Need Max and Min","Need Max and Min","Fail",null,{"$f":"'mnt Data'!A281","v":0},{"$f":"'mnt Data'!B281","v":0},{"$f":"'mnt Data'!C281","v":0},{"$f":"'mnt Data'!D281","v":0},{"$f":"'mnt Data'!E281","v":0},{"$f":"'mnt Data'!F281","v":0},{"$f":"'mnt Data'!G281","v":0},{"$f":"'mnt Data'!H281","v":0},{"$f":"'mnt Data'!I281","v":0},{"$f":"'mnt Data'!J281","v":0},{"$f":"'mnt Data'!K281","v":0},{"$f":"'mnt Data'!L281","v":0},{"$f":"'mnt Data'!M281","v":0},{"$f":"'mnt Data'!N281","v":0},{"$f":"'mnt Data'!O281","v":0},{"$f":"'mnt Data'!P281","v":0},{"$f":"'mnt Data'!Q281","v":0},{"$f":"'mnt Data'!R281","v":0},{"$f":"'mnt Data'!S281","v":0},{"$f":"'mnt Data'!T281","v":0},{"$f":"'mnt Data'!U281","v":0},{"$f":"'mnt Data'!V281","v":0},{"$f":"'mnt Data'!W281","v":0},{"$f":"'mnt Data'!X281","v":0},{"$f":"'mnt Data'!Y281","v":0},{"$f":"'mnt Data'!Z281","v":0},{"$f":"'mnt Data'!AA281","v":0},{"$f":"'mnt Data'!AB281","v":0},{"$f":"'mnt Data'!AC281","v":0},{"$f":"'mnt Data'!AD281","v":0},{"$f":"'mnt Data'!AE281","v":0},{"$f":"'mnt Data'!AF281","v":0},{"$f":"'mnt Data'!AG281","v":0},{"$f":"'mnt Data'!AH281","v":0},{"$f":"'mnt Data'!AI281","v":0},{"$f":"'mnt Data'!AJ281","v":0},{"$f":"'mnt Data'!AK281","v":0}]
[278,0,0,"No Gs",0,"No Gs","No Gs","Gs is needed","Gs is needed","Gs is needed","Need Max and Min","Need Max and Min","Fail",null,{"$f":"'mnt Data'!A282","v":0},{"$f":"'mnt Data'!B282","v":0},{"$f":"'mnt Data'!C282","v":0},{"$f":"'mnt Data'!D282","v":0},{"$f":"'mnt Data'!E282","v":0},{"$f":"'mnt Data'!F282","v":0},{"$f":"'mnt Data'!G282","v":0},{"$f":"'mnt Data'!H282","v":0},{"$f":"'mnt Data'!I282","v":0},{"$f":"'mnt Data'!J282","v":0},{"$f":"'mnt Data'!K282","v":0},{"$f":"'mnt Data'!L282","v":0},{"$f":"'mnt Data'!M282","v":0},{"$f":"'mnt Data'!N282","v":0},{"$f":"'mnt Data'!O282","v":0},{"$f":"'mnt Data'!P282","v":0},{"$f":"'mnt Data'!Q282","v":0},{"$f":"'mnt Data'!R282","v":0},{"$f":"'mnt Data'!S282","v":0},{"$f":"'mnt Data'!T282","v":0},{"$f":"'mnt Data'!U282","v":0},{"$f":"'mnt Data'!V282","v":0},{"$f":"'mnt Data'!W282","v":0},{"$f":"'mnt Data'!X282","v":0},{"$f":"'mnt Data'!Y282","v":0},{"$f":"'mnt Data'!Z282","v":0},{"$f":"'mnt Data'!AA282","v":0},{"$f":"'mnt Data'!AB282","v":0},{"$f":"'mnt Data'!AC282","v":0},{"$f":"'mnt Data'!AD282","v":0},{"$f":"'mnt Data'!AE282","v":0},{"$f":"'mnt Data'!AF282","v":0},{"$f":"'mnt Data'!AG282","v":0},{"$f":"'mnt Data'!AH282","v":0},{"$f":"'mnt Data'!AI282","v":0},{"$f":"'mnt Data'!AJ282","v":0},{"$f":"'mnt Data'!AK282","v":0}]
[279,0,0,"No Gs",0,"No Gs","No Gs","Gs is needed","Gs is needed","Gs is needed","Need Max and Min","Need Max and Min","Fail",null,{"$f":"'mnt Data'!A283","v":0},{"$f":"'mnt Data'!B283","v":0},{"$f":"'mnt Data'!C283","v":0},{"$f":"'mnt Data'!D283","v":0},{"$f":"'mnt Data'!E283","v":0},{"$f":"'mnt Data'!F283","v":0},{"$f":"'mnt Data'!G283","v":0},{"$f":"'mnt Data'!H283","v":0},{"$f":"'mnt Data'!I283","v":0},{"$f":"'mnt Data'!J283","v":0},{"$f":"'mnt Data'!K283","v":0},{"$f":"'mnt Data'!L283","v":0},{"$f":"'mnt Data'!M283","v":0},{"$f":"'mnt Data'!N283","v":0},{"$f":"'mnt Data'!O283","v":0},{"$f":"'mnt Data'!P283","v":0},{"$f":"'mnt Data'!Q283","v":0},{"$f":"'mnt Data'!R283","v":0},{"$f":"'mnt Data'!S283","v":0},{"$f":"'mnt Data'!T283","v":0},{"$f":"'mnt Data'!U283","v":0},{"$f":"'mnt Data'!V283","v":0},{"$f":"'mnt Data'!W283","v":0},{"$f":"'mnt Data'!X283","v":0},{"$f":"'mnt Data'!Y283","v":0},{"$f":"'mnt Data'!Z283","v":0},{"$f":"'mnt Data'!AA283","v":0},{"$f":"'mnt Data'!AB283","v":0},{"$f":"'mnt Data'!AC283","v":0},{"$f":"'mnt Data'!AD283","v":0},{"$f":"'mnt Data'!AE283","v":0},{"$f":"'mnt Data'!AF283","v":0},{"$f":"'mnt Data'!AG283","v":0},{"$f":"'mnt Data'!AH283","v":0},{"$f":"'mnt Data'!AI283","v":0},{"$f":"'mnt Data'!AJ283","v":0},{"$f":"'mnt Data'!AK283","v":0}]
[280,0,0,"No Gs",0,"No Gs","No Gs","Gs is needed","Gs is needed","Gs is needed","Need Max and Min","Need Max and Min","Fail",null,{"$f":"'mnt Data'!A284","v":0},{"$f":"'mnt Data'!B284","v":0},{"$f":"'mnt Data'!C284","v":0},{"$f":"'mnt Data'!D284","v":0},{"$f":"'mnt Data'!E284","v":0},{"$f":"'mnt Data'!F284","v":0},{"$f":"'mnt Data'!G284","v":0},{"$f":"'mnt Data'!H284","v":0},{"$f":"'mnt Data'!I284","v":0},{"$f":"'mnt Data'!J284","v":0},{"$f":"'mnt Data'!K284","v":0},{"$f":"'mnt Data'!L284","v":0},{"$f":"'mnt Data'!M284","v":0},{"$f":"'mnt Data'!N284","v":0},{"$f":"'mnt Data'!O284","v":0},{"$f":"'mnt Data'!P284","v":0},{"$f":"'mnt Data'!Q284","v":0},{"$f":"'mnt Data'!R284","v":0},{"$f":"'mnt Data'!S284","v":0},{"$f":"'mnt Data'!T284","v":0},{"$f":"'mnt Data'!U284","v":0},{"$f":"'mnt Data'!V284","v":0},{"$f":"'mnt Data'!W284","v":0},{"$f":"'mnt Data'!X284","v":0},{"$f":"'mnt Data'!Y284","v":0},{"$f":"'mnt Data'!Z284","v":0},{"$f":"'mnt Data'!AA284","v":0},{"$f":"'mnt Data'!AB284","v":0},{"$f":"'mnt Data'!AC284","v":0},{"$f":"'mnt Data'!AD284","v":0},{"$f":"'mnt Data'!AE284","v":0},{"$f":"'mnt Data'!AF284","v":0},{"$f":"'mnt Data'!AG284","v":0},{"$f":"'mnt Data'!AH284","v":0},{"$f":"'mnt Data'!AI284","v":0},{"$f":"'mnt Data'!AJ284","v":0},{"$f":"'mnt Data'!AK284","v":0}]
[281,0,0,"No Gs",0,"No Gs","No Gs","Gs is needed","Gs is needed","Gs is needed","Need Max and Min","Need Max and Min","Fail",null,{"$f":"'mnt Data'!A285","v":0},{"$f":"'mnt Data'!B285","v":0},{"$f":"'mnt Data'!C285","v":0},{"$f":"'mnt Data'!D285","v":0},{"$f":"'mnt Data'!E285","v":0},{"$f":"'mnt Data'!F285","v":0},{"$f":"'mnt Data'!G285","v":0},{"$f":"'mnt Data'!H285","v":0},{"$f":"'mnt Data'!I285","v":0},{"$f":"'mnt Data'!J285","v":0},{"$f":"'mnt Data'!K285","v":0},{"$f":"'mnt Data'!L285","v":0},{"$f":"'mnt Data'!M285","v":0},{"$f":"'mnt Data'!N285","v":0},{"$f":"'mnt Data'!O285","v":0},{"$f":"'mnt Data'!P285","v":0},{"$f":"'mnt Data'!Q285","v":0},{"$f":"'mnt Data'!R285","v":0},{"$f":"'mnt Data'!S285","v":0},{"$f":"'mnt Data'!T285","v":0},{"$f":"'mnt Data'!U285","v":0},{"$f":"'mnt Data'!V285","v":0},{"$f":"'mnt Data'!W285","v":0},{"$f":"'mnt Data'!X285","v":0},{"$f":"'mnt Data'!Y285","v":0},{"$f":"'mnt Data'!Z285","v":0},{"$f":"'mnt Data'!AA285","v":0},{"$f":"'mnt Data'!AB285","v":0},{"$f":"'mnt Data'!AC285","v":0},{"$f":"'mnt Data'!AD285","v":0},{"$f":"'mnt Data'!AE285","v":0},{"$f":"'mnt Data'!AF285","v":0},{"$f":"'mnt Data'!AG285","v":0},{"$f":"'mnt Data'!AH285","v":0},{"$f":"'mnt Data'!AI285","v":0},{"$f":"'mnt Data'!AJ285","v":0},{"$f":"'mnt Data'!AK285","v":0}]
[282,0,0,"No Gs",0,"No Gs","No Gs","Gs is needed","Gs is needed","Gs is needed","Need Max and Min","Need Max and Min","Fail",null,{"$f":"'mnt Data'!A286","v":0},{"$f":"'mnt Data'!B286","v":0},{"$f":"'mnt Data'!C286","v":0},{"$f":"'mnt Data'!D286","v":0},{"$f":"'mnt Data'!E286","v":0},{"$f":"'mnt Data'!F286","v":0},{"$f":"'mnt Data'!G286","v":0},{"$f":"'mnt Data'!H286","v":0},{"$f":"'mnt Data'!I286","v":0},{"$f":"'mnt Data'!J286","v":0},{"$f":"'mnt Data'!K286","v":0},{"$f":"'mnt Data'!L286","v":0},{"$f":"'mnt Data'!M286","v":0},{"$f":"'mnt Data'!N286","v":0},{"$f":"'mnt Data'!O286","v":0},{"$f":"'mnt Data'!P286","v":0},{"$f":"'mnt Data'!Q286","v":0},{"$f":"'mnt Data'!R286","v":0},{"$f":"'mnt Data'!S286","v":0},{"$f":"'mnt Data'!T286","v":0},{"$f":"'mnt Data'!U286","v":0},{"$f":"'mnt Data'!V286","v":0},{"$f":"'mnt Data'!W286","v":0},{"$f":"'mnt Data'!X286","v":0},{"$f":"'mnt Data'!Y286","v":0},{"$f":"'mnt Data'!Z286","v":0},{"$f":"'mnt Data'!AA286","v":0},{"$f":"'mnt Data'!AB286","v":0},{"$f":"'mnt Data'!AC286","v":0},{"$f":"'mnt Data'!AD286","v":0},{"$f":"'mnt Data'!AE286","v":0},{"$f":"'mnt Data'!AF286","v":0},{"$f":"'mnt Data'!AG286","v":0},{"$f":"'mnt Data'!AH286","v":0},{"$f":"'mnt Data'!AI286","v":0},{"$f":"'mnt Data'!AJ286","v":0},{"$f":"'mnt Data'!AK286","v":0}]
[283,0,0,"No Gs",0,"No Gs","No Gs","Gs is needed","Gs is needed","Gs is needed","Need Max and Min","Need Max and Min","Fail",null,{"$f":"'mnt Data'!A287","v":0},{"$f":"'mnt Data'!B287","v":0},{"$f":"'mnt Data'!C287","v":0},{"$f":"'mnt Data'!D287","v":0},{"$f":"'mnt Data'!E287","v":0},{"$f":"'mnt Data'!F287","v":0},{"$f":"'mnt Data'!G287","v":0},{"$f":"'mnt Data'!H287","v":0},{"$f":"'mnt Data'!I287","v":0},{"$f":"'mnt Data'!J287","v":0},{"$f":"'mnt Data'!K287","v":0},{"$f":"'mnt Data'!L287","v":0},{"$f":"'mnt Data'!M287","v":0},{"$f":"'mnt Data'!N287","v":0},{"$f":"'mnt Data'!O287","v":0},{"$f":"'mnt Data'!P287","v":0},{"$f":"'mnt Data'!Q287","v":0},{"$f":"'mnt Data'!R287","v":0},{"$f":"'mnt Data'!S287","v":0},{"$f":"'mnt Data'!T287","v":0},{"$f":"'mnt Data'!U287","v":0},{"$f":"'mnt Data'!V287","v":0},{"$f":"'mnt Data'!W287","v":0},{"$f":"'mnt Data'!X287","v":0},{"$f":"'mnt Data'!Y287","v":0},{"$f":"'mnt Data'!Z287","v":0},{"$f":"'mnt Data'!AA287","v":0},{"$f":"'mnt Data'!AB287","v":0},{"$f":"'mnt Data'!AC287","v":0},{"$f":"'mnt Data'!AD287","v":0},{"$f":"'mnt Data'!AE287","v":0},{"$f":"'mnt Data'!AF287","v":0},{"$f":"'mnt Data'!AG287","v":0},{"$f":"'mnt Data'!AH287","v":0},{"$f":"'mnt Data'!AI287","v":0},{"$f":"'mnt Data'!AJ287","v":0},{"$f":"'mnt Data'!AK287","v":0}]
[284,0,0,"No Gs",0,"No Gs","No Gs","Gs is needed","Gs is needed","Gs is needed","Need Max and Min","Need Max and Min","Fail",null,{"$f":"'mnt Data'!A288","v":0},{"$f":"'mnt Data'!B288","v":0},{"$f":"'mnt Data'!C288","v":0},{"$f":"'mnt Data'!D288","v":0},{"$f":"'mnt Data'!E288","v":0},{"$f":"'mnt Data'!F288","v":0},{"$f":"'mnt Data'!G288","v":0},{"$f":"'mnt Data'!H288","v":0},{"$f":"'mnt Data'!I288","v":0},{"$f":"'mnt Data'!J288","v":0},{"$f":"'mnt Data'!K288","v":0},{"$f":"'mnt Data'!L288","v":0},{"$f":"'mnt Data'!M288","v":0},{"$f":"'mnt Data'!N288","v":0},{"$f":"'mnt Data'!O288","v":0},{"$f":"'mnt Data'!P288","v":0},{"$f":"'mnt Data'!Q288","v":0},{"$f":"'mnt Data'!R288","v":0},{"$f":"'mnt Data'!S288","v":0},{"$f":"'mnt Data'!T288","v":0},{"$f":"'mnt Data'!U288","v":0},{"$f":"'mnt Data'!V288","v":0},{"$f":"'mnt Data'!W288","v":0},{"$f":"'mnt Data'!X288","v":0},{"$f":"'mnt Data'!Y288","v":0},{"$f":"'mnt Data'!Z288","v":0},{"$f":"'mnt Data'!AA288","v":0},{"$f":"'mnt Data'!AB288","v":0},{"$f":"'mnt Data'!AC288","v":0},{"$f":"'mnt Data'!AD288","v":0},{"$f":"'mnt Data'!AE288","v":0},{"$f":"'mnt Data'!AF288","v":0},{"$f":"'mnt Data'!AG288","v":0},{"$f":"'mnt Data'!AH288","v":0},{"$f":"'mnt Data'!AI288","v":0},{"$f":"'mnt Data'!AJ288","v":0},{"$f":"'mnt Data'!AK288","v":0}]
[285,0,0,"No Gs",0,"No Gs","No Gs","Gs is needed","Gs is needed","Gs is needed","Need Max and Min","Need Max and Min","Fail",null,{"$f":"'mnt Data'!A289","v":0},{"$f":"'mnt Data'!B289","v":0},{"$f":"'mnt Data'!C289","v":0},{"$f":"'mnt Data'!D289","v":0},{"$f":"'mnt Data'!E289","v":0},{"$f":"'mnt Data'!F289","v":0},{"$f":"'mnt Data'!G289","v":0},{"$f":"'mnt Data'!H289","v":0},{"$f":"'mnt Data'!I289","v":0},{"$f":"'mnt Data'!J289","v":0},{"$f":"'mnt Data'!K289","v":0},{"$f":"'mnt Data'!L289","v":0},{"$f":"'mnt Data'!M289","v":0},{"$f":"'mnt Data'!N289","v":0},{"$f":"'mnt Data'!O289","v":0},{"$f":"'mnt Data'!P289","v":0},{"$f":"'mnt Data'!Q289","v":0},{"$f":"'mnt Data'!R289","v":0},{"$f":"'mnt Data'!S289","v":0},{"$f":"'mnt Data'!T289","v":0},{"$f":"'mnt Data'!U289","v":0},{"$f":"'mnt Data'!V289","v":0},{"$f":"'mnt Data'!W289","v":0},{"$f":"'mnt Data'!X289","v":0},{"$f":"'mnt Data'!Y289","v":0},{"$f":"'mnt Data'!Z289","v":0},{"$f":"'mnt Data'!AA289","v":0},{"$f":"'mnt Data'!AB289","v":0},{"$f":"'mnt Data'!AC289","v":0},{"$f":"'mnt Data'!AD289","v":0},{"$f":"'mnt Data'!AE289","v":0},{"$f":"'mnt Data'!AF289","v":0},{"$f":"'mnt Data'!AG289","v":0},{"$f":"'mnt Data'!AH289","v":0},{"$f":"'mnt Data'!AI289","v":0},{"$f":"'mnt Data'!AJ289","v":0},{"$f":"'mnt Data'!AK289","v":0}]
[286,0,0,"No Gs",0,"No Gs","No Gs","Gs is needed","Gs is needed","Gs is needed","Need Max and Min","Need Max and Min","Fail",null,{"$f":"'mnt Data'!A290","v":0},{"$f":"'mnt Data'!B290","v":0},{"$f":"'mnt Data'!C290","v":0},{"$f":"'mnt Data'!D290","v":0},{"$f":"'mnt Data'!E290","v":0},{"$f":"'mnt Data'!F290","v":0},{"$f":"'mnt Data'!G290","v":0},{"$f":"'mnt Data'!H290","v":0},{"$f":"'mnt Data'!I290","v":0},{"$f":"'mnt Data'!J290","v":0},{"$f":"'mnt Data'!K290","v":0},{"$f":"'mnt Data'!L290","v":0},{"$f":"'mnt Data'!M290","v":0},{"$f":"'mnt Data'!N290","v":0},{"$f":"'mnt Data'!O290","v":0},{"$f":"'mnt Data'!P290","v":0},{"$f":"'mnt Data'!Q290","v":0},{"$f":"'mnt Data'!R290","v":0},{"$f":"'mnt Data'!S290","v":0},{"$f":"'mnt Data'!T290","v":0},{"$f":"'mnt Data'!U290","v":0},{"$f":"'mnt Data'!V290","v":0},{"$f":"'mnt Data'!W290","v":0},{"$f":"'mnt Data'!X290","v":0},{"$f":"'mnt Data'!Y290","v":0},{"$f":"'mnt Data'!Z290","v":0},{"$f":"'mnt Data'!AA290","v":0},{"$f":"'mnt Data'!AB290","v":0},{"$f":"'mnt Data'!AC290","v":0},{"$f":"'mnt Data'!AD290","v":0},{"$f":"'mnt Data'!AE290","v":0},{"$f":"'mnt Data'!AF290","v":0},{"$f":"'mnt Data'!AG290","v":0},{"$f":"'mnt Data'!AH290","v":0},{"$f":"'mnt Data'!AI290","v":0},{"$f":"'mnt Data'!AJ290","v":0},{"$f":"'mnt Data'!AK290","v":0}]
[287,0,0,"No Gs",0,"No Gs","No Gs","Gs is needed","Gs is needed","Gs is needed","Need Max and Min","Need Max and Min","Fail",null,{"$f":"'mnt Data'!A291","v":0},{"$f":"'mnt Data'!B291","v":0},{"$f":"'mnt Data'!C291","v":0},{"$f":"'mnt Data'!D291","v":0},{"$f":"'mnt Data'!E291","v":0},{"$f":"'mnt Data'!F291","v":0},{"$f":"'mnt Data'!G291","v":0},{"$f":"'mnt Data'!H291","v":0},{"$f":"'mnt Data'!I291","v":0},{"$f":"'mnt Data'!J291","v":0},{"$f":"'mnt Data'!K291","v":0},{"$f":"'mnt Data'!L291","v":0},{"$f":"'mnt Data'!M291","v":0},{"$f":"'mnt Data'!N291","v":0},{"$f":"'mnt Data'!O291","v":0},{"$f":"'mnt Data'!P291","v":0},{"$f":"'mnt Data'!Q291","v":0},{"$f":"'mnt Data'!R291","v":0},{"$f":"'mnt Data'!S291","v":0},{"$f":"'mnt Data'!T291","v":0},{"$f":"'mnt Data'!U291","v":0},{"$f":"'mnt Data'!V291","v":0},{"$f":"'mnt Data'!W291","v":0},{"$f":"'mnt Data'!X291","v":0},{"$f":"'mnt Data'!Y291","v":0},{"$f":"'mnt Data'!Z291","v":0},{"$f":"'mnt Data'!AA291","v":0},{"$f":"'mnt Data'!AB291","v":0},{"$f":"'mnt Data'!AC291","v":0},{"$f":"'mnt Data'!AD291","v":0},{"$f":"'mnt Data'!AE291","v":0},{"$f":"'mnt Data'!AF291","v":0},{"$f":"'mnt Data'!AG291","v":0},{"$f":"'mnt Data'!AH291","v":0},{"$f":"'mnt Data'!AI291","v":0},{"$f":"'mnt Data'!AJ291","v":0},{"$f":"'mnt Data'!AK291","v":0}]
[288,0,0,"No Gs",0,"No Gs","No Gs","Gs is needed","Gs is needed","Gs is needed","Need Max and Min","Need Max and Min","Fail",null,{"$f":"'mnt Data'!A292","v":0},{"$f":"'mnt Data'!B292","v":0},{"$f":"'mnt Data'!C292","v":0},{"$f":"'mnt Data'!D292","v":0},{"$f":"'mnt Data'!E292","v":0},{"$f":"'mnt Data'!F292","v":0},{"$f":"'mnt Data'!G292","v":0},{"$f":"'mnt Data'!H292","v":0},{"$f":"'mnt Data'!I292","v":0},{"$f":"'mnt Data'!J292","v":0},{"$f":"'mnt Data'!K292","v":0},{"$f":"'mnt Data'!L292","v":0},{"$f":"'mnt Data'!M292","v":0},{"$f":"'mnt Data'!N292","v":0},{"$f":"'mnt Data'!O292","v":0},{"$f":"'mnt Data'!P292","v":0},{"$f":"'mnt Data'!Q292","v":0},{"$f":"'mnt Data'!R292","v":0},{"$f":"'mnt Data'!S292","v":0},{"$f":"'mnt Data'!T292","v":0},{"$f":"'mnt Data'!U292","v":0},{"$f":"'mnt Data'!V292","v":0},{"$f":"'mnt Data'!W292","v":0},{"$f":"'mnt Data'!X292","v":0},{"$f":"'mnt Data'!Y292","v":0},{"$f":"'mnt Data'!Z292","v":0},{"$f":"'mnt Data'!AA292","v":0},{"$f":"'mnt Data'!AB292","v":0},{"$f":"'mnt Data'!AC292","v":0},{"$f":"'mnt Data'!AD292","v":0},{"$f":"'mnt Data'!AE292","v":0},{"$f":"'mnt Data'!AF292","v":0},{"$f":"'mnt Data'!AG292","v":0},{"$f":"'mnt Data'!AH292","v":0},{"$f":"'mnt Data'!AI292","v":0},{"$f":"'mnt Data'!AJ292","v":0},{"$f":"'mnt Data'!AK292","v":0}]
[289,0,0,"No Gs",0,"No Gs","No Gs","Gs is needed","Gs is needed","Gs is needed","Need Max and Min","Need Max and Min","Fail",null,{"$f":"'mnt Data'!A293","v":0},{"$f":"'mnt Data'!B293","v":0},{"$f":"'mnt Data'!C293","v":0},{"$f":"'mnt Data'!D293","v":0},{"$f":"'mnt Data'!E293","v":0},{"$f":"'mnt Data'!F293","v":0},{"$f":"'mnt Data'!G293","v":0},{"$f":"'mnt Data'!H293","v":0},{"$f":"'mnt Data'!I293","v":0},{"$f":"'mnt Data'!J293","v":0},{"$f":"'mnt Data'!K293","v":0},{"$f":"'mnt Data'!L293","v":0},{"$f":"'mnt Data'!M293","v":0},{"$f":"'mnt Data'!N293","v":0},{"$f":"'mnt Data'!O293","v":0},{"$f":"'mnt Data'!P293","v":0},{"$f":"'mnt Data'!Q293","v":0},{"$f":"'mnt Data'!R293","v":0},{"$f":"'mnt Data'!S293","v":0},{"$f":"'mnt Data'!T293","v":0},{"$f":"'mnt Data'!U293","v":0},{"$f":"'mnt Data'!V293","v":0},{"$f":"'mnt Data'!W293","v":0},{"$f":"'mnt Data'!X293","v":0},{"$f":"'mnt Data'!Y293","v":0},{"$f":"'mnt Data'!Z293","v":0},{"$f":"'mnt Data'!AA293","v":0},{"$f":"'mnt Data'!AB293","v":0},{"$f":"'mnt Data'!AC293","v":0},{"$f":"'mnt Data'!AD293","v":0},{"$f":"'mnt Data'!AE293","v":0},{"$f":"'mnt Data'!AF293","v":0},{"$f":"'mnt Data'!AG293","v":0},{"$f":"'mnt Data'!AH293","v":0},{"$f":"'mnt Data'!AI293","v":0},{"$f":"'mnt Data'!AJ293","v":0},{"$f":"'mnt Data'!AK293","v":0}]
[290,0,0,"No Gs",0,"No Gs","No Gs","Gs is needed","Gs is needed","Gs is needed","Need Max and Min","Need Max and Min","Fail",null,{"$f":"'mnt Data'!A294","v":0},{"$f":"'mnt Data'!B294","v":0},{"$f":"'mnt Data'!C294","v":0},{"$f":"'mnt Data'!D294","v":0},{"$f":"'mnt Data'!E294","v":0},{"$f":"'mnt Data'!F294","v":0},{"$f":"'mnt Data'!G294","v":0},{"$f":"'mnt Data'!H294","v":0},{"$f":"'mnt Data'!I294","v":0},{"$f":"'mnt Data'!J294","v":0},{"$f":"'mnt Data'!K294","v":0},{"$f":"'mnt Data'!L294","v":0},{"$f":"'mnt Data'!M294","v":0},{"$f":"'mnt Data'!N294","v":0},{"$f":"'mnt Data'!O294","v":0},{"$f":"'mnt Data'!P294","v":0},{"$f":"'mnt Data'!Q294","v":0},{"$f":"'mnt Data'!R294","v":0},{"$f":"'mnt Data'!S294","v":0},{"$f":"'mnt Data'!T294","v":0},{"$f":"'mnt Data'!U294","v":0},{"$f":"'mnt Data'!V294","v":0},{"$f":"'mnt Data'!W294","v":0},{"$f":"'mnt Data'!X294","v":0},{"$f":"'mnt Data'!Y294","v":0},{"$f":"'mnt Data'!Z294","v":0},{"$f":"'mnt Data'!AA294","v":0},{"$f":"'mnt Data'!AB294","v":0},{"$f":"'mnt Data'!AC294","v":0},{"$f":"'mnt Data'!AD294","v":0},{"$f":"'mnt Data'!AE294","v":0},{"$f":"'mnt Data'!AF294","v":0},{"$f":"'mnt Data'!AG294","v":0},{"$f":"'mnt Data'!AH294","v":0},{"$f":"'mnt Data'!AI294","v":0},{"$f":"'mnt Data'!AJ294","v":0},{"$f":"'mnt Data'!AK294","v":0}]
[291,0,0,"No Gs",0,"No Gs","No Gs","Gs is needed","Gs is needed","Gs is needed","Need Max and Min","Need Max and Min","Fail",null,{"$f":"'mnt Data'!A295","v":0},{"$f":"'mnt Data'!B295","v":0},{"$f":"'mnt Data'!C295","v":0},{"$f":"'mnt Data'!D295","v":0},{"$f":"'mnt Data'!E295","v":0},{"$f":"'mnt Data'!F295","v":0},{"$f":"'mnt Data'!G295","v":0},{"$f":"'mnt Data'!H295","v":0},{"$f":"'mnt Data'!I295","v":0},{"$f":"'mnt Data'!J295","v":0},{"$f":"'mnt Data'!K295","v":0},{"$f":"'mnt Data'!L295","v":0},{"$f":"'mnt Data'!M295","v":0},{"$f":"'mnt Data'!N295","v":0},{"$f":"'mnt Data'!O295","v":0},{"$f":"'mnt Data'!P295","v":0},{"$f":"'mnt Data'!Q295","v":0},{"$f":"'mnt Data'!R295","v":0},{"$f":"'mnt Data'!S295","v":0},{"$f":"'mnt Data'!T295","v":0},{"$f":"'mnt Data'!U295","v":0},{"$f":"'mnt Data'!V295","v":0},{"$f":"'mnt Data'!W295","v":0},{"$f":"'mnt Data'!X295","v":0},{"$f":"'mnt Data'!Y295","v":0},{"$f":"'mnt Data'!Z295","v":0},{"$f":"'mnt Data'!AA295","v":0},{"$f":"'mnt Data'!AB295","v":0},{"$f":"'mnt Data'!AC295","v":0},{"$f":"'mnt Data'!AD295","v":0},{"$f":"'mnt Data'!AE295","v":0},{"$f":"'mnt Data'!AF295","v":0},{"$f":"'mnt Data'!AG295","v":0},{"$f":"'mnt Data'!AH295","v":0},{"$f":"'mnt Data'!AI295","v":0},{"$f":"'mnt Data'!AJ295","v":0},{"$f":"'mnt Data'!AK295","v":0}]
[292,0,0,"No Gs",0,"No Gs","No Gs","Gs is needed","Gs is needed","Gs is needed","Need Max and Min","Need Max and Min","Fail",null,{"$f":"'mnt Data'!A296","v":0},{"$f":"'mnt Data'!B296","v":0},{"$f":"'mnt Data'!C296","v":0},{"$f":"'mnt Data'!D296","v":0},{"$f":"'mnt Data'!E296","v":0},{"$f":"'mnt Data'!F296","v":0},{"$f":"'mnt Data'!G296","v":0},{"$f":"'mnt Data'!H296","v":0},{"$f":"'mnt Data'!I296","v":0},{"$f":"'mnt Data'!J296","v":0},{"$f":"'mnt Data'!K296","v":0},{"$f":"'mnt Data'!L296","v":0},{"$f":"'mnt Data'!M296","v":0},{"$f":"'mnt Data'!N296","v":0},{"$f":"'mnt Data'!O296","v":0},{"$f":"'mnt Data'!P296","v":0},{"$f":"'mnt Data'!Q296","v":0},{"$f":"'mnt Data'!R296","v":0},{"$f":"'mnt Data'!S296","v":0},{"$f":"'mnt Data'!T296","v":0},{"$f":"'mnt Data'!U296","v":0},{"$f":"'mnt Data'!V296","v":0},{"$f":"'mnt Data'!W296","v":0},{"$f":"'mnt Data'!X296","v":0},{"$f":"'mnt Data'!Y296","v":0},{"$f":"'mnt Data'!Z296","v":0},{"$f":"'mnt Data'!AA296","v":0},{"$f":"'mnt Data'!AB296","v":0},{"$f":"'mnt Data'!AC296","v":0},{"$f":"'mnt Data'!AD296","v":0},{"$f":"'mnt Data'!AE296","v":0},{"$f":"'mnt Data'!AF296","v":0},{"$f":"'mnt Data'!AG296","v":0},{"$f":"'mnt Data'!AH296","v":0},{"$f":"'mnt Data'!AI296","v":0},{"$f":"'mnt Data'!AJ296","v":0},{"$f":"'mnt Data'!AK296","v":0}]
[293,0,0,"No Gs",0,"No Gs","No Gs","Gs is needed","Gs is needed","Gs is needed","Need Max and Min","Need Max and Min","Fail",null,{"$f":"'mnt Data'!A297","v":0},{"$f":"'mnt Data'!B297","v":0},{"$f":"'mnt Data'!C297","v":0},{"$f":"'mnt Data'!D297","v":0},{"$f":"'mnt Data'!E297","v":0},{"$f":"'mnt Data'!F297","v":0},{"$f":"'mnt Data'!G297","v":0},{"$f":"'mnt Data'!H297","v":0},{"$f":"'mnt Data'!I297","v":0},{"$f":"'mnt Data'!J297","v":0},{"$f":"'mnt Data'!K297","v":0},{"$f":"'mnt Data'!L297","v":0},{"$f":"'mnt Data'!M297","v":0},{"$f":"'mnt Data'!N297","v":0},{"$f":"'mnt Data'!O297","v":0},{"$f":"'mnt Data'!P297","v":0},{"$f":"'mnt Data'!Q297","v":0},{"$f":"'mnt Data'!R297","v":0},{"$f":"'mnt Data'!S297","v":0},{"$f":"'mnt Data'!T297","v":0},{"$f":"'mnt Data'!U297","v":0},{"$f":"'mnt Data'!V297","v":0},{"$f":"'mnt Data'!W297","v":0},{"$f":"'mnt Data'!X297","v":0},{"$f":"'mnt Data'!Y297","v":0},{"$f":"'mnt Data'!Z297","v":0},{"$f":"'mnt Data'!AA297","v":0},{"$f":"'mnt Data'!AB297","v":0},{"$f":"'mnt Data'!AC297","v":0},{"$f":"'mnt Data'!AD297","v":0},{"$f":"'mnt Data'!AE297","v":0},{"$f":"'mnt Data'!AF297","v":0},{"$f":"'mnt Data'!AG297","v":0},{"$f":"'mnt Data'!AH297","v":0},{"$f":"'mnt Data'!AI297","v":0},{"$f":"'mnt Data'!AJ297","v":0},{"$f":"'mnt Data'!AK297","v":0}]
[294,0,0,"No Gs",0,"No Gs","No Gs","Gs is needed","Gs is needed","Gs is needed","Need Max and Min","Need Max and Min","Fail",null,{"$f":"'mnt Data'!A298","v":0},{"$f":"'mnt Data'!B298","v":0},{"$f":"'mnt Data'!C298","v":0},{"$f":"'mnt Data'!D298","v":0},{"$f":"'mnt Data'!E298","v":0},{"$f":"'mnt Data'!F298","v":0},{"$f":"'mnt Data'!G298","v":0},{"$f":"'mnt Data'!H298","v":0},{"$f":"'mnt Data'!I298","v":0},{"$f":"'mnt Data'!J298","v":0},{"$f":"'mnt Data'!K298","v":0},{"$f":"'mnt Data'!L298","v":0},{"$f":"'mnt Data'!M298","v":0},{"$f":"'mnt Data'!N298","v":0},{"$f":"'mnt Data'!O298","v":0},{"$f":"'mnt Data'!P298","v":0},{"$f":"'mnt Data'!Q298","v":0},{"$f":"'mnt Data'!R298","v":0},{"$f":"'mnt Data'!S298","v":0},{"$f":"'mnt Data'!T298","v":0},{"$f":"'mnt Data'!U298","v":0},{"$f":"'mnt Data'!V298","v":0},{"$f":"'mnt Data'!W298","v":0},{"$f":"'mnt Data'!X298","v":0},{"$f":"'mnt Data'!Y298","v":0},{"$f":"'mnt Data'!Z298","v":0},{"$f":"'mnt Data'!AA298","v":0},{"$f":"'mnt Data'!AB298","v":0},{"$f":"'mnt Data'!AC298","v":0},{"$f":"'mnt Data'!AD298","v":0},{"$f":"'mnt Data'!AE298","v":0},{"$f":"'mnt Data'!AF298","v":0},{"$f":"'mnt Data'!AG298","v":0},{"$f":"'mnt Data'!AH298","v":0},{"$f":"'mnt Data'!AI298","v":0},{"$f":"'mnt Data'!AJ298","v":0},{"$f":"'mnt Data'!AK298","v":0}]
[295,0,0,"No Gs",0,"No Gs","No Gs","Gs is needed","Gs is needed","Gs is needed","Need Max and Min","Need Max and Min","Fail",null,{"$f":"'mnt Data'!A299","v":0},{"$f":"'mnt Data'!B299","v":0},{"$f":"'mnt Data'!C299","v":0},{"$f":"'mnt Data'!D299","v":0},{"$f":"'mnt Data'!E299","v":0},{"$f":"'mnt Data'!F299","v":0},{"$f":"'mnt Data'!G299","v":0},{"$f":"'mnt Data'!H299","v":0},{"$f":"'mnt Data'!I299","v":0},{"$f":"'mnt Data'!J299","v":0},{"$f":"'mnt Data'!K299","v":0},{"$f":"'mnt Data'!L299","v":0},{"$f":"'mnt Data'!M299","v":0},{"$f":"'mnt Data'!N299","v":0},{"$f":"'mnt Data'!O299","v":0},{"$f":"'mnt Data'!P299","v":0},{"$f":"'mnt Data'!Q299","v":0},{"$f":"'mnt Data'!R299","v":0},{"$f":"'mnt Data'!S299","v":0},{"$f":"'mnt Data'!T299","v":0},{"$f":"'mnt Data'!U299","v":0},{"$f":"'mnt Data'!V299","v":0},{"$f":"'mnt Data'!W299","v":0},{"$f":"'mnt Data'!X299","v":0},{"$f":"'mnt Data'!Y299","v":0},{"$f":"'mnt Data'!Z299","v":0},{"$f":"'mnt Data'!AA299","v":0},{"$f":"'mnt Data'!AB299","v":0},{"$f":"'mnt Data'!AC299","v":0},{"$f":"'mnt Data'!AD299","v":0},{"$f":"'mnt Data'!AE299","v":0},{"$f":"'mnt Data'!AF299","v":0},{"$f":"'mnt Data'!AG299","v":0},{"$f":"'mnt Data'!AH299","v":0},{"$f":"'mnt Data'!AI299","v":0},{"$f":"'mnt Data'!AJ299","v":0},{"$f":"'mnt Data'!AK299","v":0}]
[296,{"$f":"O297","v":0},{"$f":"O297*(Q297/100)","v":0},"No Gs",0,"No Gs","No Gs",{"$f":"IFERROR(E297/G297,\"Gs is needed\")","v":"Gs is needed"},{"$f":"IFERROR(G297/1,\"Gs is needed\")","v":"Gs is needed"},{"$f":"IFERROR(G297/D297,\"Gs is needed\")","v":"Gs is needed"},"Need Max and Min","Need Max and Min","Fail",null,{"$f":"'mnt Data'!A300","v":0},{"$f":"'mnt Data'!B300","v":0},{"$f":"'mnt Data'!C300","v":0},{"$f":"'mnt Data'!D300","v":0},{"$f":"'mnt Data'!E300","v":0},{"$f":"'mnt Data'!F300","v":0},{"$f":"'mnt Data'!G300","v":0},{"$f":"'mnt Data'!H300","v":0},{"$f":"'mnt Data'!I300","v":0},{"$f":"'mnt Data'!J300","v":0},{"$f":"'mnt Data'!K300","v":0},{"$f":"'mnt Data'!L300","v":0},{"$f":"'mnt Data'!M300","v":0},{"$f":"'mnt Data'!N300","v":0},{"$f":"'mnt Data'!O300","v":0},{"$f":"'mnt Data'!P300","v":0},{"$f":"'mnt Data'!Q300","v":0},{"$f":"'mnt Data'!R300","v":0},{"$f":"'mnt Data'!S300","v":0},{"$f":"'mnt Data'!T300","v":0},{"$f":"'mnt Data'!U300","v":0},{"$f":"'mnt Data'!V300","v":0},{"$f":"'mnt Data'!W300","v":0},{"$f":"'mnt Data'!X300","v":0},{"$f":"'mnt Data'!Y300","v":0},{"$f":"'mnt Data'!Z300","v":0},{"$f":"'mnt Data'!AA300","v":0},{"$f":"'mnt Data'!AB300","v":0},{"$f":"'mnt Data'!AC300","v":0},{"$f":"'mnt Data'!AD300","v":0},{"$f":"'mnt Data'!AE300","v":0},{"$f":"'mnt Data'!AF300","v":0},{"$f":"'mnt Data'!AG300","v":0},{"$f":"'mnt Data'!AH300","v":0},{"$f":"'mnt Data'!AI300","v":0},{"$f":"'mnt Data'!AJ300","v":0},{"$f":"'mnt Data'!AK300","v":0}]
[297,0,0,"No Gs",0,"No Gs","No Gs","Gs is needed","Gs is needed","Gs is needed","Need Max and Min","Need Max and Min","Fail",null,{"$f":"'mnt Data'!A301","v":0},{"$f":"'mnt Data'!B301","v":0},{"$f":"'mnt Data'!C301","v":0},{"$f":"'mnt Data'!D301","v":0},{"$f":"'mnt Data'!E301","v":0},{"$f":"'mnt Data'!F301","v":0},{"$f":"'mnt Data'!G301","v":0},{"$f":"'mnt Data'!H301","v":0},{"$f":"'mnt Data'!I301","v":0},{"$f":"'mnt Data'!J301","v":0},{"$f":"'mnt Data'!K301","v":0},{"$f":"'mnt Data'!L301","v":0},{"$f":"'mnt Data'!M301","v":0},{"$f":"'mnt Data'!N301","v":0},{"$f":"'mnt Data'!O301","v":0},{"$f":"'mnt Data'!P301","v":0},{"$f":"'mnt Data'!Q301","v":0},{"$f":"'mnt Data'!R301","v":0},{"$f":"'mnt Data'!S301","v":0},{"$f":"'mnt Data'!T301","v":0},{"$f":"'mnt Data'!U301","v":0},{"$f":"'mnt Data'!V301","v":0},{"$f":"'mnt Data'!W301","v":0},{"$f":"'mnt Data'!X301","v":0},{"$f":"'mnt Data'!Y301","v":0},{"$f":"'mnt Data'!Z301","v":0},{"$f":"'mnt Data'!AA301","v":0},{"$f":"'mnt Data'!AB301","v":0},{"$f":"'mnt Data'!AC301","v":0},{"$f":"'mnt Data'!AD301","v":0},{"$f":"'mnt Data'!AE301","v":0},{"$f":"'mnt Data'!AF301","v":0},{"$f":"'mnt Data'!AG301","v":0},{"$f":"'mnt Data'!AH301","v":0},{"$f":"'mnt Data'!AI301","v":0},{"$f":"'mnt Data'!AJ301","v":0},{"$f":"'mnt Data'!AK301","v":0}]
[298,0,0,"No Gs",0,"No Gs","No Gs","Gs is needed","Gs is needed","Gs is needed","Need Max and Min","Need Max and Min","Fail",null,{"$f":"'mnt Data'!A302","v":0},{"$f":"'mnt Data'!B302","v":0},{"$f":"'mnt Data'!C302","v":0},{"$f":"'mnt Data'!D302","v":0},{"$f":"'mnt Data'!E302","v":0},{"$f":"'mnt Data'!F302","v":0},{"$f":"'mnt Data'!G302","v":0},{"$f":"'mnt Data'!H302","v":0},{"$f":"'mnt Data'!I302","v":0},{"$f":"'mnt Data'!J302","v":0},{"$f":"'mnt Data'!K302","v":0},{"$f":"'mnt Data'!L302","v":0},{"$f":"'mnt Data'!M302","v":0},{"$f":"'mnt Data'!N302","v":0},{"$f":"'mnt Data'!O302","v":0},{"$f":"'mnt Data'!P302","v":0},{"$f":"'mnt Data'!Q302","v":0},{"$f":"'mnt Data'!R302","v":0},{"$f":"'mnt Data'!S302","v":0},{"$f":"'mnt Data'!T302","v":0},{"$f":"'mnt Data'!U302","v":0},{"$f":"'mnt Data'!V302","v":0},{"$f":"'mnt Data'!W302","v":0},{"$f":"'mnt Data'!X302","v":0},{"$f":"'mnt Data'!Y302","v":0},{"$f":"'mnt Data'!Z302","v":0},{"$f":"'mnt Data'!AA302","v":0},{"$f":"'mnt Data'!AB302","v":0},{"$f":"'mnt Data'!AC302","v":0},{"$f":"'mnt Data'!AD302","v":0},{"$f":"'mnt Data'!AE302","v":0},{"$f":"'mnt Data'!AF302","v":0},{"$f":"'mnt Data'!AG302","v":0},{"$f":"'mnt Data'!AH302","v":0},{"$f":"'mnt Data'!AI302","v":0},{"$f":"'mnt Data'!AJ302","v":0},{"$f":"'mnt Data'!AK302","v":0}]
[299,0,0,"No Gs",0,"No Gs","No Gs","Gs is needed","Gs is needed","Gs is needed","Need Max and Min","Need Max and Min","Fail",null,{"$f":"'mnt Data'!A303","v":0},{"$f":"'mnt Data'!B303","v":0},{"$f":"'mnt Data'!C303","v":0},{"$f":"'mnt Data'!D303","v":0},{"$f":"'mnt Data'!E303","v":0},{"$f":"'mnt Data'!F303","v":0},{"$f":"'mnt Data'!G303","v":0},{"$f":"'mnt Data'!H303","v":0},{"$f":"'mnt Data'!I303","v":0},{"$f":"'mnt Data'!J303","v":0},{"$f":"'mnt Data'!K303","v":0},{"$f":"'mnt Data'!L303","v":0},{"$f":"'mnt Data'!M303","v":0},{"$f":"'mnt Data'!N303","v":0},{"$f":"'mnt Data'!O303","v":0},{"$f":"'mnt Data'!P303","v":0},{"$f":"'mnt Data'!Q303","v":0},{"$f":"'mnt Data'!R303","v":0},{"$f":"'mnt Data'!S303","v":0},{"$f":"'mnt Data'!T303","v":0},{"$f":"'mnt Data'!U303","v":0},{"$f":"'mnt Data'!V303","v":0},{"$f":"'mnt Data'!W303","v":0},{"$f":"'mnt Data'!X303","v":0},{"$f":"'mnt Data'!Y303","v":0},{"$f":"'mnt Data'!Z303","v":0},{"$f":"'mnt Data'!AA303","v":0},{"$f":"'mnt Data'!AB303","v":0},{"$f":"'mnt Data'!AC303","v":0},{"$f":"'mnt Data'!AD303","v":0},{"$f":"'mnt Data'!AE303","v":0},{"$f":"'mnt Data'!AF303","v":0},{"$f":"'mnt Data'!AG303","v":0},{"$f":"'mnt Data'!AH303","v":0},{"$f":"'mnt Data'!AI303","v":0},{"$f":"'mnt Data'!AJ303","v":0},{"$f":"'mnt Data'!AK303","v":0}]
[300,0,0,"No Gs",0,"No Gs","No Gs","Gs is needed","Gs is needed","Gs is needed","Need Max and Min","Need Max and Min","Fail",null,{"$f":"'mnt Data'!A304","v":0},{"$f":"'mnt Data'!B304","v":0},{"$f":"'mnt Data'!C304","v":0},{"$f":"'mnt Data'!D304","v":0},{"$f":"'mnt Data'!E304","v":0},{"$f":"'mnt Data'!F304","v":0},{"$f":"'mnt Data'!G304","v":0},{"$f":"'mnt Data'!H304","v":0},{"$f":"'mnt Data'!I304","v":0},{"$f":"'mnt Data'!J304","v":0},{"$f":"'mnt Data'!K304","v":0},{"$f":"'mnt Data'!L304","v":0},{"$f":"'mnt Data'!M304","v":0},{"$f":"'mnt Data'!N304","v":0},{"$f":"'mnt Data'!O304","v":0},{"$f":"'mnt Data'!P304","v":0},{"$f":"'mnt Data'!Q304","v":0},{"$f":"'mnt Data'!R304","v":0},{"$f":"'mnt Data'!S304","v":0},{"$f":"'mnt Data'!T304","v":0},{"$f":"'mnt Data'!U304","v":0},{"$f":"'mnt Data'!V304","v":0},{"$f":"'mnt Data'!W304","v":0},{"$f":"'mnt Data'!X304","v":0},{"$f":"'mnt Data'!Y304","v":0},{"$f":"'mnt Data'!Z304","v":0},{"$f":"'mnt Data'!AA304","v":0},{"$f":"'mnt Data'!AB304","v":0},{"$f":"'mnt Data'!AC304","v":0},{"$f":"'mnt Data'!AD304","v":0},{"$f":"'mnt Data'!AE304","v":0},{"$f":"'mnt Data'!AF304","v":0},{"$f":"'mnt Data'!AG304","v":0},{"$f":"'mnt Data'!AH304","v":0},{"$f":"'mnt Data'!AI304","v":0},{"$f":"'mnt Data'!AJ304","v":0},{"$f":"'mnt Data'!AK304","v":0}]
[301,0,0,"No Gs",0,"No Gs","No Gs","Gs is needed","Gs is needed","Gs is needed","Need Max and Min","Need Max and Min","Fail",null,{"$f":"'mnt Data'!A305","v":0},{"$f":"'mnt Data'!B305","v":0},{"$f":"'mnt Data'!C305","v":0},{"$f":"'mnt Data'!D305","v":0},{"$f":"'mnt Data'!E305","v":0},{"$f":"'mnt Data'!F305","v":0},{"$f":"'mnt Data'!G305","v":0},{"$f":"'mnt Data'!H305","v":0},{"$f":"'mnt Data'!I305","v":0},{"$f":"'mnt Data'!J305","v":0},{"$f":"'mnt Data'!K305","v":0},{"$f":"'mnt Data'!L305","v":0},{"$f":"'mnt Data'!M305","v":0},{"$f":"'mnt Data'!N305","v":0},{"$f":"'mnt Data'!O305","v":0},{"$f":"'mnt Data'!P305","v":0},{"$f":"'mnt Data'!Q305","v":0},{"$f":"'mnt Data'!R305","v":0},{"$f":"'mnt Data'!S305","v":0},{"$f":"'mnt Data'!T305","v":0},{"$f":"'mnt Data'!U305","v":0},{"$f":"'mnt Data'!V305","v":0},{"$f":"'mnt Data'!W305","v":0},{"$f":"'mnt Data'!X305","v":0},{"$f":"'mnt Data'!Y305","v":0},{"$f":"'mnt Data'!Z305","v":0},{"$f":"'mnt Data'!AA305","v":0},{"$f":"'mnt Data'!AB305","v":0},{"$f":"'mnt Data'!AC305","v":0},{"$f":"'mnt Data'!AD305","v":0},{"$f":"'mnt Data'!AE305","v":0},{"$f":"'mnt Data'!AF305","v":0},{"$f":"'mnt Data'!AG305","v":0},{"$f":"'mnt Data'!AH305","v":0},{"$f":"'mnt Data'!AI305","v":0},{"$f":"'mnt Data'!AJ305","v":0},{"$f":"'mnt Data'!AK305","v":0}]
[302,0,0,"No Gs",0,"No Gs","No Gs","Gs is needed","Gs is needed","Gs is needed","Need Max and Min","Need Max and Min","Fail",null,{"$f":"'mnt Data'!A306","v":0},{"$f":"'mnt Data'!B306","v":0},{"$f":"'mnt Data'!C306","v":0},{"$f":"'mnt Data'!D306","v":0},{"$f":"'mnt Data'!E306","v":0},{"$f":"'mnt Data'!F306","v":0},{"$f":"'mnt Data'!G306","v":0},{"$f":"'mnt Data'!H306","v":0},{"$f":"'mnt Data'!I306","v":0},{"$f":"'mnt Data'!J306","v":0},{"$f":"'mnt Data'!K306","v":0},{"$f":"'mnt Data'!L306","v":0},{"$f":"'mnt Data'!M306","v":0},{"$f":"'mnt Data'!N306","v":0},{"$f":"'mnt Data'!O306","v":0},{"$f":"'mnt Data'!P306","v":0},{"$f":"'mnt Data'!Q306","v":0},{"$f":"'mnt Data'!R306","v":0},{"$f":"'mnt Data'!S306","v":0},{"$f":"'mnt Data'!T306","v":0},{"$f":"'mnt Data'!U306","v":0},{"$f":"'mnt Data'!V306","v":0},{"$f":"'mnt Data'!W306","v":0},{"$f":"'mnt Data'!X306","v":0},{"$f":"'mnt Data'!Y306","v":0},{"$f":"'mnt Data'!Z306","v":0},{"$f":"'mnt Data'!AA306","v":0},{"$f":"'mnt Data'!AB306","v":0},{"$f":"'mnt Data'!AC306","v":0},{"$f":"'mnt Data'!AD306","v":0},{"$f":"'mnt Data'!AE306","v":0},{"$f":"'mnt Data'!AF306","v":0},{"$f":"'mnt Data'!AG306","v":0},{"$f":"'mnt Data'!AH306","v":0},{"$f":"'mnt Data'!AI306","v":0},{"$f":"'mnt Data'!AJ306","v":0},{"$f":"'mnt Data'!AK306","v":0}]
[303,0,0,"No Gs",0,"No Gs","No Gs","Gs is needed","Gs is needed","Gs is needed","Need Max and Min","Need Max and Min","Fail",null,{"$f":"'mnt Data'!A307","v":0},{"$f":"'mnt Data'!B307","v":0},{"$f":"'mnt Data'!C307","v":0},{"$f":"'mnt Data'!D307","v":0},{"$f":"'mnt Data'!E307","v":0},{"$f":"'mnt Data'!F307","v":0},{"$f":"'mnt Data'!G307","v":0},{"$f":"'mnt Data'!H307","v":0},{"$f":"'mnt Data'!I307","v":0},{"$f":"'mnt Data'!J307","v":0},{"$f":"'mnt Data'!K307","v":0},{"$f":"'mnt Data'!L307","v":0},{"$f":"'mnt Data'!M307","v":0},{"$f":"'mnt Data'!N307","v":0},{"$f":"'mnt Data'!O307","v":0},{"$f":"'mnt Data'!P307","v":0},{"$f":"'mnt Data'!Q307","v":0},{"$f":"'mnt Data'!R307","v":0},{"$f":"'mnt Data'!S307","v":0},{"$f":"'mnt Data'!T307","v":0},{"$f":"'mnt Data'!U307","v":0},{"$f":"'mnt Data'!V307","v":0},{"$f":"'mnt Data'!W307","v":0},{"$f":"'mnt Data'!X307","v":0},{"$f":"'mnt Data'!Y307","v":0},{"$f":"'mnt Data'!Z307","v":0},{"$f":"'mnt Data'!AA307","v":0},{"$f":"'mnt Data'!AB307","v":0},{"$f":"'mnt Data'!AC307","v":0},{"$f":"'mnt Data'!AD307","v":0},{"$f":"'mnt Data'!AE307","v":0},{"$f":"'mnt Data'!AF307","v":0},{"$f":"'mnt Data'!AG307","v":0},{"$f":"'mnt Data'!AH307","v":0},{"$f":"'mnt Data'!AI307","v":0},{"$f":"'mnt Data'!AJ307","v":0},{"$f":"'mnt Data'!AK307","v":0}]
[304,0,0,"No Gs",0,"No Gs","No Gs","Gs is needed","Gs is needed","Gs is needed","Need Max and Min","Need Max and Min","Fail",null,{"$f":"'mnt Data'!A308","v":0},{"$f":"'mnt Data'!B308","v":0},{"$f":"'mnt Data'!C308","v":0},{"$f":"'mnt Data'!D308","v":0},{"$f":"'mnt Data'!E308","v":0},{"$f":"'mnt Data'!F308","v":0},{"$f":"'mnt Data'!G308","v":0},{"$f":"'mnt Data'!H308","v":0},{"$f":"'mnt Data'!I308","v":0},{"$f":"'mnt Data'!J308","v":0},{"$f":"'mnt Data'!K308","v":0},{"$f":"'mnt Data'!L308","v":0},{"$f":"'mnt Data'!M308","v":0},{"$f":"'mnt Data'!N308","v":0},{"$f":"'mnt Data'!O308","v":0},{"$f":"'mnt Data'!P308","v":0},{"$f":"'mnt Data'!Q308","v":0},{"$f":"'mnt Data'!R308","v":0},{"$f":"'mnt Data'!S308","v":0},{"$f":"'mnt Data'!T308","v":0},{"$f":"'mnt Data'!U308","v":0},{"$f":"'mnt Data'!V308","v":0},{"$f":"'mnt Data'!W308","v":0},{"$f":"'mnt Data'!X308","v":0},{"$f":"'mnt Data'!Y308","v":0},{"$f":"'mnt Data'!Z308","v":0},{"$f":"'mnt Data'!AA308","v":0},{"$f":"'mnt Data'!AB308","v":0},{"$f":"'mnt Data'!AC308","v":0},{"$f":"'mnt Data'!AD308","v":0},{"$f":"'mnt Data'!AE308","v":0},{"$f":"'mnt Data'!AF308","v":0},{"$f":"'mnt Data'!AG308","v":0},{"$f":"'mnt Data'!AH308","v":0},{"$f":"'mnt Data'!AI308","v":0},{"$f":"'mnt Data'!AJ308","v":0},{"$f":"'mnt Data'!AK308","v":0}]
[305,0,0,"No Gs",0,"No Gs","No Gs","Gs is needed","Gs is needed","Gs is needed","Need Max and Min","Need Max and Min","Fail",null,{"$f":"'mnt Data'!A309","v":0},{"$f":"'mnt Data'!B309","v":0},{"$f":"'mnt Data'!C309","v":0},{"$f":"'mnt Data'!D309","v":0},{"$f":"'mnt Data'!E309","v":0},{"$f":"'mnt Data'!F309","v":0},{"$f":"'mnt Data'!G309","v":0},{"$f":"'mnt Data'!H309","v":0},{"$f":"'mnt Data'!I309","v":0},{"$f":"'mnt Data'!J309","v":0},{"$f":"'mnt Data'!K309","v":0},{"$f":"'mnt Data'!L309","v":0},{"$f":"'mnt Data'!M309","v":0},{"$f":"'mnt Data'!N309","v":0},{"$f":"'mnt Data'!O309","v":0},{"$f":"'mnt Data'!P309","v":0},{"$f":"'mnt Data'!Q309","v":0},{"$f":"'mnt Data'!R309","v":0},{"$f":"'mnt Data'!S309","v":0},{"$f":"'mnt Data'!T309","v":0},{"$f":"'mnt Data'!U309","v":0},{"$f":"'mnt Data'!V309","v":0},{"$f":"'mnt Data'!W309","v":0},{"$f":"'mnt Data'!X309","v":0},{"$f":"'mnt Data'!Y309","v":0},{"$f":"'mnt Data'!Z309","v":0},{"$f":"'mnt Data'!AA309","v":0},{"$f":"'mnt Data'!AB309","v":0},{"$f":"'mnt Data'!AC309","v":0},{"$f":"'mnt Data'!AD309","v":0},{"$f":"'mnt Data'!AE309","v":0},{"$f":"'mnt Data'!AF309","v":0},{"$f":"'mnt Data'!AG309","v":0},{"$f":"'mnt Data'!AH309","v":0},{"$f":"'mnt Data'!AI309","v":0},{"$f":"'mnt Data'!AJ309","v":0},{"$f":"'mnt Data'!AK309","v":0}]
[306,0,0,"No Gs",0,"No Gs","No Gs","Gs is needed","Gs is needed","Gs is needed","Need Max and Min","Need Max and Min","Fail",null,{"$f":"'mnt Data'!A310","v":0},{"$f":"'mnt Data'!B310","v":0},{"$f":"'mnt Data'!C310","v":0},{"$f":"'mnt Data'!D310","v":0},{"$f":"'mnt Data'!E310","v":0},{"$f":"'mnt Data'!F310","v":0},{"$f":"'mnt Data'!G310","v":0},{"$f":"'mnt Data'!H310","v":0},{"$f":"'mnt Data'!I310","v":0},{"$f":"'mnt Data'!J310","v":0},{"$f":"'mnt Data'!K310","v":0},{"$f":"'mnt Data'!L310","v":0},{"$f":"'mnt Data'!M310","v":0},{"$f":"'mnt Data'!N310","v":0},{"$f":"'mnt Data'!O310","v":0},{"$f":"'mnt Data'!P310","v":0},{"$f":"'mnt Data'!Q310","v":0},{"$f":"'mnt Data'!R310","v":0},{"$f":"'mnt Data'!S310","v":0},{"$f":"'mnt Data'!T310","v":0},{"$f":"'mnt Data'!U310","v":0},{"$f":"'mnt Data'!V310","v":0},{"$f":"'mnt Data'!W310","v":0},{"$f":"'mnt Data'!X310","v":0},{"$f":"'mnt Data'!Y310","v":0},{"$f":"'mnt Data'!Z310","v":0},{"$f":"'mnt Data'!AA310","v":0},{"$f":"'mnt Data'!AB310","v":0},{"$f":"'mnt Data'!AC310","v":0},{"$f":"'mnt Data'!AD310","v":0},{"$f":"'mnt Data'!AE310","v":0},{"$f":"'mnt Data'!AF310","v":0},{"$f":"'mnt Data'!AG310","v":0},{"$f":"'mnt Data'!AH310","v":0},{"$f":"'mnt Data'!AI310","v":0},{"$f":"'mnt Data'!AJ310","v":0},{"$f":"'mnt Data'!AK310","v":0}]
[307,0,0,"No Gs",0,"No Gs","No Gs","Gs is needed","Gs is needed","Gs is needed","Need Max and Min","Need Max and Min","Fail",null,{"$f":"'mnt Data'!A311","v":0},{"$f":"'mnt Data'!B311","v":0},{"$f":"'mnt Data'!C311","v":0},{"$f":"'mnt Data'!D311","v":0},{"$f":"'mnt Data'!E311","v":0},{"$f":"'mnt Data'!F311","v":0},{"$f":"'mnt Data'!G311","v":0},{"$f":"'mnt Data'!H311","v":0},{"$f":"'mnt Data'!I311","v":0},{"$f":"'mnt Data'!J311","v":0},{"$f":"'mnt Data'!K311","v":0},{"$f":"'mnt Data'!L311","v":0},{"$f":"'mnt Data'!M311","v":0},{"$f":"'mnt Data'!N311","v":0},{"$f":"'mnt Data'!O311","v":0},{"$f":"'mnt Data'!P311","v":0},{"$f":"'mnt Data'!Q311","v":0},{"$f":"'mnt Data'!R311","v":0},{"$f":"'mnt Data'!S311","v":0},{"$f":"'mnt Data'!T311","v":0},{"$f":"'mnt Data'!U311","v":0},{"$f":"'mnt Data'!V311","v":0},{"$f":"'mnt Data'!W311","v":0},{"$f":"'mnt Data'!X311","v":0},{"$f":"'mnt Data'!Y311","v":0},{"$f":"'mnt Data'!Z311","v":0},{"$f":"'mnt Data'!AA311","v":0},{"$f":"'mnt Data'!AB311","v":0},{"$f":"'mnt Data'!AC311","v":0},{"$f":"'mnt Data'!AD311","v":0},{"$f":"'mnt Data'!AE311","v":0},{"$f":"'mnt Data'!AF311","v":0},{"$f":"'mnt Data'!AG311","v":0},{"$f":"'mnt Data'!AH311","v":0},{"$f":"'mnt Data'!AI311","v":0},{"$f":"'mnt Data'!AJ311","v":0},{"$f":"'mnt Data'!AK311","v":0}]
[308,0,0,"No Gs",0,"No Gs","No Gs","Gs is needed","Gs is needed","Gs is needed","Need Max and Min","Need Max and Min","Fail",null,{"$f":"'mnt Data'!A312","v":0},{"$f":"'mnt Data'!B312","v":0},{"$f":"'mnt Data'!C312","v":0},{"$f":"'mnt Data'!D312","v":0},{"$f":"'mnt Data'!E312","v":0},{"$f":"'mnt Data'!F312","v":0},{"$f":"'mnt Data'!G312","v":0},{"$f":"'mnt Data'!H312","v":0},{"$f":"'mnt Data'!I312","v":0},{"$f":"'mnt Data'!J312","v":0},{"$f":"'mnt Data'!K312","v":0},{"$f":"'mnt Data'!L312","v":0},{"$f":"'mnt Data'!M312","v":0},{"$f":"'mnt Data'!N312","v":0},{"$f":"'mnt Data'!O312","v":0},{"$f":"'mnt Data'!P312","v":0},{"$f":"'mnt Data'!Q312","v":0},{"$f":"'mnt Data'!R312","v":0},{"$f":"'mnt Data'!S312","v":0},{"$f":"'mnt Data'!T312","v":0},{"$f":"'mnt Data'!U312","v":0},{"$f":"'mnt Data'!V312","v":0},{"$f":"'mnt Data'!W312","v":0},{"$f":"'mnt Data'!X312","v":0},{"$f":"'mnt Data'!Y312","v":0},{"$f":"'mnt Data'!Z312","v":0},{"$f":"'mnt Data'!AA312","v":0},{"$f":"'mnt Data'!AB312","v":0},{"$f":"'mnt Data'!AC312","v":0},{"$f":"'mnt Data'!AD312","v":0},{"$f":"'mnt Data'!AE312","v":0},{"$f":"'mnt Data'!AF312","v":0},{"$f":"'mnt Data'!AG312","v":0},{"$f":"'mnt Data'!AH312","v":0},{"$f":"'mnt Data'!AI312","v":0},{"$f":"'mnt Data'!AJ312","v":0},{"$f":"'mnt Data'!AK312","v":0}]
[309,0,0,"No Gs",0,"No Gs","No Gs","Gs is needed","Gs is needed","Gs is needed","Need Max and Min","Need Max and Min","Fail",null,{"$f":"'mnt Data'!A313","v":0},{"$f":"'mnt Data'!B313","v":0},{"$f":"'mnt Data'!C313","v":0},{"$f":"'mnt Data'!D313","v":0},{"$f":"'mnt Data'!E313","v":0},{"$f":"'mnt Data'!F313","v":0},{"$f":"'mnt Data'!G313","v":0},{"$f":"'mnt Data'!H313","v":0},{"$f":"'mnt Data'!I313","v":0},{"$f":"'mnt Data'!J313","v":0},{"$f":"'mnt Data'!K313","v":0},{"$f":"'mnt Data'!L313","v":0},{"$f":"'mnt Data'!M313","v":0},{"$f":"'mnt Data'!N313","v":0},{"$f":"'mnt Data'!O313","v":0},{"$f":"'mnt Data'!P313","v":0},{"$f":"'mnt Data'!Q313","v":0},{"$f":"'mnt Data'!R313","v":0},{"$f":"'mnt Data'!S313","v":0},{"$f":"'mnt Data'!T313","v":0},{"$f":"'mnt Data'!U313","v":0},{"$f":"'mnt Data'!V313","v":0},{"$f":"'mnt Data'!W313","v":0},{"$f":"'mnt Data'!X313","v":0},{"$f":"'mnt Data'!Y313","v":0},{"$f":"'mnt Data'!Z313","v":0},{"$f":"'mnt Data'!AA313","v":0},{"$f":"'mnt Data'!AB313","v":0},{"$f":"'mnt Data'!AC313","v":0},{"$f":"'mnt Data'!AD313","v":0},{"$f":"'mnt Data'!AE313","v":0},{"$f":"'mnt Data'!AF313","v":0},{"$f":"'mnt Data'!AG313","v":0},{"$f":"'mnt Data'!AH313","v":0},{"$f":"'mnt Data'!AI313","v":0},{"$f":"'mnt Data'!AJ313","v":0},{"$f":"'mnt Data'!AK313","v":0}]
[310,0,0,"No Gs",0,"No Gs","No Gs","Gs is needed","Gs is needed","Gs is needed","Need Max and Min","Need Max and Min","Fail",null,{"$f":"'mnt Data'!A314","v":0},{"$f":"'mnt Data'!B314","v":0},{"$f":"'mnt Data'!C314","v":0},{"$f":"'mnt Data'!D314","v":0},{"$f":"'mnt Data'!E314","v":0},{"$f":"'mnt Data'!F314","v":0},{"$f":"'mnt Data'!G314","v":0},{"$f":"'mnt Data'!H314","v":0},{"$f":"'mnt Data'!I314","v":0},{"$f":"'mnt Data'!J314","v":0},{"$f":"'mnt Data'!K314","v":0},{"$f":"'mnt Data'!L314","v":0},{"$f":"'mnt Data'!M314","v":0},{"$f":"'mnt Data'!N314","v":0},{"$f":"'mnt Data'!O314","v":0},{"$f":"'mnt Data'!P314","v":0},{"$f":"'mnt Data'!Q314","v":0},{"$f":"'mnt Data'!R314","v":0},{"$f":"'mnt Data'!S314","v":0},{"$f":"'mnt Data'!T314","v":0},{"$f":"'mnt Data'!U314","v":0},{"$f":"'mnt Data'!V314","v":0},{"$f":"'mnt Data'!W314","v":0},{"$f":"'mnt Data'!X314","v":0},{"$f":"'mnt Data'!Y314","v":0},{"$f":"'mnt Data'!Z314","v":0},{"$f":"'mnt Data'!AA314","v":0},{"$f":"'mnt Data'!AB314","v":0},{"$f":"'mnt Data'!AC314","v":0},{"$f":"'mnt Data'!AD314","v":0},{"$f":"'mnt Data'!AE314","v":0},{"$f":"'mnt Data'!AF314","v":0},{"$f":"'mnt Data'!AG314","v":0},{"$f":"'mnt Data'!AH314","v":0},{"$f":"'mnt Data'!AI314","v":0},{"$f":"'mnt Data'!AJ314","v":0},{"$f":"'mnt Data'!AK314","v":0}]
[311,0,0,"No Gs",0,"No Gs","No Gs","Gs is needed","Gs is needed","Gs is needed","Need Max and Min","Need Max and Min","Fail",null,{"$f":"'mnt Data'!A315","v":0},{"$f":"'mnt Data'!B315","v":0},{"$f":"'mnt Data'!C315","v":0},{"$f":"'mnt Data'!D315","v":0},{"$f":"'mnt Data'!E315","v":0},{"$f":"'mnt Data'!F315","v":0},{"$f":"'mnt Data'!G315","v":0},{"$f":"'mnt Data'!H315","v":0},{"$f":"'mnt Data'!I315","v":0},{"$f":"'mnt Data'!J315","v":0},{"$f":"'mnt Data'!K315","v":0},{"$f":"'mnt Data'!L315","v":0},{"$f":"'mnt Data'!M315","v":0},{"$f":"'mnt Data'!N315","v":0},{"$f":"'mnt Data'!O315","v":0},{"$f":"'mnt Data'!P315","v":0},{"$f":"'mnt Data'!Q315","v":0},{"$f":"'mnt Data'!R315","v":0},{"$f":"'mnt Data'!S315","v":0},{"$f":"'mnt Data'!T315","v":0},{"$f":"'mnt Data'!U315","v":0},{"$f":"'mnt Data'!V315","v":0},{"$f":"'mnt Data'!W315","v":0},{"$f":"'mnt Data'!X315","v":0},{"$f":"'mnt Data'!Y315","v":0},{"$f":"'mnt Data'!Z315","v":0},{"$f":"'mnt Data'!AA315","v":0},{"$f":"'mnt Data'!AB315","v":0},{"$f":"'mnt Data'!AC315","v":0},{"$f":"'mnt Data'!AD315","v":0},{"$f":"'mnt Data'!AE315","v":0},{"$f":"'mnt Data'!AF315","v":0},{"$f":"'mnt Data'!AG315","v":0},{"$f":"'mnt Data'!AH315","v":0},{"$f":"'mnt Data'!AI315","v":0},{"$f":"'mnt Data'!AJ315","v":0},{"$f":"'mnt Data'!AK315","v":0}]
[312,0,0,"No Gs",0,"No Gs","No Gs","Gs is needed","Gs is needed","Gs is needed","Need Max and Min","Need Max and Min","Fail",null,{"$f":"'mnt Data'!A316","v":0},{"$f":"'mnt Data'!B316","v":0},{"$f":"'mnt Data'!C316","v":0},{"$f":"'mnt Data'!D316","v":0},{"$f":"'mnt Data'!E316","v":0},{"$f":"'mnt Data'!F316","v":0},{"$f":"'mnt Data'!G316","v":0},{"$f":"'mnt Data'!H316","v":0},{"$f":"'mnt Data'!I316","v":0},{"$f":"'mnt Data'!J316","v":0},{"$f":"'mnt Data'!K316","v":0},{"$f":"'mnt Data'!L316","v":0},{"$f":"'mnt Data'!M316","v":0},{"$f":"'mnt Data'!N316","v":0},{"$f":"'mnt Data'!O316","v":0},{"$f":"'mnt Data'!P316","v":0},{"$f":"'mnt Data'!Q316","v":0},{"$f":"'mnt Data'!R316","v":0},{"$f":"'mnt Data'!S316","v":0},{"$f":"'mnt Data'!T316","v":0},{"$f":"'mnt Data'!U316","v":0},{"$f":"'mnt Data'!V316","v":0},{"$f":"'mnt Data'!W316","v":0},{"$f":"'mnt Data'!X316","v":0},{"$f":"'mnt Data'!Y316","v":0},{"$f":"'mnt Data'!Z316","v":0},{"$f":"'mnt Data'!AA316","v":0},{"$f":"'mnt Data'!AB316","v":0},{"$f":"'mnt Data'!AC316","v":0},{"$f":"'mnt Data'!AD316","v":0},{"$f":"'mnt Data'!AE316","v":0},{"$f":"'mnt Data'!AF316","v":0},{"$f":"'mnt Data'!AG316","v":0},{"$f":"'mnt Data'!AH316","v":0},{"$f":"'mnt Data'!AI316","v":0},{"$f":"'mnt Data'!AJ316","v":0},{"$f":"'mnt Data'!AK316","v":0}]
[313,0,0,"No Gs",0,"No Gs","No Gs","Gs is needed","Gs is needed","Gs is needed","Need Max and Min","Need Max and Min","Fail",null,{"$f":"'mnt Data'!A317","v":0},{"$f":"'mnt Data'!B317","v":0},{"$f":"'mnt Data'!C317","v":0},{"$f":"'mnt Data'!D317","v":0},{"$f":"'mnt Data'!E317","v":0},{"$f":"'mnt Data'!F317","v":0},{"$f":"'mnt Data'!G317","v":0},{"$f":"'mnt Data'!H317","v":0},{"$f":"'mnt Data'!I317","v":0},{"$f":"'mnt Data'!J317","v":0},{"$f":"'mnt Data'!K317","v":0},{"$f":"'mnt Data'!L317","v":0},{"$f":"'mnt Data'!M317","v":0},{"$f":"'mnt Data'!N317","v":0},{"$f":"'mnt Data'!O317","v":0},{"$f":"'mnt Data'!P317","v":0},{"$f":"'mnt Data'!Q317","v":0},{"$f":"'mnt Data'!R317","v":0},{"$f":"'mnt Data'!S317","v":0},{"$f":"'mnt Data'!T317","v":0},{"$f":"'mnt Data'!U317","v":0},{"$f":"'mnt Data'!V317","v":0},{"$f":"'mnt Data'!W317","v":0},{"$f":"'mnt Data'!X317","v":0},{"$f":"'mnt Data'!Y317","v":0},{"$f":"'mnt Data'!Z317","v":0},{"$f":"'mnt Data'!AA317","v":0},{"$f":"'mnt Data'!AB317","v":0},{"$f":"'mnt Data'!AC317","v":0},{"$f":"'mnt Data'!AD317","v":0},{"$f":"'mnt Data'!AE317","v":0},{"$f":"'mnt Data'!AF317","v":0},{"$f":"'mnt Data'!AG317","v":0},{"$f":"'mnt Data'!AH317","v":0},{"$f":"'mnt Data'!AI317","v":0},{"$f":"'mnt Data'!AJ317","v":0},{"$f":"'mnt Data'!AK317","v":0}]
[314,0,0,"No Gs",0,"No Gs","No Gs","Gs is needed","Gs is needed","Gs is needed","Need Max and Min","Need Max and Min","Fail",null,{"$f":"'mnt Data'!A318","v":0},{"$f":"'mnt Data'!B318","v":0},{"$f":"'mnt Data'!C318","v":0},{"$f":"'mnt Data'!D318","v":0},{"$f":"'mnt Data'!E318","v":0},{"$f":"'mnt Data'!F318","v":0},{"$f":"'mnt Data'!G318","v":0},{"$f":"'mnt Data'!H318","v":0},{"$f":"'mnt Data'!I318","v":0},{"$f":"'mnt Data'!J318","v":0},{"$f":"'mnt Data'!K318","v":0},{"$f":"'mnt Data'!L318","v":0},{"$f":"'mnt Data'!M318","v":0},{"$f":"'mnt Data'!N318","v":0},{"$f":"'mnt Data'!O318","v":0},{"$f":"'mnt Data'!P318","v":0},{"$f":"'mnt Data'!Q318","v":0},{"$f":"'mnt Data'!R318","v":0},{"$f":"'mnt Data'!S318","v":0},{"$f":"'mnt Data'!T318","v":0},{"$f":"'mnt Data'!U318","v":0},{"$f":"'mnt Data'!V318","v":0},{"$f":"'mnt Data'!W318","v":0},{"$f":"'mnt Data'!X318","v":0},{"$f":"'mnt Data'!Y318","v":0},{"$f":"'mnt Data'!Z318","v":0},{"$f":"'mnt Data'!AA318","v":0},{"$f":"'mnt Data'!AB318","v":0},{"$f":"'mnt Data'!AC318","v":0},{"$f":"'mnt Data'!AD318","v":0},{"$f":"'mnt Data'!AE318","v":0},{"$f":"'mnt Data'!AF318","v":0},{"$f":"'mnt Data'!AG318","v":0},{"$f":"'mnt Data'!AH318","v":0},{"$f":"'mnt Data'!AI318","v":0},{"$f":"'mnt Data'!AJ318","v":0},{"$f":"'mnt Data'!AK318","v":0}]
[315,0,0,"No Gs",0,"No Gs","No Gs","Gs is needed","Gs is needed","Gs is needed","Need Max and Min","Need Max and Min","Fail",null,{"$f":"'mnt Data'!A319","v":0},{"$f":"'mnt Data'!B319","v":0},{"$f":"'mnt Data'!C319","v":0},{"$f":"'mnt Data'!D319","v":0},{"$f":"'mnt Data'!E319","v":0},{"$f":"'mnt Data'!F319","v":0},{"$f":"'mnt Data'!G319","v":0},{"$f":"'mnt Data'!H319","v":0},{"$f":"'mnt Data'!I319","v":0},{"$f":"'mnt Data'!J319","v":0},{"$f":"'mnt Data'!K319","v":0},{"$f":"'mnt Data'!L319","v":0},{"$f":"'mnt Data'!M319","v":0},{"$f":"'mnt Data'!N319","v":0},{"$f":"'mnt Data'!O319","v":0},{"$f":"'mnt Data'!P319","v":0},{"$f":"'mnt Data'!Q319","v":0},{"$f":"'mnt Data'!R319","v":0},{"$f":"'mnt Data'!S319","v":0},{"$f":"'mnt Data'!T319","v":0},{"$f":"'mnt Data'!U319","v":0},{"$f":"'mnt Data'!V319","v":0},{"$f":"'mnt Data'!W319","v":0},{"$f":"'mnt Data'!X319","v":0},{"$f":"'mnt Data'!Y319","v":0},{"$f":"'mnt Data'!Z319","v":0},{"$f":"'mnt Data'!AA319","v":0},{"$f":"'mnt Data'!AB319","v":0},{"$f":"'mnt Data'!AC319","v":0},{"$f":"'mnt Data'!AD319","v":0},{"$f":"'mnt Data'!AE319","v":0},{"$f":"'mnt Data'!AF319","v":0},{"$f":"'mnt Data'!AG319","v":0},{"$f":"'mnt Data'!AH319","v":0},{"$f":"'mnt Data'!AI319","v":0},{"$f":"'mnt Data'!AJ319","v":0},{"$f":"'mnt Data'!AK319","v":0}]
[316,0,0,"No Gs",0,"No Gs","No Gs","Gs is needed","Gs is needed","Gs is needed","Need Max and Min","Need Max and Min","Fail",null,{"$f":"'mnt Data'!A320","v":0},{"$f":"'mnt Data'!B320","v":0},{"$f":"'mnt Data'!C320","v":0},{"$f":"'mnt Data'!D320","v":0},{"$f":"'mnt Data'!E320","v":0},{"$f":"'mnt Data'!F320","v":0},{"$f":"'mnt Data'!G320","v":0},{"$f":"'mnt Data'!H320","v":0},{"$f":"'mnt Data'!I320","v":0},{"$f":"'mnt Data'!J320","v":0},{"$f":"'mnt Data'!K320","v":0},{"$f":"'mnt Data'!L320","v":0},{"$f":"'mnt Data'!M320","v":0},{"$f":"'mnt Data'!N320","v":0},{"$f":"'mnt Data'!O320","v":0},{"$f":"'mnt Data'!P320","v":0},{"$f":"'mnt Data'!Q320","v":0},{"$f":"'mnt Data'!R320","v":0},{"$f":"'mnt Data'!S320","v":0},{"$f":"'mnt Data'!T320","v":0},{"$f":"'mnt Data'!U320","v":0},{"$f":"'mnt Data'!V320","v":0},{"$f":"'mnt Data'!W320","v":0},{"$f":"'mnt Data'!X320","v":0},{"$f":"'mnt Data'!Y320","v":0},{"$f":"'mnt Data'!Z320","v":0},{"$f":"'mnt Data'!AA320","v":0},{"$f":"'mnt Data'!AB320","v":0},{"$f":"'mnt Data'!AC320","v":0},{"$f":"'mnt Data'!AD320","v":0},{"$f":"'mnt Data'!AE320","v":0},{"$f":"'mnt Data'!AF320","v":0},{"$f":"'mnt Data'!AG320","v":0},{"$f":"'mnt Data'!AH320","v":0},{"$f":"'mnt Data'!AI320","v":0},{"$f":"'mnt Data'!AJ320","v":0},{"$f":"'mnt Data'!AK320","v":0}]
[317,0,0,"No Gs",0,"No Gs","No Gs","Gs is needed","Gs is needed","Gs is needed","Need Max and Min","Need Max and Min","Fail",null,{"$f":"'mnt Data'!A321","v":0},{"$f":"'mnt Data'!B321","v":0},{"$f":"'mnt Data'!C321","v":0},{"$f":"'mnt Data'!D321","v":0},{"$f":"'mnt Data'!E321","v":0},{"$f":"'mnt Data'!F321","v":0},{"$f":"'mnt Data'!G321","v":0},{"$f":"'mnt Data'!H321","v":0},{"$f":"'mnt Data'!I321","v":0},{"$f":"'mnt Data'!J321","v":0},{"$f":"'mnt Data'!K321","v":0},{"$f":"'mnt Data'!L321","v":0},{"$f":"'mnt Data'!M321","v":0},{"$f":"'mnt Data'!N321","v":0},{"$f":"'mnt Data'!O321","v":0},{"$f":"'mnt Data'!P321","v":0},{"$f":"'mnt Data'!Q321","v":0},{"$f":"'mnt Data'!R321","v":0},{"$f":"'mnt Data'!S321","v":0},{"$f":"'mnt Data'!T321","v":0},{"$f":"'mnt Data'!U321","v":0},{"$f":"'mnt Data'!V321","v":0},{"$f":"'mnt Data'!W321","v":0},{"$f":"'mnt Data'!X321","v":0},{"$f":"'mnt Data'!Y321","v":0},{"$f":"'mnt Data'!Z321","v":0},{"$f":"'mnt Data'!AA321","v":0},{"$f":"'mnt Data'!AB321","v":0},{"$f":"'mnt Data'!AC321","v":0},{"$f":"'mnt Data'!AD321","v":0},{"$f":"'mnt Data'!AE321","v":0},{"$f":"'mnt Data'!AF321","v":0},{"$f":"'mnt Data'!AG321","v":0},{"$f":"'mnt Data'!AH321","v":0},{"$f":"'mnt Data'!AI321","v":0},{"$f":"'mnt Data'!AJ321","v":0},{"$f":"'mnt Data'!AK321","v":0}]
[318,0,0,"No Gs",0,"No Gs","No Gs","Gs is needed","Gs is needed","Gs is needed","Need Max and Min","Need Max and Min","Fail",null,{"$f":"'mnt Data'!A322","v":0},{"$f":"'mnt Data'!B322","v":0},{"$f":"'mnt Data'!C322","v":0},{"$f":"'mnt Data'!D322","v":0},{"$f":"'mnt Data'!E322","v":0},{"$f":"'mnt Data'!F322","v":0},{"$f":"'mnt Data'!G322","v":0},{"$f":"'mnt Data'!H322","v":0},{"$f":"'mnt Data'!I322","v":0},{"$f":"'mnt Data'!J322","v":0},{"$f":"'mnt Data'!K322","v":0},{"$f":"'mnt Data'!L322","v":0},{"$f":"'mnt Data'!M322","v":0},{"$f":"'mnt Data'!N322","v":0},{"$f":"'mnt Data'!O322","v":0},{"$f":"'mnt Data'!P322","v":0},{"$f":"'mnt Data'!Q322","v":0},{"$f":"'mnt Data'!R322","v":0},{"$f":"'mnt Data'!S322","v":0},{"$f":"'mnt Data'!T322","v":0},{"$f":"'mnt Data'!U322","v":0},{"$f":"'mnt Data'!V322","v":0},{"$f":"'mnt Data'!W322","v":0},{"$f":"'mnt Data'!X322","v":0},{"$f":"'mnt Data'!Y322","v":0},{"$f":"'mnt Data'!Z322","v":0},{"$f":"'mnt Data'!AA322","v":0},{"$f":"'mnt Data'!AB322","v":0},{"$f":"'mnt Data'!AC322","v":0},{"$f":"'mnt Data'!AD322","v":0},{"$f":"'mnt Data'!AE322","v":0},{"$f":"'mnt Data'!AF322","v":0},{"$f":"'mnt Data'!AG322","v":0},{"$f":"'mnt Data'!AH322","v":0},{"$f":"'mnt Data'!AI322","v":0},{"$f":"'mnt Data'!AJ322","v":0},{"$f":"'mnt Data'!AK322","v":0}]
[319,0,0,"No Gs",0,"No Gs","No Gs","Gs is needed","Gs is needed","Gs is needed","Need Max and Min","Need Max and Min","Fail",null,{"$f":"'mnt Data'!A323","v":0},{"$f":"'mnt Data'!B323","v":0},{"$f":"'mnt Data'!C323","v":0},{"$f":"'mnt Data'!D323","v":0},{"$f":"'mnt Data'!E323","v":0},{"$f":"'mnt Data'!F323","v":0},{"$f":"'mnt Data'!G323","v":0},{"$f":"'mnt Data'!H323","v":0},{"$f":"'mnt Data'!I323","v":0},{"$f":"'mnt Data'!J323","v":0},{"$f":"'mnt Data'!K323","v":0},{"$f":"'mnt Data'!L323","v":0},{"$f":"'mnt Data'!M323","v":0},{"$f":"'mnt Data'!N323","v":0},{"$f":"'mnt Data'!O323","v":0},{"$f":"'mnt Data'!P323","v":0},{"$f":"'mnt Data'!Q323","v":0},{"$f":"'mnt Data'!R323","v":0},{"$f":"'mnt Data'!S323","v":0},{"$f":"'mnt Data'!T323","v":0},{"$f":"'mnt Data'!U323","v":0},{"$f":"'mnt Data'!V323","v":0},{"$f":"'mnt Data'!W323","v":0},{"$f":"'mnt Data'!X323","v":0},{"$f":"'mnt Data'!Y323","v":0},{"$f":"'mnt Data'!Z323","v":0},{"$f":"'mnt Data'!AA323","v":0},{"$f":"'mnt Data'!AB323","v":0},{"$f":"'mnt Data'!AC323","v":0},{"$f":"'mnt Data'!AD323","v":0},{"$f":"'mnt Data'!AE323","v":0},{"$f":"'mnt Data'!AF323","v":0},{"$f":"'mnt Data'!AG323","v":0},{"$f":"'mnt Data'!AH323","v":0},{"$f":"'mnt Data'!AI323","v":0},{"$f":"'mnt Data'!AJ323","v":0},{"$f":"'mnt Data'!AK323","v":0}]
[320,0,0,"No Gs",0,"No Gs","No Gs","Gs is needed","Gs is needed","Gs is needed","Need Max and Min","Need Max and Min","Fail",null,{"$f":"'mnt Data'!A324","v":0},{"$f":"'mnt Data'!B324","v":0},{"$f":"'mnt Data'!C324","v":0},{"$f":"'mnt Data'!D324","v":0},{"$f":"'mnt Data'!E324","v":0},{"$f":"'mnt Data'!F324","v":0},{"$f":"'mnt Data'!G324","v":0},{"$f":"'mnt Data'!H324","v":0},{"$f":"'mnt Data'!I324","v":0},{"$f":"'mnt Data'!J324","v":0},{"$f":"'mnt Data'!K324","v":0},{"$f":"'mnt Data'!L324","v":0},{"$f":"'mnt Data'!M324","v":0},{"$f":"'mnt Data'!N324","v":0},{"$f":"'mnt Data'!O324","v":0},{"$f":"'mnt Data'!P324","v":0},{"$f":"'mnt Data'!Q324","v":0},{"$f":"'mnt Data'!R324","v":0},{"$f":"'mnt Data'!S324","v":0},{"$f":"'mnt Data'!T324","v":0},{"$f":"'mnt Data'!U324","v":0},{"$f":"'mnt Data'!V324","v":0},{"$f":"'mnt Data'!W324","v":0},{"$f":"'mnt Data'!X324","v":0},{"$f":"'mnt Data'!Y324","v":0},{"$f":"'mnt Data'!Z324","v":0},{"$f":"'mnt Data'!AA324","v":0},{"$f":"'mnt Data'!AB324","v":0},{"$f":"'mnt Data'!AC324","v":0},{"$f":"'mnt Data'!AD324","v":0},{"$f":"'mnt Data'!AE324","v":0},{"$f":"'mnt Data'!AF324","v":0},{"$f":"'mnt Data'!AG324","v":0},{"$f":"'mnt Data'!AH324","v":0},{"$f":"'mnt Data'!AI324","v":0},{"$f":"'mnt Data'!AJ324","v":0},{"$f":"'mnt Data'!AK324","v":0}]
[321,0,0,{"$f":"IFERROR(B322/(Gs*(IF(O322>1000,998,62.4))),\"No Gs\")","v":"No Gs"},0,"No Gs","No Gs","Gs is needed","Gs is needed","Gs is needed",{"$f":"IFERROR((100*(DMax*(O322-DMin))/(O322*(DMax-DMin))),\"Need Max and Min\")","v":"Need Max and Min"},{"$f":"IF(K322=\"Need Max and Min\",K322,(100*((O322-DMin)/(DMax-DMin))))","v":"Need Max and Min"},{"$f":"IF((Min+Max)=0,\"Need Max and Min Density\",IF(AND(S322>Min,S322<Max),\"Pass\",\"Fail\"))","v":"Fail"},null,{"$f":"'mnt Data'!A325","v":0},{"$f":"'mnt Data'!B325","v":0},{"$f":"'mnt Data'!C325","v":0},{"$f":"'mnt Data'!D325","v":0},{"$f":"'mnt Data'!E325","v":0},{"$f":"'mnt Data'!F325","v":0},{"$f":"'mnt Data'!G325","v":0},{"$f":"'mnt Data'!H325","v":0},{"$f":"'mnt Data'!I325","v":0},{"$f":"'mnt Data'!J325","v":0},{"$f":"'mnt Data'!K325","v":0},{"$f":"'mnt Data'!L325","v":0},{"$f":"'mnt Data'!M325","v":0},{"$f":"'mnt Data'!N325","v":0},{"$f":"'mnt Data'!O325","v":0},{"$f":"'mnt Data'!P325","v":0},{"$f":"'mnt Data'!Q325","v":0},{"$f":"'mnt Data'!R325","v":0},{"$f":"'mnt Data'!S325","v":0},{"$f":"'mnt Data'!T325","v":0},{"$f":"'mnt Data'!U325","v":0},{"$f":"'mnt Data'!V325","v":0},{"$f":"'mnt Data'!W325","v":0},{"$f":"'mnt Data'!X325","v":0},{"$f":"'mnt Data'!Y325","v":0},{"$f":"'mnt Data'!Z325","v":0},{"$f":"'mnt Data'!AA325","v":0},{"$f":"'mnt Data'!AB325","v":0},{"$f":"'mnt Data'!AC325","v":0},{"$f":"'mnt Data'!AD325","v":0},{"$f":"'mnt Data'!AE325","v":0},{"$f":"'mnt Data'!AF325","v":0},{"$f":"'mnt Data'!AG325","v":0},{"$f":"'mnt Data'!AH325","v":0},{"$f":"'mnt Data'!AI325","v":0},{"$f":"'mnt Data'!AJ325","v":0},{"$f":"'mnt Data'!AK325","v":0}]
[322,0,0,"No Gs",{"$f":"C323/(IF(O323>1000,998,62.4))","v":0},{"$f":"IFERROR(1-D323-E323,\"No Gs\")","v":"No Gs"},{"$f":"IFERROR(E323+F323,\"No Gs\")","v":"No Gs"},"Gs is needed","Gs is needed","Gs is needed","Need Max and Min","Need Max and Min","Fail",null,{"$f":"'mnt Data'!A326","v":0},{"$f":"'mnt Data'!B326","v":0},{"$f":"'mnt Data'!C326","v":0},{"$f":"'mnt Data'!D326","v":0},{"$f":"'mnt Data'!E326","v":0},{"$f":"'mnt Data'!F326","v":0},{"$f":"'mnt Data'!G326","v":0},{"$f":"'mnt Data'!H326","v":0},{"$f":"'mnt Data'!I326","v":0},{"$f":"'mnt Data'!J326","v":0},{"$f":"'mnt Data'!K326","v":0},{"$f":"'mnt Data'!L326","v":0},{"$f":"'mnt Data'!M326","v":0},{"$f":"'mnt Data'!N326","v":0},{"$f":"'mnt Data'!O326","v":0},{"$f":"'mnt Data'!P326","v":0},{"$f":"'mnt Data'!Q326","v":0},{"$f":"'mnt Data'!R326","v":0},{"$f":"'mnt Data'!S326","v":0},{"$f":"'mnt Data'!T326","v":0},{"$f":"'mnt Data'!U326","v":0},{"$f":"'mnt Data'!V326","v":0},{"$f":"'mnt Data'!W326","v":0},{"$f":"'mnt Data'!X326","v":0},{"$f":"'mnt Data'!Y326","v":0},{"$f":"'mnt Data'!Z326","v":0},{"$f":"'mnt Data'!AA326","v":0},{"$f":"'mnt Data'!AB326","v":0},{"$f":"'mnt Data'!AC326","v":0},{"$f":"'mnt Data'!AD326","v":0},{"$f":"'mnt Data'!AE326","v":0},{"$f":"'mnt Data'!AF326","v":0},{"$f":"'mnt Data'!AG326","v":0},{"$f":"'mnt Data'!AH326","v":0},{"$f":"'mnt Data'!AI326","v":0},{"$f":"'mnt Data'!AJ326","v":0},{"$f":"'mnt Data'!AK326","v":0}]
[323,0,0,"No Gs",0,"No Gs","No Gs","Gs is needed","Gs is needed","Gs is needed","Need Max and Min","Need Max and Min","Fail",null,{"$f":"'mnt Data'!A327","v":0},{"$f":"'mnt Data'!B327","v":0},{"$f":"'mnt Data'!C327","v":0},{"$f":"'mnt Data'!D327","v":0},{"$f":"'mnt Data'!E327","v":0},{"$f":"'mnt Data'!F327","v":0},{"$f":"'mnt Data'!G327","v":0},{"$f":"'mnt Data'!H327","v":0},{"$f":"'mnt Data'!I327","v":0},{"$f":"'mnt Data'!J327","v":0},{"$f":"'mnt Data'!K327","v":0},{"$f":"'mnt Data'!L327","v":0},{"$f":"'mnt Data'!M327","v":0},{"$f":"'mnt Data'!N327","v":0},{"$f":"'mnt Data'!O327","v":0},{"$f":"'mnt Data'!P327","v":0},{"$f":"'mnt Data'!Q327","v":0},{"$f":"'mnt Data'!R327","v":0},{"$f":"'mnt Data'!S327","v":0},{"$f":"'mnt Data'!T327","v":0},{"$f":"'mnt Data'!U327","v":0},{"$f":"'mnt Data'!V327","v":0},{"$f":"'mnt Data'!W327","v":0},{"$f":"'mnt Data'!X327","v":0},{"$f":"'mnt Data'!Y327","v":0},{"$f":"'mnt Data'!Z327","v":0},{"$f":"'mnt Data'!AA327","v":0},{"$f":"'mnt Data'!AB327","v":0},{"$f":"'mnt Data'!AC327","v":0},{"$f":"'mnt Data'!AD327","v":0},{"$f":"'mnt Data'!AE327","v":0},{"$f":"'mnt Data'!AF327","v":0},{"$f":"'mnt Data'!AG327","v":0},{"$f":"'mnt Data'!AH327","v":0},{"$f":"'mnt Data'!AI327","v":0},{"$f":"'mnt Data'!AJ327","v":0},{"$f":"'mnt Data'!AK327","v":0}]
[324,0,0,"No Gs",0,"No Gs","No Gs","Gs is needed","Gs is needed","Gs is needed","Need Max and Min","Need Max and Min","Fail",null,{"$f":"'mnt Data'!A328","v":0},{"$f":"'mnt Data'!B328","v":0},{"$f":"'mnt Data'!C328","v":0},{"$f":"'mnt Data'!D328","v":0},{"$f":"'mnt Data'!E328","v":0},{"$f":"'mnt Data'!F328","v":0},{"$f":"'mnt Data'!G328","v":0},{"$f":"'mnt Data'!H328","v":0},{"$f":"'mnt Data'!I328","v":0},{"$f":"'mnt Data'!J328","v":0},{"$f":"'mnt Data'!K328","v":0},{"$f":"'mnt Data'!L328","v":0},{"$f":"'mnt Data'!M328","v":0},{"$f":"'mnt Data'!N328","v":0},{"$f":"'mnt Data'!O328","v":0},{"$f":"'mnt Data'!P328","v":0},{"$f":"'mnt Data'!Q328","v":0},{"$f":"'mnt Data'!R328","v":0},{"$f":"'mnt Data'!S328","v":0},{"$f":"'mnt Data'!T328","v":0},{"$f":"'mnt Data'!U328","v":0},{"$f":"'mnt Data'!V328","v":0},{"$f":"'mnt Data'!W328","v":0},{"$f":"'mnt Data'!X328","v":0},{"$f":"'mnt Data'!Y328","v":0},{"$f":"'mnt Data'!Z328","v":0},{"$f":"'mnt Data'!AA328","v":0},{"$f":"'mnt Data'!AB328","v":0},{"$f":"'mnt Data'!AC328","v":0},{"$f":"'mnt Data'!AD328","v":0},{"$f":"'mnt Data'!AE328","v":0},{"$f":"'mnt Data'!AF328","v":0},{"$f":"'mnt Data'!AG328","v":0},{"$f":"'mnt Data'!AH328","v":0},{"$f":"'mnt Data'!AI328","v":0},{"$f":"'mnt Data'!AJ328","v":0},{"$f":"'mnt Data'!AK328","v":0}]
[325,0,0,"No Gs",0,"No Gs","No Gs","Gs is needed","Gs is needed","Gs is needed","Need Max and Min","Need Max and Min","Fail",null,{"$f":"'mnt Data'!A329","v":0},{"$f":"'mnt Data'!B329","v":0},{"$f":"'mnt Data'!C329","v":0},{"$f":"'mnt Data'!D329","v":0},{"$f":"'mnt Data'!E329","v":0},{"$f":"'mnt Data'!F329","v":0},{"$f":"'mnt Data'!G329","v":0},{"$f":"'mnt Data'!H329","v":0},{"$f":"'mnt Data'!I329","v":0},{"$f":"'mnt Data'!J329","v":0},{"$f":"'mnt Data'!K329","v":0},{"$f":"'mnt Data'!L329","v":0},{"$f":"'mnt Data'!M329","v":0},{"$f":"'mnt Data'!N329","v":0},{"$f":"'mnt Data'!O329","v":0},{"$f":"'mnt Data'!P329","v":0},{"$f":"'mnt Data'!Q329","v":0},{"$f":"'mnt Data'!R329","v":0},{"$f":"'mnt Data'!S329","v":0},{"$f":"'mnt Data'!T329","v":0},{"$f":"'mnt Data'!U329","v":0},{"$f":"'mnt Data'!V329","v":0},{"$f":"'mnt Data'!W329","v":0},{"$f":"'mnt Data'!X329","v":0},{"$f":"'mnt Data'!Y329","v":0},{"$f":"'mnt Data'!Z329","v":0},{"$f":"'mnt Data'!AA329","v":0},{"$f":"'mnt Data'!AB329","v":0},{"$f":"'mnt Data'!AC329","v":0},{"$f":"'mnt Data'!AD329","v":0},{"$f":"'mnt Data'!AE329","v":0},{"$f":"'mnt Data'!AF329","v":0},{"$f":"'mnt Data'!AG329","v":0},{"$f":"'mnt Data'!AH329","v":0},{"$f":"'mnt Data'!AI329","v":0},{"$f":"'mnt Data'!AJ329","v":0},{"$f":"'mnt Data'!AK329","v":0}]
[326,0,0,"No Gs",0,"No Gs","No Gs","Gs is needed","Gs is needed","Gs is needed","Need Max and Min","Need Max and Min","Fail",null,{"$f":"'mnt Data'!A330","v":0},{"$f":"'mnt Data'!B330","v":0},{"$f":"'mnt Data'!C330","v":0},{"$f":"'mnt Data'!D330","v":0},{"$f":"'mnt Data'!E330","v":0},{"$f":"'mnt Data'!F330","v":0},{"$f":"'mnt Data'!G330","v":0},{"$f":"'mnt Data'!H330","v":0},{"$f":"'mnt Data'!I330","v":0},{"$f":"'mnt Data'!J330","v":0},{"$f":"'mnt Data'!K330","v":0},{"$f":"'mnt Data'!L330","v":0},{"$f":"'mnt Data'!M330","v":0},{"$f":"'mnt Data'!N330","v":0},{"$f":"'mnt Data'!O330","v":0},{"$f":"'mnt Data'!P330","v":0},{"$f":"'mnt Data'!Q330","v":0},{"$f":"'mnt Data'!R330","v":0},{"$f":"'mnt Data'!S330","v":0},{"$f":"'mnt Data'!T330","v":0},{"$f":"'mnt Data'!U330","v":0},{"$f":"'mnt Data'!V330","v":0},{"$f":"'mnt Data'!W330","v":0},{"$f":"'mnt Data'!X330","v":0},{"$f":"'mnt Data'!Y330","v":0},{"$f":"'mnt Data'!Z330","v":0},{"$f":"'mnt Data'!AA330","v":0},{"$f":"'mnt Data'!AB330","v":0},{"$f":"'mnt Data'!AC330","v":0},{"$f":"'mnt Data'!AD330","v":0},{"$f":"'mnt Data'!AE330","v":0},{"$f":"'mnt Data'!AF330","v":0},{"$f":"'mnt Data'!AG330","v":0},{"$f":"'mnt Data'!AH330","v":0},{"$f":"'mnt Data'!AI330","v":0},{"$f":"'mnt Data'!AJ330","v":0},{"$f":"'mnt Data'!AK330","v":0}]
[327,0,0,"No Gs",0,"No Gs","No Gs","Gs is needed","Gs is needed","Gs is needed","Need Max and Min","Need Max and Min","Fail",null,{"$f":"'mnt Data'!A331","v":0},{"$f":"'mnt Data'!B331","v":0},{"$f":"'mnt Data'!C331","v":0},{"$f":"'mnt Data'!D331","v":0},{"$f":"'mnt Data'!E331","v":0},{"$f":"'mnt Data'!F331","v":0},{"$f":"'mnt Data'!G331","v":0},{"$f":"'mnt Data'!H331","v":0},{"$f":"'mnt Data'!I331","v":0},{"$f":"'mnt Data'!J331","v":0},{"$f":"'mnt Data'!K331","v":0},{"$f":"'mnt Data'!L331","v":0},{"$f":"'mnt Data'!M331","v":0},{"$f":"'mnt Data'!N331","v":0},{"$f":"'mnt Data'!O331","v":0},{"$f":"'mnt Data'!P331","v":0},{"$f":"'mnt Data'!Q331","v":0},{"$f":"'mnt Data'!R331","v":0},{"$f":"'mnt Data'!S331","v":0},{"$f":"'mnt Data'!T331","v":0},{"$f":"'mnt Data'!U331","v":0},{"$f":"'mnt Data'!V331","v":0},{"$f":"'mnt Data'!W331","v":0},{"$f":"'mnt Data'!X331","v":0},{"$f":"'mnt Data'!Y331","v":0},{"$f":"'mnt Data'!Z331","v":0},{"$f":"'mnt Data'!AA331","v":0},{"$f":"'mnt Data'!AB331","v":0},{"$f":"'mnt Data'!AC331","v":0},{"$f":"'mnt Data'!AD331","v":0},{"$f":"'mnt Data'!AE331","v":0},{"$f":"'mnt Data'!AF331","v":0},{"$f":"'mnt Data'!AG331","v":0},{"$f":"'mnt Data'!AH331","v":0},{"$f":"'mnt Data'!AI331","v":0},{"$f":"'mnt Data'!AJ331","v":0},{"$f":"'mnt Data'!AK331","v":0}]
[328,0,0,"No Gs",0,"No Gs","No Gs","Gs is needed","Gs is needed","Gs is needed","Need Max and Min","Need Max and Min","Fail",null,{"$f":"'mnt Data'!A332","v":0},{"$f":"'mnt Data'!B332","v":0},{"$f":"'mnt Data'!C332","v":0},{"$f":"'mnt Data'!D332","v":0},{"$f":"'mnt Data'!E332","v":0},{"$f":"'mnt Data'!F332","v":0},{"$f":"'mnt Data'!G332","v":0},{"$f":"'mnt Data'!H332","v":0},{"$f":"'mnt Data'!I332","v":0},{"$f":"'mnt Data'!J332","v":0},{"$f":"'mnt Data'!K332","v":0},{"$f":"'mnt Data'!L332","v":0},{"$f":"'mnt Data'!M332","v":0},{"$f":"'mnt Data'!N332","v":0},{"$f":"'mnt Data'!O332","v":0},{"$f":"'mnt Data'!P332","v":0},{"$f":"'mnt Data'!Q332","v":0},{"$f":"'mnt Data'!R332","v":0},{"$f":"'mnt Data'!S332","v":0},{"$f":"'mnt Data'!T332","v":0},{"$f":"'mnt Data'!U332","v":0},{"$f":"'mnt Data'!V332","v":0},{"$f":"'mnt Data'!W332","v":0},{"$f":"'mnt Data'!X332","v":0},{"$f":"'mnt Data'!Y332","v":0},{"$f":"'mnt Data'!Z332","v":0},{"$f":"'mnt Data'!AA332","v":0},{"$f":"'mnt Data'!AB332","v":0},{"$f":"'mnt Data'!AC332","v":0},{"$f":"'mnt Data'!AD332","v":0},{"$f":"'mnt Data'!AE332","v":0},{"$f":"'mnt Data'!AF332","v":0},{"$f":"'mnt Data'!AG332","v":0},{"$f":"'mnt Data'!AH332","v":0},{"$f":"'mnt Data'!AI332","v":0},{"$f":"'mnt Data'!AJ332","v":0},{"$f":"'mnt Data'!AK332","v":0}]
[329,0,0,"No Gs",0,"No Gs","No Gs","Gs is needed","Gs is needed","Gs is needed","Need Max and Min","Need Max and Min","Fail",null,{"$f":"'mnt Data'!A333","v":0},{"$f":"'mnt Data'!B333","v":0},{"$f":"'mnt Data'!C333","v":0},{"$f":"'mnt Data'!D333","v":0},{"$f":"'mnt Data'!E333","v":0},{"$f":"'mnt Data'!F333","v":0},{"$f":"'mnt Data'!G333","v":0},{"$f":"'mnt Data'!H333","v":0},{"$f":"'mnt Data'!I333","v":0},{"$f":"'mnt Data'!J333","v":0},{"$f":"'mnt Data'!K333","v":0},{"$f":"'mnt Data'!L333","v":0},{"$f":"'mnt Data'!M333","v":0},{"$f":"'mnt Data'!N333","v":0},{"$f":"'mnt Data'!O333","v":0},{"$f":"'mnt Data'!P333","v":0},{"$f":"'mnt Data'!Q333","v":0},{"$f":"'mnt Data'!R333","v":0},{"$f":"'mnt Data'!S333","v":0},{"$f":"'mnt Data'!T333","v":0},{"$f":"'mnt Data'!U333","v":0},{"$f":"'mnt Data'!V333","v":0},{"$f":"'mnt Data'!W333","v":0},{"$f":"'mnt Data'!X333","v":0},{"$f":"'mnt Data'!Y333","v":0},{"$f":"'mnt Data'!Z333","v":0},{"$f":"'mnt Data'!AA333","v":0},{"$f":"'mnt Data'!AB333","v":0},{"$f":"'mnt Data'!AC333","v":0},{"$f":"'mnt Data'!AD333","v":0},{"$f":"'mnt Data'!AE333","v":0},{"$f":"'mnt Data'!AF333","v":0},{"$f":"'mnt Data'!AG333","v":0},{"$f":"'mnt Data'!AH333","v":0},{"$f":"'mnt Data'!AI333","v":0},{"$f":"'mnt Data'!AJ333","v":0},{"$f":"'mnt Data'!AK333","v":0}]
[330,0,0,"No Gs",0,"No Gs","No Gs","Gs is needed","Gs is needed","Gs is needed","Need Max and Min","Need Max and Min","Fail",null,{"$f":"'mnt Data'!A334","v":0},{"$f":"'mnt Data'!B334","v":0},{"$f":"'mnt Data'!C334","v":0},{"$f":"'mnt Data'!D334","v":0},{"$f":"'mnt Data'!E334","v":0},{"$f":"'mnt Data'!F334","v":0},{"$f":"'mnt Data'!G334","v":0},{"$f":"'mnt Data'!H334","v":0},{"$f":"'mnt Data'!I334","v":0},{"$f":"'mnt Data'!J334","v":0},{"$f":"'mnt Data'!K334","v":0},{"$f":"'mnt Data'!L334","v":0},{"$f":"'mnt Data'!M334","v":0},{"$f":"'mnt Data'!N334","v":0},{"$f":"'mnt Data'!O334","v":0},{"$f":"'mnt Data'!P334","v":0},{"$f":"'mnt Data'!Q334","v":0},{"$f":"'mnt Data'!R334","v":0},{"$f":"'mnt Data'!S334","v":0},{"$f":"'mnt Data'!T334","v":0},{"$f":"'mnt Data'!U334","v":0},{"$f":"'mnt Data'!V334","v":0},{"$f":"'mnt Data'!W334","v":0},{"$f":"'mnt Data'!X334","v":0},{"$f":"'mnt Data'!Y334","v":0},{"$f":"'mnt Data'!Z334","v":0},{"$f":"'mnt Data'!AA334","v":0},{"$f":"'mnt Data'!AB334","v":0},{"$f":"'mnt Data'!AC334","v":0},{"$f":"'mnt Data'!AD334","v":0},{"$f":"'mnt Data'!AE334","v":0},{"$f":"'mnt Data'!AF334","v":0},{"$f":"'mnt Data'!AG334","v":0},{"$f":"'mnt Data'!AH334","v":0},{"$f":"'mnt Data'!AI334","v":0},{"$f":"'mnt Data'!AJ334","v":0},{"$f":"'mnt Data'!AK334","v":0}]
[331,0,0,"No Gs",0,"No Gs","No Gs","Gs is needed","Gs is needed","Gs is needed","Need Max and Min","Need Max and Min","Fail",null,{"$f":"'mnt Data'!A335","v":0},{"$f":"'mnt Data'!B335","v":0},{"$f":"'mnt Data'!C335","v":0},{"$f":"'mnt Data'!D335","v":0},{"$f":"'mnt Data'!E335","v":0},{"$f":"'mnt Data'!F335","v":0},{"$f":"'mnt Data'!G335","v":0},{"$f":"'mnt Data'!H335","v":0},{"$f":"'mnt Data'!I335","v":0},{"$f":"'mnt Data'!J335","v":0},{"$f":"'mnt Data'!K335","v":0},{"$f":"'mnt Data'!L335","v":0},{"$f":"'mnt Data'!M335","v":0},{"$f":"'mnt Data'!N335","v":0},{"$f":"'mnt Data'!O335","v":0},{"$f":"'mnt Data'!P335","v":0},{"$f":"'mnt Data'!Q335","v":0},{"$f":"'mnt Data'!R335","v":0},{"$f":"'mnt Data'!S335","v":0},{"$f":"'mnt Data'!T335","v":0},{"$f":"'mnt Data'!U335","v":0},{"$f":"'mnt Data'!V335","v":0},{"$f":"'mnt Data'!W335","v":0},{"$f":"'mnt Data'!X335","v":0},{"$f":"'mnt Data'!Y335","v":0},{"$f":"'mnt Data'!Z335","v":0},{"$f":"'mnt Data'!AA335","v":0},{"$f":"'mnt Data'!AB335","v":0},{"$f":"'mnt Data'!AC335","v":0},{"$f":"'mnt Data'!AD335","v":0},{"$f":"'mnt Data'!AE335","v":0},{"$f":"'mnt Data'!AF335","v":0},{"$f":"'mnt Data'!AG335","v":0},{"$f":"'mnt Data'!AH335","v":0},{"$f":"'mnt Data'!AI335","v":0},{"$f":"'mnt Data'!AJ335","v":0},{"$f":"'mnt Data'!AK335","v":0}]
[332,0,0,"No Gs",0,"No Gs","No Gs","Gs is needed","Gs is needed","Gs is needed","Need Max and Min","Need Max and Min","Fail",null,{"$f":"'mnt Data'!A336","v":0},{"$f":"'mnt Data'!B336","v":0},{"$f":"'mnt Data'!C336","v":0},{"$f":"'mnt Data'!D336","v":0},{"$f":"'mnt Data'!E336","v":0},{"$f":"'mnt Data'!F336","v":0},{"$f":"'mnt Data'!G336","v":0},{"$f":"'mnt Data'!H336","v":0},{"$f":"'mnt Data'!I336","v":0},{"$f":"'mnt Data'!J336","v":0},{"$f":"'mnt Data'!K336","v":0},{"$f":"'mnt Data'!L336","v":0},{"$f":"'mnt Data'!M336","v":0},{"$f":"'mnt Data'!N336","v":0},{"$f":"'mnt Data'!O336","v":0},{"$f":"'mnt Data'!P336","v":0},{"$f":"'mnt Data'!Q336","v":0},{"$f":"'mnt Data'!R336","v":0},{"$f":"'mnt Data'!S336","v":0},{"$f":"'mnt Data'!T336","v":0},{"$f":"'mnt Data'!U336","v":0},{"$f":"'mnt Data'!V336","v":0},{"$f":"'mnt Data'!W336","v":0},{"$f":"'mnt Data'!X336","v":0},{"$f":"'mnt Data'!Y336","v":0},{"$f":"'mnt Data'!Z336","v":0},{"$f":"'mnt Data'!AA336","v":0},{"$f":"'mnt Data'!AB336","v":0},{"$f":"'mnt Data'!AC336","v":0},{"$f":"'mnt Data'!AD336","v":0},{"$f":"'mnt Data'!AE336","v":0},{"$f":"'mnt Data'!AF336","v":0},{"$f":"'mnt Data'!AG336","v":0},{"$f":"'mnt Data'!AH336","v":0},{"$f":"'mnt Data'!AI336","v":0},{"$f":"'mnt Data'!AJ336","v":0},{"$f":"'mnt Data'!AK336","v":0}]
[333,0,0,"No Gs",0,"No Gs","No Gs","Gs is needed","Gs is needed","Gs is needed","Need Max and Min","Need Max and Min","Fail",null,{"$f":"'mnt Data'!A337","v":0},{"$f":"'mnt Data'!B337","v":0},{"$f":"'mnt Data'!C337","v":0},{"$f":"'mnt Data'!D337","v":0},{"$f":"'mnt Data'!E337","v":0},{"$f":"'mnt Data'!F337","v":0},{"$f":"'mnt Data'!G337","v":0},{"$f":"'mnt Data'!H337","v":0},{"$f":"'mnt Data'!I337","v":0},{"$f":"'mnt Data'!J337","v":0},{"$f":"'mnt Data'!K337","v":0},{"$f":"'mnt Data'!L337","v":0},{"$f":"'mnt Data'!M337","v":0},{"$f":"'mnt Data'!N337","v":0},{"$f":"'mnt Data'!O337","v":0},{"$f":"'mnt Data'!P337","v":0},{"$f":"'mnt Data'!Q337","v":0},{"$f":"'mnt Data'!R337","v":0},{"$f":"'mnt Data'!S337","v":0},{"$f":"'mnt Data'!T337","v":0},{"$f":"'mnt Data'!U337","v":0},{"$f":"'mnt Data'!V337","v":0},{"$f":"'mnt Data'!W337","v":0},{"$f":"'mnt Data'!X337","v":0},{"$f":"'mnt Data'!Y337","v":0},{"$f":"'mnt Data'!Z337","v":0},{"$f":"'mnt Data'!AA337","v":0},{"$f":"'mnt Data'!AB337","v":0},{"$f":"'mnt Data'!AC337","v":0},{"$f":"'mnt Data'!AD337","v":0},{"$f":"'mnt Data'!AE337","v":0},{"$f":"'mnt Data'!AF337","v":0},{"$f":"'mnt Data'!AG337","v":0},{"$f":"'mnt Data'!AH337","v":0},{"$f":"'mnt Data'!AI337","v":0},{"$f":"'mnt Data'!AJ337","v":0},{"$f":"'mnt Data'!AK337","v":0}]
[334,0,0,"No Gs",0,"No Gs","No Gs","Gs is needed","Gs is needed","Gs is needed","Need Max and Min","Need Max and Min","Fail",null,{"$f":"'mnt Data'!A338","v":0},{"$f":"'mnt Data'!B338","v":0},{"$f":"'mnt Data'!C338","v":0},{"$f":"'mnt Data'!D338","v":0},{"$f":"'mnt Data'!E338","v":0},{"$f":"'mnt Data'!F338","v":0},{"$f":"'mnt Data'!G338","v":0},{"$f":"'mnt Data'!H338","v":0},{"$f":"'mnt Data'!I338","v":0},{"$f":"'mnt Data'!J338","v":0},{"$f":"'mnt Data'!K338","v":0},{"$f":"'mnt Data'!L338","v":0},{"$f":"'mnt Data'!M338","v":0},{"$f":"'mnt Data'!N338","v":0},{"$f":"'mnt Data'!O338","v":0},{"$f":"'mnt Data'!P338","v":0},{"$f":"'mnt Data'!Q338","v":0},{"$f":"'mnt Data'!R338","v":0},{"$f":"'mnt Data'!S338","v":0},{"$f":"'mnt Data'!T338","v":0},{"$f":"'mnt Data'!U338","v":0},{"$f":"'mnt Data'!V338","v":0},{"$f":"'mnt Data'!W338","v":0},{"$f":"'mnt Data'!X338","v":0},{"$f":"'mnt Data'!Y338","v":0},{"$f":"'mnt Data'!Z338","v":0},{"$f":"'mnt Data'!AA338","v":0},{"$f":"'mnt Data'!AB338","v":0},{"$f":"'mnt Data'!AC338","v":0},{"$f":"'mnt Data'!AD338","v":0},{"$f":"'mnt Data'!AE338","v":0},{"$f":"'mnt Data'!AF338","v":0},{"$f":"'mnt Data'!AG338","v":0},{"$f":"'mnt Data'!AH338","v":0},{"$f":"'mnt Data'!AI338","v":0},{"$f":"'mnt Data'!AJ338","v":0},{"$f":"'mnt Data'!AK338","v":0}]
[335,0,0,"No Gs",0,"No Gs","No Gs","Gs is needed","Gs is needed","Gs is needed","Need Max and Min","Need Max and Min","Fail",null,{"$f":"'mnt Data'!A339","v":0},{"$f":"'mnt Data'!B339","v":0},{"$f":"'mnt Data'!C339","v":0},{"$f":"'mnt Data'!D339","v":0},{"$f":"'mnt Data'!E339","v":0},{"$f":"'mnt Data'!F339","v":0},{"$f":"'mnt Data'!G339","v":0},{"$f":"'mnt Data'!H339","v":0},{"$f":"'mnt Data'!I339","v":0},{"$f":"'mnt Data'!J339","v":0},{"$f":"'mnt Data'!K339","v":0},{"$f":"'mnt Data'!L339","v":0},{"$f":"'mnt Data'!M339","v":0},{"$f":"'mnt Data'!N339","v":0},{"$f":"'mnt Data'!O339","v":0},{"$f":"'mnt Data'!P339","v":0},{"$f":"'mnt Data'!Q339","v":0},{"$f":"'mnt Data'!R339","v":0},{"$f":"'mnt Data'!S339","v":0},{"$f":"'mnt Data'!T339","v":0},{"$f":"'mnt Data'!U339","v":0},{"$f":"'mnt Data'!V339","v":0},{"$f":"'mnt Data'!W339","v":0},{"$f":"'mnt Data'!X339","v":0},{"$f":"'mnt Data'!Y339","v":0},{"$f":"'mnt Data'!Z339","v":0},{"$f":"'mnt Data'!AA339","v":0},{"$f":"'mnt Data'!AB339","v":0},{"$f":"'mnt Data'!AC339","v":0},{"$f":"'mnt Data'!AD339","v":0},{"$f":"'mnt Data'!AE339","v":0},{"$f":"'mnt Data'!AF339","v":0},{"$f":"'mnt Data'!AG339","v":0},{"$f":"'mnt Data'!AH339","v":0},{"$f":"'mnt Data'!AI339","v":0},{"$f":"'mnt Data'!AJ339","v":0},{"$f":"'mnt Data'!AK339","v":0}]
[336,0,0,"No Gs",0,"No Gs","No Gs","Gs is needed","Gs is needed","Gs is needed","Need Max and Min","Need Max and Min","Fail",null,{"$f":"'mnt Data'!A340","v":0},{"$f":"'mnt Data'!B340","v":0},{"$f":"'mnt Data'!C340","v":0},{"$f":"'mnt Data'!D340","v":0},{"$f":"'mnt Data'!E340","v":0},{"$f":"'mnt Data'!F340","v":0},{"$f":"'mnt Data'!G340","v":0},{"$f":"'mnt Data'!H340","v":0},{"$f":"'mnt Data'!I340","v":0},{"$f":"'mnt Data'!J340","v":0},{"$f":"'mnt Data'!K340","v":0},{"$f":"'mnt Data'!L340","v":0},{"$f":"'mnt Data'!M340","v":0},{"$f":"'mnt Data'!N340","v":0},{"$f":"'mnt Data'!O340","v":0},{"$f":"'mnt Data'!P340","v":0},{"$f":"'mnt Data'!Q340","v":0},{"$f":"'mnt Data'!R340","v":0},{"$f":"'mnt Data'!S340","v":0},{"$f":"'mnt Data'!T340","v":0},{"$f":"'mnt Data'!U340","v":0},{"$f":"'mnt Data'!V340","v":0},{"$f":"'mnt Data'!W340","v":0},{"$f":"'mnt Data'!X340","v":0},{"$f":"'mnt Data'!Y340","v":0},{"$f":"'mnt Data'!Z340","v":0},{"$f":"'mnt Data'!AA340","v":0},{"$f":"'mnt Data'!AB340","v":0},{"$f":"'mnt Data'!AC340","v":0},{"$f":"'mnt Data'!AD340","v":0},{"$f":"'mnt Data'!AE340","v":0},{"$f":"'mnt Data'!AF340","v":0},{"$f":"'mnt Data'!AG340","v":0},{"$f":"'mnt Data'!AH340","v":0},{"$f":"'mnt Data'!AI340","v":0},{"$f":"'mnt Data'!AJ340","v":0},{"$f":"'mnt Data'!AK340","v":0}]
[337,0,0,"No Gs",0,"No Gs","No Gs","Gs is needed","Gs is needed","Gs is needed","Need Max and Min","Need Max and Min","Fail",null,{"$f":"'mnt Data'!A341","v":0},{"$f":"'mnt Data'!B341","v":0},{"$f":"'mnt Data'!C341","v":0},{"$f":"'mnt Data'!D341","v":0},{"$f":"'mnt Data'!E341","v":0},{"$f":"'mnt Data'!F341","v":0},{"$f":"'mnt Data'!G341","v":0},{"$f":"'mnt Data'!H341","v":0},{"$f":"'mnt Data'!I341","v":0},{"$f":"'mnt Data'!J341","v":0},{"$f":"'mnt Data'!K341","v":0},{"$f":"'mnt Data'!L341","v":0},{"$f":"'mnt Data'!M341","v":0},{"$f":"'mnt Data'!N341","v":0},{"$f":"'mnt Data'!O341","v":0},{"$f":"'mnt Data'!P341","v":0},{"$f":"'mnt Data'!Q341","v":0},{"$f":"'mnt Data'!R341","v":0},{"$f":"'mnt Data'!S341","v":0},{"$f":"'mnt Data'!T341","v":0},{"$f":"'mnt Data'!U341","v":0},{"$f":"'mnt Data'!V341","v":0},{"$f":"'mnt Data'!W341","v":0},{"$f":"'mnt Data'!X341","v":0},{"$f":"'mnt Data'!Y341","v":0},{"$f":"'mnt Data'!Z341","v":0},{"$f":"'mnt Data'!AA341","v":0},{"$f":"'mnt Data'!AB341","v":0},{"$f":"'mnt Data'!AC341","v":0},{"$f":"'mnt Data'!AD341","v":0},{"$f":"'mnt Data'!AE341","v":0},{"$f":"'mnt Data'!AF341","v":0},{"$f":"'mnt Data'!AG341","v":0},{"$f":"'mnt Data'!AH341","v":0},{"$f":"'mnt Data'!AI341","v":0},{"$f":"'mnt Data'!AJ341","v":0},{"$f":"'mnt Data'!AK341","v":0}]
[338,0,0,"No Gs",0,"No Gs","No Gs","Gs is needed","Gs is needed","Gs is needed","Need Max and Min","Need Max and Min","Fail",null,{"$f":"'mnt Data'!A342","v":0},{"$f":"'mnt Data'!B342","v":0},{"$f":"'mnt Data'!C342","v":0},{"$f":"'mnt Data'!D342","v":0},{"$f":"'mnt Data'!E342","v":0},{"$f":"'mnt Data'!F342","v":0},{"$f":"'mnt Data'!G342","v":0},{"$f":"'mnt Data'!H342","v":0},{"$f":"'mnt Data'!I342","v":0},{"$f":"'mnt Data'!J342","v":0},{"$f":"'mnt Data'!K342","v":0},{"$f":"'mnt Data'!L342","v":0},{"$f":"'mnt Data'!M342","v":0},{"$f":"'mnt Data'!N342","v":0},{"$f":"'mnt Data'!O342","v":0},{"$f":"'mnt Data'!P342","v":0},{"$f":"'mnt Data'!Q342","v":0},{"$f":"'mnt Data'!R342","v":0},{"$f":"'mnt Data'!S342","v":0},{"$f":"'mnt Data'!T342","v":0},{"$f":"'mnt Data'!U342","v":0},{"$f":"'mnt Data'!V342","v":0},{"$f":"'mnt Data'!W342","v":0},{"$f":"'mnt Data'!X342","v":0},{"$f":"'mnt Data'!Y342","v":0},{"$f":"'mnt Data'!Z342","v":0},{"$f":"'mnt Data'!AA342","v":0},{"$f":"'mnt Data'!AB342","v":0},{"$f":"'mnt Data'!AC342","v":0},{"$f":"'mnt Data'!AD342","v":0},{"$f":"'mnt Data'!AE342","v":0},{"$f":"'mnt Data'!AF342","v":0},{"$f":"'mnt Data'!AG342","v":0},{"$f":"'mnt Data'!AH342","v":0},{"$f":"'mnt Data'!AI342","v":0},{"$f":"'mnt Data'!AJ342","v":0},{"$f":"'mnt Data'!AK342","v":0}]
[339,0,0,"No Gs",0,"No Gs","No Gs","Gs is needed","Gs is needed","Gs is needed","Need Max and Min","Need Max and Min","Fail",null,{"$f":"'mnt Data'!A343","v":0},{"$f":"'mnt Data'!B343","v":0},{"$f":"'mnt Data'!C343","v":0},{"$f":"'mnt Data'!D343","v":0},{"$f":"'mnt Data'!E343","v":0},{"$f":"'mnt Data'!F343","v":0},{"$f":"'mnt Data'!G343","v":0},{"$f":"'mnt Data'!H343","v":0},{"$f":"'mnt Data'!I343","v":0},{"$f":"'mnt Data'!J343","v":0},{"$f":"'mnt Data'!K343","v":0},{"$f":"'mnt Data'!L343","v":0},{"$f":"'mnt Data'!M343","v":0},{"$f":"'mnt Data'!N343","v":0},{"$f":"'mnt Data'!O343","v":0},{"$f":"'mnt Data'!P343","v":0},{"$f":"'mnt Data'!Q343","v":0},{"$f":"'mnt Data'!R343","v":0},{"$f":"'mnt Data'!S343","v":0},{"$f":"'mnt Data'!T343","v":0},{"$f":"'mnt Data'!U343","v":0},{"$f":"'mnt Data'!V343","v":0},{"$f":"'mnt Data'!W343","v":0},{"$f":"'mnt Data'!X343","v":0},{"$f":"'mnt Data'!Y343","v":0},{"$f":"'mnt Data'!Z343","v":0},{"$f":"'mnt Data'!AA343","v":0},{"$f":"'mnt Data'!AB343","v":0},{"$f":"'mnt Data'!AC343","v":0},{"$f":"'mnt Data'!AD343","v":0},{"$f":"'mnt Data'!AE343","v":0},{"$f":"'mnt Data'!AF343","v":0},{"$f":"'mnt Data'!AG343","v":0},{"$f":"'mnt Data'!AH343","v":0},{"$f":"'mnt Data'!AI343","v":0},{"$f":"'mnt Data'!AJ343","v":0},{"$f":"'mnt Data'!AK343","v":0}]
[340,0,0,"No Gs",0,"No Gs","No Gs","Gs is needed","Gs is needed","Gs is needed","Need Max and Min","Need Max and Min","Fail",null,{"$f":"'mnt Data'!A344","v":0},{"$f":"'mnt Data'!B344","v":0},{"$f":"'mnt Data'!C344","v":0},{"$f":"'mnt Data'!D344","v":0},{"$f":"'mnt Data'!E344","v":0},{"$f":"'mnt Data'!F344","v":0},{"$f":"'mnt Data'!G344","v":0},{"$f":"'mnt Data'!H344","v":0},{"$f":"'mnt Data'!I344","v":0},{"$f":"'mnt Data'!J344","v":0},{"$f":"'mnt Data'!K344","v":0},{"$f":"'mnt Data'!L344","v":0},{"$f":"'mnt Data'!M344","v":0},{"$f":"'mnt Data'!N344","v":0},{"$f":"'mnt Data'!O344","v":0},{"$f":"'mnt Data'!P344","v":0},{"$f":"'mnt Data'!Q344","v":0},{"$f":"'mnt Data'!R344","v":0},{"$f":"'mnt Data'!S344","v":0},{"$f":"'mnt Data'!T344","v":0},{"$f":"'mnt Data'!U344","v":0},{"$f":"'mnt Data'!V344","v":0},{"$f":"'mnt Data'!W344","v":0},{"$f":"'mnt Data'!X344","v":0},{"$f":"'mnt Data'!Y344","v":0},{"$f":"'mnt Data'!Z344","v":0},{"$f":"'mnt Data'!AA344","v":0},{"$f":"'mnt Data'!AB344","v":0},{"$f":"'mnt Data'!AC344","v":0},{"$f":"'mnt Data'!AD344","v":0},{"$f":"'mnt Data'!AE344","v":0},{"$f":"'mnt Data'!AF344","v":0},{"$f":"'mnt Data'!AG344","v":0},{"$f":"'mnt Data'!AH344","v":0},{"$f":"'mnt Data'!AI344","v":0},{"$f":"'mnt Data'!AJ344","v":0},{"$f":"'mnt Data'!AK344","v":0}]
[341,0,0,"No Gs",0,"No Gs","No Gs","Gs is needed","Gs is needed","Gs is needed","Need Max and Min","Need Max and Min","Fail",null,{"$f":"'mnt Data'!A345","v":0},{"$f":"'mnt Data'!B345","v":0},{"$f":"'mnt Data'!C345","v":0},{"$f":"'mnt Data'!D345","v":0},{"$f":"'mnt Data'!E345","v":0},{"$f":"'mnt Data'!F345","v":0},{"$f":"'mnt Data'!G345","v":0},{"$f":"'mnt Data'!H345","v":0},{"$f":"'mnt Data'!I345","v":0},{"$f":"'mnt Data'!J345","v":0},{"$f":"'mnt Data'!K345","v":0},{"$f":"'mnt Data'!L345","v":0},{"$f":"'mnt Data'!M345","v":0},{"$f":"'mnt Data'!N345","v":0},{"$f":"'mnt Data'!O345","v":0},{"$f":"'mnt Data'!P345","v":0},{"$f":"'mnt Data'!Q345","v":0},{"$f":"'mnt Data'!R345","v":0},{"$f":"'mnt Data'!S345","v":0},{"$f":"'mnt Data'!T345","v":0},{"$f":"'mnt Data'!U345","v":0},{"$f":"'mnt Data'!V345","v":0},{"$f":"'mnt Data'!W345","v":0},{"$f":"'mnt Data'!X345","v":0},{"$f":"'mnt Data'!Y345","v":0},{"$f":"'mnt Data'!Z345","v":0},{"$f":"'mnt Data'!AA345","v":0},{"$f":"'mnt Data'!AB345","v":0},{"$f":"'mnt Data'!AC345","v":0},{"$f":"'mnt Data'!AD345","v":0},{"$f":"'mnt Data'!AE345","v":0},{"$f":"'mnt Data'!AF345","v":0},{"$f":"'mnt Data'!AG345","v":0},{"$f":"'mnt Data'!AH345","v":0},{"$f":"'mnt Data'!AI345","v":0},{"$f":"'mnt Data'!AJ345","v":0},{"$f":"'mnt Data'!AK345","v":0}]
[342,0,0,"No Gs",0,"No Gs","No Gs","Gs is needed","Gs is needed","Gs is needed","Need Max and Min","Need Max and Min","Fail",null,{"$f":"'mnt Data'!A346","v":0},{"$f":"'mnt Data'!B346","v":0},{"$f":"'mnt Data'!C346","v":0},{"$f":"'mnt Data'!D346","v":0},{"$f":"'mnt Data'!E346","v":0},{"$f":"'mnt Data'!F346","v":0},{"$f":"'mnt Data'!G346","v":0},{"$f":"'mnt Data'!H346","v":0},{"$f":"'mnt Data'!I346","v":0},{"$f":"'mnt Data'!J346","v":0},{"$f":"'mnt Data'!K346","v":0},{"$f":"'mnt Data'!L346","v":0},{"$f":"'mnt Data'!M346","v":0},{"$f":"'mnt Data'!N346","v":0},{"$f":"'mnt Data'!O346","v":0},{"$f":"'mnt Data'!P346","v":0},{"$f":"'mnt Data'!Q346","v":0},{"$f":"'mnt Data'!R346","v":0},{"$f":"'mnt Data'!S346","v":0},{"$f":"'mnt Data'!T346","v":0},{"$f":"'mnt Data'!U346","v":0},{"$f":"'mnt Data'!V346","v":0},{"$f":"'mnt Data'!W346","v":0},{"$f":"'mnt Data'!X346","v":0},{"$f":"'mnt Data'!Y346","v":0},{"$f":"'mnt Data'!Z346","v":0},{"$f":"'mnt Data'!AA346","v":0},{"$f":"'mnt Data'!AB346","v":0},{"$f":"'mnt Data'!AC346","v":0},{"$f":"'mnt Data'!AD346","v":0},{"$f":"'mnt Data'!AE346","v":0},{"$f":"'mnt Data'!AF346","v":0},{"$f":"'mnt Data'!AG346","v":0},{"$f":"'mnt Data'!AH346","v":0},{"$f":"'mnt Data'!AI346","v":0},{"$f":"'mnt Data'!AJ346","v":0},{"$f":"'mnt Data'!AK346","v":0}]
[343,0,0,"No Gs",0,"No Gs","No Gs","Gs is needed","Gs is needed","Gs is needed","Need Max and Min","Need Max and Min","Fail",null,{"$f":"'mnt Data'!A347","v":0},{"$f":"'mnt Data'!B347","v":0},{"$f":"'mnt Data'!C347","v":0},{"$f":"'mnt Data'!D347","v":0},{"$f":"'mnt Data'!E347","v":0},{"$f":"'mnt Data'!F347","v":0},{"$f":"'mnt Data'!G347","v":0},{"$f":"'mnt Data'!H347","v":0},{"$f":"'mnt Data'!I347","v":0},{"$f":"'mnt Data'!J347","v":0},{"$f":"'mnt Data'!K347","v":0},{"$f":"'mnt Data'!L347","v":0},{"$f":"'mnt Data'!M347","v":0},{"$f":"'mnt Data'!N347","v":0},{"$f":"'mnt Data'!O347","v":0},{"$f":"'mnt Data'!P347","v":0},{"$f":"'mnt Data'!Q347","v":0},{"$f":"'mnt Data'!R347","v":0},{"$f":"'mnt Data'!S347","v":0},{"$f":"'mnt Data'!T347","v":0},{"$f":"'mnt Data'!U347","v":0},{"$f":"'mnt Data'!V347","v":0},{"$f":"'mnt Data'!W347","v":0},{"$f":"'mnt Data'!X347","v":0},{"$f":"'mnt Data'!Y347","v":0},{"$f":"'mnt Data'!Z347","v":0},{"$f":"'mnt Data'!AA347","v":0},{"$f":"'mnt Data'!AB347","v":0},{"$f":"'mnt Data'!AC347","v":0},{"$f":"'mnt Data'!AD347","v":0},{"$f":"'mnt Data'!AE347","v":0},{"$f":"'mnt Data'!AF347","v":0},{"$f":"'mnt Data'!AG347","v":0},{"$f":"'mnt Data'!AH347","v":0},{"$f":"'mnt Data'!AI347","v":0},{"$f":"'mnt Data'!AJ347","v":0},{"$f":"'mnt Data'!AK347","v":0}]
[344,0,0,"No Gs",0,"No Gs","No Gs","Gs is needed","Gs is needed","Gs is needed","Need Max and Min","Need Max and Min","Fail",null,{"$f":"'mnt Data'!A348","v":0},{"$f":"'mnt Data'!B348","v":0},{"$f":"'mnt Data'!C348","v":0},{"$f":"'mnt Data'!D348","v":0},{"$f":"'mnt Data'!E348","v":0},{"$f":"'mnt Data'!F348","v":0},{"$f":"'mnt Data'!G348","v":0},{"$f":"'mnt Data'!H348","v":0},{"$f":"'mnt Data'!I348","v":0},{"$f":"'mnt Data'!J348","v":0},{"$f":"'mnt Data'!K348","v":0},{"$f":"'mnt Data'!L348","v":0},{"$f":"'mnt Data'!M348","v":0},{"$f":"'mnt Data'!N348","v":0},{"$f":"'mnt Data'!O348","v":0},{"$f":"'mnt Data'!P348","v":0},{"$f":"'mnt Data'!Q348","v":0},{"$f":"'mnt Data'!R348","v":0},{"$f":"'mnt Data'!S348","v":0},{"$f":"'mnt Data'!T348","v":0},{"$f":"'mnt Data'!U348","v":0},{"$f":"'mnt Data'!V348","v":0},{"$f":"'mnt Data'!W348","v":0},{"$f":"'mnt Data'!X348","v":0},{"$f":"'mnt Data'!Y348","v":0},{"$f":"'mnt Data'!Z348","v":0},{"$f":"'mnt Data'!AA348","v":0},{"$f":"'mnt Data'!AB348","v":0},{"$f":"'mnt Data'!AC348","v":0},{"$f":"'mnt Data'!AD348","v":0},{"$f":"'mnt Data'!AE348","v":0},{"$f":"'mnt Data'!AF348","v":0},{"$f":"'mnt Data'!AG348","v":0},{"$f":"'mnt Data'!AH348","v":0},{"$f":"'mnt Data'!AI348","v":0},{"$f":"'mnt Data'!AJ348","v":0},{"$f":"'mnt Data'!AK348","v":0}]
[345,0,0,"No Gs",0,"No Gs","No Gs","Gs is needed","Gs is needed","Gs is needed","Need Max and Min","Need Max and Min","Fail",null,{"$f":"'mnt Data'!A349","v":0},{"$f":"'mnt Data'!B349","v":0},{"$f":"'mnt Data'!C349","v":0},{"$f":"'mnt Data'!D349","v":0},{"$f":"'mnt Data'!E349","v":0},{"$f":"'mnt Data'!F349","v":0},{"$f":"'mnt Data'!G349","v":0},{"$f":"'mnt Data'!H349","v":0},{"$f":"'mnt Data'!I349","v":0},{"$f":"'mnt Data'!J349","v":0},{"$f":"'mnt Data'!K349","v":0},{"$f":"'mnt Data'!L349","v":0},{"$f":"'mnt Data'!M349","v":0},{"$f":"'mnt Data'!N349","v":0},{"$f":"'mnt Data'!O349","v":0},{"$f":"'mnt Data'!P349","v":0},{"$f":"'mnt Data'!Q349","v":0},{"$f":"'mnt Data'!R349","v":0},{"$f":"'mnt Data'!S349","v":0},{"$f":"'mnt Data'!T349","v":0},{"$f":"'mnt Data'!U349","v":0},{"$f":"'mnt Data'!V349","v":0},{"$f":"'mnt Data'!W349","v":0},{"$f":"'mnt Data'!X349","v":0},{"$f":"'mnt Data'!Y349","v":0},{"$f":"'mnt Data'!Z349","v":0},{"$f":"'mnt Data'!AA349","v":0},{"$f":"'mnt Data'!AB349","v":0},{"$f":"'mnt Data'!AC349","v":0},{"$f":"'mnt Data'!AD349","v":0},{"$f":"'mnt Data'!AE349","v":0},{"$f":"'mnt Data'!AF349","v":0},{"$f":"'mnt Data'!AG349","v":0},{"$f":"'mnt Data'!AH349","v":0},{"$f":"'mnt Data'!AI349","v":0},{"$f":"'mnt Data'!AJ349","v":0},{"$f":"'mnt Data'!AK349","v":0}]
[346,0,0,"No Gs",0,"No Gs","No Gs","Gs is needed","Gs is needed","Gs is needed","Need Max and Min","Need Max and Min","Fail",null,{"$f":"'mnt Data'!A350","v":0},{"$f":"'mnt Data'!B350","v":0},{"$f":"'mnt Data'!C350","v":0},{"$f":"'mnt Data'!D350","v":0},{"$f":"'mnt Data'!E350","v":0},{"$f":"'mnt Data'!F350","v":0},{"$f":"'mnt Data'!G350","v":0},{"$f":"'mnt Data'!H350","v":0},{"$f":"'mnt Data'!I350","v":0},{"$f":"'mnt Data'!J350","v":0},{"$f":"'mnt Data'!K350","v":0},{"$f":"'mnt Data'!L350","v":0},{"$f":"'mnt Data'!M350","v":0},{"$f":"'mnt Data'!N350","v":0},{"$f":"'mnt Data'!O350","v":0},{"$f":"'mnt Data'!P350","v":0},{"$f":"'mnt Data'!Q350","v":0},{"$f":"'mnt Data'!R350","v":0},{"$f":"'mnt Data'!S350","v":0},{"$f":"'mnt Data'!T350","v":0},{"$f":"'mnt Data'!U350","v":0},{"$f":"'mnt Data'!V350","v":0},{"$f":"'mnt Data'!W350","v":0},{"$f":"'mnt Data'!X350","v":0},{"$f":"'mnt Data'!Y350","v":0},{"$f":"'mnt Data'!Z350","v":0},{"$f":"'mnt Data'!AA350","v":0},{"$f":"'mnt Data'!AB350","v":0},{"$f":"'mnt Data'!AC350","v":0},{"$f":"'mnt Data'!AD350","v":0},{"$f":"'mnt Data'!AE350","v":0},{"$f":"'mnt Data'!AF350","v":0},{"$f":"'mnt Data'!AG350","v":0},{"$f":"'mnt Data'!AH350","v":0},{"$f":"'mnt Data'!AI350","v":0},{"$f":"'mnt Data'!AJ350","v":0},{"$f":"'mnt Data'!AK350","v":0}]
[347,0,0,"No Gs",0,"No Gs","No Gs","Gs is needed","Gs is needed","Gs is needed","Need Max and Min","Need Max and Min","Fail",null,{"$f":"'mnt Data'!A351","v":0},{"$f":"'mnt Data'!B351","v":0},{"$f":"'mnt Data'!C351","v":0},{"$f":"'mnt Data'!D351","v":0},{"$f":"'mnt Data'!E351","v":0},{"$f":"'mnt Data'!F351","v":0},{"$f":"'mnt Data'!G351","v":0},{"$f":"'mnt Data'!H351","v":0},{"$f":"'mnt Data'!I351","v":0},{"$f":"'mnt Data'!J351","v":0},{"$f":"'mnt Data'!K351","v":0},{"$f":"'mnt Data'!L351","v":0},{"$f":"'mnt Data'!M351","v":0},{"$f":"'mnt Data'!N351","v":0},{"$f":"'mnt Data'!O351","v":0},{"$f":"'mnt Data'!P351","v":0},{"$f":"'mnt Data'!Q351","v":0},{"$f":"'mnt Data'!R351","v":0},{"$f":"'mnt Data'!S351","v":0},{"$f":"'mnt Data'!T351","v":0},{"$f":"'mnt Data'!U351","v":0},{"$f":"'mnt Data'!V351","v":0},{"$f":"'mnt Data'!W351","v":0},{"$f":"'mnt Data'!X351","v":0},{"$f":"'mnt Data'!Y351","v":0},{"$f":"'mnt Data'!Z351","v":0},{"$f":"'mnt Data'!AA351","v":0},{"$f":"'mnt Data'!AB351","v":0},{"$f":"'mnt Data'!AC351","v":0},{"$f":"'mnt Data'!AD351","v":0},{"$f":"'mnt Data'!AE351","v":0},{"$f":"'mnt Data'!AF351","v":0},{"$f":"'mnt Data'!AG351","v":0},{"$f":"'mnt Data'!AH351","v":0},{"$f":"'mnt Data'!AI351","v":0},{"$f":"'mnt Data'!AJ351","v":0},{"$f":"'mnt Data'!AK351","v":0}]
[348,0,0,"No Gs",0,"No Gs","No Gs","Gs is needed","Gs is needed","Gs is needed","Need Max and Min","Need Max and Min","Fail",null,{"$f":"'mnt Data'!A352","v":0},{"$f":"'mnt Data'!B352","v":0},{"$f":"'mnt Data'!C352","v":0},{"$f":"'mnt Data'!D352","v":0},{"$f":"'mnt Data'!E352","v":0},{"$f":"'mnt Data'!F352","v":0},{"$f":"'mnt Data'!G352","v":0},{"$f":"'mnt Data'!H352","v":0},{"$f":"'mnt Data'!I352","v":0},{"$f":"'mnt Data'!J352","v":0},{"$f":"'mnt Data'!K352","v":0},{"$f":"'mnt Data'!L352","v":0},{"$f":"'mnt Data'!M352","v":0},{"$f":"'mnt Data'!N352","v":0},{"$f":"'mnt Data'!O352","v":0},{"$f":"'mnt Data'!P352","v":0},{"$f":"'mnt Data'!Q352","v":0},{"$f":"'mnt Data'!R352","v":0},{"$f":"'mnt Data'!S352","v":0},{"$f":"'mnt Data'!T352","v":0},{"$f":"'mnt Data'!U352","v":0},{"$f":"'mnt Data'!V352","v":0},{"$f":"'mnt Data'!W352","v":0},{"$f":"'mnt Data'!X352","v":0},{"$f":"'mnt Data'!Y352","v":0},{"$f":"'mnt Data'!Z352","v":0},{"$f":"'mnt Data'!AA352","v":0},{"$f":"'mnt Data'!AB352","v":0},{"$f":"'mnt Data'!AC352","v":0},{"$f":"'mnt Data'!AD352","v":0},{"$f":"'mnt Data'!AE352","v":0},{"$f":"'mnt Data'!AF352","v":0},{"$f":"'mnt Data'!AG352","v":0},{"$f":"'mnt Data'!AH352","v":0},{"$f":"'mnt Data'!AI352","v":0},{"$f":"'mnt Data'!AJ352","v":0},{"$f":"'mnt Data'!AK352","v":0}]
[349,0,0,"No Gs",0,"No Gs","No Gs","Gs is needed","Gs is needed","Gs is needed","Need Max and Min","Need Max and Min","Fail",null,{"$f":"'mnt Data'!A353","v":0},{"$f":"'mnt Data'!B353","v":0},{"$f":"'mnt Data'!C353","v":0},{"$f":"'mnt Data'!D353","v":0},{"$f":"'mnt Data'!E353","v":0},{"$f":"'mnt Data'!F353","v":0},{"$f":"'mnt Data'!G353","v":0},{"$f":"'mnt Data'!H353","v":0},{"$f":"'mnt Data'!I353","v":0},{"$f":"'mnt Data'!J353","v":0},{"$f":"'mnt Data'!K353","v":0},{"$f":"'mnt Data'!L353","v":0},{"$f":"'mnt Data'!M353","v":0},{"$f":"'mnt Data'!N353","v":0},{"$f":"'mnt Data'!O353","v":0},{"$f":"'mnt Data'!P353","v":0},{"$f":"'mnt Data'!Q353","v":0},{"$f":"'mnt Data'!R353","v":0},{"$f":"'mnt Data'!S353","v":0},{"$f":"'mnt Data'!T353","v":0},{"$f":"'mnt Data'!U353","v":0},{"$f":"'mnt Data'!V353","v":0},{"$f":"'mnt Data'!W353","v":0},{"$f":"'mnt Data'!X353","v":0},{"$f":"'mnt Data'!Y353","v":0},{"$f":"'mnt Data'!Z353","v":0},{"$f":"'mnt Data'!AA353","v":0},{"$f":"'mnt Data'!AB353","v":0},{"$f":"'mnt Data'!AC353","v":0},{"$f":"'mnt Data'!AD353","v":0},{"$f":"'mnt Data'!AE353","v":0},{"$f":"'mnt Data'!AF353","v":0},{"$f":"'mnt Data'!AG353","v":0},{"$f":"'mnt Data'!AH353","v":0},{"$f":"'mnt Data'!AI353","v":0},{"$f":"'mnt Data'!AJ353","v":0},{"$f":"'mnt Data'!AK353","v":0}]
[350,0,0,"No Gs",0,"No Gs","No Gs","Gs is needed","Gs is needed","Gs is needed","Need Max and Min","Need Max and Min","Fail",null,{"$f":"'mnt Data'!A354","v":0},{"$f":"'mnt Data'!B354","v":0},{"$f":"'mnt Data'!C354","v":0},{"$f":"'mnt Data'!D354","v":0},{"$f":"'mnt Data'!E354","v":0},{"$f":"'mnt Data'!F354","v":0},{"$f":"'mnt Data'!G354","v":0},{"$f":"'mnt Data'!H354","v":0},{"$f":"'mnt Data'!I354","v":0},{"$f":"'mnt Data'!J354","v":0},{"$f":"'mnt Data'!K354","v":0},{"$f":"'mnt Data'!L354","v":0},{"$f":"'mnt Data'!M354","v":0},{"$f":"'mnt Data'!N354","v":0},{"$f":"'mnt Data'!O354","v":0},{"$f":"'mnt Data'!P354","v":0},{"$f":"'mnt Data'!Q354","v":0},{"$f":"'mnt Data'!R354","v":0},{"$f":"'mnt Data'!S354","v":0},{"$f":"'mnt Data'!T354","v":0},{"$f":"'mnt Data'!U354","v":0},{"$f":"'mnt Data'!V354","v":0},{"$f":"'mnt Data'!W354","v":0},{"$f":"'mnt Data'!X354","v":0},{"$f":"'mnt Data'!Y354","v":0},{"$f":"'mnt Data'!Z354","v":0},{"$f":"'mnt Data'!AA354","v":0},{"$f":"'mnt Data'!AB354","v":0},{"$f":"'mnt Data'!AC354","v":0},{"$f":"'mnt Data'!AD354","v":0},{"$f":"'mnt Data'!AE354","v":0},{"$f":"'mnt Data'!AF354","v":0},{"$f":"'mnt Data'!AG354","v":0},{"$f":"'mnt Data'!AH354","v":0},{"$f":"'mnt Data'!AI354","v":0},{"$f":"'mnt Data'!AJ354","v":0},{"$f":"'mnt Data'!AK354","v":0}]
[351,0,0,"No Gs",0,"No Gs","No Gs","Gs is needed","Gs is needed","Gs is needed","Need Max and Min","Need Max and Min","Fail",null,{"$f":"'mnt Data'!A355","v":0},{"$f":"'mnt Data'!B355","v":0},{"$f":"'mnt Data'!C355","v":0},{"$f":"'mnt Data'!D355","v":0},{"$f":"'mnt Data'!E355","v":0},{"$f":"'mnt Data'!F355","v":0},{"$f":"'mnt Data'!G355","v":0},{"$f":"'mnt Data'!H355","v":0},{"$f":"'mnt Data'!I355","v":0},{"$f":"'mnt Data'!J355","v":0},{"$f":"'mnt Data'!K355","v":0},{"$f":"'mnt Data'!L355","v":0},{"$f":"'mnt Data'!M355","v":0},{"$f":"'mnt Data'!N355","v":0},{"$f":"'mnt Data'!O355","v":0},{"$f":"'mnt Data'!P355","v":0},{"$f":"'mnt Data'!Q355","v":0},{"$f":"'mnt Data'!R355","v":0},{"$f":"'mnt Data'!S355","v":0},{"$f":"'mnt Data'!T355","v":0},{"$f":"'mnt Data'!U355","v":0},{"$f":"'mnt Data'!V355","v":0},{"$f":"'mnt Data'!W355","v":0},{"$f":"'mnt Data'!X355","v":0},{"$f":"'mnt Data'!Y355","v":0},{"$f":"'mnt Data'!Z355","v":0},{"$f":"'mnt Data'!AA355","v":0},{"$f":"'mnt Data'!AB355","v":0},{"$f":"'mnt Data'!AC355","v":0},{"$f":"'mnt Data'!AD355","v":0},{"$f":"'mnt Data'!AE355","v":0},{"$f":"'mnt Data'!AF355","v":0},{"$f":"'mnt Data'!AG355","v":0},{"$f":"'mnt Data'!AH355","v":0},{"$f":"'mnt Data'!AI355","v":0},{"$f":"'mnt Data'!AJ355","v":0},{"$f":"'mnt Data'!AK355","v":0}]
[352,0,0,"No Gs",0,"No Gs","No Gs","Gs is needed","Gs is needed","Gs is needed","Need Max and Min","Need Max and Min","Fail",null,{"$f":"'mnt Data'!A356","v":0},{"$f":"'mnt Data'!B356","v":0},{"$f":"'mnt Data'!C356","v":0},{"$f":"'mnt Data'!D356","v":0},{"$f":"'mnt Data'!E356","v":0},{"$f":"'mnt Data'!F356","v":0},{"$f":"'mnt Data'!G356","v":0},{"$f":"'mnt Data'!H356","v":0},{"$f":"'mnt Data'!I356","v":0},{"$f":"'mnt Data'!J356","v":0},{"$f":"'mnt Data'!K356","v":0},{"$f":"'mnt Data'!L356","v":0},{"$f":"'mnt Data'!M356","v":0},{"$f":"'mnt Data'!N356","v":0},{"$f":"'mnt Data'!O356","v":0},{"$f":"'mnt Data'!P356","v":0},{"$f":"'mnt Data'!Q356","v":0},{"$f":"'mnt Data'!R356","v":0},{"$f":"'mnt Data'!S356","v":0},{"$f":"'mnt Data'!T356","v":0},{"$f":"'mnt Data'!U356","v":0},{"$f":"'mnt Data'!V356","v":0},{"$f":"'mnt Data'!W356","v":0},{"$f":"'mnt Data'!X356","v":0},{"$f":"'mnt Data'!Y356","v":0},{"$f":"'mnt Data'!Z356","v":0},{"$f":"'mnt Data'!AA356","v":0},{"$f":"'mnt Data'!AB356","v":0},{"$f":"'mnt Data'!AC356","v":0},{"$f":"'mnt Data'!AD356","v":0},{"$f":"'mnt Data'!AE356","v":0},{"$f":"'mnt Data'!AF356","v":0},{"$f":"'mnt Data'!AG356","v":0},{"$f":"'mnt Data'!AH356","v":0},{"$f":"'mnt Data'!AI356","v":0},{"$f":"'mnt Data'!AJ356","v":0},{"$f":"'mnt Data'!AK356","v":0}]
[353,0,0,"No Gs",0,"No Gs","No Gs","Gs is needed","Gs is needed","Gs is needed","Need Max and Min","Need Max and Min","Fail",null,{"$f":"'mnt Data'!A357","v":0},{"$f":"'mnt Data'!B357","v":0},{"$f":"'mnt Data'!C357","v":0},{"$f":"'mnt Data'!D357","v":0},{"$f":"'mnt Data'!E357","v":0},{"$f":"'mnt Data'!F357","v":0},{"$f":"'mnt Data'!G357","v":0},{"$f":"'mnt Data'!H357","v":0},{"$f":"'mnt Data'!I357","v":0},{"$f":"'mnt Data'!J357","v":0},{"$f":"'mnt Data'!K357","v":0},{"$f":"'mnt Data'!L357","v":0},{"$f":"'mnt Data'!M357","v":0},{"$f":"'mnt Data'!N357","v":0},{"$f":"'mnt Data'!O357","v":0},{"$f":"'mnt Data'!P357","v":0},{"$f":"'mnt Data'!Q357","v":0},{"$f":"'mnt Data'!R357","v":0},{"$f":"'mnt Data'!S357","v":0},{"$f":"'mnt Data'!T357","v":0},{"$f":"'mnt Data'!U357","v":0},{"$f":"'mnt Data'!V357","v":0},{"$f":"'mnt Data'!W357","v":0},{"$f":"'mnt Data'!X357","v":0},{"$f":"'mnt Data'!Y357","v":0},{"$f":"'mnt Data'!Z357","v":0},{"$f":"'mnt Data'!AA357","v":0},{"$f":"'mnt Data'!AB357","v":0},{"$f":"'mnt Data'!AC357","v":0},{"$f":"'mnt Data'!AD357","v":0},{"$f":"'mnt Data'!AE357","v":0},{"$f":"'mnt Data'!AF357","v":0},{"$f":"'mnt Data'!AG357","v":0},{"$f":"'mnt Data'!AH357","v":0},{"$f":"'mnt Data'!AI357","v":0},{"$f":"'mnt Data'!AJ357","v":0},{"$f":"'mnt Data'!AK357","v":0}]
[354,0,0,"No Gs",0,"No Gs","No Gs","Gs is needed","Gs is needed","Gs is needed","Need Max and Min","Need Max and Min","Fail",null,{"$f":"'mnt Data'!A358","v":0},{"$f":"'mnt Data'!B358","v":0},{"$f":"'mnt Data'!C358","v":0},{"$f":"'mnt Data'!D358","v":0},{"$f":"'mnt Data'!E358","v":0},{"$f":"'mnt Data'!F358","v":0},{"$f":"'mnt Data'!G358","v":0},{"$f":"'mnt Data'!H358","v":0},{"$f":"'mnt Data'!I358","v":0},{"$f":"'mnt Data'!J358","v":0},{"$f":"'mnt Data'!K358","v":0},{"$f":"'mnt Data'!L358","v":0},{"$f":"'mnt Data'!M358","v":0},{"$f":"'mnt Data'!N358","v":0},{"$f":"'mnt Data'!O358","v":0},{"$f":"'mnt Data'!P358","v":0},{"$f":"'mnt Data'!Q358","v":0},{"$f":"'mnt Data'!R358","v":0},{"$f":"'mnt Data'!S358","v":0},{"$f":"'mnt Data'!T358","v":0},{"$f":"'mnt Data'!U358","v":0},{"$f":"'mnt Data'!V358","v":0},{"$f":"'mnt Data'!W358","v":0},{"$f":"'mnt Data'!X358","v":0},{"$f":"'mnt Data'!Y358","v":0},{"$f":"'mnt Data'!Z358","v":0},{"$f":"'mnt Data'!AA358","v":0},{"$f":"'mnt Data'!AB358","v":0},{"$f":"'mnt Data'!AC358","v":0},{"$f":"'mnt Data'!AD358","v":0},{"$f":"'mnt Data'!AE358","v":0},{"$f":"'mnt Data'!AF358","v":0},{"$f":"'mnt Data'!AG358","v":0},{"$f":"'mnt Data'!AH358","v":0},{"$f":"'mnt Data'!AI358","v":0},{"$f":"'mnt Data'!AJ358","v":0},{"$f":"'mnt Data'!AK358","v":0}]
[355,0,0,"No Gs",0,"No Gs","No Gs","Gs is needed","Gs is needed","Gs is needed","Need Max and Min","Need Max and Min","Fail",null,{"$f":"'mnt Data'!A359","v":0},{"$f":"'mnt Data'!B359","v":0},{"$f":"'mnt Data'!C359","v":0},{"$f":"'mnt Data'!D359","v":0},{"$f":"'mnt Data'!E359","v":0},{"$f":"'mnt Data'!F359","v":0},{"$f":"'mnt Data'!G359","v":0},{"$f":"'mnt Data'!H359","v":0},{"$f":"'mnt Data'!I359","v":0},{"$f":"'mnt Data'!J359","v":0},{"$f":"'mnt Data'!K359","v":0},{"$f":"'mnt Data'!L359","v":0},{"$f":"'mnt Data'!M359","v":0},{"$f":"'mnt Data'!N359","v":0},{"$f":"'mnt Data'!O359","v":0},{"$f":"'mnt Data'!P359","v":0},{"$f":"'mnt Data'!Q359","v":0},{"$f":"'mnt Data'!R359","v":0},{"$f":"'mnt Data'!S359","v":0},{"$f":"'mnt Data'!T359","v":0},{"$f":"'mnt Data'!U359","v":0},{"$f":"'mnt Data'!V359","v":0},{"$f":"'mnt Data'!W359","v":0},{"$f":"'mnt Data'!X359","v":0},{"$f":"'mnt Data'!Y359","v":0},{"$f":"'mnt Data'!Z359","v":0},{"$f":"'mnt Data'!AA359","v":0},{"$f":"'mnt Data'!AB359","v":0},{"$f":"'mnt Data'!AC359","v":0},{"$f":"'mnt Data'!AD359","v":0},{"$f":"'mnt Data'!AE359","v":0},{"$f":"'mnt Data'!AF359","v":0},{"$f":"'mnt Data'!AG359","v":0},{"$f":"'mnt Data'!AH359","v":0},{"$f":"'mnt Data'!AI359","v":0},{"$f":"'mnt Data'!AJ359","v":0},{"$f":"'mnt Data'!AK359","v":0}]
[356,0,0,"No Gs",0,"No Gs","No Gs","Gs is needed","Gs is needed","Gs is needed","Need Max and Min","Need Max and Min","Fail",null,{"$f":"'mnt Data'!A360","v":0},{"$f":"'mnt Data'!B360","v":0},{"$f":"'mnt Data'!C360","v":0},{"$f":"'mnt Data'!D360","v":0},{"$f":"'mnt Data'!E360","v":0},{"$f":"'mnt Data'!F360","v":0},{"$f":"'mnt Data'!G360","v":0},{"$f":"'mnt Data'!H360","v":0},{"$f":"'mnt Data'!I360","v":0},{"$f":"'mnt Data'!J360","v":0},{"$f":"'mnt Data'!K360","v":0},{"$f":"'mnt Data'!L360","v":0},{"$f":"'mnt Data'!M360","v":0},{"$f":"'mnt Data'!N360","v":0},{"$f":"'mnt Data'!O360","v":0},{"$f":"'mnt Data'!P360","v":0},{"$f":"'mnt Data'!Q360","v":0},{"$f":"'mnt Data'!R360","v":0},{"$f":"'mnt Data'!S360","v":0},{"$f":"'mnt Data'!T360","v":0},{"$f":"'mnt Data'!U360","v":0},{"$f":"'mnt Data'!V360","v":0},{"$f":"'mnt Data'!W360","v":0},{"$f":"'mnt Data'!X360","v":0},{"$f":"'mnt Data'!Y360","v":0},{"$f":"'mnt Data'!Z360","v":0},{"$f":"'mnt Data'!AA360","v":0},{"$f":"'mnt Data'!AB360","v":0},{"$f":"'mnt Data'!AC360","v":0},{"$f":"'mnt Data'!AD360","v":0},{"$f":"'mnt Data'!AE360","v":0},{"$f":"'mnt Data'!AF360","v":0},{"$f":"'mnt Data'!AG360","v":0},{"$f":"'mnt Data'!AH360","v":0},{"$f":"'mnt Data'!AI360","v":0},{"$f":"'mnt Data'!AJ360","v":0},{"$f":"'mnt Data'!AK360","v":0}]
[357,0,0,"No Gs",0,"No Gs","No Gs","Gs is needed","Gs is needed","Gs is needed","Need Max and Min","Need Max and Min","Fail",null,{"$f":"'mnt Data'!A361","v":0},{"$f":"'mnt Data'!B361","v":0},{"$f":"'mnt Data'!C361","v":0},{"$f":"'mnt Data'!D361","v":0},{"$f":"'mnt Data'!E361","v":0},{"$f":"'mnt Data'!F361","v":0},{"$f":"'mnt Data'!G361","v":0},{"$f":"'mnt Data'!H361","v":0},{"$f":"'mnt Data'!I361","v":0},{"$f":"'mnt Data'!J361","v":0},{"$f":"'mnt Data'!K361","v":0},{"$f":"'mnt Data'!L361","v":0},{"$f":"'mnt Data'!M361","v":0},{"$f":"'mnt Data'!N361","v":0},{"$f":"'mnt Data'!O361","v":0},{"$f":"'mnt Data'!P361","v":0},{"$f":"'mnt Data'!Q361","v":0},{"$f":"'mnt Data'!R361","v":0},{"$f":"'mnt Data'!S361","v":0},{"$f":"'mnt Data'!T361","v":0},{"$f":"'mnt Data'!U361","v":0},{"$f":"'mnt Data'!V361","v":0},{"$f":"'mnt Data'!W361","v":0},{"$f":"'mnt Data'!X361","v":0},{"$f":"'mnt Data'!Y361","v":0},{"$f":"'mnt Data'!Z361","v":0},{"$f":"'mnt Data'!AA361","v":0},{"$f":"'mnt Data'!AB361","v":0},{"$f":"'mnt Data'!AC361","v":0},{"$f":"'mnt Data'!AD361","v":0},{"$f":"'mnt Data'!AE361","v":0},{"$f":"'mnt Data'!AF361","v":0},{"$f":"'mnt Data'!AG361","v":0},{"$f":"'mnt Data'!AH361","v":0},{"$f":"'mnt Data'!AI361","v":0},{"$f":"'mnt Data'!AJ361","v":0},{"$f":"'mnt Data'!AK361","v":0}]
[358,0,0,"No Gs",0,"No Gs","No Gs","Gs is needed","Gs is needed","Gs is needed","Need Max and Min","Need Max and Min","Fail",null,{"$f":"'mnt Data'!A362","v":0},{"$f":"'mnt Data'!B362","v":0},{"$f":"'mnt Data'!C362","v":0},{"$f":"'mnt Data'!D362","v":0},{"$f":"'mnt Data'!E362","v":0},{"$f":"'mnt Data'!F362","v":0},{"$f":"'mnt Data'!G362","v":0},{"$f":"'mnt Data'!H362","v":0},{"$f":"'mnt Data'!I362","v":0},{"$f":"'mnt Data'!J362","v":0},{"$f":"'mnt Data'!K362","v":0},{"$f":"'mnt Data'!L362","v":0},{"$f":"'mnt Data'!M362","v":0},{"$f":"'mnt Data'!N362","v":0},{"$f":"'mnt Data'!O362","v":0},{"$f":"'mnt Data'!P362","v":0},{"$f":"'mnt Data'!Q362","v":0},{"$f":"'mnt Data'!R362","v":0},{"$f":"'mnt Data'!S362","v":0},{"$f":"'mnt Data'!T362","v":0},{"$f":"'mnt Data'!U362","v":0},{"$f":"'mnt Data'!V362","v":0},{"$f":"'mnt Data'!W362","v":0},{"$f":"'mnt Data'!X362","v":0},{"$f":"'mnt Data'!Y362","v":0},{"$f":"'mnt Data'!Z362","v":0},{"$f":"'mnt Data'!AA362","v":0},{"$f":"'mnt Data'!AB362","v":0},{"$f":"'mnt Data'!AC362","v":0},{"$f":"'mnt Data'!AD362","v":0},{"$f":"'mnt Data'!AE362","v":0},{"$f":"'mnt Data'!AF362","v":0},{"$f":"'mnt Data'!AG362","v":0},{"$f":"'mnt Data'!AH362","v":0},{"$f":"'mnt Data'!AI362","v":0},{"$f":"'mnt Data'!AJ362","v":0},{"$f":"'mnt Data'!AK362","v":0}]
[359,0,0,"No Gs",0,"No Gs","No Gs","Gs is needed","Gs is needed","Gs is needed","Need Max and Min","Need Max and Min","Fail",null,{"$f":"'mnt Data'!A363","v":0},{"$f":"'mnt Data'!B363","v":0},{"$f":"'mnt Data'!C363","v":0},{"$f":"'mnt Data'!D363","v":0},{"$f":"'mnt Data'!E363","v":0},{"$f":"'mnt Data'!F363","v":0},{"$f":"'mnt Data'!G363","v":0},{"$f":"'mnt Data'!H363","v":0},{"$f":"'mnt Data'!I363","v":0},{"$f":"'mnt Data'!J363","v":0},{"$f":"'mnt Data'!K363","v":0},{"$f":"'mnt Data'!L363","v":0},{"$f":"'mnt Data'!M363","v":0},{"$f":"'mnt Data'!N363","v":0},{"$f":"'mnt Data'!O363","v":0},{"$f":"'mnt Data'!P363","v":0},{"$f":"'mnt Data'!Q363","v":0},{"$f":"'mnt Data'!R363","v":0},{"$f":"'mnt Data'!S363","v":0},{"$f":"'mnt Data'!T363","v":0},{"$f":"'mnt Data'!U363","v":0},{"$f":"'mnt Data'!V363","v":0},{"$f":"'mnt Data'!W363","v":0},{"$f":"'mnt Data'!X363","v":0},{"$f":"'mnt Data'!Y363","v":0},{"$f":"'mnt Data'!Z363","v":0},{"$f":"'mnt Data'!AA363","v":0},{"$f":"'mnt Data'!AB363","v":0},{"$f":"'mnt Data'!AC363","v":0},{"$f":"'mnt Data'!AD363","v":0},{"$f":"'mnt Data'!AE363","v":0},{"$f":"'mnt Data'!AF363","v":0},{"$f":"'mnt Data'!AG363","v":0},{"$f":"'mnt Data'!AH363","v":0},{"$f":"'mnt Data'!AI363","v":0},{"$f":"'mnt Data'!AJ363","v":0},{"$f":"'mnt Data'!AK363","v":0}]
[360,{"$f":"O361","v":0},{"$f":"O361*(Q361/100)","v":0},"No Gs",0,"No Gs","No Gs",{"$f":"IFERROR(E361/G361,\"Gs is needed\")","v":"Gs is needed"},{"$f":"IFERROR(G361/1,\"Gs is needed\")","v":"Gs is needed"},{"$f":"IFERROR(G361/D361,\"Gs is needed\")","v":"Gs is needed"},"Need Max and Min","Need Max and Min","Fail",null,{"$f":"'mnt Data'!A364","v":0},{"$f":"'mnt Data'!B364","v":0},{"$f":"'mnt Data'!C364","v":0},{"$f":"'mnt Data'!D364","v":0},{"$f":"'mnt Data'!E364","v":0},{"$f":"'mnt Data'!F364","v":0},{"$f":"'mnt Data'!G364","v":0},{"$f":"'mnt Data'!H364","v":0},{"$f":"'mnt Data'!I364","v":0},{"$f":"'mnt Data'!J364","v":0},{"$f":"'mnt Data'!K364","v":0},{"$f":"'mnt Data'!L364","v":0},{"$f":"'mnt Data'!M364","v":0},{"$f":"'mnt Data'!N364","v":0},{"$f":"'mnt Data'!O364","v":0},{"$f":"'mnt Data'!P364","v":0},{"$f":"'mnt Data'!Q364","v":0},{"$f":"'mnt Data'!R364","v":0},{"$f":"'mnt Data'!S364","v":0},{"$f":"'mnt Data'!T364","v":0},{"$f":"'mnt Data'!U364","v":0},{"$f":"'mnt Data'!V364","v":0},{"$f":"'mnt Data'!W364","v":0},{"$f":"'mnt Data'!X364","v":0},{"$f":"'mnt Data'!Y364","v":0},{"$f":"'mnt Data'!Z364","v":0},{"$f":"'mnt Data'!AA364","v":0},{"$f":"'mnt Data'!AB364","v":0},{"$f":"'mnt Data'!AC364","v":0},{"$f":"'mnt Data'!AD364","v":0},{"$f":"'mnt Data'!AE364","v":0},{"$f":"'mnt Data'!AF364","v":0},{"$f":"'mnt Data'!AG364","v":0},{"$f":"'mnt Data'!AH364","v":0},{"$f":"'mnt Data'!AI364","v":0},{"$f":"'mnt Data'!AJ364","v":0},{"$f":"'mnt Data'!AK364","v":0}]
[361,0,0,"No Gs",0,"No Gs","No Gs","Gs is needed","Gs is needed","Gs is needed","Need Max and Min","Need Max and Min","Fail",null,{"$f":"'mnt Data'!A365","v":0},{"$f":"'mnt Data'!B365","v":0},{"$f":"'mnt Data'!C365","v":0},{"$f":"'mnt Data'!D365","v":0},{"$f":"'mnt Data'!E365","v":0},{"$f":"'mnt Data'!F365","v":0},{"$f":"'mnt Data'!G365","v":0},{"$f":"'mnt Data'!H365","v":0},{"$f":"'mnt Data'!I365","v":0},{"$f":"'mnt Data'!J365","v":0},{"$f":"'mnt Data'!K365","v":0},{"$f":"'mnt Data'!L365","v":0},{"$f":"'mnt Data'!M365","v":0},{"$f":"'mnt Data'!N365","v":0},{"$f":"'mnt Data'!O365","v":0},{"$f":"'mnt Data'!P365","v":0},{"$f":"'mnt Data'!Q365","v":0},{"$f":"'mnt Data'!R365","v":0},{"$f":"'mnt Data'!S365","v":0},{"$f":"'mnt Data'!T365","v":0},{"$f":"'mnt Data'!U365","v":0},{"$f":"'mnt Data'!V365","v":0},{"$f":"'mnt Data'!W365","v":0},{"$f":"'mnt Data'!X365","v":0},{"$f":"'mnt Data'!Y365","v":0},{"$f":"'mnt Data'!Z365","v":0},{"$f":"'mnt Data'!AA365","v":0},{"$f":"'mnt Data'!AB365","v":0},{"$f":"'mnt Data'!AC365","v":0},{"$f":"'mnt Data'!AD365","v":0},{"$f":"'mnt Data'!AE365","v":0},{"$f":"'mnt Data'!AF365","v":0},{"$f":"'mnt Data'!AG365","v":0},{"$f":"'mnt Data'!AH365","v":0},{"$f":"'mnt Data'!AI365","v":0},{"$f":"'mnt Data'!AJ365","v":0},{"$f":"'mnt Data'!AK365","v":0}]
[362,0,0,"No Gs",0,"No Gs","No Gs","Gs is needed","Gs is needed","Gs is needed","Need Max and Min","Need Max and Min","Fail",null,{"$f":"'mnt Data'!A366","v":0},{"$f":"'mnt Data'!B366","v":0},{"$f":"'mnt Data'!C366","v":0},{"$f":"'mnt Data'!D366","v":0},{"$f":"'mnt Data'!E366","v":0},{"$f":"'mnt Data'!F366","v":0},{"$f":"'mnt Data'!G366","v":0},{"$f":"'mnt Data'!H366","v":0},{"$f":"'mnt Data'!I366","v":0},{"$f":"'mnt Data'!J366","v":0},{"$f":"'mnt Data'!K366","v":0},{"$f":"'mnt Data'!L366","v":0},{"$f":"'mnt Data'!M366","v":0},{"$f":"'mnt Data'!N366","v":0},{"$f":"'mnt Data'!O366","v":0},{"$f":"'mnt Data'!P366","v":0},{"$f":"'mnt Data'!Q366","v":0},{"$f":"'mnt Data'!R366","v":0},{"$f":"'mnt Data'!S366","v":0},{"$f":"'mnt Data'!T366","v":0},{"$f":"'mnt Data'!U366","v":0},{"$f":"'mnt Data'!V366","v":0},{"$f":"'mnt Data'!W366","v":0},{"$f":"'mnt Data'!X366","v":0},{"$f":"'mnt Data'!Y366","v":0},{"$f":"'mnt Data'!Z366","v":0},{"$f":"'mnt Data'!AA366","v":0},{"$f":"'mnt Data'!AB366","v":0},{"$f":"'mnt Data'!AC366","v":0},{"$f":"'mnt Data'!AD366","v":0},{"$f":"'mnt Data'!AE366","v":0},{"$f":"'mnt Data'!AF366","v":0},{"$f":"'mnt Data'!AG366","v":0},{"$f":"'mnt Data'!AH366","v":0},{"$f":"'mnt Data'!AI366","v":0},{"$f":"'mnt Data'!AJ366","v":0},{"$f":"'mnt Data'!AK366","v":0}]
[363,0,0,"No Gs",0,"No Gs","No Gs","Gs is needed","Gs is needed","Gs is needed","Need Max and Min","Need Max and Min","Fail",null,{"$f":"'mnt Data'!A367","v":0},{"$f":"'mnt Data'!B367","v":0},{"$f":"'mnt Data'!C367","v":0},{"$f":"'mnt Data'!D367","v":0},{"$f":"'mnt Data'!E367","v":0},{"$f":"'mnt Data'!F367","v":0},{"$f":"'mnt Data'!G367","v":0},{"$f":"'mnt Data'!H367","v":0},{"$f":"'mnt Data'!I367","v":0},{"$f":"'mnt Data'!J367","v":0},{"$f":"'mnt Data'!K367","v":0},{"$f":"'mnt Data'!L367","v":0},{"$f":"'mnt Data'!M367","v":0},{"$f":"'mnt Data'!N367","v":0},{"$f":"'mnt Data'!O367","v":0},{"$f":"'mnt Data'!P367","v":0},{"$f":"'mnt Data'!Q367","v":0},{"$f":"'mnt Data'!R367","v":0},{"$f":"'mnt Data'!S367","v":0},{"$f":"'mnt Data'!T367","v":0},{"$f":"'mnt Data'!U367","v":0},{"$f":"'mnt Data'!V367","v":0},{"$f":"'mnt Data'!W367","v":0},{"$f":"'mnt Data'!X367","v":0},{"$f":"'mnt Data'!Y367","v":0},{"$f":"'mnt Data'!Z367","v":0},{"$f":"'mnt Data'!AA367","v":0},{"$f":"'mnt Data'!AB367","v":0},{"$f":"'mnt Data'!AC367","v":0},{"$f":"'mnt Data'!AD367","v":0},{"$f":"'mnt Data'!AE367","v":0},{"$f":"'mnt Data'!AF367","v":0},{"$f":"'mnt Data'!AG367","v":0},{"$f":"'mnt Data'!AH367","v":0},{"$f":"'mnt Data'!AI367","v":0},{"$f":"'mnt Data'!AJ367","v":0},{"$f":"'mnt Data'!AK367","v":0}]
[364,0,0,"No Gs",0,"No Gs","No Gs","Gs is needed","Gs is needed","Gs is needed","Need Max and Min","Need Max and Min","Fail",null,{"$f":"'mnt Data'!A368","v":0},{"$f":"'mnt Data'!B368","v":0},{"$f":"'mnt Data'!C368","v":0},{"$f":"'mnt Data'!D368","v":0},{"$f":"'mnt Data'!E368","v":0},{"$f":"'mnt Data'!F368","v":0},{"$f":"'mnt Data'!G368","v":0},{"$f":"'mnt Data'!H368","v":0},{"$f":"'mnt Data'!I368","v":0},{"$f":"'mnt Data'!J368","v":0},{"$f":"'mnt Data'!K368","v":0},{"$f":"'mnt Data'!L368","v":0},{"$f":"'mnt Data'!M368","v":0},{"$f":"'mnt Data'!N368","v":0},{"$f":"'mnt Data'!O368","v":0},{"$f":"'mnt Data'!P368","v":0},{"$f":"'mnt Data'!Q368","v":0},{"$f":"'mnt Data'!R368","v":0},{"$f":"'mnt Data'!S368","v":0},{"$f":"'mnt Data'!T368","v":0},{"$f":"'mnt Data'!U368","v":0},{"$f":"'mnt Data'!V368","v":0},{"$f":"'mnt Data'!W368","v":0},{"$f":"'mnt Data'!X368","v":0},{"$f":"'mnt Data'!Y368","v":0},{"$f":"'mnt Data'!Z368","v":0},{"$f":"'mnt Data'!AA368","v":0},{"$f":"'mnt Data'!AB368","v":0},{"$f":"'mnt Data'!AC368","v":0},{"$f":"'mnt Data'!AD368","v":0},{"$f":"'mnt Data'!AE368","v":0},{"$f":"'mnt Data'!AF368","v":0},{"$f":"'mnt Data'!AG368","v":0},{"$f":"'mnt Data'!AH368","v":0},{"$f":"'mnt Data'!AI368","v":0},{"$f":"'mnt Data'!AJ368","v":0},{"$f":"'mnt Data'!AK368","v":0}]
[365,0,0,"No Gs",0,"No Gs","No Gs","Gs is needed","Gs is needed","Gs is needed","Need Max and Min","Need Max and Min","Fail",null,{"$f":"'mnt Data'!A369","v":0},{"$f":"'mnt Data'!B369","v":0},{"$f":"'mnt Data'!C369","v":0},{"$f":"'mnt Data'!D369","v":0},{"$f":"'mnt Data'!E369","v":0},{"$f":"'mnt Data'!F369","v":0},{"$f":"'mnt Data'!G369","v":0},{"$f":"'mnt Data'!H369","v":0},{"$f":"'mnt Data'!I369","v":0},{"$f":"'mnt Data'!J369","v":0},{"$f":"'mnt Data'!K369","v":0},{"$f":"'mnt Data'!L369","v":0},{"$f":"'mnt Data'!M369","v":0},{"$f":"'mnt Data'!N369","v":0},{"$f":"'mnt Data'!O369","v":0},{"$f":"'mnt Data'!P369","v":0},{"$f":"'mnt Data'!Q369","v":0},{"$f":"'mnt Data'!R369","v":0},{"$f":"'mnt Data'!S369","v":0},{"$f":"'mnt Data'!T369","v":0},{"$f":"'mnt Data'!U369","v":0},{"$f":"'mnt Data'!V369","v":0},{"$f":"'mnt Data'!W369","v":0},{"$f":"'mnt Data'!X369","v":0},{"$f":"'mnt Data'!Y369","v":0},{"$f":"'mnt Data'!Z369","v":0},{"$f":"'mnt Data'!AA369","v":0},{"$f":"'mnt Data'!AB369","v":0},{"$f":"'mnt Data'!AC369","v":0},{"$f":"'mnt Data'!AD369","v":0},{"$f":"'mnt Data'!AE369","v":0},{"$f":"'mnt Data'!AF369","v":0},{"$f":"'mnt Data'!AG369","v":0},{"$f":"'mnt Data'!AH369","v":0},{"$f":"'mnt Data'!AI369","v":0},{"$f":"'mnt Data'!AJ369","v":0},{"$f":"'mnt Data'!AK369","v":0}]
[366,0,0,"No Gs",0,"No Gs","No Gs","Gs is needed","Gs is needed","Gs is needed","Need Max and Min","Need Max and Min","Fail",null,{"$f":"'mnt Data'!A370","v":0},{"$f":"'mnt Data'!B370","v":0},{"$f":"'mnt Data'!C370","v":0},{"$f":"'mnt Data'!D370","v":0},{"$f":"'mnt Data'!E370","v":0},{"$f":"'mnt Data'!F370","v":0},{"$f":"'mnt Data'!G370","v":0},{"$f":"'mnt Data'!H370","v":0},{"$f":"'mnt Data'!I370","v":0},{"$f":"'mnt Data'!J370","v":0},{"$f":"'mnt Data'!K370","v":0},{"$f":"'mnt Data'!L370","v":0},{"$f":"'mnt Data'!M370","v":0},{"$f":"'mnt Data'!N370","v":0},{"$f":"'mnt Data'!O370","v":0},{"$f":"'mnt Data'!P370","v":0},{"$f":"'mnt Data'!Q370","v":0},{"$f":"'mnt Data'!R370","v":0},{"$f":"'mnt Data'!S370","v":0},{"$f":"'mnt Data'!T370","v":0},{"$f":"'mnt Data'!U370","v":0},{"$f":"'mnt Data'!V370","v":0},{"$f":"'mnt Data'!W370","v":0},{"$f":"'mnt Data'!X370","v":0},{"$f":"'mnt Data'!Y370","v":0},{"$f":"'mnt Data'!Z370","v":0},{"$f":"'mnt Data'!AA370","v":0},{"$f":"'mnt Data'!AB370","v":0},{"$f":"'mnt Data'!AC370","v":0},{"$f":"'mnt Data'!AD370","v":0},{"$f":"'mnt Data'!AE370","v":0},{"$f":"'mnt Data'!AF370","v":0},{"$f":"'mnt Data'!AG370","v":0},{"$f":"'mnt Data'!AH370","v":0},{"$f":"'mnt Data'!AI370","v":0},{"$f":"'mnt Data'!AJ370","v":0},{"$f":"'mnt Data'!AK370","v":0}]
[367,0,0,"No Gs",0,"No Gs","No Gs","Gs is needed","Gs is needed","Gs is needed","Need Max and Min","Need Max and Min","Fail",null,{"$f":"'mnt Data'!A371","v":0},{"$f":"'mnt Data'!B371","v":0},{"$f":"'mnt Data'!C371","v":0},{"$f":"'mnt Data'!D371","v":0},{"$f":"'mnt Data'!E371","v":0},{"$f":"'mnt Data'!F371","v":0},{"$f":"'mnt Data'!G371","v":0},{"$f":"'mnt Data'!H371","v":0},{"$f":"'mnt Data'!I371","v":0},{"$f":"'mnt Data'!J371","v":0},{"$f":"'mnt Data'!K371","v":0},{"$f":"'mnt Data'!L371","v":0},{"$f":"'mnt Data'!M371","v":0},{"$f":"'mnt Data'!N371","v":0},{"$f":"'mnt Data'!O371","v":0},{"$f":"'mnt Data'!P371","v":0},{"$f":"'mnt Data'!Q371","v":0},{"$f":"'mnt Data'!R371","v":0},{"$f":"'mnt Data'!S371","v":0},{"$f":"'mnt Data'!T371","v":0},{"$f":"'mnt Data'!U371","v":0},{"$f":"'mnt Data'!V371","v":0},{"$f":"'mnt Data'!W371","v":0},{"$f":"'mnt Data'!X371","v":0},{"$f":"'mnt Data'!Y371","v":0},{"$f":"'mnt Data'!Z371","v":0},{"$f":"'mnt Data'!AA371","v":0},{"$f":"'mnt Data'!AB371","v":0},{"$f":"'mnt Data'!AC371","v":0},{"$f":"'mnt Data'!AD371","v":0},{"$f":"'mnt Data'!AE371","v":0},{"$f":"'mnt Data'!AF371","v":0},{"$f":"'mnt Data'!AG371","v":0},{"$f":"'mnt Data'!AH371","v":0},{"$f":"'mnt Data'!AI371","v":0},{"$f":"'mnt Data'!AJ371","v":0},{"$f":"'mnt Data'!AK371","v":0}]
[368,0,0,"No Gs",0,"No Gs","No Gs","Gs is needed","Gs is needed","Gs is needed","Need Max and Min","Need Max and Min","Fail",null,{"$f":"'mnt Data'!A372","v":0},{"$f":"'mnt Data'!B372","v":0},{"$f":"'mnt Data'!C372","v":0},{"$f":"'mnt Data'!D372","v":0},{"$f":"'mnt Data'!E372","v":0},{"$f":"'mnt Data'!F372","v":0},{"$f":"'mnt Data'!G372","v":0},{"$f":"'mnt Data'!H372","v":0},{"$f":"'mnt Data'!I372","v":0},{"$f":"'mnt Data'!J372","v":0},{"$f":"'mnt Data'!K372","v":0},{"$f":"'mnt Data'!L372","v":0},{"$f":"'mnt Data'!M372","v":0},{"$f":"'mnt Data'!N372","v":0},{"$f":"'mnt Data'!O372","v":0},{"$f":"'mnt Data'!P372","v":0},{"$f":"'mnt Data'!Q372","v":0},{"$f":"'mnt Data'!R372","v":0},{"$f":"'mnt Data'!S372","v":0},{"$f":"'mnt Data'!T372","v":0},{"$f":"'mnt Data'!U372","v":0},{"$f":"'mnt Data'!V372","v":0},{"$f":"'mnt Data'!W372","v":0},{"$f":"'mnt Data'!X372","v":0},{"$f":"'mnt Data'!Y372","v":0},{"$f":"'mnt Data'!Z372","v":0},{"$f":"'mnt Data'!AA372","v":0},{"$f":"'mnt Data'!AB372","v":0},{"$f":"'mnt Data'!AC372","v":0},{"$f":"'mnt Data'!AD372","v":0},{"$f":"'mnt Data'!AE372","v":0},{"$f":"'mnt Data'!AF372","v":0},{"$f":"'mnt Data'!AG372","v":0},{"$f":"'mnt Data'!AH372","v":0},{"$f":"'mnt Data'!AI372","v":0},{"$f":"'mnt Data'!AJ372","v":0},{"$f":"'mnt Data'!AK372","v":0}]
[369,0,0,"No Gs",0,"No Gs","No Gs","Gs is needed","Gs is needed","Gs is needed","Need Max and Min","Need Max and Min","Fail",null,{"$f":"'mnt Data'!A373","v":0},{"$f":"'mnt Data'!B373","v":0},{"$f":"'mnt Data'!C373","v":0},{"$f":"'mnt Data'!D373","v":0},{"$f":"'mnt Data'!E373","v":0},{"$f":"'mnt Data'!F373","v":0},{"$f":"'mnt Data'!G373","v":0},{"$f":"'mnt Data'!H373","v":0},{"$f":"'mnt Data'!I373","v":0},{"$f":"'mnt Data'!J373","v":0},{"$f":"'mnt Data'!K373","v":0},{"$f":"'mnt Data'!L373","v":0},{"$f":"'mnt Data'!M373","v":0},{"$f":"'mnt Data'!N373","v":0},{"$f":"'mnt Data'!O373","v":0},{"$f":"'mnt Data'!P373","v":0},{"$f":"'mnt Data'!Q373","v":0},{"$f":"'mnt Data'!R373","v":0},{"$f":"'mnt Data'!S373","v":0},{"$f":"'mnt Data'!T373","v":0},{"$f":"'mnt Data'!U373","v":0},{"$f":"'mnt Data'!V373","v":0},{"$f":"'mnt Data'!W373","v":0},{"$f":"'mnt Data'!X373","v":0},{"$f":"'mnt Data'!Y373","v":0},{"$f":"'mnt Data'!Z373","v":0},{"$f":"'mnt Data'!AA373","v":0},{"$f":"'mnt Data'!AB373","v":0},{"$f":"'mnt Data'!AC373","v":0},{"$f":"'mnt Data'!AD373","v":0},{"$f":"'mnt Data'!AE373","v":0},{"$f":"'mnt Data'!AF373","v":0},{"$f":"'mnt Data'!AG373","v":0},{"$f":"'mnt Data'!AH373","v":0},{"$f":"'mnt Data'!AI373","v":0},{"$f":"'mnt Data'!AJ373","v":0},{"$f":"'mnt Data'!AK373","v":0}]
[370,0,0,"No Gs",0,"No Gs","No Gs","Gs is needed","Gs is needed","Gs is needed","Need Max and Min","Need Max and Min","Fail",null,{"$f":"'mnt Data'!A374","v":0},{"$f":"'mnt Data'!B374","v":0},{"$f":"'mnt Data'!C374","v":0},{"$f":"'mnt Data'!D374","v":0},{"$f":"'mnt Data'!E374","v":0},{"$f":"'mnt Data'!F374","v":0},{"$f":"'mnt Data'!G374","v":0},{"$f":"'mnt Data'!H374","v":0},{"$f":"'mnt Data'!I374","v":0},{"$f":"'mnt Data'!J374","v":0},{"$f":"'mnt Data'!K374","v":0},{"$f":"'mnt Data'!L374","v":0},{"$f":"'mnt Data'!M374","v":0},{"$f":"'mnt Data'!N374","v":0},{"$f":"'mnt Data'!O374","v":0},{"$f":"'mnt Data'!P374","v":0},{"$f":"'mnt Data'!Q374","v":0},{"$f":"'mnt Data'!R374","v":0},{"$f":"'mnt Data'!S374","v":0},{"$f":"'mnt Data'!T374","v":0},{"$f":"'mnt Data'!U374","v":0},{"$f":"'mnt Data'!V374","v":0},{"$f":"'mnt Data'!W374","v":0},{"$f":"'mnt Data'!X374","v":0},{"$f":"'mnt Data'!Y374","v":0},{"$f":"'mnt Data'!Z374","v":0},{"$f":"'mnt Data'!AA374","v":0},{"$f":"'mnt Data'!AB374","v":0},{"$f":"'mnt Data'!AC374","v":0},{"$f":"'mnt Data'!AD374","v":0},{"$f":"'mnt Data'!AE374","v":0},{"$f":"'mnt Data'!AF374","v":0},{"$f":"'mnt Data'!AG374","v":0},{"$f":"'mnt Data'!AH374","v":0},{"$f":"'mnt Data'!AI374","v":0},{"$f":"'mnt Data'!AJ374","v":0},{"$f":"'mnt Data'!AK374","v":0}]
[371,0,0,"No Gs",0,"No Gs","No Gs","Gs is needed","Gs is needed","Gs is needed","Need Max and Min","Need Max and Min","Fail",null,{"$f":"'mnt Data'!A375","v":0},{"$f":"'mnt Data'!B375","v":0},{"$f":"'mnt Data'!C375","v":0},{"$f":"'mnt Data'!D375","v":0},{"$f":"'mnt Data'!E375","v":0},{"$f":"'mnt Data'!F375","v":0},{"$f":"'mnt Data'!G375","v":0},{"$f":"'mnt Data'!H375","v":0},{"$f":"'mnt Data'!I375","v":0},{"$f":"'mnt Data'!J375","v":0},{"$f":"'mnt Data'!K375","v":0},{"$f":"'mnt Data'!L375","v":0},{"$f":"'mnt Data'!M375","v":0},{"$f":"'mnt Data'!N375","v":0},{"$f":"'mnt Data'!O375","v":0},{"$f":"'mnt Data'!P375","v":0},{"$f":"'mnt Data'!Q375","v":0},{"$f":"'mnt Data'!R375","v":0},{"$f":"'mnt Data'!S375","v":0},{"$f":"'mnt Data'!T375","v":0},{"$f":"'mnt Data'!U375","v":0},{"$f":"'mnt Data'!V375","v":0},{"$f":"'mnt Data'!W375","v":0},{"$f":"'mnt Data'!X375","v":0},{"$f":"'mnt Data'!Y375","v":0},{"$f":"'mnt Data'!Z375","v":0},{"$f":"'mnt Data'!AA375","v":0},{"$f":"'mnt Data'!AB375","v":0},{"$f":"'mnt Data'!AC375","v":0},{"$f":"'mnt Data'!AD375","v":0},{"$f":"'mnt Data'!AE375","v":0},{"$f":"'mnt Data'!AF375","v":0},{"$f":"'mnt Data'!AG375","v":0},{"$f":"'mnt Data'!AH375","v":0},{"$f":"'mnt Data'!AI375","v":0},{"$f":"'mnt Data'!AJ375","v":0},{"$f":"'mnt Data'!AK375","v":0}]
[372,0,0,"No Gs",0,"No Gs","No Gs","Gs is needed","Gs is needed","Gs is needed","Need Max and Min","Need Max and Min","Fail",null,{"$f":"'mnt Data'!A376","v":0},{"$f":"'mnt Data'!B376","v":0},{"$f":"'mnt Data'!C376","v":0},{"$f":"'mnt Data'!D376","v":0},{"$f":"'mnt Data'!E376","v":0},{"$f":"'mnt Data'!F376","v":0},{"$f":"'mnt Data'!G376","v":0},{"$f":"'mnt Data'!H376","v":0},{"$f":"'mnt Data'!I376","v":0},{"$f":"'mnt Data'!J376","v":0},{"$f":"'mnt Data'!K376","v":0},{"$f":"'mnt Data'!L376","v":0},{"$f":"'mnt Data'!M376","v":0},{"$f":"'mnt Data'!N376","v":0},{"$f":"'mnt Data'!O376","v":0},{"$f":"'mnt Data'!P376","v":0},{"$f":"'mnt Data'!Q376","v":0},{"$f":"'mnt Data'!R376","v":0},{"$f":"'mnt Data'!S376","v":0},{"$f":"'mnt Data'!T376","v":0},{"$f":"'mnt Data'!U376","v":0},{"$f":"'mnt Data'!V376","v":0},{"$f":"'mnt Data'!W376","v":0},{"$f":"'mnt Data'!X376","v":0},{"$f":"'mnt Data'!Y376","v":0},{"$f":"'mnt Data'!Z376","v":0},{"$f":"'mnt Data'!AA376","v":0},{"$f":"'mnt Data'!AB376","v":0},{"$f":"'mnt Data'!AC376","v":0},{"$f":"'mnt Data'!AD376","v":0},{"$f":"'mnt Data'!AE376","v":0},{"$f":"'mnt Data'!AF376","v":0},{"$f":"'mnt Data'!AG376","v":0},{"$f":"'mnt Data'!AH376","v":0},{"$f":"'mnt Data'!AI376","v":0},{"$f":"'mnt Data'!AJ376","v":0},{"$f":"'mnt Data'!AK376","v":0}]
[373,0,0,"No Gs",0,"No Gs","No Gs","Gs is needed","Gs is needed","Gs is needed","Need Max and Min","Need Max and Min","Fail",null,{"$f":"'mnt Data'!A377","v":0},{"$f":"'mnt Data'!B377","v":0},{"$f":"'mnt Data'!C377","v":0},{"$f":"'mnt Data'!D377","v":0},{"$f":"'mnt Data'!E377","v":0},{"$f":"'mnt Data'!F377","v":0},{"$f":"'mnt Data'!G377","v":0},{"$f":"'mnt Data'!H377","v":0},{"$f":"'mnt Data'!I377","v":0},{"$f":"'mnt Data'!J377","v":0},{"$f":"'mnt Data'!K377","v":0},{"$f":"'mnt Data'!L377","v":0},{"$f":"'mnt Data'!M377","v":0},{"$f":"'mnt Data'!N377","v":0},{"$f":"'mnt Data'!O377","v":0},{"$f":"'mnt Data'!P377","v":0},{"$f":"'mnt Data'!Q377","v":0},{"$f":"'mnt Data'!R377","v":0},{"$f":"'mnt Data'!S377","v":0},{"$f":"'mnt Data'!T377","v":0},{"$f":"'mnt Data'!U377","v":0},{"$f":"'mnt Data'!V377","v":0},{"$f":"'mnt Data'!W377","v":0},{"$f":"'mnt Data'!X377","v":0},{"$f":"'mnt Data'!Y377","v":0},{"$f":"'mnt Data'!Z377","v":0},{"$f":"'mnt Data'!AA377","v":0},{"$f":"'mnt Data'!AB377","v":0},{"$f":"'mnt Data'!AC377","v":0},{"$f":"'mnt Data'!AD377","v":0},{"$f":"'mnt Data'!AE377","v":0},{"$f":"'mnt Data'!AF377","v":0},{"$f":"'mnt Data'!AG377","v":0},{"$f":"'mnt Data'!AH377","v":0},{"$f":"'mnt Data'!AI377","v":0},{"$f":"'mnt Data'!AJ377","v":0},{"$f":"'mnt Data'!AK377","v":0}]
[374,0,0,"No Gs",0,"No Gs","No Gs","Gs is needed","Gs is needed","Gs is needed","Need Max and Min","Need Max and Min","Fail",null,{"$f":"'mnt Data'!A378","v":0},{"$f":"'mnt Data'!B378","v":0},{"$f":"'mnt Data'!C378","v":0},{"$f":"'mnt Data'!D378","v":0},{"$f":"'mnt Data'!E378","v":0},{"$f":"'mnt Data'!F378","v":0},{"$f":"'mnt Data'!G378","v":0},{"$f":"'mnt Data'!H378","v":0},{"$f":"'mnt Data'!I378","v":0},{"$f":"'mnt Data'!J378","v":0},{"$f":"'mnt Data'!K378","v":0},{"$f":"'mnt Data'!L378","v":0},{"$f":"'mnt Data'!M378","v":0},{"$f":"'mnt Data'!N378","v":0},{"$f":"'mnt Data'!O378","v":0},{"$f":"'mnt Data'!P378","v":0},{"$f":"'mnt Data'!Q378","v":0},{"$f":"'mnt Data'!R378","v":0},{"$f":"'mnt Data'!S378","v":0},{"$f":"'mnt Data'!T378","v":0},{"$f":"'mnt Data'!U378","v":0},{"$f":"'mnt Data'!V378","v":0},{"$f":"'mnt Data'!W378","v":0},{"$f":"'mnt Data'!X378","v":0},{"$f":"'mnt Data'!Y378","v":0},{"$f":"'mnt Data'!Z378","v":0},{"$f":"'mnt Data'!AA378","v":0},{"$f":"'mnt Data'!AB378","v":0},{"$f":"'mnt Data'!AC378","v":0},{"$f":"'mnt Data'!AD378","v":0},{"$f":"'mnt Data'!AE378","v":0},{"$f":"'mnt Data'!AF378","v":0},{"$f":"'mnt Data'!AG378","v":0},{"$f":"'mnt Data'!AH378","v":0},{"$f":"'mnt Data'!AI378","v":0},{"$f":"'mnt Data'!AJ378","v":0},{"$f":"'mnt Data'!AK378","v":0}]
[375,0,0,"No Gs",0,"No Gs","No Gs","Gs is needed","Gs is needed","Gs is needed","Need Max and Min","Need Max and Min","Fail",null,{"$f":"'mnt Data'!A379","v":0},{"$f":"'mnt Data'!B379","v":0},{"$f":"'mnt Data'!C379","v":0},{"$f":"'mnt Data'!D379","v":0},{"$f":"'mnt Data'!E379","v":0},{"$f":"'mnt Data'!F379","v":0},{"$f":"'mnt Data'!G379","v":0},{"$f":"'mnt Data'!H379","v":0},{"$f":"'mnt Data'!I379","v":0},{"$f":"'mnt Data'!J379","v":0},{"$f":"'mnt Data'!K379","v":0},{"$f":"'mnt Data'!L379","v":0},{"$f":"'mnt Data'!M379","v":0},{"$f":"'mnt Data'!N379","v":0},{"$f":"'mnt Data'!O379","v":0},{"$f":"'mnt Data'!P379","v":0},{"$f":"'mnt Data'!Q379","v":0},{"$f":"'mnt Data'!R379","v":0},{"$f":"'mnt Data'!S379","v":0},{"$f":"'mnt Data'!T379","v":0},{"$f":"'mnt Data'!U379","v":0},{"$f":"'mnt Data'!V379","v":0},{"$f":"'mnt Data'!W379","v":0},{"$f":"'mnt Data'!X379","v":0},{"$f":"'mnt Data'!Y379","v":0},{"$f":"'mnt Data'!Z379","v":0},{"$f":"'mnt Data'!AA379","v":0},{"$f":"'mnt Data'!AB379","v":0},{"$f":"'mnt Data'!AC379","v":0},{"$f":"'mnt Data'!AD379","v":0},{"$f":"'mnt Data'!AE379","v":0},{"$f":"'mnt Data'!AF379","v":0},{"$f":"'mnt Data'!AG379","v":0},{"$f":"'mnt Data'!AH379","v":0},{"$f":"'mnt Data'!AI379","v":0},{"$f":"'mnt Data'!AJ379","v":0},{"$f":"'mnt Data'!AK379","v":0}]
[376,0,0,"No Gs",0,"No Gs","No Gs","Gs is needed","Gs is needed","Gs is needed","Need Max and Min","Need Max and Min","Fail",null,{"$f":"'mnt Data'!A380","v":0},{"$f":"'mnt Data'!B380","v":0},{"$f":"'mnt Data'!C380","v":0},{"$f":"'mnt Data'!D380","v":0},{"$f":"'mnt Data'!E380","v":0},{"$f":"'mnt Data'!F380","v":0},{"$f":"'mnt Data'!G380","v":0},{"$f":"'mnt Data'!H380","v":0},{"$f":"'mnt Data'!I380","v":0},{"$f":"'mnt Data'!J380","v":0},{"$f":"'mnt Data'!K380","v":0},{"$f":"'mnt Data'!L380","v":0},{"$f":"'mnt Data'!M380","v":0},{"$f":"'mnt Data'!N380","v":0},{"$f":"'mnt Data'!O380","v":0},{"$f":"'mnt Data'!P380","v":0},{"$f":"'mnt Data'!Q380","v":0},{"$f":"'mnt Data'!R380","v":0},{"$f":"'mnt Data'!S380","v":0},{"$f":"'mnt Data'!T380","v":0},{"$f":"'mnt Data'!U380","v":0},{"$f":"'mnt Data'!V380","v":0},{"$f":"'mnt Data'!W380","v":0},{"$f":"'mnt Data'!X380","v":0},{"$f":"'mnt Data'!Y380","v":0},{"$f":"'mnt Data'!Z380","v":0},{"$f":"'mnt Data'!AA380","v":0},{"$f":"'mnt Data'!AB380","v":0},{"$f":"'mnt Data'!AC380","v":0},{"$f":"'mnt Data'!AD380","v":0},{"$f":"'mnt Data'!AE380","v":0},{"$f":"'mnt Data'!AF380","v":0},{"$f":"'mnt Data'!AG380","v":0},{"$f":"'mnt Data'!AH380","v":0},{"$f":"'mnt Data'!AI380","v":0},{"$f":"'mnt Data'!AJ380","v":0},{"$f":"'mnt Data'!AK380","v":0}]
[377,0,0,"No Gs",0,"No Gs","No Gs","Gs is needed","Gs is needed","Gs is needed","Need Max and Min","Need Max and Min","Fail",null,{"$f":"'mnt Data'!A381","v":0},{"$f":"'mnt Data'!B381","v":0},{"$f":"'mnt Data'!C381","v":0},{"$f":"'mnt Data'!D381","v":0},{"$f":"'mnt Data'!E381","v":0},{"$f":"'mnt Data'!F381","v":0},{"$f":"'mnt Data'!G381","v":0},{"$f":"'mnt Data'!H381","v":0},{"$f":"'mnt Data'!I381","v":0},{"$f":"'mnt Data'!J381","v":0},{"$f":"'mnt Data'!K381","v":0},{"$f":"'mnt Data'!L381","v":0},{"$f":"'mnt Data'!M381","v":0},{"$f":"'mnt Data'!N381","v":0},{"$f":"'mnt Data'!O381","v":0},{"$f":"'mnt Data'!P381","v":0},{"$f":"'mnt Data'!Q381","v":0},{"$f":"'mnt Data'!R381","v":0},{"$f":"'mnt Data'!S381","v":0},{"$f":"'mnt Data'!T381","v":0},{"$f":"'mnt Data'!U381","v":0},{"$f":"'mnt Data'!V381","v":0},{"$f":"'mnt Data'!W381","v":0},{"$f":"'mnt Data'!X381","v":0},{"$f":"'mnt Data'!Y381","v":0},{"$f":"'mnt Data'!Z381","v":0},{"$f":"'mnt Data'!AA381","v":0},{"$f":"'mnt Data'!AB381","v":0},{"$f":"'mnt Data'!AC381","v":0},{"$f":"'mnt Data'!AD381","v":0},{"$f":"'mnt Data'!AE381","v":0},{"$f":"'mnt Data'!AF381","v":0},{"$f":"'mnt Data'!AG381","v":0},{"$f":"'mnt Data'!AH381","v":0},{"$f":"'mnt Data'!AI381","v":0},{"$f":"'mnt Data'!AJ381","v":0},{"$f":"'mnt Data'!AK381","v":0}]
[378,0,0,"No Gs",0,"No Gs","No Gs","Gs is needed","Gs is needed","Gs is needed","Need Max and Min","Need Max and Min","Fail",null,{"$f":"'mnt Data'!A382","v":0},{"$f":"'mnt Data'!B382","v":0},{"$f":"'mnt Data'!C382","v":0},{"$f":"'mnt Data'!D382","v":0},{"$f":"'mnt Data'!E382","v":0},{"$f":"'mnt Data'!F382","v":0},{"$f":"'mnt Data'!G382","v":0},{"$f":"'mnt Data'!H382","v":0},{"$f":"'mnt Data'!I382","v":0},{"$f":"'mnt Data'!J382","v":0},{"$f":"'mnt Data'!K382","v":0},{"$f":"'mnt Data'!L382","v":0},{"$f":"'mnt Data'!M382","v":0},{"$f":"'mnt Data'!N382","v":0},{"$f":"'mnt Data'!O382","v":0},{"$f":"'mnt Data'!P382","v":0},{"$f":"'mnt Data'!Q382","v":0},{"$f":"'mnt Data'!R382","v":0},{"$f":"'mnt Data'!S382","v":0},{"$f":"'mnt Data'!T382","v":0},{"$f":"'mnt Data'!U382","v":0},{"$f":"'mnt Data'!V382","v":0},{"$f":"'mnt Data'!W382","v":0},{"$f":"'mnt Data'!X382","v":0},{"$f":"'mnt Data'!Y382","v":0},{"$f":"'mnt Data'!Z382","v":0},{"$f":"'mnt Data'!AA382","v":0},{"$f":"'mnt Data'!AB382","v":0},{"$f":"'mnt Data'!AC382","v":0},{"$f":"'mnt Data'!AD382","v":0},{"$f":"'mnt Data'!AE382","v":0},{"$f":"'mnt Data'!AF382","v":0},{"$f":"'mnt Data'!AG382","v":0},{"$f":"'mnt Data'!AH382","v":0},{"$f":"'mnt Data'!AI382","v":0},{"$f":"'mnt Data'!AJ382","v":0},{"$f":"'mnt Data'!AK382","v":0}]
[379,0,0,"No Gs",0,"No Gs","No Gs","Gs is needed","Gs is needed","Gs is needed","Need Max and Min","Need Max and Min","Fail",null,{"$f":"'mnt Data'!A383","v":0},{"$f":"'mnt Data'!B383","v":0},{"$f":"'mnt Data'!C383","v":0},{"$f":"'mnt Data'!D383","v":0},{"$f":"'mnt Data'!E383","v":0},{"$f":"'mnt Data'!F383","v":0},{"$f":"'mnt Data'!G383","v":0},{"$f":"'mnt Data'!H383","v":0},{"$f":"'mnt Data'!I383","v":0},{"$f":"'mnt Data'!J383","v":0},{"$f":"'mnt Data'!K383","v":0},{"$f":"'mnt Data'!L383","v":0},{"$f":"'mnt Data'!M383","v":0},{"$f":"'mnt Data'!N383","v":0},{"$f":"'mnt Data'!O383","v":0},{"$f":"'mnt Data'!P383","v":0},{"$f":"'mnt Data'!Q383","v":0},{"$f":"'mnt Data'!R383","v":0},{"$f":"'mnt Data'!S383","v":0},{"$f":"'mnt Data'!T383","v":0},{"$f":"'mnt Data'!U383","v":0},{"$f":"'mnt Data'!V383","v":0},{"$f":"'mnt Data'!W383","v":0},{"$f":"'mnt Data'!X383","v":0},{"$f":"'mnt Data'!Y383","v":0},{"$f":"'mnt Data'!Z383","v":0},{"$f":"'mnt Data'!AA383","v":0},{"$f":"'mnt Data'!AB383","v":0},{"$f":"'mnt Data'!AC383","v":0},{"$f":"'mnt Data'!AD383","v":0},{"$f":"'mnt Data'!AE383","v":0},{"$f":"'mnt Data'!AF383","v":0},{"$f":"'mnt Data'!AG383","v":0},{"$f":"'mnt Data'!AH383","v":0},{"$f":"'mnt Data'!AI383","v":0},{"$f":"'mnt Data'!AJ383","v":0},{"$f":"'mnt Data'!AK383","v":0}]
[380,0,0,"No Gs",0,"No Gs","No Gs","Gs is needed","Gs is needed","Gs is needed","Need Max and Min","Need Max and Min","Fail",null,{"$f":"'mnt Data'!A384","v":0},{"$f":"'mnt Data'!B384","v":0},{"$f":"'mnt Data'!C384","v":0},{"$f":"'mnt Data'!D384","v":0},{"$f":"'mnt Data'!E384","v":0},{"$f":"'mnt Data'!F384","v":0},{"$f":"'mnt Data'!G384","v":0},{"$f":"'mnt Data'!H384","v":0},{"$f":"'mnt Data'!I384","v":0},{"$f":"'mnt Data'!J384","v":0},{"$f":"'mnt Data'!K384","v":0},{"$f":"'mnt Data'!L384","v":0},{"$f":"'mnt Data'!M384","v":0},{"$f":"'mnt Data'!N384","v":0},{"$f":"'mnt Data'!O384","v":0},{"$f":"'mnt Data'!P384","v":0},{"$f":"'mnt Data'!Q384","v":0},{"$f":"'mnt Data'!R384","v":0},{"$f":"'mnt Data'!S384","v":0},{"$f":"'mnt Data'!T384","v":0},{"$f":"'mnt Data'!U384","v":0},{"$f":"'mnt Data'!V384","v":0},{"$f":"'mnt Data'!W384","v":0},{"$f":"'mnt Data'!X384","v":0},{"$f":"'mnt Data'!Y384","v":0},{"$f":"'mnt Data'!Z384","v":0},{"$f":"'mnt Data'!AA384","v":0},{"$f":"'mnt Data'!AB384","v":0},{"$f":"'mnt Data'!AC384","v":0},{"$f":"'mnt Data'!AD384","v":0},{"$f":"'mnt Data'!AE384","v":0},{"$f":"'mnt Data'!AF384","v":0},{"$f":"'mnt Data'!AG384","v":0},{"$f":"'mnt Data'!AH384","v":0},{"$f":"'mnt Data'!AI384","v":0},{"$f":"'mnt Data'!AJ384","v":0},{"$f":"'mnt Data'!AK384","v":0}]
[381,0,0,"No Gs",0,"No Gs","No Gs","Gs is needed","Gs is needed","Gs is needed","Need Max and Min","Need Max and Min","Fail",null,{"$f":"'mnt Data'!A385","v":0},{"$f":"'mnt Data'!B385","v":0},{"$f":"'mnt Data'!C385","v":0},{"$f":"'mnt Data'!D385","v":0},{"$f":"'mnt Data'!E385","v":0},{"$f":"'mnt Data'!F385","v":0},{"$f":"'mnt Data'!G385","v":0},{"$f":"'mnt Data'!H385","v":0},{"$f":"'mnt Data'!I385","v":0},{"$f":"'mnt Data'!J385","v":0},{"$f":"'mnt Data'!K385","v":0},{"$f":"'mnt Data'!L385","v":0},{"$f":"'mnt Data'!M385","v":0},{"$f":"'mnt Data'!N385","v":0},{"$f":"'mnt Data'!O385","v":0},{"$f":"'mnt Data'!P385","v":0},{"$f":"'mnt Data'!Q385","v":0},{"$f":"'mnt Data'!R385","v":0},{"$f":"'mnt Data'!S385","v":0},{"$f":"'mnt Data'!T385","v":0},{"$f":"'mnt Data'!U385","v":0},{"$f":"'mnt Data'!V385","v":0},{"$f":"'mnt Data'!W385","v":0},{"$f":"'mnt Data'!X385","v":0},{"$f":"'mnt Data'!Y385","v":0},{"$f":"'mnt Data'!Z385","v":0},{"$f":"'mnt Data'!AA385","v":0},{"$f":"'mnt Data'!AB385","v":0},{"$f":"'mnt Data'!AC385","v":0},{"$f":"'mnt Data'!AD385","v":0},{"$f":"'mnt Data'!AE385","v":0},{"$f":"'mnt Data'!AF385","v":0},{"$f":"'mnt Data'!AG385","v":0},{"$f":"'mnt Data'!AH385","v":0},{"$f":"'mnt Data'!AI385","v":0},{"$f":"'mnt Data'!AJ385","v":0},{"$f":"'mnt Data'!AK385","v":0}]
[382,0,0,"No Gs",0,"No Gs","No Gs","Gs is needed","Gs is needed","Gs is needed","Need Max and Min","Need Max and Min","Fail",null,{"$f":"'mnt Data'!A386","v":0},{"$f":"'mnt Data'!B386","v":0},{"$f":"'mnt Data'!C386","v":0},{"$f":"'mnt Data'!D386","v":0},{"$f":"'mnt Data'!E386","v":0},{"$f":"'mnt Data'!F386","v":0},{"$f":"'mnt Data'!G386","v":0},{"$f":"'mnt Data'!H386","v":0},{"$f":"'mnt Data'!I386","v":0},{"$f":"'mnt Data'!J386","v":0},{"$f":"'mnt Data'!K386","v":0},{"$f":"'mnt Data'!L386","v":0},{"$f":"'mnt Data'!M386","v":0},{"$f":"'mnt Data'!N386","v":0},{"$f":"'mnt Data'!O386","v":0},{"$f":"'mnt Data'!P386","v":0},{"$f":"'mnt Data'!Q386","v":0},{"$f":"'mnt Data'!R386","v":0},{"$f":"'mnt Data'!S386","v":0},{"$f":"'mnt Data'!T386","v":0},{"$f":"'mnt Data'!U386","v":0},{"$f":"'mnt Data'!V386","v":0},{"$f":"'mnt Data'!W386","v":0},{"$f":"'mnt Data'!X386","v":0},{"$f":"'mnt Data'!Y386","v":0},{"$f":"'mnt Data'!Z386","v":0},{"$f":"'mnt Data'!AA386","v":0},{"$f":"'mnt Data'!AB386","v":0},{"$f":"'mnt Data'!AC386","v":0},{"$f":"'mnt Data'!AD386","v":0},{"$f":"'mnt Data'!AE386","v":0},{"$f":"'mnt Data'!AF386","v":0},{"$f":"'mnt Data'!AG386","v":0},{"$f":"'mnt Data'!AH386","v":0},{"$f":"'mnt Data'!AI386","v":0},{"$f":"'mnt Data'!AJ386","v":0},{"$f":"'mnt Data'!AK386","v":0}]
[383,0,0,"No Gs",0,"No Gs","No Gs","Gs is needed","Gs is needed","Gs is needed","Need Max and Min","Need Max and Min","Fail",null,{"$f":"'mnt Data'!A387","v":0},{"$f":"'mnt Data'!B387","v":0},{"$f":"'mnt Data'!C387","v":0},{"$f":"'mnt Data'!D387","v":0},{"$f":"'mnt Data'!E387","v":0},{"$f":"'mnt Data'!F387","v":0},{"$f":"'mnt Data'!G387","v":0},{"$f":"'mnt Data'!H387","v":0},{"$f":"'mnt Data'!I387","v":0},{"$f":"'mnt Data'!J387","v":0},{"$f":"'mnt Data'!K387","v":0},{"$f":"'mnt Data'!L387","v":0},{"$f":"'mnt Data'!M387","v":0},{"$f":"'mnt Data'!N387","v":0},{"$f":"'mnt Data'!O387","v":0},{"$f":"'mnt Data'!P387","v":0},{"$f":"'mnt Data'!Q387","v":0},{"$f":"'mnt Data'!R387","v":0},{"$f":"'mnt Data'!S387","v":0},{"$f":"'mnt Data'!T387","v":0},{"$f":"'mnt Data'!U387","v":0},{"$f":"'mnt Data'!V387","v":0},{"$f":"'mnt Data'!W387","v":0},{"$f":"'mnt Data'!X387","v":0},{"$f":"'mnt Data'!Y387","v":0},{"$f":"'mnt Data'!Z387","v":0},{"$f":"'mnt Data'!AA387","v":0},{"$f":"'mnt Data'!AB387","v":0},{"$f":"'mnt Data'!AC387","v":0},{"$f":"'mnt Data'!AD387","v":0},{"$f":"'mnt Data'!AE387","v":0},{"$f":"'mnt Data'!AF387","v":0},{"$f":"'mnt Data'!AG387","v":0},{"$f":"'mnt Data'!AH387","v":0},{"$f":"'mnt Data'!AI387","v":0},{"$f":"'mnt Data'!AJ387","v":0},{"$f":"'mnt Data'!AK387","v":0}]
[384,0,0,"No Gs",0,"No Gs","No Gs","Gs is needed","Gs is needed","Gs is needed","Need Max and Min","Need Max and Min","Fail",null,{"$f":"'mnt Data'!A388","v":0},{"$f":"'mnt Data'!B388","v":0},{"$f":"'mnt Data'!C388","v":0},{"$f":"'mnt Data'!D388","v":0},{"$f":"'mnt Data'!E388","v":0},{"$f":"'mnt Data'!F388","v":0},{"$f":"'mnt Data'!G388","v":0},{"$f":"'mnt Data'!H388","v":0},{"$f":"'mnt Data'!I388","v":0},{"$f":"'mnt Data'!J388","v":0},{"$f":"'mnt Data'!K388","v":0},{"$f":"'mnt Data'!L388","v":0},{"$f":"'mnt Data'!M388","v":0},{"$f":"'mnt Data'!N388","v":0},{"$f":"'mnt Data'!O388","v":0},{"$f":"'mnt Data'!P388","v":0},{"$f":"'mnt Data'!Q388","v":0},{"$f":"'mnt Data'!R388","v":0},{"$f":"'mnt Data'!S388","v":0},{"$f":"'mnt Data'!T388","v":0},{"$f":"'mnt Data'!U388","v":0},{"$f":"'mnt Data'!V388","v":0},{"$f":"'mnt Data'!W388","v":0},{"$f":"'mnt Data'!X388","v":0},{"$f":"'mnt Data'!Y388","v":0},{"$f":"'mnt Data'!Z388","v":0},{"$f":"'mnt Data'!AA388","v":0},{"$f":"'mnt Data'!AB388","v":0},{"$f":"'mnt Data'!AC388","v":0},{"$f":"'mnt Data'!AD388","v":0},{"$f":"'mnt Data'!AE388","v":0},{"$f":"'mnt Data'!AF388","v":0},{"$f":"'mnt Data'!AG388","v":0},{"$f":"'mnt Data'!AH388","v":0},{"$f":"'mnt Data'!AI388","v":0},{"$f":"'mnt Data'!AJ388","v":0},{"$f":"'mnt Data'!AK388","v":0}]
[385,0,0,{"$f":"IFERROR(B386/(Gs*(IF(O386>1000,998,62.4))),\"No Gs\")","v":"No Gs"},0,"No Gs","No Gs","Gs is needed","Gs is needed","Gs is needed",{"$f":"IFERROR((100*(DMax*(O386-DMin))/(O386*(DMax-DMin))),\"Need Max and Min\")","v":"Need Max and Min"},{"$f":"IF(K386=\"Need Max and Min\",K386,(100*((O386-DMin)/(DMax-DMin))))","v":"Need Max and Min"},{"$f":"IF((Min+Max)=0,\"Need Max and Min Density\",IF(AND(S386>Min,S386<Max),\"Pass\",\"Fail\"))","v":"Fail"},null,{"$f":"'mnt Data'!A389","v":0},{"$f":"'mnt Data'!B389","v":0},{"$f":"'mnt Data'!C389","v":0},{"$f":"'mnt Data'!D389","v":0},{"$f":"'mnt Data'!E389","v":0},{"$f":"'mnt Data'!F389","v":0},{"$f":"'mnt Data'!G389","v":0},{"$f":"'mnt Data'!H389","v":0},{"$f":"'mnt Data'!I389","v":0},{"$f":"'mnt Data'!J389","v":0},{"$f":"'mnt Data'!K389","v":0},{"$f":"'mnt Data'!L389","v":0},{"$f":"'mnt Data'!M389","v":0},{"$f":"'mnt Data'!N389","v":0},{"$f":"'mnt Data'!O389","v":0},{"$f":"'mnt Data'!P389","v":0},{"$f":"'mnt Data'!Q389","v":0},{"$f":"'mnt Data'!R389","v":0},{"$f":"'mnt Data'!S389","v":0},{"$f":"'mnt Data'!T389","v":0},{"$f":"'mnt Data'!U389","v":0},{"$f":"'mnt Data'!V389","v":0},{"$f":"'mnt Data'!W389","v":0},{"$f":"'mnt Data'!X389","v":0},{"$f":"'mnt Data'!Y389","v":0},{"$f":"'mnt Data'!Z389","v":0},{"$f":"'mnt Data'!AA389","v":0},{"$f":"'mnt Data'!AB389","v":0},{"$f":"'mnt Data'!AC389","v":0},{"$f":"'mnt Data'!AD389","v":0},{"$f":"'mnt Data'!AE389","v":0},{"$f":"'mnt Data'!AF389","v":0},{"$f":"'mnt Data'!AG389","v":0},{"$f":"'mnt Data'!AH389","v":0},{"$f":"'mnt Data'!AI389","v":0},{"$f":"'mnt Data'!AJ389","v":0},{"$f":"'mnt Data'!AK389","v":0}]
[386,0,0,"No Gs",{"$f":"C387/(IF(O387>1000,998,62.4))","v":0},{"$f":"IFERROR(1-D387-E387,\"No Gs\")","v":"No Gs"},{"$f":"IFERROR(E387+F387,\"No Gs\")","v":"No Gs"},"Gs is needed","Gs is needed","Gs is needed","Need Max and Min","Need Max and Min","Fail",null,{"$f":"'mnt Data'!A390","v":0},{"$f":"'mnt Data'!B390","v":0},{"$f":"'mnt Data'!C390","v":0},{"$f":"'mnt Data'!D390","v":0},{"$f":"'mnt Data'!E390","v":0},{"$f":"'mnt Data'!F390","v":0},{"$f":"'mnt Data'!G390","v":0},{"$f":"'mnt Data'!H390","v":0},{"$f":"'mnt Data'!I390","v":0},{"$f":"'mnt Data'!J390","v":0},{"$f":"'mnt Data'!K390","v":0},{"$f":"'mnt Data'!L390","v":0},{"$f":"'mnt Data'!M390","v":0},{"$f":"'mnt Data'!N390","v":0},{"$f":"'mnt Data'!O390","v":0},{"$f":"'mnt Data'!P390","v":0},{"$f":"'mnt Data'!Q390","v":0},{"$f":"'mnt Data'!R390","v":0},{"$f":"'mnt Data'!S390","v":0},{"$f":"'mnt Data'!T390","v":0},{"$f":"'mnt Data'!U390","v":0},{"$f":"'mnt Data'!V390","v":0},{"$f":"'mnt Data'!W390","v":0},{"$f":"'mnt Data'!X390","v":0},{"$f":"'mnt Data'!Y390","v":0},{"$f":"'mnt Data'!Z390","v":0},{"$f":"'mnt Data'!AA390","v":0},{"$f":"'mnt Data'!AB390","v":0},{"$f":"'mnt Data'!AC390","v":0},{"$f":"'mnt Data'!AD390","v":0},{"$f":"'mnt Data'!AE390","v":0},{"$f":"'mnt Data'!AF390","v":0},{"$f":"'mnt Data'!AG390","v":0},{"$f":"'mnt Data'!AH390","v":0},{"$f":"'mnt Data'!AI390","v":0},{"$f":"'mnt Data'!AJ390","v":0},{"$f":"'mnt Data'!AK390","v":0}]
[387,0,0,"No Gs",0,"No Gs","No Gs","Gs is needed","Gs is needed","Gs is needed","Need Max and Min","Need Max and Min","Fail",null,{"$f":"'mnt Data'!A391","v":0},{"$f":"'mnt Data'!B391","v":0},{"$f":"'mnt Data'!C391","v":0},{"$f":"'mnt Data'!D391","v":0},{"$f":"'mnt Data'!E391","v":0},{"$f":"'mnt Data'!F391","v":0},{"$f":"'mnt Data'!G391","v":0},{"$f":"'mnt Data'!H391","v":0},{"$f":"'mnt Data'!I391","v":0},{"$f":"'mnt Data'!J391","v":0},{"$f":"'mnt Data'!K391","v":0},{"$f":"'mnt Data'!L391","v":0},{"$f":"'mnt Data'!M391","v":0},{"$f":"'mnt Data'!N391","v":0},{"$f":"'mnt Data'!O391","v":0},{"$f":"'mnt Data'!P391","v":0},{"$f":"'mnt Data'!Q391","v":0},{"$f":"'mnt Data'!R391","v":0},{"$f":"'mnt Data'!S391","v":0},{"$f":"'mnt Data'!T391","v":0},{"$f":"'mnt Data'!U391","v":0},{"$f":"'mnt Data'!V391","v":0},{"$f":"'mnt Data'!W391","v":0},{"$f":"'mnt Data'!X391","v":0},{"$f":"'mnt Data'!Y391","v":0},{"$f":"'mnt Data'!Z391","v":0},{"$f":"'mnt Data'!AA391","v":0},{"$f":"'mnt Data'!AB391","v":0},{"$f":"'mnt Data'!AC391","v":0},{"$f":"'mnt Data'!AD391","v":0},{"$f":"'mnt Data'!AE391","v":0},{"$f":"'mnt Data'!AF391","v":0},{"$f":"'mnt Data'!AG391","v":0},{"$f":"'mnt Data'!AH391","v":0},{"$f":"'mnt Data'!AI391","v":0},{"$f":"'mnt Data'!AJ391","v":0},{"$f":"'mnt Data'!AK391","v":0}]
[388,0,0,"No Gs",0,"No Gs","No Gs","Gs is needed","Gs is needed","Gs is needed","Need Max and Min","Need Max and Min","Fail",null,{"$f":"'mnt Data'!A392","v":0},{"$f":"'mnt Data'!B392","v":0},{"$f":"'mnt Data'!C392","v":0},{"$f":"'mnt Data'!D392","v":0},{"$f":"'mnt Data'!E392","v":0},{"$f":"'mnt Data'!F392","v":0},{"$f":"'mnt Data'!G392","v":0},{"$f":"'mnt Data'!H392","v":0},{"$f":"'mnt Data'!I392","v":0},{"$f":"'mnt Data'!J392","v":0},{"$f":"'mnt Data'!K392","v":0},{"$f":"'mnt Data'!L392","v":0},{"$f":"'mnt Data'!M392","v":0},{"$f":"'mnt Data'!N392","v":0},{"$f":"'mnt Data'!O392","v":0},{"$f":"'mnt Data'!P392","v":0},{"$f":"'mnt Data'!Q392","v":0},{"$f":"'mnt Data'!R392","v":0},{"$f":"'mnt Data'!S392","v":0},{"$f":"'mnt Data'!T392","v":0},{"$f":"'mnt Data'!U392","v":0},{"$f":"'mnt Data'!V392","v":0},{"$f":"'mnt Data'!W392","v":0},{"$f":"'mnt Data'!X392","v":0},{"$f":"'mnt Data'!Y392","v":0},{"$f":"'mnt Data'!Z392","v":0},{"$f":"'mnt Data'!AA392","v":0},{"$f":"'mnt Data'!AB392","v":0},{"$f":"'mnt Data'!AC392","v":0},{"$f":"'mnt Data'!AD392","v":0},{"$f":"'mnt Data'!AE392","v":0},{"$f":"'mnt Data'!AF392","v":0},{"$f":"'mnt Data'!AG392","v":0},{"$f":"'mnt Data'!AH392","v":0},{"$f":"'mnt Data'!AI392","v":0},{"$f":"'mnt Data'!AJ392","v":0},{"$f":"'mnt Data'!AK392","v":0}]
[389,0,0,"No Gs",0,"No Gs","No Gs","Gs is needed","Gs is needed","Gs is needed","Need Max and Min","Need Max and Min","Fail",null,{"$f":"'mnt Data'!A393","v":0},{"$f":"'mnt Data'!B393","v":0},{"$f":"'mnt Data'!C393","v":0},{"$f":"'mnt Data'!D393","v":0},{"$f":"'mnt Data'!E393","v":0},{"$f":"'mnt Data'!F393","v":0},{"$f":"'mnt Data'!G393","v":0},{"$f":"'mnt Data'!H393","v":0},{"$f":"'mnt Data'!I393","v":0},{"$f":"'mnt Data'!J393","v":0},{"$f":"'mnt Data'!K393","v":0},{"$f":"'mnt Data'!L393","v":0},{"$f":"'mnt Data'!M393","v":0},{"$f":"'mnt Data'!N393","v":0},{"$f":"'mnt Data'!O393","v":0},{"$f":"'mnt Data'!P393","v":0},{"$f":"'mnt Data'!Q393","v":0},{"$f":"'mnt Data'!R393","v":0},{"$f":"'mnt Data'!S393","v":0},{"$f":"'mnt Data'!T393","v":0},{"$f":"'mnt Data'!U393","v":0},{"$f":"'mnt Data'!V393","v":0},{"$f":"'mnt Data'!W393","v":0},{"$f":"'mnt Data'!X393","v":0},{"$f":"'mnt Data'!Y393","v":0},{"$f":"'mnt Data'!Z393","v":0},{"$f":"'mnt Data'!AA393","v":0},{"$f":"'mnt Data'!AB393","v":0},{"$f":"'mnt Data'!AC393","v":0},{"$f":"'mnt Data'!AD393","v":0},{"$f":"'mnt Data'!AE393","v":0},{"$f":"'mnt Data'!AF393","v":0},{"$f":"'mnt Data'!AG393","v":0},{"$f":"'mnt Data'!AH393","v":0},{"$f":"'mnt Data'!AI393","v":0},{"$f":"'mnt Data'!AJ393","v":0},{"$f":"'mnt Data'!AK393","v":0}]
[390,0,0,"No Gs",0,"No Gs","No Gs","Gs is needed","Gs is needed","Gs is needed","Need Max and Min","Need Max and Min","Fail",null,{"$f":"'mnt Data'!A394","v":0},{"$f":"'mnt Data'!B394","v":0},{"$f":"'mnt Data'!C394","v":0},{"$f":"'mnt Data'!D394","v":0},{"$f":"'mnt Data'!E394","v":0},{"$f":"'mnt Data'!F394","v":0},{"$f":"'mnt Data'!G394","v":0},{"$f":"'mnt Data'!H394","v":0},{"$f":"'mnt Data'!I394","v":0},{"$f":"'mnt Data'!J394","v":0},{"$f":"'mnt Data'!K394","v":0},{"$f":"'mnt Data'!L394","v":0},{"$f":"'mnt Data'!M394","v":0},{"$f":"'mnt Data'!N394","v":0},{"$f":"'mnt Data'!O394","v":0},{"$f":"'mnt Data'!P394","v":0},{"$f":"'mnt Data'!Q394","v":0},{"$f":"'mnt Data'!R394","v":0},{"$f":"'mnt Data'!S394","v":0},{"$f":"'mnt Data'!T394","v":0},{"$f":"'mnt Data'!U394","v":0},{"$f":"'mnt Data'!V394","v":0},{"$f":"'mnt Data'!W394","v":0},{"$f":"'mnt Data'!X394","v":0},{"$f":"'mnt Data'!Y394","v":0},{"$f":"'mnt Data'!Z394","v":0},{"$f":"'mnt Data'!AA394","v":0},{"$f":"'mnt Data'!AB394","v":0},{"$f":"'mnt Data'!AC394","v":0},{"$f":"'mnt Data'!AD394","v":0},{"$f":"'mnt Data'!AE394","v":0},{"$f":"'mnt Data'!AF394","v":0},{"$f":"'mnt Data'!AG394","v":0},{"$f":"'mnt Data'!AH394","v":0},{"$f":"'mnt Data'!AI394","v":0},{"$f":"'mnt Data'!AJ394","v":0},{"$f":"'mnt Data'!AK394","v":0}]
[391,0,0,"No Gs",0,"No Gs","No Gs","Gs is needed","Gs is needed","Gs is needed","Need Max and Min","Need Max and Min","Fail",null,{"$f":"'mnt Data'!A395","v":0},{"$f":"'mnt Data'!B395","v":0},{"$f":"'mnt Data'!C395","v":0},{"$f":"'mnt Data'!D395","v":0},{"$f":"'mnt Data'!E395","v":0},{"$f":"'mnt Data'!F395","v":0},{"$f":"'mnt Data'!G395","v":0},{"$f":"'mnt Data'!H395","v":0},{"$f":"'mnt Data'!I395","v":0},{"$f":"'mnt Data'!J395","v":0},{"$f":"'mnt Data'!K395","v":0},{"$f":"'mnt Data'!L395","v":0},{"$f":"'mnt Data'!M395","v":0},{"$f":"'mnt Data'!N395","v":0},{"$f":"'mnt Data'!O395","v":0},{"$f":"'mnt Data'!P395","v":0},{"$f":"'mnt Data'!Q395","v":0},{"$f":"'mnt Data'!R395","v":0},{"$f":"'mnt Data'!S395","v":0},{"$f":"'mnt Data'!T395","v":0},{"$f":"'mnt Data'!U395","v":0},{"$f":"'mnt Data'!V395","v":0},{"$f":"'mnt Data'!W395","v":0},{"$f":"'mnt Data'!X395","v":0},{"$f":"'mnt Data'!Y395","v":0},{"$f":"'mnt Data'!Z395","v":0},{"$f":"'mnt Data'!AA395","v":0},{"$f":"'mnt Data'!AB395","v":0},{"$f":"'mnt Data'!AC395","v":0},{"$f":"'mnt Data'!AD395","v":0},{"$f":"'mnt Data'!AE395","v":0},{"$f":"'mnt Data'!AF395","v":0},{"$f":"'mnt Data'!AG395","v":0},{"$f":"'mnt Data'!AH395","v":0},{"$f":"'mnt Data'!AI395","v":0},{"$f":"'mnt Data'!AJ395","v":0},{"$f":"'mnt Data'!AK395","v":0}]
[392,0,0,"No Gs",0,"No Gs","No Gs","Gs is needed","Gs is needed","Gs is needed","Need Max and Min","Need Max and Min","Fail",null,{"$f":"'mnt Data'!A396","v":0},{"$f":"'mnt Data'!B396","v":0},{"$f":"'mnt Data'!C396","v":0},{"$f":"'mnt Data'!D396","v":0},{"$f":"'mnt Data'!E396","v":0},{"$f":"'mnt Data'!F396","v":0},{"$f":"'mnt Data'!G396","v":0},{"$f":"'mnt Data'!H396","v":0},{"$f":"'mnt Data'!I396","v":0},{"$f":"'mnt Data'!J396","v":0},{"$f":"'mnt Data'!K396","v":0},{"$f":"'mnt Data'!L396","v":0},{"$f":"'mnt Data'!M396","v":0},{"$f":"'mnt Data'!N396","v":0},{"$f":"'mnt Data'!O396","v":0},{"$f":"'mnt Data'!P396","v":0},{"$f":"'mnt Data'!Q396","v":0},{"$f":"'mnt Data'!R396","v":0},{"$f":"'mnt Data'!S396","v":0},{"$f":"'mnt Data'!T396","v":0},{"$f":"'mnt Data'!U396","v":0},{"$f":"'mnt Data'!V396","v":0},{"$f":"'mnt Data'!W396","v":0},{"$f":"'mnt Data'!X396","v":0},{"$f":"'mnt Data'!Y396","v":0},{"$f":"'mnt Data'!Z396","v":0},{"$f":"'mnt Data'!AA396","v":0},{"$f":"'mnt Data'!AB396","v":0},{"$f":"'mnt Data'!AC396","v":0},{"$f":"'mnt Data'!AD396","v":0},{"$f":"'mnt Data'!AE396","v":0},{"$f":"'mnt Data'!AF396","v":0},{"$f":"'mnt Data'!AG396","v":0},{"$f":"'mnt Data'!AH396","v":0},{"$f":"'mnt Data'!AI396","v":0},{"$f":"'mnt Data'!AJ396","v":0},{"$f":"'mnt Data'!AK396","v":0}]
[393,0,0,"No Gs",0,"No Gs","No Gs","Gs is needed","Gs is needed","Gs is needed","Need Max and Min","Need Max and Min","Fail",null,{"$f":"'mnt Data'!A397","v":0},{"$f":"'mnt Data'!B397","v":0},{"$f":"'mnt Data'!C397","v":0},{"$f":"'mnt Data'!D397","v":0},{"$f":"'mnt Data'!E397","v":0},{"$f":"'mnt Data'!F397","v":0},{"$f":"'mnt Data'!G397","v":0},{"$f":"'mnt Data'!H397","v":0},{"$f":"'mnt Data'!I397","v":0},{"$f":"'mnt Data'!J397","v":0},{"$f":"'mnt Data'!K397","v":0},{"$f":"'mnt Data'!L397","v":0},{"$f":"'mnt Data'!M397","v":0},{"$f":"'mnt Data'!N397","v":0},{"$f":"'mnt Data'!O397","v":0},{"$f":"'mnt Data'!P397","v":0},{"$f":"'mnt Data'!Q397","v":0},{"$f":"'mnt Data'!R397","v":0},{"$f":"'mnt Data'!S397","v":0},{"$f":"'mnt Data'!T397","v":0},{"$f":"'mnt Data'!U397","v":0},{"$f":"'mnt Data'!V397","v":0},{"$f":"'mnt Data'!W397","v":0},{"$f":"'mnt Data'!X397","v":0},{"$f":"'mnt Data'!Y397","v":0},{"$f":"'mnt Data'!Z397","v":0},{"$f":"'mnt Data'!AA397","v":0},{"$f":"'mnt Data'!AB397","v":0},{"$f":"'mnt Data'!AC397","v":0},{"$f":"'mnt Data'!AD397","v":0},{"$f":"'mnt Data'!AE397","v":0},{"$f":"'mnt Data'!AF397","v":0},{"$f":"'mnt Data'!AG397","v":0},{"$f":"'mnt Data'!AH397","v":0},{"$f":"'mnt Data'!AI397","v":0},{"$f":"'mnt Data'!AJ397","v":0},{"$f":"'mnt Data'!AK397","v":0}]
[394,0,0,"No Gs",0,"No Gs","No Gs","Gs is needed","Gs is needed","Gs is needed","Need Max and Min","Need Max and Min","Fail",null,{"$f":"'mnt Data'!A398","v":0},{"$f":"'mnt Data'!B398","v":0},{"$f":"'mnt Data'!C398","v":0},{"$f":"'mnt Data'!D398","v":0},{"$f":"'mnt Data'!E398","v":0},{"$f":"'mnt Data'!F398","v":0},{"$f":"'mnt Data'!G398","v":0},{"$f":"'mnt Data'!H398","v":0},{"$f":"'mnt Data'!I398","v":0},{"$f":"'mnt Data'!J398","v":0},{"$f":"'mnt Data'!K398","v":0},{"$f":"'mnt Data'!L398","v":0},{"$f":"'mnt Data'!M398","v":0},{"$f":"'mnt Data'!N398","v":0},{"$f":"'mnt Data'!O398","v":0},{"$f":"'mnt Data'!P398","v":0},{"$f":"'mnt Data'!Q398","v":0},{"$f":"'mnt Data'!R398","v":0},{"$f":"'mnt Data'!S398","v":0},{"$f":"'mnt Data'!T398","v":0},{"$f":"'mnt Data'!U398","v":0},{"$f":"'mnt Data'!V398","v":0},{"$f":"'mnt Data'!W398","v":0},{"$f":"'mnt Data'!X398","v":0},{"$f":"'mnt Data'!Y398","v":0},{"$f":"'mnt Data'!Z398","v":0},{"$f":"'mnt Data'!AA398","v":0},{"$f":"'mnt Data'!AB398","v":0},{"$f":"'mnt Data'!AC398","v":0},{"$f":"'mnt Data'!AD398","v":0},{"$f":"'mnt Data'!AE398","v":0},{"$f":"'mnt Data'!AF398","v":0},{"$f":"'mnt Data'!AG398","v":0},{"$f":"'mnt Data'!AH398","v":0},{"$f":"'mnt Data'!AI398","v":0},{"$f":"'mnt Data'!AJ398","v":0},{"$f":"'mnt Data'!AK398","v":0}]
[395,0,0,"No Gs",0,"No Gs","No Gs","Gs is needed","Gs is needed","Gs is needed","Need Max and Min","Need Max and Min","Fail",null,{"$f":"'mnt Data'!A399","v":0},{"$f":"'mnt Data'!B399","v":0},{"$f":"'mnt Data'!C399","v":0},{"$f":"'mnt Data'!D399","v":0},{"$f":"'mnt Data'!E399","v":0},{"$f":"'mnt Data'!F399","v":0},{"$f":"'mnt Data'!G399","v":0},{"$f":"'mnt Data'!H399","v":0},{"$f":"'mnt Data'!I399","v":0},{"$f":"'mnt Data'!J399","v":0},{"$f":"'mnt Data'!K399","v":0},{"$f":"'mnt Data'!L399","v":0},{"$f":"'mnt Data'!M399","v":0},{"$f":"'mnt Data'!N399","v":0},{"$f":"'mnt Data'!O399","v":0},{"$f":"'mnt Data'!P399","v":0},{"$f":"'mnt Data'!Q399","v":0},{"$f":"'mnt Data'!R399","v":0},{"$f":"'mnt Data'!S399","v":0},{"$f":"'mnt Data'!T399","v":0},{"$f":"'mnt Data'!U399","v":0},{"$f":"'mnt Data'!V399","v":0},{"$f":"'mnt Data'!W399","v":0},{"$f":"'mnt Data'!X399","v":0},{"$f":"'mnt Data'!Y399","v":0},{"$f":"'mnt Data'!Z399","v":0},{"$f":"'mnt Data'!AA399","v":0},{"$f":"'mnt Data'!AB399","v":0},{"$f":"'mnt Data'!AC399","v":0},{"$f":"'mnt Data'!AD399","v":0},{"$f":"'mnt Data'!AE399","v":0},{"$f":"'mnt Data'!AF399","v":0},{"$f":"'mnt Data'!AG399","v":0},{"$f":"'mnt Data'!AH399","v":0},{"$f":"'mnt Data'!AI399","v":0},{"$f":"'mnt Data'!AJ399","v":0},{"$f":"'mnt Data'!AK399","v":0}]
[396,0,0,"No Gs",0,"No Gs","No Gs","Gs is needed","Gs is needed","Gs is needed","Need Max and Min","Need Max and Min","Fail",null,{"$f":"'mnt Data'!A400","v":0},{"$f":"'mnt Data'!B400","v":0},{"$f":"'mnt Data'!C400","v":0},{"$f":"'mnt Data'!D400","v":0},{"$f":"'mnt Data'!E400","v":0},{"$f":"'mnt Data'!F400","v":0},{"$f":"'mnt Data'!G400","v":0},{"$f":"'mnt Data'!H400","v":0},{"$f":"'mnt Data'!I400","v":0},{"$f":"'mnt Data'!J400","v":0},{"$f":"'mnt Data'!K400","v":0},{"$f":"'mnt Data'!L400","v":0},{"$f":"'mnt Data'!M400","v":0},{"$f":"'mnt Data'!N400","v":0},{"$f":"'mnt Data'!O400","v":0},{"$f":"'mnt Data'!P400","v":0},{"$f":"'mnt Data'!Q400","v":0},{"$f":"'mnt Data'!R400","v":0},{"$f":"'mnt Data'!S400","v":0},{"$f":"'mnt Data'!T400","v":0},{"$f":"'mnt Data'!U400","v":0},{"$f":"'mnt Data'!V400","v":0},{"$f":"'mnt Data'!W400","v":0},{"$f":"'mnt Data'!X400","v":0},{"$f":"'mnt Data'!Y400","v":0},{"$f":"'mnt Data'!Z400","v":0},{"$f":"'mnt Data'!AA400","v":0},{"$f":"'mnt Data'!AB400","v":0},{"$f":"'mnt Data'!AC400","v":0},{"$f":"'mnt Data'!AD400","v":0},{"$f":"'mnt Data'!AE400","v":0},{"$f":"'mnt Data'!AF400","v":0},{"$f":"'mnt Data'!AG400","v":0},{"$f":"'mnt Data'!AH400","v":0},{"$f":"'mnt Data'!AI400","v":0},{"$f":"'mnt Data'!AJ400","v":0},{"$f":"'mnt Data'!AK400","v":0}]
[397,0,0,"No Gs",0,"No Gs","No Gs","Gs is needed","Gs is needed","Gs is needed","Need Max and Min","Need Max and Min","Fail",null,{"$f":"'mnt Data'!A401","v":0},{"$f":"'mnt Data'!B401","v":0},{"$f":"'mnt Data'!C401","v":0},{"$f":"'mnt Data'!D401","v":0},{"$f":"'mnt Data'!E401","v":0},{"$f":"'mnt Data'!F401","v":0},{"$f":"'mnt Data'!G401","v":0},{"$f":"'mnt Data'!H401","v":0},{"$f":"'mnt Data'!I401","v":0},{"$f":"'mnt Data'!J401","v":0},{"$f":"'mnt Data'!K401","v":0},{"$f":"'mnt Data'!L401","v":0},{"$f":"'mnt Data'!M401","v":0},{"$f":"'mnt Data'!N401","v":0},{"$f":"'mnt Data'!O401","v":0},{"$f":"'mnt Data'!P401","v":0},{"$f":"'mnt Data'!Q401","v":0},{"$f":"'mnt Data'!R401","v":0},{"$f":"'mnt Data'!S401","v":0},{"$f":"'mnt Data'!T401","v":0},{"$f":"'mnt Data'!U401","v":0},{"$f":"'mnt Data'!V401","v":0},{"$f":"'mnt Data'!W401","v":0},{"$f":"'mnt Data'!X401","v":0},{"$f":"'mnt Data'!Y401","v":0},{"$f":"'mnt Data'!Z401","v":0},{"$f":"'mnt Data'!AA401","v":0},{"$f":"'mnt Data'!AB401","v":0},{"$f":"'mnt Data'!AC401","v":0},{"$f":"'mnt Data'!AD401","v":0},{"$f":"'mnt Data'!AE401","v":0},{"$f":"'mnt Data'!AF401","v":0},{"$f":"'mnt Data'!AG401","v":0},{"$f":"'mnt Data'!AH401","v":0},{"$f":"'mnt Data'!AI401","v":0},{"$f":"'mnt Data'!AJ401","v":0},{"$f":"'mnt Data'!AK401","v":0}]
[398,0,0,"No Gs",0,"No Gs","No Gs","Gs is needed","Gs is needed","Gs is needed","Need Max and Min","Need Max and Min","Fail",null,{"$f":"'mnt Data'!A402","v":0},{"$f":"'mnt Data'!B402","v":0},{"$f":"'mnt Data'!C402","v":0},{"$f":"'mnt Data'!D402","v":0},{"$f":"'mnt Data'!E402","v":0},{"$f":"'mnt Data'!F402","v":0},{"$f":"'mnt Data'!G402","v":0},{"$f":"'mnt Data'!H402","v":0},{"$f":"'mnt Data'!I402","v":0},{"$f":"'mnt Data'!J402","v":0},{"$f":"'mnt Data'!K402","v":0},{"$f":"'mnt Data'!L402","v":0},{"$f":"'mnt Data'!M402","v":0},{"$f":"'mnt Data'!N402","v":0},{"$f":"'mnt Data'!O402","v":0},{"$f":"'mnt Data'!P402","v":0},{"$f":"'mnt Data'!Q402","v":0},{"$f":"'mnt Data'!R402","v":0},{"$f":"'mnt Data'!S402","v":0},{"$f":"'mnt Data'!T402","v":0},{"$f":"'mnt Data'!U402","v":0},{"$f":"'mnt Data'!V402","v":0},{"$f":"'mnt Data'!W402","v":0},{"$f":"'mnt Data'!X402","v":0},{"$f":"'mnt Data'!Y402","v":0},{"$f":"'mnt Data'!Z402","v":0},{"$f":"'mnt Data'!AA402","v":0},{"$f":"'mnt Data'!AB402","v":0},{"$f":"'mnt Data'!AC402","v":0},{"$f":"'mnt Data'!AD402","v":0},{"$f":"'mnt Data'!AE402","v":0},{"$f":"'mnt Data'!AF402","v":0},{"$f":"'mnt Data'!AG402","v":0},{"$f":"'mnt Data'!AH402","v":0},{"$f":"'mnt Data'!AI402","v":0},{"$f":"'mnt Data'!AJ402","v":0},{"$f":"'mnt Data'!AK402","v":0}]
[399,0,0,"No Gs",0,"No Gs","No Gs","Gs is needed","Gs is needed","Gs is needed","Need Max and Min","Need Max and Min","Fail",null,{"$f":"'mnt Data'!A403","v":0},{"$f":"'mnt Data'!B403","v":0},{"$f":"'mnt Data'!C403","v":0},{"$f":"'mnt Data'!D403","v":0},{"$f":"'mnt Data'!E403","v":0},{"$f":"'mnt Data'!F403","v":0},{"$f":"'mnt Data'!G403","v":0},{"$f":"'mnt Data'!H403","v":0},{"$f":"'mnt Data'!I403","v":0},{"$f":"'mnt Data'!J403","v":0},{"$f":"'mnt Data'!K403","v":0},{"$f":"'mnt Data'!L403","v":0},{"$f":"'mnt Data'!M403","v":0},{"$f":"'mnt Data'!N403","v":0},{"$f":"'mnt Data'!O403","v":0},{"$f":"'mnt Data'!P403","v":0},{"$f":"'mnt Data'!Q403","v":0},{"$f":"'mnt Data'!R403","v":0},{"$f":"'mnt Data'!S403","v":0},{"$f":"'mnt Data'!T403","v":0},{"$f":"'mnt Data'!U403","v":0},{"$f":"'mnt Data'!V403","v":0},{"$f":"'mnt Data'!W403","v":0},{"$f":"'mnt Data'!X403","v":0},{"$f":"'mnt Data'!Y403","v":0},{"$f":"'mnt Data'!Z403","v":0},{"$f":"'mnt Data'!AA403","v":0},{"$f":"'mnt Data'!AB403","v":0},{"$f":"'mnt Data'!AC403","v":0},{"$f":"'mnt Data'!AD403","v":0},{"$f":"'mnt Data'!AE403","v":0},{"$f":"'mnt Data'!AF403","v":0},{"$f":"'mnt Data'!AG403","v":0},{"$f":"'mnt Data'!AH403","v":0},{"$f":"'mnt Data'!AI403","v":0},{"$f":"'mnt Data'!AJ403","v":0},{"$f":"'mnt Data'!AK403","v":0}]
[400,0,0,"No Gs",0,"No Gs","No Gs","Gs is needed","Gs is needed","Gs is needed","Need Max and Min","Need Max and Min","Fail",null,{"$f":"'mnt Data'!A404","v":0},{"$f":"'mnt Data'!B404","v":0},{"$f":"'mnt Data'!C404","v":0},{"$f":"'mnt Data'!D404","v":0},{"$f":"'mnt Data'!E404","v":0},{"$f":"'mnt Data'!F404","v":0},{"$f":"'mnt Data'!G404","v":0},{"$f":"'mnt Data'!H404","v":0},{"$f":"'mnt Data'!I404","v":0},{"$f":"'mnt Data'!J404","v":0},{"$f":"'mnt Data'!K404","v":0},{"$f":"'mnt Data'!L404","v":0},{"$f":"'mnt Data'!M404","v":0},{"$f":"'mnt Data'!N404","v":0},{"$f":"'mnt Data'!O404","v":0},{"$f":"'mnt Data'!P404","v":0},{"$f":"'mnt Data'!Q404","v":0},{"$f":"'mnt Data'!R404","v":0},{"$f":"'mnt Data'!S404","v":0},{"$f":"'mnt Data'!T404","v":0},{"$f":"'mnt Data'!U404","v":0},{"$f":"'mnt Data'!V404","v":0},{"$f":"'mnt Data'!W404","v":0},{"$f":"'mnt Data'!X404","v":0},{"$f":"'mnt Data'!Y404","v":0},{"$f":"'mnt Data'!Z404","v":0},{"$f":"'mnt Data'!AA404","v":0},{"$f":"'mnt Data'!AB404","v":0},{"$f":"'mnt Data'!AC404","v":0},{"$f":"'mnt Data'!AD404","v":0},{"$f":"'mnt Data'!AE404","v":0},{"$f":"'mnt Data'!AF404","v":0},{"$f":"'mnt Data'!AG404","v":0},{"$f":"'mnt Data'!AH404","v":0},{"$f":"'mnt Data'!AI404","v":0},{"$f":"'mnt Data'!AJ404","v":0},{"$f":"'mnt Data'!AK404","v":0}]
[401,0,0,"No Gs",0,"No Gs","No Gs","Gs is needed","Gs is needed","Gs is needed","Need Max and Min","Need Max and Min","Fail",null,{"$f":"'mnt Data'!A405","v":0},{"$f":"'mnt Data'!B405","v":0},{"$f":"'mnt Data'!C405","v":0},{"$f":"'mnt Data'!D405","v":0},{"$f":"'mnt Data'!E405","v":0},{"$f":"'mnt Data'!F405","v":0},{"$f":"'mnt Data'!G405","v":0},{"$f":"'mnt Data'!H405","v":0},{"$f":"'mnt Data'!I405","v":0},{"$f":"'mnt Data'!J405","v":0},{"$f":"'mnt Data'!K405","v":0},{"$f":"'mnt Data'!L405","v":0},{"$f":"'mnt Data'!M405","v":0},{"$f":"'mnt Data'!N405","v":0},{"$f":"'mnt Data'!O405","v":0},{"$f":"'mnt Data'!P405","v":0},{"$f":"'mnt Data'!Q405","v":0},{"$f":"'mnt Data'!R405","v":0},{"$f":"'mnt Data'!S405","v":0},{"$f":"'mnt Data'!T405","v":0},{"$f":"'mnt Data'!U405","v":0},{"$f":"'mnt Data'!V405","v":0},{"$f":"'mnt Data'!W405","v":0},{"$f":"'mnt Data'!X405","v":0},{"$f":"'mnt Data'!Y405","v":0},{"$f":"'mnt Data'!Z405","v":0},{"$f":"'mnt Data'!AA405","v":0},{"$f":"'mnt Data'!AB405","v":0},{"$f":"'mnt Data'!AC405","v":0},{"$f":"'mnt Data'!AD405","v":0},{"$f":"'mnt Data'!AE405","v":0},{"$f":"'mnt Data'!AF405","v":0},{"$f":"'mnt Data'!AG405","v":0},{"$f":"'mnt Data'!AH405","v":0},{"$f":"'mnt Data'!AI405","v":0},{"$f":"'mnt Data'!AJ405","v":0},{"$f":"'mnt Data'!AK405","v":0}]
[402,0,0,"No Gs",0,"No Gs","No Gs","Gs is needed","Gs is needed","Gs is needed","Need Max and Min","Need Max and Min","Fail",null,{"$f":"'mnt Data'!A406","v":0},{"$f":"'mnt Data'!B406","v":0},{"$f":"'mnt Data'!C406","v":0},{"$f":"'mnt Data'!D406","v":0},{"$f":"'mnt Data'!E406","v":0},{"$f":"'mnt Data'!F406","v":0},{"$f":"'mnt Data'!G406","v":0},{"$f":"'mnt Data'!H406","v":0},{"$f":"'mnt Data'!I406","v":0},{"$f":"'mnt Data'!J406","v":0},{"$f":"'mnt Data'!K406","v":0},{"$f":"'mnt Data'!L406","v":0},{"$f":"'mnt Data'!M406","v":0},{"$f":"'mnt Data'!N406","v":0},{"$f":"'mnt Data'!O406","v":0},{"$f":"'mnt Data'!P406","v":0},{"$f":"'mnt Data'!Q406","v":0},{"$f":"'mnt Data'!R406","v":0},{"$f":"'mnt Data'!S406","v":0},{"$f":"'mnt Data'!T406","v":0},{"$f":"'mnt Data'!U406","v":0},{"$f":"'mnt Data'!V406","v":0},{"$f":"'mnt Data'!W406","v":0},{"$f":"'mnt Data'!X406","v":0},{"$f":"'mnt Data'!Y406","v":0},{"$f":"'mnt Data'!Z406","v":0},{"$f":"'mnt Data'!AA406","v":0},{"$f":"'mnt Data'!AB406","v":0},{"$f":"'mnt Data'!AC406","v":0},{"$f":"'mnt Data'!AD406","v":0},{"$f":"'mnt Data'!AE406","v":0},{"$f":"'mnt Data'!AF406","v":0},{"$f":"'mnt Data'!AG406","v":0},{"$f":"'mnt Data'!AH406","v":0},{"$f":"'mnt Data'!AI406","v":0},{"$f":"'mnt Data'!AJ406","v":0},{"$f":"'mnt Data'!AK406","v":0}]
[403,0,0,"No Gs",0,"No Gs","No Gs","Gs is needed","Gs is needed","Gs is needed","Need Max and Min","Need Max and Min","Fail",null,{"$f":"'mnt Data'!A407","v":0},{"$f":"'mnt Data'!B407","v":0},{"$f":"'mnt Data'!C407","v":0},{"$f":"'mnt Data'!D407","v":0},{"$f":"'mnt Data'!E407","v":0},{"$f":"'mnt Data'!F407","v":0},{"$f":"'mnt Data'!G407","v":0},{"$f":"'mnt Data'!H407","v":0},{"$f":"'mnt Data'!I407","v":0},{"$f":"'mnt Data'!J407","v":0},{"$f":"'mnt Data'!K407","v":0},{"$f":"'mnt Data'!L407","v":0},{"$f":"'mnt Data'!M407","v":0},{"$f":"'mnt Data'!N407","v":0},{"$f":"'mnt Data'!O407","v":0},{"$f":"'mnt Data'!P407","v":0},{"$f":"'mnt Data'!Q407","v":0},{"$f":"'mnt Data'!R407","v":0},{"$f":"'mnt Data'!S407","v":0},{"$f":"'mnt Data'!T407","v":0},{"$f":"'mnt Data'!U407","v":0},{"$f":"'mnt Data'!V407","v":0},{"$f":"'mnt Data'!W407","v":0},{"$f":"'mnt Data'!X407","v":0},{"$f":"'mnt Data'!Y407","v":0},{"$f":"'mnt Data'!Z407","v":0},{"$f":"'mnt Data'!AA407","v":0},{"$f":"'mnt Data'!AB407","v":0},{"$f":"'mnt Data'!AC407","v":0},{"$f":"'mnt Data'!AD407","v":0},{"$f":"'mnt Data'!AE407","v":0},{"$f":"'mnt Data'!AF407","v":0},{"$f":"'mnt Data'!AG407","v":0},{"$f":"'mnt Data'!AH407","v":0},{"$f":"'mnt Data'!AI407","v":0},{"$f":"'mnt Data'!AJ407","v":0},{"$f":"'mnt Data'!AK407","v":0}]
[404,0,0,"No Gs",0,"No Gs","No Gs","Gs is needed","Gs is needed","Gs is needed","Need Max and Min","Need Max and Min","Fail",null,{"$f":"'mnt Data'!A408","v":0},{"$f":"'mnt Data'!B408","v":0},{"$f":"'mnt Data'!C408","v":0},{"$f":"'mnt Data'!D408","v":0},{"$f":"'mnt Data'!E408","v":0},{"$f":"'mnt Data'!F408","v":0},{"$f":"'mnt Data'!G408","v":0},{"$f":"'mnt Data'!H408","v":0},{"$f":"'mnt Data'!I408","v":0},{"$f":"'mnt Data'!J408","v":0},{"$f":"'mnt Data'!K408","v":0},{"$f":"'mnt Data'!L408","v":0},{"$f":"'mnt Data'!M408","v":0},{"$f":"'mnt Data'!N408","v":0},{"$f":"'mnt Data'!O408","v":0},{"$f":"'mnt Data'!P408","v":0},{"$f":"'mnt Data'!Q408","v":0},{"$f":"'mnt Data'!R408","v":0},{"$f":"'mnt Data'!S408","v":0},{"$f":"'mnt Data'!T408","v":0},{"$f":"'mnt Data'!U408","v":0},{"$f":"'mnt Data'!V408","v":0},{"$f":"'mnt Data'!W408","v":0},{"$f":"'mnt Data'!X408","v":0},{"$f":"'mnt Data'!Y408","v":0},{"$f":"'mnt Data'!Z408","v":0},{"$f":"'mnt Data'!AA408","v":0},{"$f":"'mnt Data'!AB408","v":0},{"$f":"'mnt Data'!AC408","v":0},{"$f":"'mnt Data'!AD408","v":0},{"$f":"'mnt Data'!AE408","v":0},{"$f":"'mnt Data'!AF408","v":0},{"$f":"'mnt Data'!AG408","v":0},{"$f":"'mnt Data'!AH408","v":0},{"$f":"'mnt Data'!AI408","v":0},{"$f":"'mnt Data'!AJ408","v":0},{"$f":"'mnt Data'!AK408","v":0}]
[405,0,0,"No Gs",0,"No Gs","No Gs","Gs is needed","Gs is needed","Gs is needed","Need Max and Min","Need Max and Min","Fail",null,{"$f":"'mnt Data'!A409","v":0},{"$f":"'mnt Data'!B409","v":0},{"$f":"'mnt Data'!C409","v":0},{"$f":"'mnt Data'!D409","v":0},{"$f":"'mnt Data'!E409","v":0},{"$f":"'mnt Data'!F409","v":0},{"$f":"'mnt Data'!G409","v":0},{"$f":"'mnt Data'!H409","v":0},{"$f":"'mnt Data'!I409","v":0},{"$f":"'mnt Data'!J409","v":0},{"$f":"'mnt Data'!K409","v":0},{"$f":"'mnt Data'!L409","v":0},{"$f":"'mnt Data'!M409","v":0},{"$f":"'mnt Data'!N409","v":0},{"$f":"'mnt Data'!O409","v":0},{"$f":"'mnt Data'!P409","v":0},{"$f":"'mnt Data'!Q409","v":0},{"$f":"'mnt Data'!R409","v":0},{"$f":"'mnt Data'!S409","v":0},{"$f":"'mnt Data'!T409","v":0},{"$f":"'mnt Data'!U409","v":0},{"$f":"'mnt Data'!V409","v":0},{"$f":"'mnt Data'!W409","v":0},{"$f":"'mnt Data'!X409","v":0},{"$f":"'mnt Data'!Y409","v":0},{"$f":"'mnt Data'!Z409","v":0},{"$f":"'mnt Data'!AA409","v":0},{"$f":"'mnt Data'!AB409","v":0},{"$f":"'mnt Data'!AC409","v":0},{"$f":"'mnt Data'!AD409","v":0},{"$f":"'mnt Data'!AE409","v":0},{"$f":"'mnt Data'!AF409","v":0},{"$f":"'mnt Data'!AG409","v":0},{"$f":"'mnt Data'!AH409","v":0},{"$f":"'mnt Data'!AI409","v":0},{"$f":"'mnt Data'!AJ409","v":0},{"$f":"'mnt Data'!AK409","v":0}]
[406,0,0,"No Gs",0,"No Gs","No Gs","Gs is needed","Gs is needed","Gs is needed","Need Max and Min","Need Max and Min","Fail",null,{"$f":"'mnt Data'!A410","v":0},{"$f":"'mnt Data'!B410","v":0},{"$f":"'mnt Data'!C410","v":0},{"$f":"'mnt Data'!D410","v":0},{"$f":"'mnt Data'!E410","v":0},{"$f":"'mnt Data'!F410","v":0},{"$f":"'mnt Data'!G410","v":0},{"$f":"'mnt Data'!H410","v":0},{"$f":"'mnt Data'!I410","v":0},{"$f":"'mnt Data'!J410","v":0},{"$f":"'mnt Data'!K410","v":0},{"$f":"'mnt Data'!L410","v":0},{"$f":"'mnt Data'!M410","v":0},{"$f":"'mnt Data'!N410","v":0},{"$f":"'mnt Data'!O410","v":0},{"$f":"'mnt Data'!P410","v":0},{"$f":"'mnt Data'!Q410","v":0},{"$f":"'mnt Data'!R410","v":0},{"$f":"'mnt Data'!S410","v":0},{"$f":"'mnt Data'!T410","v":0},{"$f":"'mnt Data'!U410","v":0},{"$f":"'mnt Data'!V410","v":0},{"$f":"'mnt Data'!W410","v":0},{"$f":"'mnt Data'!X410","v":0},{"$f":"'mnt Data'!Y410","v":0},{"$f":"'mnt Data'!Z410","v":0},{"$f":"'mnt Data'!AA410","v":0},{"$f":"'mnt Data'!AB410","v":0},{"$f":"'mnt Data'!AC410","v":0},{"$f":"'mnt Data'!AD410","v":0},{"$f":"'mnt Data'!AE410","v":0},{"$f":"'mnt Data'!AF410","v":0},{"$f":"'mnt Data'!AG410","v":0},{"$f":"'mnt Data'!AH410","v":0},{"$f":"'mnt Data'!AI410","v":0},{"$f":"'mnt Data'!AJ410","v":0},{"$f":"'mnt Data'!AK410","v":0}]
[407,0,0,"No Gs",0,"No Gs","No Gs","Gs is needed","Gs is needed","Gs is needed","Need Max and Min","Need Max and Min","Fail",null,{"$f":"'mnt Data'!A411","v":0},{"$f":"'mnt Data'!B411","v":0},{"$f":"'mnt Data'!C411","v":0},{"$f":"'mnt Data'!D411","v":0},{"$f":"'mnt Data'!E411","v":0},{"$f":"'mnt Data'!F411","v":0},{"$f":"'mnt Data'!G411","v":0},{"$f":"'mnt Data'!H411","v":0},{"$f":"'mnt Data'!I411","v":0},{"$f":"'mnt Data'!J411","v":0},{"$f":"'mnt Data'!K411","v":0},{"$f":"'mnt Data'!L411","v":0},{"$f":"'mnt Data'!M411","v":0},{"$f":"'mnt Data'!N411","v":0},{"$f":"'mnt Data'!O411","v":0},{"$f":"'mnt Data'!P411","v":0},{"$f":"'mnt Data'!Q411","v":0},{"$f":"'mnt Data'!R411","v":0},{"$f":"'mnt Data'!S411","v":0},{"$f":"'mnt Data'!T411","v":0},{"$f":"'mnt Data'!U411","v":0},{"$f":"'mnt Data'!V411","v":0},{"$f":"'mnt Data'!W411","v":0},{"$f":"'mnt Data'!X411","v":0},{"$f":"'mnt Data'!Y411","v":0},{"$f":"'mnt Data'!Z411","v":0},{"$f":"'mnt Data'!AA411","v":0},{"$f":"'mnt Data'!AB411","v":0},{"$f":"'mnt Data'!AC411","v":0},{"$f":"'mnt Data'!AD411","v":0},{"$f":"'mnt Data'!AE411","v":0},{"$f":"'mnt Data'!AF411","v":0},{"$f":"'mnt Data'!AG411","v":0},{"$f":"'mnt Data'!AH411","v":0},{"$f":"'mnt Data'!AI411","v":0},{"$f":"'mnt Data'!AJ411","v":0},{"$f":"'mnt Data'!AK411","v":0}]
[408,0,0,"No Gs",0,"No Gs","No Gs","Gs is needed","Gs is needed","Gs is needed","Need Max and Min","Need Max and Min","Fail",null,{"$f":"'mnt Data'!A412","v":0},{"$f":"'mnt Data'!B412","v":0},{"$f":"'mnt Data'!C412","v":0},{"$f":"'mnt Data'!D412","v":0},{"$f":"'mnt Data'!E412","v":0},{"$f":"'mnt Data'!F412","v":0},{"$f":"'mnt Data'!G412","v":0},{"$f":"'mnt Data'!H412","v":0},{"$f":"'mnt Data'!I412","v":0},{"$f":"'mnt Data'!J412","v":0},{"$f":"'mnt Data'!K412","v":0},{"$f":"'mnt Data'!L412","v":0},{"$f":"'mnt Data'!M412","v":0},{"$f":"'mnt Data'!N412","v":0},{"$f":"'mnt Data'!O412","v":0},{"$f":"'mnt Data'!P412","v":0},{"$f":"'mnt Data'!Q412","v":0},{"$f":"'mnt Data'!R412","v":0},{"$f":"'mnt Data'!S412","v":0},{"$f":"'mnt Data'!T412","v":0},{"$f":"'mnt Data'!U412","v":0},{"$f":"'mnt Data'!V412","v":0},{"$f":"'mnt Data'!W412","v":0},{"$f":"'mnt Data'!X412","v":0},{"$f":"'mnt Data'!Y412","v":0},{"$f":"'mnt Data'!Z412","v":0},{"$f":"'mnt Data'!AA412","v":0},{"$f":"'mnt Data'!AB412","v":0},{"$f":"'mnt Data'!AC412","v":0},{"$f":"'mnt Data'!AD412","v":0},{"$f":"'mnt Data'!AE412","v":0},{"$f":"'mnt Data'!AF412","v":0},{"$f":"'mnt Data'!AG412","v":0},{"$f":"'mnt Data'!AH412","v":0},{"$f":"'mnt Data'!AI412","v":0},{"$f":"'mnt Data'!AJ412","v":0},{"$f":"'mnt Data'!AK412","v":0}]
[409,0,0,"No Gs",0,"No Gs","No Gs","Gs is needed","Gs is needed","Gs is needed","Need Max and Min","Need Max and Min","Fail",null,{"$f":"'mnt Data'!A413","v":0},{"$f":"'mnt Data'!B413","v":0},{"$f":"'mnt Data'!C413","v":0},{"$f":"'mnt Data'!D413","v":0},{"$f":"'mnt Data'!E413","v":0},{"$f":"'mnt Data'!F413","v":0},{"$f":"'mnt Data'!G413","v":0},{"$f":"'mnt Data'!H413","v":0},{"$f":"'mnt Data'!I413","v":0},{"$f":"'mnt Data'!J413","v":0},{"$f":"'mnt Data'!K413","v":0},{"$f":"'mnt Data'!L413","v":0},{"$f":"'mnt Data'!M413","v":0},{"$f":"'mnt Data'!N413","v":0},{"$f":"'mnt Data'!O413","v":0},{"$f":"'mnt Data'!P413","v":0},{"$f":"'mnt Data'!Q413","v":0},{"$f":"'mnt Data'!R413","v":0},{"$f":"'mnt Data'!S413","v":0},{"$f":"'mnt Data'!T413","v":0},{"$f":"'mnt Data'!U413","v":0},{"$f":"'mnt Data'!V413","v":0},{"$f":"'mnt Data'!W413","v":0},{"$f":"'mnt Data'!X413","v":0},{"$f":"'mnt Data'!Y413","v":0},{"$f":"'mnt Data'!Z413","v":0},{"$f":"'mnt Data'!AA413","v":0},{"$f":"'mnt Data'!AB413","v":0},{"$f":"'mnt Data'!AC413","v":0},{"$f":"'mnt Data'!AD413","v":0},{"$f":"'mnt Data'!AE413","v":0},{"$f":"'mnt Data'!AF413","v":0},{"$f":"'mnt Data'!AG413","v":0},{"$f":"'mnt Data'!AH413","v":0},{"$f":"'mnt Data'!AI413","v":0},{"$f":"'mnt Data'!AJ413","v":0},{"$f":"'mnt Data'!AK413","v":0}]
[410,0,0,"No Gs",0,"No Gs","No Gs","Gs is needed","Gs is needed","Gs is needed","Need Max and Min","Need Max and Min","Fail",null,{"$f":"'mnt Data'!A414","v":0},{"$f":"'mnt Data'!B414","v":0},{"$f":"'mnt Data'!C414","v":0},{"$f":"'mnt Data'!D414","v":0},{"$f":"'mnt Data'!E414","v":0},{"$f":"'mnt Data'!F414","v":0},{"$f":"'mnt Data'!G414","v":0},{"$f":"'mnt Data'!H414","v":0},{"$f":"'mnt Data'!I414","v":0},{"$f":"'mnt Data'!J414","v":0},{"$f":"'mnt Data'!K414","v":0},{"$f":"'mnt Data'!L414","v":0},{"$f":"'mnt Data'!M414","v":0},{"$f":"'mnt Data'!N414","v":0},{"$f":"'mnt Data'!O414","v":0},{"$f":"'mnt Data'!P414","v":0},{"$f":"'mnt Data'!Q414","v":0},{"$f":"'mnt Data'!R414","v":0},{"$f":"'mnt Data'!S414","v":0},{"$f":"'mnt Data'!T414","v":0},{"$f":"'mnt Data'!U414","v":0},{"$f":"'mnt Data'!V414","v":0},{"$f":"'mnt Data'!W414","v":0},{"$f":"'mnt Data'!X414","v":0},{"$f":"'mnt Data'!Y414","v":0},{"$f":"'mnt Data'!Z414","v":0},{"$f":"'mnt Data'!AA414","v":0},{"$f":"'mnt Data'!AB414","v":0},{"$f":"'mnt Data'!AC414","v":0},{"$f":"'mnt Data'!AD414","v":0},{"$f":"'mnt Data'!AE414","v":0},{"$f":"'mnt Data'!AF414","v":0},{"$f":"'mnt Data'!AG414","v":0},{"$f":"'mnt Data'!AH414","v":0},{"$f":"'mnt Data'!AI414","v":0},{"$f":"'mnt Data'!AJ414","v":0},{"$f":"'mnt Data'!AK414","v":0}]
[411,0,0,"No Gs",0,"No Gs","No Gs","Gs is needed","Gs is needed","Gs is needed","Need Max and Min","Need Max and Min","Fail",null,{"$f":"'mnt Data'!A415","v":0},{"$f":"'mnt Data'!B415","v":0},{"$f":"'mnt Data'!C415","v":0},{"$f":"'mnt Data'!D415","v":0},{"$f":"'mnt Data'!E415","v":0},{"$f":"'mnt Data'!F415","v":0},{"$f":"'mnt Data'!G415","v":0},{"$f":"'mnt Data'!H415","v":0},{"$f":"'mnt Data'!I415","v":0},{"$f":"'mnt Data'!J415","v":0},{"$f":"'mnt Data'!K415","v":0},{"$f":"'mnt Data'!L415","v":0},{"$f":"'mnt Data'!M415","v":0},{"$f":"'mnt Data'!N415","v":0},{"$f":"'mnt Data'!O415","v":0},{"$f":"'mnt Data'!P415","v":0},{"$f":"'mnt Data'!Q415","v":0},{"$f":"'mnt Data'!R415","v":0},{"$f":"'mnt Data'!S415","v":0},{"$f":"'mnt Data'!T415","v":0},{"$f":"'mnt Data'!U415","v":0},{"$f":"'mnt Data'!V415","v":0},{"$f":"'mnt Data'!W415","v":0},{"$f":"'mnt Data'!X415","v":0},{"$f":"'mnt Data'!Y415","v":0},{"$f":"'mnt Data'!Z415","v":0},{"$f":"'mnt Data'!AA415","v":0},{"$f":"'mnt Data'!AB415","v":0},{"$f":"'mnt Data'!AC415","v":0},{"$f":"'mnt Data'!AD415","v":0},{"$f":"'mnt Data'!AE415","v":0},{"$f":"'mnt Data'!AF415","v":0},{"$f":"'mnt Data'!AG415","v":0},{"$f":"'mnt Data'!AH415","v":0},{"$f":"'mnt Data'!AI415","v":0},{"$f":"'mnt Data'!AJ415","v":0},{"$f":"'mnt Data'!AK415","v":0}]
[412,0,0,"No Gs",0,"No Gs","No Gs","Gs is needed","Gs is needed","Gs is needed","Need Max and Min","Need Max and Min","Fail",null,{"$f":"'mnt Data'!A416","v":0},{"$f":"'mnt Data'!B416","v":0},{"$f":"'mnt Data'!C416","v":0},{"$f":"'mnt Data'!D416","v":0},{"$f":"'mnt Data'!E416","v":0},{"$f":"'mnt Data'!F416","v":0},{"$f":"'mnt Data'!G416","v":0},{"$f":"'mnt Data'!H416","v":0},{"$f":"'mnt Data'!I416","v":0},{"$f":"'mnt Data'!J416","v":0},{"$f":"'mnt Data'!K416","v":0},{"$f":"'mnt Data'!L416","v":0},{"$f":"'mnt Data'!M416","v":0},{"$f":"'mnt Data'!N416","v":0},{"$f":"'mnt Data'!O416","v":0},{"$f":"'mnt Data'!P416","v":0},{"$f":"'mnt Data'!Q416","v":0},{"$f":"'mnt Data'!R416","v":0},{"$f":"'mnt Data'!S416","v":0},{"$f":"'mnt Data'!T416","v":0},{"$f":"'mnt Data'!U416","v":0},{"$f":"'mnt Data'!V416","v":0},{"$f":"'mnt Data'!W416","v":0},{"$f":"'mnt Data'!X416","v":0},{"$f":"'mnt Data'!Y416","v":0},{"$f":"'mnt Data'!Z416","v":0},{"$f":"'mnt Data'!AA416","v":0},{"$f":"'mnt Data'!AB416","v":0},{"$f":"'mnt Data'!AC416","v":0},{"$f":"'mnt Data'!AD416","v":0},{"$f":"'mnt Data'!AE416","v":0},{"$f":"'mnt Data'!AF416","v":0},{"$f":"'mnt Data'!AG416","v":0},{"$f":"'mnt Data'!AH416","v":0},{"$f":"'mnt Data'!AI416","v":0},{"$f":"'mnt Data'!AJ416","v":0},{"$f":"'mnt Data'!AK416","v":0}]
[413,0,0,"No Gs",0,"No Gs","No Gs","Gs is needed","Gs is needed","Gs is needed","Need Max and Min","Need Max and Min","Fail",null,{"$f":"'mnt Data'!A417","v":0},{"$f":"'mnt Data'!B417","v":0},{"$f":"'mnt Data'!C417","v":0},{"$f":"'mnt Data'!D417","v":0},{"$f":"'mnt Data'!E417","v":0},{"$f":"'mnt Data'!F417","v":0},{"$f":"'mnt Data'!G417","v":0},{"$f":"'mnt Data'!H417","v":0},{"$f":"'mnt Data'!I417","v":0},{"$f":"'mnt Data'!J417","v":0},{"$f":"'mnt Data'!K417","v":0},{"$f":"'mnt Data'!L417","v":0},{"$f":"'mnt Data'!M417","v":0},{"$f":"'mnt Data'!N417","v":0},{"$f":"'mnt Data'!O417","v":0},{"$f":"'mnt Data'!P417","v":0},{"$f":"'mnt Data'!Q417","v":0},{"$f":"'mnt Data'!R417","v":0},{"$f":"'mnt Data'!S417","v":0},{"$f":"'mnt Data'!T417","v":0},{"$f":"'mnt Data'!U417","v":0},{"$f":"'mnt Data'!V417","v":0},{"$f":"'mnt Data'!W417","v":0},{"$f":"'mnt Data'!X417","v":0},{"$f":"'mnt Data'!Y417","v":0},{"$f":"'mnt Data'!Z417","v":0},{"$f":"'mnt Data'!AA417","v":0},{"$f":"'mnt Data'!AB417","v":0},{"$f":"'mnt Data'!AC417","v":0},{"$f":"'mnt Data'!AD417","v":0},{"$f":"'mnt Data'!AE417","v":0},{"$f":"'mnt Data'!AF417","v":0},{"$f":"'mnt Data'!AG417","v":0},{"$f":"'mnt Data'!AH417","v":0},{"$f":"'mnt Data'!AI417","v":0},{"$f":"'mnt Data'!AJ417","v":0},{"$f":"'mnt Data'!AK417","v":0}]
[414,0,0,"No Gs",0,"No Gs","No Gs","Gs is needed","Gs is needed","Gs is needed","Need Max and Min","Need Max and Min","Fail",null,{"$f":"'mnt Data'!A418","v":0},{"$f":"'mnt Data'!B418","v":0},{"$f":"'mnt Data'!C418","v":0},{"$f":"'mnt Data'!D418","v":0},{"$f":"'mnt Data'!E418","v":0},{"$f":"'mnt Data'!F418","v":0},{"$f":"'mnt Data'!G418","v":0},{"$f":"'mnt Data'!H418","v":0},{"$f":"'mnt Data'!I418","v":0},{"$f":"'mnt Data'!J418","v":0},{"$f":"'mnt Data'!K418","v":0},{"$f":"'mnt Data'!L418","v":0},{"$f":"'mnt Data'!M418","v":0},{"$f":"'mnt Data'!N418","v":0},{"$f":"'mnt Data'!O418","v":0},{"$f":"'mnt Data'!P418","v":0},{"$f":"'mnt Data'!Q418","v":0},{"$f":"'mnt Data'!R418","v":0},{"$f":"'mnt Data'!S418","v":0},{"$f":"'mnt Data'!T418","v":0},{"$f":"'mnt Data'!U418","v":0},{"$f":"'mnt Data'!V418","v":0},{"$f":"'mnt Data'!W418","v":0},{"$f":"'mnt Data'!X418","v":0},{"$f":"'mnt Data'!Y418","v":0},{"$f":"'mnt Data'!Z418","v":0},{"$f":"'mnt Data'!AA418","v":0},{"$f":"'mnt Data'!AB418","v":0},{"$f":"'mnt Data'!AC418","v":0},{"$f":"'mnt Data'!AD418","v":0},{"$f":"'mnt Data'!AE418","v":0},{"$f":"'mnt Data'!AF418","v":0},{"$f":"'mnt Data'!AG418","v":0},{"$f":"'mnt Data'!AH418","v":0},{"$f":"'mnt Data'!AI418","v":0},{"$f":"'mnt Data'!AJ418","v":0},{"$f":"'mnt Data'!AK418","v":0}]
[415,0,0,"No Gs",0,"No Gs","No Gs","Gs is needed","Gs is needed","Gs is needed","Need Max and Min","Need Max and Min","Fail",null,{"$f":"'mnt Data'!A419","v":0},{"$f":"'mnt Data'!B419","v":0},{"$f":"'mnt Data'!C419","v":0},{"$f":"'mnt Data'!D419","v":0},{"$f":"'mnt Data'!E419","v":0},{"$f":"'mnt Data'!F419","v":0},{"$f":"'mnt Data'!G419","v":0},{"$f":"'mnt Data'!H419","v":0},{"$f":"'mnt Data'!I419","v":0},{"$f":"'mnt Data'!J419","v":0},{"$f":"'mnt Data'!K419","v":0},{"$f":"'mnt Data'!L419","v":0},{"$f":"'mnt Data'!M419","v":0},{"$f":"'mnt Data'!N419","v":0},{"$f":"'mnt Data'!O419","v":0},{"$f":"'mnt Data'!P419","v":0},{"$f":"'mnt Data'!Q419","v":0},{"$f":"'mnt Data'!R419","v":0},{"$f":"'mnt Data'!S419","v":0},{"$f":"'mnt Data'!T419","v":0},{"$f":"'mnt Data'!U419","v":0},{"$f":"'mnt Data'!V419","v":0},{"$f":"'mnt Data'!W419","v":0},{"$f":"'mnt Data'!X419","v":0},{"$f":"'mnt Data'!Y419","v":0},{"$f":"'mnt Data'!Z419","v":0},{"$f":"'mnt Data'!AA419","v":0},{"$f":"'mnt Data'!AB419","v":0},{"$f":"'mnt Data'!AC419","v":0},{"$f":"'mnt Data'!AD419","v":0},{"$f":"'mnt Data'!AE419","v":0},{"$f":"'mnt Data'!AF419","v":0},{"$f":"'mnt Data'!AG419","v":0},{"$f":"'mnt Data'!AH419","v":0},{"$f":"'mnt Data'!AI419","v":0},{"$f":"'mnt Data'!AJ419","v":0},{"$f":"'mnt Data'!AK419","v":0}]
[416,0,0,"No Gs",0,"No Gs","No Gs","Gs is needed","Gs is needed","Gs is needed","Need Max and Min","Need Max and Min","Fail",null,{"$f":"'mnt Data'!A420","v":0},{"$f":"'mnt Data'!B420","v":0},{"$f":"'mnt Data'!C420","v":0},{"$f":"'mnt Data'!D420","v":0},{"$f":"'mnt Data'!E420","v":0},{"$f":"'mnt Data'!F420","v":0},{"$f":"'mnt Data'!G420","v":0},{"$f":"'mnt Data'!H420","v":0},{"$f":"'mnt Data'!I420","v":0},{"$f":"'mnt Data'!J420","v":0},{"$f":"'mnt Data'!K420","v":0},{"$f":"'mnt Data'!L420","v":0},{"$f":"'mnt Data'!M420","v":0},{"$f":"'mnt Data'!N420","v":0},{"$f":"'mnt Data'!O420","v":0},{"$f":"'mnt Data'!P420","v":0},{"$f":"'mnt Data'!Q420","v":0},{"$f":"'mnt Data'!R420","v":0},{"$f":"'mnt Data'!S420","v":0},{"$f":"'mnt Data'!T420","v":0},{"$f":"'mnt Data'!U420","v":0},{"$f":"'mnt Data'!V420","v":0},{"$f":"'mnt Data'!W420","v":0},{"$f":"'mnt Data'!X420","v":0},{"$f":"'mnt Data'!Y420","v":0},{"$f":"'mnt Data'!Z420","v":0},{"$f":"'mnt Data'!AA420","v":0},{"$f":"'mnt Data'!AB420","v":0},{"$f":"'mnt Data'!AC420","v":0},{"$f":"'mnt Data'!AD420","v":0},{"$f":"'mnt Data'!AE420","v":0},{"$f":"'mnt Data'!AF420","v":0},{"$f":"'mnt Data'!AG420","v":0},{"$f":"'mnt Data'!AH420","v":0},{"$f":"'mnt Data'!AI420","v":0},{"$f":"'mnt Data'!AJ420","v":0},{"$f":"'mnt Data'!AK420","v":0}]
[417,0,0,"No Gs",0,"No Gs","No Gs","Gs is needed","Gs is needed","Gs is needed","Need Max and Min","Need Max and Min","Fail",null,{"$f":"'mnt Data'!A421","v":0},{"$f":"'mnt Data'!B421","v":0},{"$f":"'mnt Data'!C421","v":0},{"$f":"'mnt Data'!D421","v":0},{"$f":"'mnt Data'!E421","v":0},{"$f":"'mnt Data'!F421","v":0},{"$f":"'mnt Data'!G421","v":0},{"$f":"'mnt Data'!H421","v":0},{"$f":"'mnt Data'!I421","v":0},{"$f":"'mnt Data'!J421","v":0},{"$f":"'mnt Data'!K421","v":0},{"$f":"'mnt Data'!L421","v":0},{"$f":"'mnt Data'!M421","v":0},{"$f":"'mnt Data'!N421","v":0},{"$f":"'mnt Data'!O421","v":0},{"$f":"'mnt Data'!P421","v":0},{"$f":"'mnt Data'!Q421","v":0},{"$f":"'mnt Data'!R421","v":0},{"$f":"'mnt Data'!S421","v":0},{"$f":"'mnt Data'!T421","v":0},{"$f":"'mnt Data'!U421","v":0},{"$f":"'mnt Data'!V421","v":0},{"$f":"'mnt Data'!W421","v":0},{"$f":"'mnt Data'!X421","v":0},{"$f":"'mnt Data'!Y421","v":0},{"$f":"'mnt Data'!Z421","v":0},{"$f":"'mnt Data'!AA421","v":0},{"$f":"'mnt Data'!AB421","v":0},{"$f":"'mnt Data'!AC421","v":0},{"$f":"'mnt Data'!AD421","v":0},{"$f":"'mnt Data'!AE421","v":0},{"$f":"'mnt Data'!AF421","v":0},{"$f":"'mnt Data'!AG421","v":0},{"$f":"'mnt Data'!AH421","v":0},{"$f":"'mnt Data'!AI421","v":0},{"$f":"'mnt Data'!AJ421","v":0},{"$f":"'mnt Data'!AK421","v":0}]
[418,0,0,"No Gs",0,"No Gs","No Gs","Gs is needed","Gs is needed","Gs is needed","Need Max and Min","Need Max and Min","Fail",null,{"$f":"'mnt Data'!A422","v":0},{"$f":"'mnt Data'!B422","v":0},{"$f":"'mnt Data'!C422","v":0},{"$f":"'mnt Data'!D422","v":0},{"$f":"'mnt Data'!E422","v":0},{"$f":"'mnt Data'!F422","v":0},{"$f":"'mnt Data'!G422","v":0},{"$f":"'mnt Data'!H422","v":0},{"$f":"'mnt Data'!I422","v":0},{"$f":"'mnt Data'!J422","v":0},{"$f":"'mnt Data'!K422","v":0},{"$f":"'mnt Data'!L422","v":0},{"$f":"'mnt Data'!M422","v":0},{"$f":"'mnt Data'!N422","v":0},{"$f":"'mnt Data'!O422","v":0},{"$f":"'mnt Data'!P422","v":0},{"$f":"'mnt Data'!Q422","v":0},{"$f":"'mnt Data'!R422","v":0},{"$f":"'mnt Data'!S422","v":0},{"$f":"'mnt Data'!T422","v":0},{"$f":"'mnt Data'!U422","v":0},{"$f":"'mnt Data'!V422","v":0},{"$f":"'mnt Data'!W422","v":0},{"$f":"'mnt Data'!X422","v":0},{"$f":"'mnt Data'!Y422","v":0},{"$f":"'mnt Data'!Z422","v":0},{"$f":"'mnt Data'!AA422","v":0},{"$f":"'mnt Data'!AB422","v":0},{"$f":"'mnt Data'!AC422","v":0},{"$f":"'mnt Data'!AD422","v":0},{"$f":"'mnt Data'!AE422","v":0},{"$f":"'mnt Data'!AF422","v":0},{"$f":"'mnt Data'!AG422","v":0},{"$f":"'mnt Data'!AH422","v":0},{"$f":"'mnt Data'!AI422","v":0},{"$f":"'mnt Data'!AJ422","v":0},{"$f":"'mnt Data'!AK422","v":0}]
[419,0,0,"No Gs",0,"No Gs","No Gs","Gs is needed","Gs is needed","Gs is needed","Need Max and Min","Need Max and Min","Fail",null,{"$f":"'mnt Data'!A423","v":0},{"$f":"'mnt Data'!B423","v":0},{"$f":"'mnt Data'!C423","v":0},{"$f":"'mnt Data'!D423","v":0},{"$f":"'mnt Data'!E423","v":0},{"$f":"'mnt Data'!F423","v":0},{"$f":"'mnt Data'!G423","v":0},{"$f":"'mnt Data'!H423","v":0},{"$f":"'mnt Data'!I423","v":0},{"$f":"'mnt Data'!J423","v":0},{"$f":"'mnt Data'!K423","v":0},{"$f":"'mnt Data'!L423","v":0},{"$f":"'mnt Data'!M423","v":0},{"$f":"'mnt Data'!N423","v":0},{"$f":"'mnt Data'!O423","v":0},{"$f":"'mnt Data'!P423","v":0},{"$f":"'mnt Data'!Q423","v":0},{"$f":"'mnt Data'!R423","v":0},{"$f":"'mnt Data'!S423","v":0},{"$f":"'mnt Data'!T423","v":0},{"$f":"'mnt Data'!U423","v":0},{"$f":"'mnt Data'!V423","v":0},{"$f":"'mnt Data'!W423","v":0},{"$f":"'mnt Data'!X423","v":0},{"$f":"'mnt Data'!Y423","v":0},{"$f":"'mnt Data'!Z423","v":0},{"$f":"'mnt Data'!AA423","v":0},{"$f":"'mnt Data'!AB423","v":0},{"$f":"'mnt Data'!AC423","v":0},{"$f":"'mnt Data'!AD423","v":0},{"$f":"'mnt Data'!AE423","v":0},{"$f":"'mnt Data'!AF423","v":0},{"$f":"'mnt Data'!AG423","v":0},{"$f":"'mnt Data'!AH423","v":0},{"$f":"'mnt Data'!AI423","v":0},{"$f":"'mnt Data'!AJ423","v":0},{"$f":"'mnt Data'!AK423","v":0}]
[420,0,0,"No Gs",0,"No Gs","No Gs","Gs is needed","Gs is needed","Gs is needed","Need Max and Min","Need Max and Min","Fail",null,{"$f":"'mnt Data'!A424","v":0},{"$f":"'mnt Data'!B424","v":0},{"$f":"'mnt Data'!C424","v":0},{"$f":"'mnt Data'!D424","v":0},{"$f":"'mnt Data'!E424","v":0},{"$f":"'mnt Data'!F424","v":0},{"$f":"'mnt Data'!G424","v":0},{"$f":"'mnt Data'!H424","v":0},{"$f":"'mnt Data'!I424","v":0},{"$f":"'mnt Data'!J424","v":0},{"$f":"'mnt Data'!K424","v":0},{"$f":"'mnt Data'!L424","v":0},{"$f":"'mnt Data'!M424","v":0},{"$f":"'mnt Data'!N424","v":0},{"$f":"'mnt Data'!O424","v":0},{"$f":"'mnt Data'!P424","v":0},{"$f":"'mnt Data'!Q424","v":0},{"$f":"'mnt Data'!R424","v":0},{"$f":"'mnt Data'!S424","v":0},{"$f":"'mnt Data'!T424","v":0},{"$f":"'mnt Data'!U424","v":0},{"$f":"'mnt Data'!V424","v":0},{"$f":"'mnt Data'!W424","v":0},{"$f":"'mnt Data'!X424","v":0},{"$f":"'mnt Data'!Y424","v":0},{"$f":"'mnt Data'!Z424","v":0},{"$f":"'mnt Data'!AA424","v":0},{"$f":"'mnt Data'!AB424","v":0},{"$f":"'mnt Data'!AC424","v":0},{"$f":"'mnt Data'!AD424","v":0},{"$f":"'mnt Data'!AE424","v":0},{"$f":"'mnt Data'!AF424","v":0},{"$f":"'mnt Data'!AG424","v":0},{"$f":"'mnt Data'!AH424","v":0},{"$f":"'mnt Data'!AI424","v":0},{"$f":"'mnt Data'!AJ424","v":0},{"$f":"'mnt Data'!AK424","v":0}]
[421,0,0,"No Gs",0,"No Gs","No Gs","Gs is needed","Gs is needed","Gs is needed","Need Max and Min","Need Max and Min","Fail",null,{"$f":"'mnt Data'!A425","v":0},{"$f":"'mnt Data'!B425","v":0},{"$f":"'mnt Data'!C425","v":0},{"$f":"'mnt Data'!D425","v":0},{"$f":"'mnt Data'!E425","v":0},{"$f":"'mnt Data'!F425","v":0},{"$f":"'mnt Data'!G425","v":0},{"$f":"'mnt Data'!H425","v":0},{"$f":"'mnt Data'!I425","v":0},{"$f":"'mnt Data'!J425","v":0},{"$f":"'mnt Data'!K425","v":0},{"$f":"'mnt Data'!L425","v":0},{"$f":"'mnt Data'!M425","v":0},{"$f":"'mnt Data'!N425","v":0},{"$f":"'mnt Data'!O425","v":0},{"$f":"'mnt Data'!P425","v":0},{"$f":"'mnt Data'!Q425","v":0},{"$f":"'mnt Data'!R425","v":0},{"$f":"'mnt Data'!S425","v":0},{"$f":"'mnt Data'!T425","v":0},{"$f":"'mnt Data'!U425","v":0},{"$f":"'mnt Data'!V425","v":0},{"$f":"'mnt Data'!W425","v":0},{"$f":"'mnt Data'!X425","v":0},{"$f":"'mnt Data'!Y425","v":0},{"$f":"'mnt Data'!Z425","v":0},{"$f":"'mnt Data'!AA425","v":0},{"$f":"'mnt Data'!AB425","v":0},{"$f":"'mnt Data'!AC425","v":0},{"$f":"'mnt Data'!AD425","v":0},{"$f":"'mnt Data'!AE425","v":0},{"$f":"'mnt Data'!AF425","v":0},{"$f":"'mnt Data'!AG425","v":0},{"$f":"'mnt Data'!AH425","v":0},{"$f":"'mnt Data'!AI425","v":0},{"$f":"'mnt Data'!AJ425","v":0},{"$f":"'mnt Data'!AK425","v":0}]
[422,0,0,"No Gs",0,"No Gs","No Gs","Gs is needed","Gs is needed","Gs is needed","Need Max and Min","Need Max and Min","Fail",null,{"$f":"'mnt Data'!A426","v":0},{"$f":"'mnt Data'!B426","v":0},{"$f":"'mnt Data'!C426","v":0},{"$f":"'mnt Data'!D426","v":0},{"$f":"'mnt Data'!E426","v":0},{"$f":"'mnt Data'!F426","v":0},{"$f":"'mnt Data'!G426","v":0},{"$f":"'mnt Data'!H426","v":0},{"$f":"'mnt Data'!I426","v":0},{"$f":"'mnt Data'!J426","v":0},{"$f":"'mnt Data'!K426","v":0},{"$f":"'mnt Data'!L426","v":0},{"$f":"'mnt Data'!M426","v":0},{"$f":"'mnt Data'!N426","v":0},{"$f":"'mnt Data'!O426","v":0},{"$f":"'mnt Data'!P426","v":0},{"$f":"'mnt Data'!Q426","v":0},{"$f":"'mnt Data'!R426","v":0},{"$f":"'mnt Data'!S426","v":0},{"$f":"'mnt Data'!T426","v":0},{"$f":"'mnt Data'!U426","v":0},{"$f":"'mnt Data'!V426","v":0},{"$f":"'mnt Data'!W426","v":0},{"$f":"'mnt Data'!X426","v":0},{"$f":"'mnt Data'!Y426","v":0},{"$f":"'mnt Data'!Z426","v":0},{"$f":"'mnt Data'!AA426","v":0},{"$f":"'mnt Data'!AB426","v":0},{"$f":"'mnt Data'!AC426","v":0},{"$f":"'mnt Data'!AD426","v":0},{"$f":"'mnt Data'!AE426","v":0},{"$f":"'mnt Data'!AF426","v":0},{"$f":"'mnt Data'!AG426","v":0},{"$f":"'mnt Data'!AH426","v":0},{"$f":"'mnt Data'!AI426","v":0},{"$f":"'mnt Data'!AJ426","v":0},{"$f":"'mnt Data'!AK426","v":0}]
[423,0,0,"No Gs",0,"No Gs","No Gs","Gs is needed","Gs is needed","Gs is needed","Need Max and Min","Need Max and Min","Fail",null,{"$f":"'mnt Data'!A427","v":0},{"$f":"'mnt Data'!B427","v":0},{"$f":"'mnt Data'!C427","v":0},{"$f":"'mnt Data'!D427","v":0},{"$f":"'mnt Data'!E427","v":0},{"$f":"'mnt Data'!F427","v":0},{"$f":"'mnt Data'!G427","v":0},{"$f":"'mnt Data'!H427","v":0},{"$f":"'mnt Data'!I427","v":0},{"$f":"'mnt Data'!J427","v":0},{"$f":"'mnt Data'!K427","v":0},{"$f":"'mnt Data'!L427","v":0},{"$f":"'mnt Data'!M427","v":0},{"$f":"'mnt Data'!N427","v":0},{"$f":"'mnt Data'!O427","v":0},{"$f":"'mnt Data'!P427","v":0},{"$f":"'mnt Data'!Q427","v":0},{"$f":"'mnt Data'!R427","v":0},{"$f":"'mnt Data'!S427","v":0},{"$f":"'mnt Data'!T427","v":0},{"$f":"'mnt Data'!U427","v":0},{"$f":"'mnt Data'!V427","v":0},{"$f":"'mnt Data'!W427","v":0},{"$f":"'mnt Data'!X427","v":0},{"$f":"'mnt Data'!Y427","v":0},{"$f":"'mnt Data'!Z427","v":0},{"$f":"'mnt Data'!AA427","v":0},{"$f":"'mnt Data'!AB427","v":0},{"$f":"'mnt Data'!AC427","v":0},{"$f":"'mnt Data'!AD427","v":0},{"$f":"'mnt Data'!AE427","v":0},{"$f":"'mnt Data'!AF427","v":0},{"$f":"'mnt Data'!AG427","v":0},{"$f":"'mnt Data'!AH427","v":0},{"$f":"'mnt Data'!AI427","v":0},{"$f":"'mnt Data'!AJ427","v":0},{"$f":"'mnt Data'!AK427","v":0}]
[424,{"$f":"O425","v":0},{"$f":"O425*(Q425/100)","v":0},"No Gs",0,"No Gs","No Gs",{"$f":"IFERROR(E425/G425,\"Gs is needed\")","v":"Gs is needed"},{"$f":"IFERROR(G425/1,\"Gs is needed\")","v":"Gs is needed"},{"$f":"IFERROR(G425/D425,\"Gs is needed\")","v":"Gs is needed"},"Need Max and Min","Need Max and Min","Fail",null,{"$f":"'mnt Data'!A428","v":0},{"$f":"'mnt Data'!B428","v":0},{"$f":"'mnt Data'!C428","v":0},{"$f":"'mnt Data'!D428","v":0},{"$f":"'mnt Data'!E428","v":0},{"$f":"'mnt Data'!F428","v":0},{"$f":"'mnt Data'!G428","v":0},{"$f":"'mnt Data'!H428","v":0},{"$f":"'mnt Data'!I428","v":0},{"$f":"'mnt Data'!J428","v":0},{"$f":"'mnt Data'!K428","v":0},{"$f":"'mnt Data'!L428","v":0},{"$f":"'mnt Data'!M428","v":0},{"$f":"'mnt Data'!N428","v":0},{"$f":"'mnt Data'!O428","v":0},{"$f":"'mnt Data'!P428","v":0},{"$f":"'mnt Data'!Q428","v":0},{"$f":"'mnt Data'!R428","v":0},{"$f":"'mnt Data'!S428","v":0},{"$f":"'mnt Data'!T428","v":0},{"$f":"'mnt Data'!U428","v":0},{"$f":"'mnt Data'!V428","v":0},{"$f":"'mnt Data'!W428","v":0},{"$f":"'mnt Data'!X428","v":0},{"$f":"'mnt Data'!Y428","v":0},{"$f":"'mnt Data'!Z428","v":0},{"$f":"'mnt Data'!AA428","v":0},{"$f":"'mnt Data'!AB428","v":0},{"$f":"'mnt Data'!AC428","v":0},{"$f":"'mnt Data'!AD428","v":0},{"$f":"'mnt Data'!AE428","v":0},{"$f":"'mnt Data'!AF428","v":0},{"$f":"'mnt Data'!AG428","v":0},{"$f":"'mnt Data'!AH428","v":0},{"$f":"'mnt Data'!AI428","v":0},{"$f":"'mnt Data'!AJ428","v":0},{"$f":"'mnt Data'!AK428","v":0}]
[425,0,0,"No Gs",0,"No Gs","No Gs","Gs is needed","Gs is needed","Gs is needed","Need Max and Min","Need Max and Min","Fail",null,{"$f":"'mnt Data'!A429","v":0},{"$f":"'mnt Data'!B429","v":0},{"$f":"'mnt Data'!C429","v":0},{"$f":"'mnt Data'!D429","v":0},{"$f":"'mnt Data'!E429","v":0},{"$f":"'mnt Data'!F429","v":0},{"$f":"'mnt Data'!G429","v":0},{"$f":"'mnt Data'!H429","v":0},{"$f":"'mnt Data'!I429","v":0},{"$f":"'mnt Data'!J429","v":0},{"$f":"'mnt Data'!K429","v":0},{"$f":"'mnt Data'!L429","v":0},{"$f":"'mnt Data'!M429","v":0},{"$f":"'mnt Data'!N429","v":0},{"$f":"'mnt Data'!O429","v":0},{"$f":"'mnt Data'!P429","v":0},{"$f":"'mnt Data'!Q429","v":0},{"$f":"'mnt Data'!R429","v":0},{"$f":"'mnt Data'!S429","v":0},{"$f":"'mnt Data'!T429","v":0},{"$f":"'mnt Data'!U429","v":0},{"$f":"'mnt Data'!V429","v":0},{"$f":"'mnt Data'!W429","v":0},{"$f":"'mnt Data'!X429","v":0},{"$f":"'mnt Data'!Y429","v":0},{"$f":"'mnt Data'!Z429","v":0},{"$f":"'mnt Data'!AA429","v":0},{"$f":"'mnt Data'!AB429","v":0},{"$f":"'mnt Data'!AC429","v":0},{"$f":"'mnt Data'!AD429","v":0},{"$f":"'mnt Data'!AE429","v":0},{"$f":"'mnt Data'!AF429","v":0},{"$f":"'mnt Data'!AG429","v":0},{"$f":"'mnt Data'!AH429","v":0},{"$f":"'mnt Data'!AI429","v":0},{"$f":"'mnt Data'!AJ429","v":0},{"$f":"'mnt Data'!AK429","v":0}]
[426,0,0,"No Gs",0,"No Gs","No Gs","Gs is needed","Gs is needed","Gs is needed","Need Max and Min","Need Max and Min","Fail",null,{"$f":"'mnt Data'!A430","v":0},{"$f":"'mnt Data'!B430","v":0},{"$f":"'mnt Data'!C430","v":0},{"$f":"'mnt Data'!D430","v":0},{"$f":"'mnt Data'!E430","v":0},{"$f":"'mnt Data'!F430","v":0},{"$f":"'mnt Data'!G430","v":0},{"$f":"'mnt Data'!H430","v":0},{"$f":"'mnt Data'!I430","v":0},{"$f":"'mnt Data'!J430","v":0},{"$f":"'mnt Data'!K430","v":0},{"$f":"'mnt Data'!L430","v":0},{"$f":"'mnt Data'!M430","v":0},{"$f":"'mnt Data'!N430","v":0},{"$f":"'mnt Data'!O430","v":0},{"$f":"'mnt Data'!P430","v":0},{"$f":"'mnt Data'!Q430","v":0},{"$f":"'mnt Data'!R430","v":0},{"$f":"'mnt Data'!S430","v":0},{"$f":"'mnt Data'!T430","v":0},{"$f":"'mnt Data'!U430","v":0},{"$f":"'mnt Data'!V430","v":0},{"$f":"'mnt Data'!W430","v":0},{"$f":"'mnt Data'!X430","v":0},{"$f":"'mnt Data'!Y430","v":0},{"$f":"'mnt Data'!Z430","v":0},{"$f":"'mnt Data'!AA430","v":0},{"$f":"'mnt Data'!AB430","v":0},{"$f":"'mnt Data'!AC430","v":0},{"$f":"'mnt Data'!AD430","v":0},{"$f":"'mnt Data'!AE430","v":0},{"$f":"'mnt Data'!AF430","v":0},{"$f":"'mnt Data'!AG430","v":0},{"$f":"'mnt Data'!AH430","v":0},{"$f":"'mnt Data'!AI430","v":0},{"$f":"'mnt Data'!AJ430","v":0},{"$f":"'mnt Data'!AK430","v":0}]
[427,0,0,"No Gs",0,"No Gs","No Gs","Gs is needed","Gs is needed","Gs is needed","Need Max and Min","Need Max and Min","Fail",null,{"$f":"'mnt Data'!A431","v":0},{"$f":"'mnt Data'!B431","v":0},{"$f":"'mnt Data'!C431","v":0},{"$f":"'mnt Data'!D431","v":0},{"$f":"'mnt Data'!E431","v":0},{"$f":"'mnt Data'!F431","v":0},{"$f":"'mnt Data'!G431","v":0},{"$f":"'mnt Data'!H431","v":0},{"$f":"'mnt Data'!I431","v":0},{"$f":"'mnt Data'!J431","v":0},{"$f":"'mnt Data'!K431","v":0},{"$f":"'mnt Data'!L431","v":0},{"$f":"'mnt Data'!M431","v":0},{"$f":"'mnt Data'!N431","v":0},{"$f":"'mnt Data'!O431","v":0},{"$f":"'mnt Data'!P431","v":0},{"$f":"'mnt Data'!Q431","v":0},{"$f":"'mnt Data'!R431","v":0},{"$f":"'mnt Data'!S431","v":0},{"$f":"'mnt Data'!T431","v":0},{"$f":"'mnt Data'!U431","v":0},{"$f":"'mnt Data'!V431","v":0},{"$f":"'mnt Data'!W431","v":0},{"$f":"'mnt Data'!X431","v":0},{"$f":"'mnt Data'!Y431","v":0},{"$f":"'mnt Data'!Z431","v":0},{"$f":"'mnt Data'!AA431","v":0},{"$f":"'mnt Data'!AB431","v":0},{"$f":"'mnt Data'!AC431","v":0},{"$f":"'mnt Data'!AD431","v":0},{"$f":"'mnt Data'!AE431","v":0},{"$f":"'mnt Data'!AF431","v":0},{"$f":"'mnt Data'!AG431","v":0},{"$f":"'mnt Data'!AH431","v":0},{"$f":"'mnt Data'!AI431","v":0},{"$f":"'mnt Data'!AJ431","v":0},{"$f":"'mnt Data'!AK431","v":0}]
[428,0,0,"No Gs",0,"No Gs","No Gs","Gs is needed","Gs is needed","Gs is needed","Need Max and Min","Need Max and Min","Fail",null,{"$f":"'mnt Data'!A432","v":0},{"$f":"'mnt Data'!B432","v":0},{"$f":"'mnt Data'!C432","v":0},{"$f":"'mnt Data'!D432","v":0},{"$f":"'mnt Data'!E432","v":0},{"$f":"'mnt Data'!F432","v":0},{"$f":"'mnt Data'!G432","v":0},{"$f":"'mnt Data'!H432","v":0},{"$f":"'mnt Data'!I432","v":0},{"$f":"'mnt Data'!J432","v":0},{"$f":"'mnt Data'!K432","v":0},{"$f":"'mnt Data'!L432","v":0},{"$f":"'mnt Data'!M432","v":0},{"$f":"'mnt Data'!N432","v":0},{"$f":"'mnt Data'!O432","v":0},{"$f":"'mnt Data'!P432","v":0},{"$f":"'mnt Data'!Q432","v":0},{"$f":"'mnt Data'!R432","v":0},{"$f":"'mnt Data'!S432","v":0},{"$f":"'mnt Data'!T432","v":0},{"$f":"'mnt Data'!U432","v":0},{"$f":"'mnt Data'!V432","v":0},{"$f":"'mnt Data'!W432","v":0},{"$f":"'mnt Data'!X432","v":0},{"$f":"'mnt Data'!Y432","v":0},{"$f":"'mnt Data'!Z432","v":0},{"$f":"'mnt Data'!AA432","v":0},{"$f":"'mnt Data'!AB432","v":0},{"$f":"'mnt Data'!AC432","v":0},{"$f":"'mnt Data'!AD432","v":0},{"$f":"'mnt Data'!AE432","v":0},{"$f":"'mnt Data'!AF432","v":0},{"$f":"'mnt Data'!AG432","v":0},{"$f":"'mnt Data'!AH432","v":0},{"$f":"'mnt Data'!AI432","v":0},{"$f":"'mnt Data'!AJ432","v":0},{"$f":"'mnt Data'!AK432","v":0}]
[429,0,0,"No Gs",0,"No Gs","No Gs","Gs is needed","Gs is needed","Gs is needed","Need Max and Min","Need Max and Min","Fail",null,{"$f":"'mnt Data'!A433","v":0},{"$f":"'mnt Data'!B433","v":0},{"$f":"'mnt Data'!C433","v":0},{"$f":"'mnt Data'!D433","v":0},{"$f":"'mnt Data'!E433","v":0},{"$f":"'mnt Data'!F433","v":0},{"$f":"'mnt Data'!G433","v":0},{"$f":"'mnt Data'!H433","v":0},{"$f":"'mnt Data'!I433","v":0},{"$f":"'mnt Data'!J433","v":0},{"$f":"'mnt Data'!K433","v":0},{"$f":"'mnt Data'!L433","v":0},{"$f":"'mnt Data'!M433","v":0},{"$f":"'mnt Data'!N433","v":0},{"$f":"'mnt Data'!O433","v":0},{"$f":"'mnt Data'!P433","v":0},{"$f":"'mnt Data'!Q433","v":0},{"$f":"'mnt Data'!R433","v":0},{"$f":"'mnt Data'!S433","v":0},{"$f":"'mnt Data'!T433","v":0},{"$f":"'mnt Data'!U433","v":0},{"$f":"'mnt Data'!V433","v":0},{"$f":"'mnt Data'!W433","v":0},{"$f":"'mnt Data'!X433","v":0},{"$f":"'mnt Data'!Y433","v":0},{"$f":"'mnt Data'!Z433","v":0},{"$f":"'mnt Data'!AA433","v":0},{"$f":"'mnt Data'!AB433","v":0},{"$f":"'mnt Data'!AC433","v":0},{"$f":"'mnt Data'!AD433","v":0},{"$f":"'mnt Data'!AE433","v":0},{"$f":"'mnt Data'!AF433","v":0},{"$f":"'mnt Data'!AG433","v":0},{"$f":"'mnt Data'!AH433","v":0},{"$f":"'mnt Data'!AI433","v":0},{"$f":"'mnt Data'!AJ433","v":0},{"$f":"'mnt Data'!AK433","v":0}]
[430,0,0,"No Gs",0,"No Gs","No Gs","Gs is needed","Gs is needed","Gs is needed","Need Max and Min","Need Max and Min","Fail",null,{"$f":"'mnt Data'!A434","v":0},{"$f":"'mnt Data'!B434","v":0},{"$f":"'mnt Data'!C434","v":0},{"$f":"'mnt Data'!D434","v":0},{"$f":"'mnt Data'!E434","v":0},{"$f":"'mnt Data'!F434","v":0},{"$f":"'mnt Data'!G434","v":0},{"$f":"'mnt Data'!H434","v":0},{"$f":"'mnt Data'!I434","v":0},{"$f":"'mnt Data'!J434","v":0},{"$f":"'mnt Data'!K434","v":0},{"$f":"'mnt Data'!L434","v":0},{"$f":"'mnt Data'!M434","v":0},{"$f":"'mnt Data'!N434","v":0},{"$f":"'mnt Data'!O434","v":0},{"$f":"'mnt Data'!P434","v":0},{"$f":"'mnt Data'!Q434","v":0},{"$f":"'mnt Data'!R434","v":0},{"$f":"'mnt Data'!S434","v":0},{"$f":"'mnt Data'!T434","v":0},{"$f":"'mnt Data'!U434","v":0},{"$f":"'mnt Data'!V434","v":0},{"$f":"'mnt Data'!W434","v":0},{"$f":"'mnt Data'!X434","v":0},{"$f":"'mnt Data'!Y434","v":0},{"$f":"'mnt Data'!Z434","v":0},{"$f":"'mnt Data'!AA434","v":0},{"$f":"'mnt Data'!AB434","v":0},{"$f":"'mnt Data'!AC434","v":0},{"$f":"'mnt Data'!AD434","v":0},{"$f":"'mnt Data'!AE434","v":0},{"$f":"'mnt Data'!AF434","v":0},{"$f":"'mnt Data'!AG434","v":0},{"$f":"'mnt Data'!AH434","v":0},{"$f":"'mnt Data'!AI434","v":0},{"$f":"'mnt Data'!AJ434","v":0},{"$f":"'mnt Data'!AK434","v":0}]
[431,0,0,"No Gs",0,"No Gs","No Gs","Gs is needed","Gs is needed","Gs is needed","Need Max and Min","Need Max and Min","Fail",null,{"$f":"'mnt Data'!A435","v":0},{"$f":"'mnt Data'!B435","v":0},{"$f":"'mnt Data'!C435","v":0},{"$f":"'mnt Data'!D435","v":0},{"$f":"'mnt Data'!E435","v":0},{"$f":"'mnt Data'!F435","v":0},{"$f":"'mnt Data'!G435","v":0},{"$f":"'mnt Data'!H435","v":0},{"$f":"'mnt Data'!I435","v":0},{"$f":"'mnt Data'!J435","v":0},{"$f":"'mnt Data'!K435","v":0},{"$f":"'mnt Data'!L435","v":0},{"$f":"'mnt Data'!M435","v":0},{"$f":"'mnt Data'!N435","v":0},{"$f":"'mnt Data'!O435","v":0},{"$f":"'mnt Data'!P435","v":0},{"$f":"'mnt Data'!Q435","v":0},{"$f":"'mnt Data'!R435","v":0},{"$f":"'mnt Data'!S435","v":0},{"$f":"'mnt Data'!T435","v":0},{"$f":"'mnt Data'!U435","v":0},{"$f":"'mnt Data'!V435","v":0},{"$f":"'mnt Data'!W435","v":0},{"$f":"'mnt Data'!X435","v":0},{"$f":"'mnt Data'!Y435","v":0},{"$f":"'mnt Data'!Z435","v":0},{"$f":"'mnt Data'!AA435","v":0},{"$f":"'mnt Data'!AB435","v":0},{"$f":"'mnt Data'!AC435","v":0},{"$f":"'mnt Data'!AD435","v":0},{"$f":"'mnt Data'!AE435","v":0},{"$f":"'mnt Data'!AF435","v":0},{"$f":"'mnt Data'!AG435","v":0},{"$f":"'mnt Data'!AH435","v":0},{"$f":"'mnt Data'!AI435","v":0},{"$f":"'mnt Data'!AJ435","v":0},{"$f":"'mnt Data'!AK435","v":0}]
[432,0,0,"No Gs",0,"No Gs","No Gs","Gs is needed","Gs is needed","Gs is needed","Need Max and Min","Need Max and Min","Fail",null,{"$f":"'mnt Data'!A436","v":0},{"$f":"'mnt Data'!B436","v":0},{"$f":"'mnt Data'!C436","v":0},{"$f":"'mnt Data'!D436","v":0},{"$f":"'mnt Data'!E436","v":0},{"$f":"'mnt Data'!F436","v":0},{"$f":"'mnt Data'!G436","v":0},{"$f":"'mnt Data'!H436","v":0},{"$f":"'mnt Data'!I436","v":0},{"$f":"'mnt Data'!J436","v":0},{"$f":"'mnt Data'!K436","v":0},{"$f":"'mnt Data'!L436","v":0},{"$f":"'mnt Data'!M436","v":0},{"$f":"'mnt Data'!N436","v":0},{"$f":"'mnt Data'!O436","v":0},{"$f":"'mnt Data'!P436","v":0},{"$f":"'mnt Data'!Q436","v":0},{"$f":"'mnt Data'!R436","v":0},{"$f":"'mnt Data'!S436","v":0},{"$f":"'mnt Data'!T436","v":0},{"$f":"'mnt Data'!U436","v":0},{"$f":"'mnt Data'!V436","v":0},{"$f":"'mnt Data'!W436","v":0},{"$f":"'mnt Data'!X436","v":0},{"$f":"'mnt Data'!Y436","v":0},{"$f":"'mnt Data'!Z436","v":0},{"$f":"'mnt Data'!AA436","v":0},{"$f":"'mnt Data'!AB436","v":0},{"$f":"'mnt Data'!AC436","v":0},{"$f":"'mnt Data'!AD436","v":0},{"$f":"'mnt Data'!AE436","v":0},{"$f":"'mnt Data'!AF436","v":0},{"$f":"'mnt Data'!AG436","v":0},{"$f":"'mnt Data'!AH436","v":0},{"$f":"'mnt Data'!AI436","v":0},{"$f":"'mnt Data'!AJ436","v":0},{"$f":"'mnt Data'!AK436","v":0}]
[433,0,0,"No Gs",0,"No Gs","No Gs","Gs is needed","Gs is needed","Gs is needed","Need Max and Min","Need Max and Min","Fail",null,{"$f":"'mnt Data'!A437","v":0},{"$f":"'mnt Data'!B437","v":0},{"$f":"'mnt Data'!C437","v":0},{"$f":"'mnt Data'!D437","v":0},{"$f":"'mnt Data'!E437","v":0},{"$f":"'mnt Data'!F437","v":0},{"$f":"'mnt Data'!G437","v":0},{"$f":"'mnt Data'!H437","v":0},{"$f":"'mnt Data'!I437","v":0},{"$f":"'mnt Data'!J437","v":0},{"$f":"'mnt Data'!K437","v":0},{"$f":"'mnt Data'!L437","v":0},{"$f":"'mnt Data'!M437","v":0},{"$f":"'mnt Data'!N437","v":0},{"$f":"'mnt Data'!O437","v":0},{"$f":"'mnt Data'!P437","v":0},{"$f":"'mnt Data'!Q437","v":0},{"$f":"'mnt Data'!R437","v":0},{"$f":"'mnt Data'!S437","v":0},{"$f":"'mnt Data'!T437","v":0},{"$f":"'mnt Data'!U437","v":0},{"$f":"'mnt Data'!V437","v":0},{"$f":"'mnt Data'!W437","v":0},{"$f":"'mnt Data'!X437","v":0},{"$f":"'mnt Data'!Y437","v":0},{"$f":"'mnt Data'!Z437","v":0},{"$f":"'mnt Data'!AA437","v":0},{"$f":"'mnt Data'!AB437","v":0},{"$f":"'mnt Data'!AC437","v":0},{"$f":"'mnt Data'!AD437","v":0},{"$f":"'mnt Data'!AE437","v":0},{"$f":"'mnt Data'!AF437","v":0},{"$f":"'mnt Data'!AG437","v":0},{"$f":"'mnt Data'!AH437","v":0},{"$f":"'mnt Data'!AI437","v":0},{"$f":"'mnt Data'!AJ437","v":0},{"$f":"'mnt Data'!AK437","v":0}]
[434,0,0,"No Gs",0,"No Gs","No Gs","Gs is needed","Gs is needed","Gs is needed","Need Max and Min","Need Max and Min","Fail",null,{"$f":"'mnt Data'!A438","v":0},{"$f":"'mnt Data'!B438","v":0},{"$f":"'mnt Data'!C438","v":0},{"$f":"'mnt Data'!D438","v":0},{"$f":"'mnt Data'!E438","v":0},{"$f":"'mnt Data'!F438","v":0},{"$f":"'mnt Data'!G438","v":0},{"$f":"'mnt Data'!H438","v":0},{"$f":"'mnt Data'!I438","v":0},{"$f":"'mnt Data'!J438","v":0},{"$f":"'mnt Data'!K438","v":0},{"$f":"'mnt Data'!L438","v":0},{"$f":"'mnt Data'!M438","v":0},{"$f":"'mnt Data'!N438","v":0},{"$f":"'mnt Data'!O438","v":0},{"$f":"'mnt Data'!P438","v":0},{"$f":"'mnt Data'!Q438","v":0},{"$f":"'mnt Data'!R438","v":0},{"$f":"'mnt Data'!S438","v":0},{"$f":"'mnt Data'!T438","v":0},{"$f":"'mnt Data'!U438","v":0},{"$f":"'mnt Data'!V438","v":0},{"$f":"'mnt Data'!W438","v":0},{"$f":"'mnt Data'!X438","v":0},{"$f":"'mnt Data'!Y438","v":0},{"$f":"'mnt Data'!Z438","v":0},{"$f":"'mnt Data'!AA438","v":0},{"$f":"'mnt Data'!AB438","v":0},{"$f":"'mnt Data'!AC438","v":0},{"$f":"'mnt Data'!AD438","v":0},{"$f":"'mnt Data'!AE438","v":0},{"$f":"'mnt Data'!AF438","v":0},{"$f":"'mnt Data'!AG438","v":0},{"$f":"'mnt Data'!AH438","v":0},{"$f":"'mnt Data'!AI438","v":0},{"$f":"'mnt Data'!AJ438","v":0},{"$f":"'mnt Data'!AK438","v":0}]
[435,0,0,"No Gs",0,"No Gs","No Gs","Gs is needed","Gs is needed","Gs is needed","Need Max and Min","Need Max and Min","Fail",null,{"$f":"'mnt Data'!A439","v":0},{"$f":"'mnt Data'!B439","v":0},{"$f":"'mnt Data'!C439","v":0},{"$f":"'mnt Data'!D439","v":0},{"$f":"'mnt Data'!E439","v":0},{"$f":"'mnt Data'!F439","v":0},{"$f":"'mnt Data'!G439","v":0},{"$f":"'mnt Data'!H439","v":0},{"$f":"'mnt Data'!I439","v":0},{"$f":"'mnt Data'!J439","v":0},{"$f":"'mnt Data'!K439","v":0},{"$f":"'mnt Data'!L439","v":0},{"$f":"'mnt Data'!M439","v":0},{"$f":"'mnt Data'!N439","v":0},{"$f":"'mnt Data'!O439","v":0},{"$f":"'mnt Data'!P439","v":0},{"$f":"'mnt Data'!Q439","v":0},{"$f":"'mnt Data'!R439","v":0},{"$f":"'mnt Data'!S439","v":0},{"$f":"'mnt Data'!T439","v":0},{"$f":"'mnt Data'!U439","v":0},{"$f":"'mnt Data'!V439","v":0},{"$f":"'mnt Data'!W439","v":0},{"$f":"'mnt Data'!X439","v":0},{"$f":"'mnt Data'!Y439","v":0},{"$f":"'mnt Data'!Z439","v":0},{"$f":"'mnt Data'!AA439","v":0},{"$f":"'mnt Data'!AB439","v":0},{"$f":"'mnt Data'!AC439","v":0},{"$f":"'mnt Data'!AD439","v":0},{"$f":"'mnt Data'!AE439","v":0},{"$f":"'mnt Data'!AF439","v":0},{"$f":"'mnt Data'!AG439","v":0},{"$f":"'mnt Data'!AH439","v":0},{"$f":"'mnt Data'!AI439","v":0},{"$f":"'mnt Data'!AJ439","v":0},{"$f":"'mnt Data'!AK439","v":0}]
[436,0,0,"No Gs",0,"No Gs","No Gs","Gs is needed","Gs is needed","Gs is needed","Need Max and Min","Need Max and Min","Fail",null,{"$f":"'mnt Data'!A440","v":0},{"$f":"'mnt Data'!B440","v":0},{"$f":"'mnt Data'!C440","v":0},{"$f":"'mnt Data'!D440","v":0},{"$f":"'mnt Data'!E440","v":0},{"$f":"'mnt Data'!F440","v":0},{"$f":"'mnt Data'!G440","v":0},{"$f":"'mnt Data'!H440","v":0},{"$f":"'mnt Data'!I440","v":0},{"$f":"'mnt Data'!J440","v":0},{"$f":"'mnt Data'!K440","v":0},{"$f":"'mnt Data'!L440","v":0},{"$f":"'mnt Data'!M440","v":0},{"$f":"'mnt Data'!N440","v":0},{"$f":"'mnt Data'!O440","v":0},{"$f":"'mnt Data'!P440","v":0},{"$f":"'mnt Data'!Q440","v":0},{"$f":"'mnt Data'!R440","v":0},{"$f":"'mnt Data'!S440","v":0},{"$f":"'mnt Data'!T440","v":0},{"$f":"'mnt Data'!U440","v":0},{"$f":"'mnt Data'!V440","v":0},{"$f":"'mnt Data'!W440","v":0},{"$f":"'mnt Data'!X440","v":0},{"$f":"'mnt Data'!Y440","v":0},{"$f":"'mnt Data'!Z440","v":0},{"$f":"'mnt Data'!AA440","v":0},{"$f":"'mnt Data'!AB440","v":0},{"$f":"'mnt Data'!AC440","v":0},{"$f":"'mnt Data'!AD440","v":0},{"$f":"'mnt Data'!AE440","v":0},{"$f":"'mnt Data'!AF440","v":0},{"$f":"'mnt Data'!AG440","v":0},{"$f":"'mnt Data'!AH440","v":0},{"$f":"'mnt Data'!AI440","v":0},{"$f":"'mnt Data'!AJ440","v":0},{"$f":"'mnt Data'!AK440","v":0}]
[437,0,0,"No Gs",0,"No Gs","No Gs","Gs is needed","Gs is needed","Gs is needed","Need Max and Min","Need Max and Min","Fail",null,{"$f":"'mnt Data'!A441","v":0},{"$f":"'mnt Data'!B441","v":0},{"$f":"'mnt Data'!C441","v":0},{"$f":"'mnt Data'!D441","v":0},{"$f":"'mnt Data'!E441","v":0},{"$f":"'mnt Data'!F441","v":0},{"$f":"'mnt Data'!G441","v":0},{"$f":"'mnt Data'!H441","v":0},{"$f":"'mnt Data'!I441","v":0},{"$f":"'mnt Data'!J441","v":0},{"$f":"'mnt Data'!K441","v":0},{"$f":"'mnt Data'!L441","v":0},{"$f":"'mnt Data'!M441","v":0},{"$f":"'mnt Data'!N441","v":0},{"$f":"'mnt Data'!O441","v":0},{"$f":"'mnt Data'!P441","v":0},{"$f":"'mnt Data'!Q441","v":0},{"$f":"'mnt Data'!R441","v":0},{"$f":"'mnt Data'!S441","v":0},{"$f":"'mnt Data'!T441","v":0},{"$f":"'mnt Data'!U441","v":0},{"$f":"'mnt Data'!V441","v":0},{"$f":"'mnt Data'!W441","v":0},{"$f":"'mnt Data'!X441","v":0},{"$f":"'mnt Data'!Y441","v":0},{"$f":"'mnt Data'!Z441","v":0},{"$f":"'mnt Data'!AA441","v":0},{"$f":"'mnt Data'!AB441","v":0},{"$f":"'mnt Data'!AC441","v":0},{"$f":"'mnt Data'!AD441","v":0},{"$f":"'mnt Data'!AE441","v":0},{"$f":"'mnt Data'!AF441","v":0},{"$f":"'mnt Data'!AG441","v":0},{"$f":"'mnt Data'!AH441","v":0},{"$f":"'mnt Data'!AI441","v":0},{"$f":"'mnt Data'!AJ441","v":0},{"$f":"'mnt Data'!AK441","v":0}]
[438,0,0,"No Gs",0,"No Gs","No Gs","Gs is needed","Gs is needed","Gs is needed","Need Max and Min","Need Max and Min","Fail",null,{"$f":"'mnt Data'!A442","v":0},{"$f":"'mnt Data'!B442","v":0},{"$f":"'mnt Data'!C442","v":0},{"$f":"'mnt Data'!D442","v":0},{"$f":"'mnt Data'!E442","v":0},{"$f":"'mnt Data'!F442","v":0},{"$f":"'mnt Data'!G442","v":0},{"$f":"'mnt Data'!H442","v":0},{"$f":"'mnt Data'!I442","v":0},{"$f":"'mnt Data'!J442","v":0},{"$f":"'mnt Data'!K442","v":0},{"$f":"'mnt Data'!L442","v":0},{"$f":"'mnt Data'!M442","v":0},{"$f":"'mnt Data'!N442","v":0},{"$f":"'mnt Data'!O442","v":0},{"$f":"'mnt Data'!P442","v":0},{"$f":"'mnt Data'!Q442","v":0},{"$f":"'mnt Data'!R442","v":0},{"$f":"'mnt Data'!S442","v":0},{"$f":"'mnt Data'!T442","v":0},{"$f":"'mnt Data'!U442","v":0},{"$f":"'mnt Data'!V442","v":0},{"$f":"'mnt Data'!W442","v":0},{"$f":"'mnt Data'!X442","v":0},{"$f":"'mnt Data'!Y442","v":0},{"$f":"'mnt Data'!Z442","v":0},{"$f":"'mnt Data'!AA442","v":0},{"$f":"'mnt Data'!AB442","v":0},{"$f":"'mnt Data'!AC442","v":0},{"$f":"'mnt Data'!AD442","v":0},{"$f":"'mnt Data'!AE442","v":0},{"$f":"'mnt Data'!AF442","v":0},{"$f":"'mnt Data'!AG442","v":0},{"$f":"'mnt Data'!AH442","v":0},{"$f":"'mnt Data'!AI442","v":0},{"$f":"'mnt Data'!AJ442","v":0},{"$f":"'mnt Data'!AK442","v":0}]
[439,0,0,"No Gs",0,"No Gs","No Gs","Gs is needed","Gs is needed","Gs is needed","Need Max and Min","Need Max and Min","Fail",null,{"$f":"'mnt Data'!A443","v":0},{"$f":"'mnt Data'!B443","v":0},{"$f":"'mnt Data'!C443","v":0},{"$f":"'mnt Data'!D443","v":0},{"$f":"'mnt Data'!E443","v":0},{"$f":"'mnt Data'!F443","v":0},{"$f":"'mnt Data'!G443","v":0},{"$f":"'mnt Data'!H443","v":0},{"$f":"'mnt Data'!I443","v":0},{"$f":"'mnt Data'!J443","v":0},{"$f":"'mnt Data'!K443","v":0},{"$f":"'mnt Data'!L443","v":0},{"$f":"'mnt Data'!M443","v":0},{"$f":"'mnt Data'!N443","v":0},{"$f":"'mnt Data'!O443","v":0},{"$f":"'mnt Data'!P443","v":0},{"$f":"'mnt Data'!Q443","v":0},{"$f":"'mnt Data'!R443","v":0},{"$f":"'mnt Data'!S443","v":0},{"$f":"'mnt Data'!T443","v":0},{"$f":"'mnt Data'!U443","v":0},{"$f":"'mnt Data'!V443","v":0},{"$f":"'mnt Data'!W443","v":0},{"$f":"'mnt Data'!X443","v":0},{"$f":"'mnt Data'!Y443","v":0},{"$f":"'mnt Data'!Z443","v":0},{"$f":"'mnt Data'!AA443","v":0},{"$f":"'mnt Data'!AB443","v":0},{"$f":"'mnt Data'!AC443","v":0},{"$f":"'mnt Data'!AD443","v":0},{"$f":"'mnt Data'!AE443","v":0},{"$f":"'mnt Data'!AF443","v":0},{"$f":"'mnt Data'!AG443","v":0},{"$f":"'mnt Data'!AH443","v":0},{"$f":"'mnt Data'!AI443","v":0},{"$f":"'mnt Data'!AJ443","v":0},{"$f":"'mnt Data'!AK443","v":0}]
[440,0,0,"No Gs",0,"No Gs","No Gs","Gs is needed","Gs is needed","Gs is needed","Need Max and Min","Need Max and Min","Fail",null,{"$f":"'mnt Data'!A444","v":0},{"$f":"'mnt Data'!B444","v":0},{"$f":"'mnt Data'!C444","v":0},{"$f":"'mnt Data'!D444","v":0},{"$f":"'mnt Data'!E444","v":0},{"$f":"'mnt Data'!F444","v":0},{"$f":"'mnt Data'!G444","v":0},{"$f":"'mnt Data'!H444","v":0},{"$f":"'mnt Data'!I444","v":0},{"$f":"'mnt Data'!J444","v":0},{"$f":"'mnt Data'!K444","v":0},{"$f":"'mnt Data'!L444","v":0},{"$f":"'mnt Data'!M444","v":0},{"$f":"'mnt Data'!N444","v":0},{"$f":"'mnt Data'!O444","v":0},{"$f":"'mnt Data'!P444","v":0},{"$f":"'mnt Data'!Q444","v":0},{"$f":"'mnt Data'!R444","v":0},{"$f":"'mnt Data'!S444","v":0},{"$f":"'mnt Data'!T444","v":0},{"$f":"'mnt Data'!U444","v":0},{"$f":"'mnt Data'!V444","v":0},{"$f":"'mnt Data'!W444","v":0},{"$f":"'mnt Data'!X444","v":0},{"$f":"'mnt Data'!Y444","v":0},{"$f":"'mnt Data'!Z444","v":0},{"$f":"'mnt Data'!AA444","v":0},{"$f":"'mnt Data'!AB444","v":0},{"$f":"'mnt Data'!AC444","v":0},{"$f":"'mnt Data'!AD444","v":0},{"$f":"'mnt Data'!AE444","v":0},{"$f":"'mnt Data'!AF444","v":0},{"$f":"'mnt Data'!AG444","v":0},{"$f":"'mnt Data'!AH444","v":0},{"$f":"'mnt Data'!AI444","v":0},{"$f":"'mnt Data'!AJ444","v":0},{"$f":"'mnt Data'!AK444","v":0}]
[441,0,0,"No Gs",0,"No Gs","No Gs","Gs is needed","Gs is needed","Gs is needed","Need Max and Min","Need Max and Min","Fail",null,{"$f":"'mnt Data'!A445","v":0},{"$f":"'mnt Data'!B445","v":0},{"$f":"'mnt Data'!C445","v":0},{"$f":"'mnt Data'!D445","v":0},{"$f":"'mnt Data'!E445","v":0},{"$f":"'mnt Data'!F445","v":0},{"$f":"'mnt Data'!G445","v":0},{"$f":"'mnt Data'!H445","v":0},{"$f":"'mnt Data'!I445","v":0},{"$f":"'mnt Data'!J445","v":0},{"$f":"'mnt Data'!K445","v":0},{"$f":"'mnt Data'!L445","v":0},{"$f":"'mnt Data'!M445","v":0},{"$f":"'mnt Data'!N445","v":0},{"$f":"'mnt Data'!O445","v":0},{"$f":"'mnt Data'!P445","v":0},{"$f":"'mnt Data'!Q445","v":0},{"$f":"'mnt Data'!R445","v":0},{"$f":"'mnt Data'!S445","v":0},{"$f":"'mnt Data'!T445","v":0},{"$f":"'mnt Data'!U445","v":0},{"$f":"'mnt Data'!V445","v":0},{"$f":"'mnt Data'!W445","v":0},{"$f":"'mnt Data'!X445","v":0},{"$f":"'mnt Data'!Y445","v":0},{"$f":"'mnt Data'!Z445","v":0},{"$f":"'mnt Data'!AA445","v":0},{"$f":"'mnt Data'!AB445","v":0},{"$f":"'mnt Data'!AC445","v":0},{"$f":"'mnt Data'!AD445","v":0},{"$f":"'mnt Data'!AE445","v":0},{"$f":"'mnt Data'!AF445","v":0},{"$f":"'mnt Data'!AG445","v":0},{"$f":"'mnt Data'!AH445","v":0},{"$f":"'mnt Data'!AI445","v":0},{"$f":"'mnt Data'!AJ445","v":0},{"$f":"'mnt Data'!AK445","v":0}]
[442,0,0,"No Gs",0,"No Gs","No Gs","Gs is needed","Gs is needed","Gs is needed","Need Max and Min","Need Max and Min","Fail",null,{"$f":"'mnt Data'!A446","v":0},{"$f":"'mnt Data'!B446","v":0},{"$f":"'mnt Data'!C446","v":0},{"$f":"'mnt Data'!D446","v":0},{"$f":"'mnt Data'!E446","v":0},{"$f":"'mnt Data'!F446","v":0},{"$f":"'mnt Data'!G446","v":0},{"$f":"'mnt Data'!H446","v":0},{"$f":"'mnt Data'!I446","v":0},{"$f":"'mnt Data'!J446","v":0},{"$f":"'mnt Data'!K446","v":0},{"$f":"'mnt Data'!L446","v":0},{"$f":"'mnt Data'!M446","v":0},{"$f":"'mnt Data'!N446","v":0},{"$f":"'mnt Data'!O446","v":0},{"$f":"'mnt Data'!P446","v":0},{"$f":"'mnt Data'!Q446","v":0},{"$f":"'mnt Data'!R446","v":0},{"$f":"'mnt Data'!S446","v":0},{"$f":"'mnt Data'!T446","v":0},{"$f":"'mnt Data'!U446","v":0},{"$f":"'mnt Data'!V446","v":0},{"$f":"'mnt Data'!W446","v":0},{"$f":"'mnt Data'!X446","v":0},{"$f":"'mnt Data'!Y446","v":0},{"$f":"'mnt Data'!Z446","v":0},{"$f":"'mnt Data'!AA446","v":0},{"$f":"'mnt Data'!AB446","v":0},{"$f":"'mnt Data'!AC446","v":0},{"$f":"'mnt Data'!AD446","v":0},{"$f":"'mnt Data'!AE446","v":0},{"$f":"'mnt Data'!AF446","v":0},{"$f":"'mnt Data'!AG446","v":0},{"$f":"'mnt Data'!AH446","v":0},{"$f":"'mnt Data'!AI446","v":0},{"$f":"'mnt Data'!AJ446","v":0},{"$f":"'mnt Data'!AK446","v":0}]
[443,0,0,"No Gs",0,"No Gs","No Gs","Gs is needed","Gs is needed","Gs is needed","Need Max and Min","Need Max and Min","Fail",null,{"$f":"'mnt Data'!A447","v":0},{"$f":"'mnt Data'!B447","v":0},{"$f":"'mnt Data'!C447","v":0},{"$f":"'mnt Data'!D447","v":0},{"$f":"'mnt Data'!E447","v":0},{"$f":"'mnt Data'!F447","v":0},{"$f":"'mnt Data'!G447","v":0},{"$f":"'mnt Data'!H447","v":0},{"$f":"'mnt Data'!I447","v":0},{"$f":"'mnt Data'!J447","v":0},{"$f":"'mnt Data'!K447","v":0},{"$f":"'mnt Data'!L447","v":0},{"$f":"'mnt Data'!M447","v":0},{"$f":"'mnt Data'!N447","v":0},{"$f":"'mnt Data'!O447","v":0},{"$f":"'mnt Data'!P447","v":0},{"$f":"'mnt Data'!Q447","v":0},{"$f":"'mnt Data'!R447","v":0},{"$f":"'mnt Data'!S447","v":0},{"$f":"'mnt Data'!T447","v":0},{"$f":"'mnt Data'!U447","v":0},{"$f":"'mnt Data'!V447","v":0},{"$f":"'mnt Data'!W447","v":0},{"$f":"'mnt Data'!X447","v":0},{"$f":"'mnt Data'!Y447","v":0},{"$f":"'mnt Data'!Z447","v":0},{"$f":"'mnt Data'!AA447","v":0},{"$f":"'mnt Data'!AB447","v":0},{"$f":"'mnt Data'!AC447","v":0},{"$f":"'mnt Data'!AD447","v":0},{"$f":"'mnt Data'!AE447","v":0},{"$f":"'mnt Data'!AF447","v":0},{"$f":"'mnt Data'!AG447","v":0},{"$f":"'mnt Data'!AH447","v":0},{"$f":"'mnt Data'!AI447","v":0},{"$f":"'mnt Data'!AJ447","v":0},{"$f":"'mnt Data'!AK447","v":0}]
[444,0,0,"No Gs",0,"No Gs","No Gs","Gs is needed","Gs is needed","Gs is needed","Need Max and Min","Need Max and Min","Fail",null,{"$f":"'mnt Data'!A448","v":0},{"$f":"'mnt Data'!B448","v":0},{"$f":"'mnt Data'!C448","v":0},{"$f":"'mnt Data'!D448","v":0},{"$f":"'mnt Data'!E448","v":0},{"$f":"'mnt Data'!F448","v":0},{"$f":"'mnt Data'!G448","v":0},{"$f":"'mnt Data'!H448","v":0},{"$f":"'mnt Data'!I448","v":0},{"$f":"'mnt Data'!J448","v":0},{"$f":"'mnt Data'!K448","v":0},{"$f":"'mnt Data'!L448","v":0},{"$f":"'mnt Data'!M448","v":0},{"$f":"'mnt Data'!N448","v":0},{"$f":"'mnt Data'!O448","v":0},{"$f":"'mnt Data'!P448","v":0},{"$f":"'mnt Data'!Q448","v":0},{"$f":"'mnt Data'!R448","v":0},{"$f":"'mnt Data'!S448","v":0},{"$f":"'mnt Data'!T448","v":0},{"$f":"'mnt Data'!U448","v":0},{"$f":"'mnt Data'!V448","v":0},{"$f":"'mnt Data'!W448","v":0},{"$f":"'mnt Data'!X448","v":0},{"$f":"'mnt Data'!Y448","v":0},{"$f":"'mnt Data'!Z448","v":0},{"$f":"'mnt Data'!AA448","v":0},{"$f":"'mnt Data'!AB448","v":0},{"$f":"'mnt Data'!AC448","v":0},{"$f":"'mnt Data'!AD448","v":0},{"$f":"'mnt Data'!AE448","v":0},{"$f":"'mnt Data'!AF448","v":0},{"$f":"'mnt Data'!AG448","v":0},{"$f":"'mnt Data'!AH448","v":0},{"$f":"'mnt Data'!AI448","v":0},{"$f":"'mnt Data'!AJ448","v":0},{"$f":"'mnt Data'!AK448","v":0}]
[445,0,0,"No Gs",0,"No Gs","No Gs","Gs is needed","Gs is needed","Gs is needed","Need Max and Min","Need Max and Min","Fail",null,{"$f":"'mnt Data'!A449","v":0},{"$f":"'mnt Data'!B449","v":0},{"$f":"'mnt Data'!C449","v":0},{"$f":"'mnt Data'!D449","v":0},{"$f":"'mnt Data'!E449","v":0},{"$f":"'mnt Data'!F449","v":0},{"$f":"'mnt Data'!G449","v":0},{"$f":"'mnt Data'!H449","v":0},{"$f":"'mnt Data'!I449","v":0},{"$f":"'mnt Data'!J449","v":0},{"$f":"'mnt Data'!K449","v":0},{"$f":"'mnt Data'!L449","v":0},{"$f":"'mnt Data'!M449","v":0},{"$f":"'mnt Data'!N449","v":0},{"$f":"'mnt Data'!O449","v":0},{"$f":"'mnt Data'!P449","v":0},{"$f":"'mnt Data'!Q449","v":0},{"$f":"'mnt Data'!R449","v":0},{"$f":"'mnt Data'!S449","v":0},{"$f":"'mnt Data'!T449","v":0},{"$f":"'mnt Data'!U449","v":0},{"$f":"'mnt Data'!V449","v":0},{"$f":"'mnt Data'!W449","v":0},{"$f":"'mnt Data'!X449","v":0},{"$f":"'mnt Data'!Y449","v":0},{"$f":"'mnt Data'!Z449","v":0},{"$f":"'mnt Data'!AA449","v":0},{"$f":"'mnt Data'!AB449","v":0},{"$f":"'mnt Data'!AC449","v":0},{"$f":"'mnt Data'!AD449","v":0},{"$f":"'mnt Data'!AE449","v":0},{"$f":"'mnt Data'!AF449","v":0},{"$f":"'mnt Data'!AG449","v":0},{"$f":"'mnt Data'!AH449","v":0},{"$f":"'mnt Data'!AI449","v":0},{"$f":"'mnt Data'!AJ449","v":0},{"$f":"'mnt Data'!AK449","v":0}]
[446,0,0,"No Gs",0,"No Gs","No Gs","Gs is needed","Gs is needed","Gs is needed","Need Max and Min","Need Max and Min","Fail",null,{"$f":"'mnt Data'!A450","v":0},{"$f":"'mnt Data'!B450","v":0},{"$f":"'mnt Data'!C450","v":0},{"$f":"'mnt Data'!D450","v":0},{"$f":"'mnt Data'!E450","v":0},{"$f":"'mnt Data'!F450","v":0},{"$f":"'mnt Data'!G450","v":0},{"$f":"'mnt Data'!H450","v":0},{"$f":"'mnt Data'!I450","v":0},{"$f":"'mnt Data'!J450","v":0},{"$f":"'mnt Data'!K450","v":0},{"$f":"'mnt Data'!L450","v":0},{"$f":"'mnt Data'!M450","v":0},{"$f":"'mnt Data'!N450","v":0},{"$f":"'mnt Data'!O450","v":0},{"$f":"'mnt Data'!P450","v":0},{"$f":"'mnt Data'!Q450","v":0},{"$f":"'mnt Data'!R450","v":0},{"$f":"'mnt Data'!S450","v":0},{"$f":"'mnt Data'!T450","v":0},{"$f":"'mnt Data'!U450","v":0},{"$f":"'mnt Data'!V450","v":0},{"$f":"'mnt Data'!W450","v":0},{"$f":"'mnt Data'!X450","v":0},{"$f":"'mnt Data'!Y450","v":0},{"$f":"'mnt Data'!Z450","v":0},{"$f":"'mnt Data'!AA450","v":0},{"$f":"'mnt Data'!AB450","v":0},{"$f":"'mnt Data'!AC450","v":0},{"$f":"'mnt Data'!AD450","v":0},{"$f":"'mnt Data'!AE450","v":0},{"$f":"'mnt Data'!AF450","v":0},{"$f":"'mnt Data'!AG450","v":0},{"$f":"'mnt Data'!AH450","v":0},{"$f":"'mnt Data'!AI450","v":0},{"$f":"'mnt Data'!AJ450","v":0},{"$f":"'mnt Data'!AK450","v":0}]
[447,0,0,"No Gs",0,"No Gs","No Gs","Gs is needed","Gs is needed","Gs is needed","Need Max and Min","Need Max and Min","Fail",null,{"$f":"'mnt Data'!A451","v":0},{"$f":"'mnt Data'!B451","v":0},{"$f":"'mnt Data'!C451","v":0},{"$f":"'mnt Data'!D451","v":0},{"$f":"'mnt Data'!E451","v":0},{"$f":"'mnt Data'!F451","v":0},{"$f":"'mnt Data'!G451","v":0},{"$f":"'mnt Data'!H451","v":0},{"$f":"'mnt Data'!I451","v":0},{"$f":"'mnt Data'!J451","v":0},{"$f":"'mnt Data'!K451","v":0},{"$f":"'mnt Data'!L451","v":0},{"$f":"'mnt Data'!M451","v":0},{"$f":"'mnt Data'!N451","v":0},{"$f":"'mnt Data'!O451","v":0},{"$f":"'mnt Data'!P451","v":0},{"$f":"'mnt Data'!Q451","v":0},{"$f":"'mnt Data'!R451","v":0},{"$f":"'mnt Data'!S451","v":0},{"$f":"'mnt Data'!T451","v":0},{"$f":"'mnt Data'!U451","v":0},{"$f":"'mnt Data'!V451","v":0},{"$f":"'mnt Data'!W451","v":0},{"$f":"'mnt Data'!X451","v":0},{"$f":"'mnt Data'!Y451","v":0},{"$f":"'mnt Data'!Z451","v":0},{"$f":"'mnt Data'!AA451","v":0},{"$f":"'mnt Data'!AB451","v":0},{"$f":"'mnt Data'!AC451","v":0},{"$f":"'mnt Data'!AD451","v":0},{"$f":"'mnt Data'!AE451","v":0},{"$f":"'mnt Data'!AF451","v":0},{"$f":"'mnt Data'!AG451","v":0},{"$f":"'mnt Data'!AH451","v":0},{"$f":"'mnt Data'!AI451","v":0},{"$f":"'mnt Data'!AJ451","v":0},{"$f":"'mnt Data'!AK451","v":0}]
[448,0,0,"No Gs",0,"No Gs","No Gs","Gs is needed","Gs is needed","Gs is needed","Need Max and Min","Need Max and Min","Fail",null,{"$f":"'mnt Data'!A452","v":0},{"$f":"'mnt Data'!B452","v":0},{"$f":"'mnt Data'!C452","v":0},{"$f":"'mnt Data'!D452","v":0},{"$f":"'mnt Data'!E452","v":0},{"$f":"'mnt Data'!F452","v":0},{"$f":"'mnt Data'!G452","v":0},{"$f":"'mnt Data'!H452","v":0},{"$f":"'mnt Data'!I452","v":0},{"$f":"'mnt Data'!J452","v":0},{"$f":"'mnt Data'!K452","v":0},{"$f":"'mnt Data'!L452","v":0},{"$f":"'mnt Data'!M452","v":0},{"$f":"'mnt Data'!N452","v":0},{"$f":"'mnt Data'!O452","v":0},{"$f":"'mnt Data'!P452","v":0},{"$f":"'mnt Data'!Q452","v":0},{"$f":"'mnt Data'!R452","v":0},{"$f":"'mnt Data'!S452","v":0},{"$f":"'mnt Data'!T452","v":0},{"$f":"'mnt Data'!U452","v":0},{"$f":"'mnt Data'!V452","v":0},{"$f":"'mnt Data'!W452","v":0},{"$f":"'mnt Data'!X452","v":0},{"$f":"'mnt Data'!Y452","v":0},{"$f":"'mnt Data'!Z452","v":0},{"$f":"'mnt Data'!AA452","v":0},{"$f":"'mnt Data'!AB452","v":0},{"$f":"'mnt Data'!AC452","v":0},{"$f":"'mnt Data'!AD452","v":0},{"$f":"'mnt Data'!AE452","v":0},{"$f":"'mnt Data'!AF452","v":0},{"$f":"'mnt Data'!AG452","v":0},{"$f":"'mnt Data'!AH452","v":0},{"$f":"'mnt Data'!AI452","v":0},{"$f":"'mnt Data'!AJ452","v":0},{"$f":"'mnt Data'!AK452","v":0}]
[449,0,0,{"$f":"IFERROR(B450/(Gs*(IF(O450>1000,998,62.4))),\"No Gs\")","v":"No Gs"},0,"No Gs","No Gs","Gs is needed","Gs is needed","Gs is needed",{"$f":"IFERROR((100*(DMax*(O450-DMin))/(O450*(DMax-DMin))),\"Need Max and Min\")","v":"Need Max and Min"},{"$f":"IF(K450=\"Need Max and Min\",K450,(100*((O450-DMin)/(DMax-DMin))))","v":"Need Max and Min"},{"$f":"IF((Min+Max)=0,\"Need Max and Min Density\",IF(AND(S450>Min,S450<Max),\"Pass\",\"Fail\"))","v":"Fail"},null,{"$f":"'mnt Data'!A453","v":0},{"$f":"'mnt Data'!B453","v":0},{"$f":"'mnt Data'!C453","v":0},{"$f":"'mnt Data'!D453","v":0},{"$f":"'mnt Data'!E453","v":0},{"$f":"'mnt Data'!F453","v":0},{"$f":"'mnt Data'!G453","v":0},{"$f":"'mnt Data'!H453","v":0},{"$f":"'mnt Data'!I453","v":0},{"$f":"'mnt Data'!J453","v":0},{"$f":"'mnt Data'!K453","v":0},{"$f":"'mnt Data'!L453","v":0},{"$f":"'mnt Data'!M453","v":0},{"$f":"'mnt Data'!N453","v":0},{"$f":"'mnt Data'!O453","v":0},{"$f":"'mnt Data'!P453","v":0},{"$f":"'mnt Data'!Q453","v":0},{"$f":"'mnt Data'!R453","v":0},{"$f":"'mnt Data'!S453","v":0},{"$f":"'mnt Data'!T453","v":0},{"$f":"'mnt Data'!U453","v":0},{"$f":"'mnt Data'!V453","v":0},{"$f":"'mnt Data'!W453","v":0},{"$f":"'mnt Data'!X453","v":0},{"$f":"'mnt Data'!Y453","v":0},{"$f":"'mnt Data'!Z453","v":0},{"$f":"'mnt Data'!AA453","v":0},{"$f":"'mnt Data'!AB453","v":0},{"$f":"'mnt Data'!AC453","v":0},{"$f":"'mnt Data'!AD453","v":0},{"$f":"'mnt Data'!AE453","v":0},{"$f":"'mnt Data'!AF453","v":0},{"$f":"'mnt Data'!AG453","v":0},{"$f":"'mnt Data'!AH453","v":0},{"$f":"'mnt Data'!AI453","v":0},{"$f":"'mnt Data'!AJ453","v":0},{"$f":"'mnt Data'!AK453","v":0}]
[450,0,0,"No Gs",{"$f":"C451/(IF(O451>1000,998,62.4))","v":0},{"$f":"IFERROR(1-D451-E451,\"No Gs\")","v":"No Gs"},{"$f":"IFERROR(E451+F451,\"No Gs\")","v":"No Gs"},"Gs is needed","Gs is needed","Gs is needed","Need Max and Min","Need Max and Min","Fail",null,{"$f":"'mnt Data'!A454","v":0},{"$f":"'mnt Data'!B454","v":0},{"$f":"'mnt Data'!C454","v":0},{"$f":"'mnt Data'!D454","v":0},{"$f":"'mnt Data'!E454","v":0},{"$f":"'mnt Data'!F454","v":0},{"$f":"'mnt Data'!G454","v":0},{"$f":"'mnt Data'!H454","v":0},{"$f":"'mnt Data'!I454","v":0},{"$f":"'mnt Data'!J454","v":0},{"$f":"'mnt Data'!K454","v":0},{"$f":"'mnt Data'!L454","v":0},{"$f":"'mnt Data'!M454","v":0},{"$f":"'mnt Data'!N454","v":0},{"$f":"'mnt Data'!O454","v":0},{"$f":"'mnt Data'!P454","v":0},{"$f":"'mnt Data'!Q454","v":0},{"$f":"'mnt Data'!R454","v":0},{"$f":"'mnt Data'!S454","v":0},{"$f":"'mnt Data'!T454","v":0},{"$f":"'mnt Data'!U454","v":0},{"$f":"'mnt Data'!V454","v":0},{"$f":"'mnt Data'!W454","v":0},{"$f":"'mnt Data'!X454","v":0},{"$f":"'mnt Data'!Y454","v":0},{"$f":"'mnt Data'!Z454","v":0},{"$f":"'mnt Data'!AA454","v":0},{"$f":"'mnt Data'!AB454","v":0},{"$f":"'mnt Data'!AC454","v":0},{"$f":"'mnt Data'!AD454","v":0},{"$f":"'mnt Data'!AE454","v":0},{"$f":"'mnt Data'!AF454","v":0},{"$f":"'mnt Data'!AG454","v":0},{"$f":"'mnt Data'!AH454","v":0},{"$f":"'mnt Data'!AI454","v":0},{"$f":"'mnt Data'!AJ454","v":0},{"$f":"'mnt Data'!AK454","v":0}]
[451,0,0,"No Gs",0,"No Gs","No Gs","Gs is needed","Gs is needed","Gs is needed","Need Max and Min","Need Max and Min","Fail",null,{"$f":"'mnt Data'!A455","v":0},{"$f":"'mnt Data'!B455","v":0},{"$f":"'mnt Data'!C455","v":0},{"$f":"'mnt Data'!D455","v":0},{"$f":"'mnt Data'!E455","v":0},{"$f":"'mnt Data'!F455","v":0},{"$f":"'mnt Data'!G455","v":0},{"$f":"'mnt Data'!H455","v":0},{"$f":"'mnt Data'!I455","v":0},{"$f":"'mnt Data'!J455","v":0},{"$f":"'mnt Data'!K455","v":0},{"$f":"'mnt Data'!L455","v":0},{"$f":"'mnt Data'!M455","v":0},{"$f":"'mnt Data'!N455","v":0},{"$f":"'mnt Data'!O455","v":0},{"$f":"'mnt Data'!P455","v":0},{"$f":"'mnt Data'!Q455","v":0},{"$f":"'mnt Data'!R455","v":0},{"$f":"'mnt Data'!S455","v":0},{"$f":"'mnt Data'!T455","v":0},{"$f":"'mnt Data'!U455","v":0},{"$f":"'mnt Data'!V455","v":0},{"$f":"'mnt Data'!W455","v":0},{"$f":"'mnt Data'!X455","v":0},{"$f":"'mnt Data'!Y455","v":0},{"$f":"'mnt Data'!Z455","v":0},{"$f":"'mnt Data'!AA455","v":0},{"$f":"'mnt Data'!AB455","v":0},{"$f":"'mnt Data'!AC455","v":0},{"$f":"'mnt Data'!AD455","v":0},{"$f":"'mnt Data'!AE455","v":0},{"$f":"'mnt Data'!AF455","v":0},{"$f":"'mnt Data'!AG455","v":0},{"$f":"'mnt Data'!AH455","v":0},{"$f":"'mnt Data'!AI455","v":0},{"$f":"'mnt Data'!AJ455","v":0},{"$f":"'mnt Data'!AK455","v":0}]
[452,0,0,"No Gs",0,"No Gs","No Gs","Gs is needed","Gs is needed","Gs is needed","Need Max and Min","Need Max and Min","Fail",null,{"$f":"'mnt Data'!A456","v":0},{"$f":"'mnt Data'!B456","v":0},{"$f":"'mnt Data'!C456","v":0},{"$f":"'mnt Data'!D456","v":0},{"$f":"'mnt Data'!E456","v":0},{"$f":"'mnt Data'!F456","v":0},{"$f":"'mnt Data'!G456","v":0},{"$f":"'mnt Data'!H456","v":0},{"$f":"'mnt Data'!I456","v":0},{"$f":"'mnt Data'!J456","v":0},{"$f":"'mnt Data'!K456","v":0},{"$f":"'mnt Data'!L456","v":0},{"$f":"'mnt Data'!M456","v":0},{"$f":"'mnt Data'!N456","v":0},{"$f":"'mnt Data'!O456","v":0},{"$f":"'mnt Data'!P456","v":0},{"$f":"'mnt Data'!Q456","v":0},{"$f":"'mnt Data'!R456","v":0},{"$f":"'mnt Data'!S456","v":0},{"$f":"'mnt Data'!T456","v":0},{"$f":"'mnt Data'!U456","v":0},{"$f":"'mnt Data'!V456","v":0},{"$f":"'mnt Data'!W456","v":0},{"$f":"'mnt Data'!X456","v":0},{"$f":"'mnt Data'!Y456","v":0},{"$f":"'mnt Data'!Z456","v":0},{"$f":"'mnt Data'!AA456","v":0},{"$f":"'mnt Data'!AB456","v":0},{"$f":"'mnt Data'!AC456","v":0},{"$f":"'mnt Data'!AD456","v":0},{"$f":"'mnt Data'!AE456","v":0},{"$f":"'mnt Data'!AF456","v":0},{"$f":"'mnt Data'!AG456","v":0},{"$f":"'mnt Data'!AH456","v":0},{"$f":"'mnt Data'!AI456","v":0},{"$f":"'mnt Data'!AJ456","v":0},{"$f":"'mnt Data'!AK456","v":0}]
[453,0,0,"No Gs",0,"No Gs","No Gs","Gs is needed","Gs is needed","Gs is needed","Need Max and Min","Need Max and Min","Fail",null,{"$f":"'mnt Data'!A457","v":0},{"$f":"'mnt Data'!B457","v":0},{"$f":"'mnt Data'!C457","v":0},{"$f":"'mnt Data'!D457","v":0},{"$f":"'mnt Data'!E457","v":0},{"$f":"'mnt Data'!F457","v":0},{"$f":"'mnt Data'!G457","v":0},{"$f":"'mnt Data'!H457","v":0},{"$f":"'mnt Data'!I457","v":0},{"$f":"'mnt Data'!J457","v":0},{"$f":"'mnt Data'!K457","v":0},{"$f":"'mnt Data'!L457","v":0},{"$f":"'mnt Data'!M457","v":0},{"$f":"'mnt Data'!N457","v":0},{"$f":"'mnt Data'!O457","v":0},{"$f":"'mnt Data'!P457","v":0},{"$f":"'mnt Data'!Q457","v":0},{"$f":"'mnt Data'!R457","v":0},{"$f":"'mnt Data'!S457","v":0},{"$f":"'mnt Data'!T457","v":0},{"$f":"'mnt Data'!U457","v":0},{"$f":"'mnt Data'!V457","v":0},{"$f":"'mnt Data'!W457","v":0},{"$f":"'mnt Data'!X457","v":0},{"$f":"'mnt Data'!Y457","v":0},{"$f":"'mnt Data'!Z457","v":0},{"$f":"'mnt Data'!AA457","v":0},{"$f":"'mnt Data'!AB457","v":0},{"$f":"'mnt Data'!AC457","v":0},{"$f":"'mnt Data'!AD457","v":0},{"$f":"'mnt Data'!AE457","v":0},{"$f":"'mnt Data'!AF457","v":0},{"$f":"'mnt Data'!AG457","v":0},{"$f":"'mnt Data'!AH457","v":0},{"$f":"'mnt Data'!AI457","v":0},{"$f":"'mnt Data'!AJ457","v":0},{"$f":"'mnt Data'!AK457","v":0}]
[454,0,0,"No Gs",0,"No Gs","No Gs","Gs is needed","Gs is needed","Gs is needed","Need Max and Min","Need Max and Min","Fail",null,{"$f":"'mnt Data'!A458","v":0},{"$f":"'mnt Data'!B458","v":0},{"$f":"'mnt Data'!C458","v":0},{"$f":"'mnt Data'!D458","v":0},{"$f":"'mnt Data'!E458","v":0},{"$f":"'mnt Data'!F458","v":0},{"$f":"'mnt Data'!G458","v":0},{"$f":"'mnt Data'!H458","v":0},{"$f":"'mnt Data'!I458","v":0},{"$f":"'mnt Data'!J458","v":0},{"$f":"'mnt Data'!K458","v":0},{"$f":"'mnt Data'!L458","v":0},{"$f":"'mnt Data'!M458","v":0},{"$f":"'mnt Data'!N458","v":0},{"$f":"'mnt Data'!O458","v":0},{"$f":"'mnt Data'!P458","v":0},{"$f":"'mnt Data'!Q458","v":0},{"$f":"'mnt Data'!R458","v":0},{"$f":"'mnt Data'!S458","v":0},{"$f":"'mnt Data'!T458","v":0},{"$f":"'mnt Data'!U458","v":0},{"$f":"'mnt Data'!V458","v":0},{"$f":"'mnt Data'!W458","v":0},{"$f":"'mnt Data'!X458","v":0},{"$f":"'mnt Data'!Y458","v":0},{"$f":"'mnt Data'!Z458","v":0},{"$f":"'mnt Data'!AA458","v":0},{"$f":"'mnt Data'!AB458","v":0},{"$f":"'mnt Data'!AC458","v":0},{"$f":"'mnt Data'!AD458","v":0},{"$f":"'mnt Data'!AE458","v":0},{"$f":"'mnt Data'!AF458","v":0},{"$f":"'mnt Data'!AG458","v":0},{"$f":"'mnt Data'!AH458","v":0},{"$f":"'mnt Data'!AI458","v":0},{"$f":"'mnt Data'!AJ458","v":0},{"$f":"'mnt Data'!AK458","v":0}]
[455,0,0,"No Gs",0,"No Gs","No Gs","Gs is needed","Gs is needed","Gs is needed","Need Max and Min","Need Max and Min","Fail",null,{"$f":"'mnt Data'!A459","v":0},{"$f":"'mnt Data'!B459","v":0},{"$f":"'mnt Data'!C459","v":0},{"$f":"'mnt Data'!D459","v":0},{"$f":"'mnt Data'!E459","v":0},{"$f":"'mnt Data'!F459","v":0},{"$f":"'mnt Data'!G459","v":0},{"$f":"'mnt Data'!H459","v":0},{"$f":"'mnt Data'!I459","v":0},{"$f":"'mnt Data'!J459","v":0},{"$f":"'mnt Data'!K459","v":0},{"$f":"'mnt Data'!L459","v":0},{"$f":"'mnt Data'!M459","v":0},{"$f":"'mnt Data'!N459","v":0},{"$f":"'mnt Data'!O459","v":0},{"$f":"'mnt Data'!P459","v":0},{"$f":"'mnt Data'!Q459","v":0},{"$f":"'mnt Data'!R459","v":0},{"$f":"'mnt Data'!S459","v":0},{"$f":"'mnt Data'!T459","v":0},{"$f":"'mnt Data'!U459","v":0},{"$f":"'mnt Data'!V459","v":0},{"$f":"'mnt Data'!W459","v":0},{"$f":"'mnt Data'!X459","v":0},{"$f":"'mnt Data'!Y459","v":0},{"$f":"'mnt Data'!Z459","v":0},{"$f":"'mnt Data'!AA459","v":0},{"$f":"'mnt Data'!AB459","v":0},{"$f":"'mnt Data'!AC459","v":0},{"$f":"'mnt Data'!AD459","v":0},{"$f":"'mnt Data'!AE459","v":0},{"$f":"'mnt Data'!AF459","v":0},{"$f":"'mnt Data'!AG459","v":0},{"$f":"'mnt Data'!AH459","v":0},{"$f":"'mnt Data'!AI459","v":0},{"$f":"'mnt Data'!AJ459","v":0},{"$f":"'mnt Data'!AK459","v":0}]
[456,0,0,"No Gs",0,"No Gs","No Gs","Gs is needed","Gs is needed","Gs is needed","Need Max and Min","Need Max and Min","Fail",null,{"$f":"'mnt Data'!A460","v":0},{"$f":"'mnt Data'!B460","v":0},{"$f":"'mnt Data'!C460","v":0},{"$f":"'mnt Data'!D460","v":0},{"$f":"'mnt Data'!E460","v":0},{"$f":"'mnt Data'!F460","v":0},{"$f":"'mnt Data'!G460","v":0},{"$f":"'mnt Data'!H460","v":0},{"$f":"'mnt Data'!I460","v":0},{"$f":"'mnt Data'!J460","v":0},{"$f":"'mnt Data'!K460","v":0},{"$f":"'mnt Data'!L460","v":0},{"$f":"'mnt Data'!M460","v":0},{"$f":"'mnt Data'!N460","v":0},{"$f":"'mnt Data'!O460","v":0},{"$f":"'mnt Data'!P460","v":0},{"$f":"'mnt Data'!Q460","v":0},{"$f":"'mnt Data'!R460","v":0},{"$f":"'mnt Data'!S460","v":0},{"$f":"'mnt Data'!T460","v":0},{"$f":"'mnt Data'!U460","v":0},{"$f":"'mnt Data'!V460","v":0},{"$f":"'mnt Data'!W460","v":0},{"$f":"'mnt Data'!X460","v":0},{"$f":"'mnt Data'!Y460","v":0},{"$f":"'mnt Data'!Z460","v":0},{"$f":"'mnt Data'!AA460","v":0},{"$f":"'mnt Data'!AB460","v":0},{"$f":"'mnt Data'!AC460","v":0},{"$f":"'mnt Data'!AD460","v":0},{"$f":"'mnt Data'!AE460","v":0},{"$f":"'mnt Data'!AF460","v":0},{"$f":"'mnt Data'!AG460","v":0},{"$f":"'mnt Data'!AH460","v":0},{"$f":"'mnt Data'!AI460","v":0},{"$f":"'mnt Data'!AJ460","v":0},{"$f":"'mnt Data'!AK460","v":0}]
[457,0,0,"No Gs",0,"No Gs","No Gs","Gs is needed","Gs is needed","Gs is needed","Need Max and Min","Need Max and Min","Fail",null,{"$f":"'mnt Data'!A461","v":0},{"$f":"'mnt Data'!B461","v":0},{"$f":"'mnt Data'!C461","v":0},{"$f":"'mnt Data'!D461","v":0},{"$f":"'mnt Data'!E461","v":0},{"$f":"'mnt Data'!F461","v":0},{"$f":"'mnt Data'!G461","v":0},{"$f":"'mnt Data'!H461","v":0},{"$f":"'mnt Data'!I461","v":0},{"$f":"'mnt Data'!J461","v":0},{"$f":"'mnt Data'!K461","v":0},{"$f":"'mnt Data'!L461","v":0},{"$f":"'mnt Data'!M461","v":0},{"$f":"'mnt Data'!N461","v":0},{"$f":"'mnt Data'!O461","v":0},{"$f":"'mnt Data'!P461","v":0},{"$f":"'mnt Data'!Q461","v":0},{"$f":"'mnt Data'!R461","v":0},{"$f":"'mnt Data'!S461","v":0},{"$f":"'mnt Data'!T461","v":0},{"$f":"'mnt Data'!U461","v":0},{"$f":"'mnt Data'!V461","v":0},{"$f":"'mnt Data'!W461","v":0},{"$f":"'mnt Data'!X461","v":0},{"$f":"'mnt Data'!Y461","v":0},{"$f":"'mnt Data'!Z461","v":0},{"$f":"'mnt Data'!AA461","v":0},{"$f":"'mnt Data'!AB461","v":0},{"$f":"'mnt Data'!AC461","v":0},{"$f":"'mnt Data'!AD461","v":0},{"$f":"'mnt Data'!AE461","v":0},{"$f":"'mnt Data'!AF461","v":0},{"$f":"'mnt Data'!AG461","v":0},{"$f":"'mnt Data'!AH461","v":0},{"$f":"'mnt Data'!AI461","v":0},{"$f":"'mnt Data'!AJ461","v":0},{"$f":"'mnt Data'!AK461","v":0}]
[458,0,0,"No Gs",0,"No Gs","No Gs","Gs is needed","Gs is needed","Gs is needed","Need Max and Min","Need Max and Min","Fail",null,{"$f":"'mnt Data'!A462","v":0},{"$f":"'mnt Data'!B462","v":0},{"$f":"'mnt Data'!C462","v":0},{"$f":"'mnt Data'!D462","v":0},{"$f":"'mnt Data'!E462","v":0},{"$f":"'mnt Data'!F462","v":0},{"$f":"'mnt Data'!G462","v":0},{"$f":"'mnt Data'!H462","v":0},{"$f":"'mnt Data'!I462","v":0},{"$f":"'mnt Data'!J462","v":0},{"$f":"'mnt Data'!K462","v":0},{"$f":"'mnt Data'!L462","v":0},{"$f":"'mnt Data'!M462","v":0},{"$f":"'mnt Data'!N462","v":0},{"$f":"'mnt Data'!O462","v":0},{"$f":"'mnt Data'!P462","v":0},{"$f":"'mnt Data'!Q462","v":0},{"$f":"'mnt Data'!R462","v":0},{"$f":"'mnt Data'!S462","v":0},{"$f":"'mnt Data'!T462","v":0},{"$f":"'mnt Data'!U462","v":0},{"$f":"'mnt Data'!V462","v":0},{"$f":"'mnt Data'!W462","v":0},{"$f":"'mnt Data'!X462","v":0},{"$f":"'mnt Data'!Y462","v":0},{"$f":"'mnt Data'!Z462","v":0},{"$f":"'mnt Data'!AA462","v":0},{"$f":"'mnt Data'!AB462","v":0},{"$f":"'mnt Data'!AC462","v":0},{"$f":"'mnt Data'!AD462","v":0},{"$f":"'mnt Data'!AE462","v":0},{"$f":"'mnt Data'!AF462","v":0},{"$f":"'mnt Data'!AG462","v":0},{"$f":"'mnt Data'!AH462","v":0},{"$f":"'mnt Data'!AI462","v":0},{"$f":"'mnt Data'!AJ462","v":0},{"$f":"'mnt Data'!AK462","v":0}]
[459,0,0,"No Gs",0,"No Gs","No Gs","Gs is needed","Gs is needed","Gs is needed","Need Max and Min","Need Max and Min","Fail",null,{"$f":"'mnt Data'!A463","v":0},{"$f":"'mnt Data'!B463","v":0},{"$f":"'mnt Data'!C463","v":0},{"$f":"'mnt Data'!D463","v":0},{"$f":"'mnt Data'!E463","v":0},{"$f":"'mnt Data'!F463","v":0},{"$f":"'mnt Data'!G463","v":0},{"$f":"'mnt Data'!H463","v":0},{"$f":"'mnt Data'!I463","v":0},{"$f":"'mnt Data'!J463","v":0},{"$f":"'mnt Data'!K463","v":0},{"$f":"'mnt Data'!L463","v":0},{"$f":"'mnt Data'!M463","v":0},{"$f":"'mnt Data'!N463","v":0},{"$f":"'mnt Data'!O463","v":0},{"$f":"'mnt Data'!P463","v":0},{"$f":"'mnt Data'!Q463","v":0},{"$f":"'mnt Data'!R463","v":0},{"$f":"'mnt Data'!S463","v":0},{"$f":"'mnt Data'!T463","v":0},{"$f":"'mnt Data'!U463","v":0},{"$f":"'mnt Data'!V463","v":0},{"$f":"'mnt Data'!W463","v":0},{"$f":"'mnt Data'!X463","v":0},{"$f":"'mnt Data'!Y463","v":0},{"$f":"'mnt Data'!Z463","v":0},{"$f":"'mnt Data'!AA463","v":0},{"$f":"'mnt Data'!AB463","v":0},{"$f":"'mnt Data'!AC463","v":0},{"$f":"'mnt Data'!AD463","v":0},{"$f":"'mnt Data'!AE463","v":0},{"$f":"'mnt Data'!AF463","v":0},{"$f":"'mnt Data'!AG463","v":0},{"$f":"'mnt Data'!AH463","v":0},{"$f":"'mnt Data'!AI463","v":0},{"$f":"'mnt Data'!AJ463","v":0},{"$f":"'mnt Data'!AK463","v":0}]
[460,0,0,"No Gs",0,"No Gs","No Gs","Gs is needed","Gs is needed","Gs is needed","Need Max and Min","Need Max and Min","Fail",null,{"$f":"'mnt Data'!A464","v":0},{"$f":"'mnt Data'!B464","v":0},{"$f":"'mnt Data'!C464","v":0},{"$f":"'mnt Data'!D464","v":0},{"$f":"'mnt Data'!E464","v":0},{"$f":"'mnt Data'!F464","v":0},{"$f":"'mnt Data'!G464","v":0},{"$f":"'mnt Data'!H464","v":0},{"$f":"'mnt Data'!I464","v":0},{"$f":"'mnt Data'!J464","v":0},{"$f":"'mnt Data'!K464","v":0},{"$f":"'mnt Data'!L464","v":0},{"$f":"'mnt Data'!M464","v":0},{"$f":"'mnt Data'!N464","v":0},{"$f":"'mnt Data'!O464","v":0},{"$f":"'mnt Data'!P464","v":0},{"$f":"'mnt Data'!Q464","v":0},{"$f":"'mnt Data'!R464","v":0},{"$f":"'mnt Data'!S464","v":0},{"$f":"'mnt Data'!T464","v":0},{"$f":"'mnt Data'!U464","v":0},{"$f":"'mnt Data'!V464","v":0},{"$f":"'mnt Data'!W464","v":0},{"$f":"'mnt Data'!X464","v":0},{"$f":"'mnt Data'!Y464","v":0},{"$f":"'mnt Data'!Z464","v":0},{"$f":"'mnt Data'!AA464","v":0},{"$f":"'mnt Data'!AB464","v":0},{"$f":"'mnt Data'!AC464","v":0},{"$f":"'mnt Data'!AD464","v":0},{"$f":"'mnt Data'!AE464","v":0},{"$f":"'mnt Data'!AF464","v":0},{"$f":"'mnt Data'!AG464","v":0},{"$f":"'mnt Data'!AH464","v":0},{"$f":"'mnt Data'!AI464","v":0},{"$f":"'mnt Data'!AJ464","v":0},{"$f":"'mnt Data'!AK464","v":0}]
[461,0,0,"No Gs",0,"No Gs","No Gs","Gs is needed","Gs is needed","Gs is needed","Need Max and Min","Need Max and Min","Fail",null,{"$f":"'mnt Data'!A465","v":0},{"$f":"'mnt Data'!B465","v":0},{"$f":"'mnt Data'!C465","v":0},{"$f":"'mnt Data'!D465","v":0},{"$f":"'mnt Data'!E465","v":0},{"$f":"'mnt Data'!F465","v":0},{"$f":"'mnt Data'!G465","v":0},{"$f":"'mnt Data'!H465","v":0},{"$f":"'mnt Data'!I465","v":0},{"$f":"'mnt Data'!J465","v":0},{"$f":"'mnt Data'!K465","v":0},{"$f":"'mnt Data'!L465","v":0},{"$f":"'mnt Data'!M465","v":0},{"$f":"'mnt Data'!N465","v":0},{"$f":"'mnt Data'!O465","v":0},{"$f":"'mnt Data'!P465","v":0},{"$f":"'mnt Data'!Q465","v":0},{"$f":"'mnt Data'!R465","v":0},{"$f":"'mnt Data'!S465","v":0},{"$f":"'mnt Data'!T465","v":0},{"$f":"'mnt Data'!U465","v":0},{"$f":"'mnt Data'!V465","v":0},{"$f":"'mnt Data'!W465","v":0},{"$f":"'mnt Data'!X465","v":0},{"$f":"'mnt Data'!Y465","v":0},{"$f":"'mnt Data'!Z465","v":0},{"$f":"'mnt Data'!AA465","v":0},{"$f":"'mnt Data'!AB465","v":0},{"$f":"'mnt Data'!AC465","v":0},{"$f":"'mnt Data'!AD465","v":0},{"$f":"'mnt Data'!AE465","v":0},{"$f":"'mnt Data'!AF465","v":0},{"$f":"'mnt Data'!AG465","v":0},{"$f":"'mnt Data'!AH465","v":0},{"$f":"'mnt Data'!AI465","v":0},{"$f":"'mnt Data'!AJ465","v":0},{"$f":"'mnt Data'!AK465","v":0}]
[462,0,0,"No Gs",0,"No Gs","No Gs","Gs is needed","Gs is needed","Gs is needed","Need Max and Min","Need Max and Min","Fail",null,{"$f":"'mnt Data'!A466","v":0},{"$f":"'mnt Data'!B466","v":0},{"$f":"'mnt Data'!C466","v":0},{"$f":"'mnt Data'!D466","v":0},{"$f":"'mnt Data'!E466","v":0},{"$f":"'mnt Data'!F466","v":0},{"$f":"'mnt Data'!G466","v":0},{"$f":"'mnt Data'!H466","v":0},{"$f":"'mnt Data'!I466","v":0},{"$f":"'mnt Data'!J466","v":0},{"$f":"'mnt Data'!K466","v":0},{"$f":"'mnt Data'!L466","v":0},{"$f":"'mnt Data'!M466","v":0},{"$f":"'mnt Data'!N466","v":0},{"$f":"'mnt Data'!O466","v":0},{"$f":"'mnt Data'!P466","v":0},{"$f":"'mnt Data'!Q466","v":0},{"$f":"'mnt Data'!R466","v":0},{"$f":"'mnt Data'!S466","v":0},{"$f":"'mnt Data'!T466","v":0},{"$f":"'mnt Data'!U466","v":0},{"$f":"'mnt Data'!V466","v":0},{"$f":"'mnt Data'!W466","v":0},{"$f":"'mnt Data'!X466","v":0},{"$f":"'mnt Data'!Y466","v":0},{"$f":"'mnt Data'!Z466","v":0},{"$f":"'mnt Data'!AA466","v":0},{"$f":"'mnt Data'!AB466","v":0},{"$f":"'mnt Data'!AC466","v":0},{"$f":"'mnt Data'!AD466","v":0},{"$f":"'mnt Data'!AE466","v":0},{"$f":"'mnt Data'!AF466","v":0},{"$f":"'mnt Data'!AG466","v":0},{"$f":"'mnt Data'!AH466","v":0},{"$f":"'mnt Data'!AI466","v":0},{"$f":"'mnt Data'!AJ466","v":0},{"$f":"'mnt Data'!AK466","v":0}]
[463,0,0,"No Gs",0,"No Gs","No Gs","Gs is needed","Gs is needed","Gs is needed","Need Max and Min","Need Max and Min","Fail",null,{"$f":"'mnt Data'!A467","v":0},{"$f":"'mnt Data'!B467","v":0},{"$f":"'mnt Data'!C467","v":0},{"$f":"'mnt Data'!D467","v":0},{"$f":"'mnt Data'!E467","v":0},{"$f":"'mnt Data'!F467","v":0},{"$f":"'mnt Data'!G467","v":0},{"$f":"'mnt Data'!H467","v":0},{"$f":"'mnt Data'!I467","v":0},{"$f":"'mnt Data'!J467","v":0},{"$f":"'mnt Data'!K467","v":0},{"$f":"'mnt Data'!L467","v":0},{"$f":"'mnt Data'!M467","v":0},{"$f":"'mnt Data'!N467","v":0},{"$f":"'mnt Data'!O467","v":0},{"$f":"'mnt Data'!P467","v":0},{"$f":"'mnt Data'!Q467","v":0},{"$f":"'mnt Data'!R467","v":0},{"$f":"'mnt Data'!S467","v":0},{"$f":"'mnt Data'!T467","v":0},{"$f":"'mnt Data'!U467","v":0},{"$f":"'mnt Data'!V467","v":0},{"$f":"'mnt Data'!W467","v":0},{"$f":"'mnt Data'!X467","v":0},{"$f":"'mnt Data'!Y467","v":0},{"$f":"'mnt Data'!Z467","v":0},{"$f":"'mnt Data'!AA467","v":0},{"$f":"'mnt Data'!AB467","v":0},{"$f":"'mnt Data'!AC467","v":0},{"$f":"'mnt Data'!AD467","v":0},{"$f":"'mnt Data'!AE467","v":0},{"$f":"'mnt Data'!AF467","v":0},{"$f":"'mnt Data'!AG467","v":0},{"$f":"'mnt Data'!AH467","v":0},{"$f":"'mnt Data'!AI467","v":0},{"$f":"'mnt Data'!AJ467","v":0},{"$f":"'mnt Data'!AK467","v":0}]
[464,0,0,"No Gs",0,"No Gs","No Gs","Gs is needed","Gs is needed","Gs is needed","Need Max and Min","Need Max and Min","Fail",null,{"$f":"'mnt Data'!A468","v":0},{"$f":"'mnt Data'!B468","v":0},{"$f":"'mnt Data'!C468","v":0},{"$f":"'mnt Data'!D468","v":0},{"$f":"'mnt Data'!E468","v":0},{"$f":"'mnt Data'!F468","v":0},{"$f":"'mnt Data'!G468","v":0},{"$f":"'mnt Data'!H468","v":0},{"$f":"'mnt Data'!I468","v":0},{"$f":"'mnt Data'!J468","v":0},{"$f":"'mnt Data'!K468","v":0},{"$f":"'mnt Data'!L468","v":0},{"$f":"'mnt Data'!M468","v":0},{"$f":"'mnt Data'!N468","v":0},{"$f":"'mnt Data'!O468","v":0},{"$f":"'mnt Data'!P468","v":0},{"$f":"'mnt Data'!Q468","v":0},{"$f":"'mnt Data'!R468","v":0},{"$f":"'mnt Data'!S468","v":0},{"$f":"'mnt Data'!T468","v":0},{"$f":"'mnt Data'!U468","v":0},{"$f":"'mnt Data'!V468","v":0},{"$f":"'mnt Data'!W468","v":0},{"$f":"'mnt Data'!X468","v":0},{"$f":"'mnt Data'!Y468","v":0},{"$f":"'mnt Data'!Z468","v":0},{"$f":"'mnt Data'!AA468","v":0},{"$f":"'mnt Data'!AB468","v":0},{"$f":"'mnt Data'!AC468","v":0},{"$f":"'mnt Data'!AD468","v":0},{"$f":"'mnt Data'!AE468","v":0},{"$f":"'mnt Data'!AF468","v":0},{"$f":"'mnt Data'!AG468","v":0},{"$f":"'mnt Data'!AH468","v":0},{"$f":"'mnt Data'!AI468","v":0},{"$f":"'mnt Data'!AJ468","v":0},{"$f":"'mnt Data'!AK468","v":0}]
[465,0,0,"No Gs",0,"No Gs","No Gs","Gs is needed","Gs is needed","Gs is needed","Need Max and Min","Need Max and Min","Fail",null,{"$f":"'mnt Data'!A469","v":0},{"$f":"'mnt Data'!B469","v":0},{"$f":"'mnt Data'!C469","v":0},{"$f":"'mnt Data'!D469","v":0},{"$f":"'mnt Data'!E469","v":0},{"$f":"'mnt Data'!F469","v":0},{"$f":"'mnt Data'!G469","v":0},{"$f":"'mnt Data'!H469","v":0},{"$f":"'mnt Data'!I469","v":0},{"$f":"'mnt Data'!J469","v":0},{"$f":"'mnt Data'!K469","v":0},{"$f":"'mnt Data'!L469","v":0},{"$f":"'mnt Data'!M469","v":0},{"$f":"'mnt Data'!N469","v":0},{"$f":"'mnt Data'!O469","v":0},{"$f":"'mnt Data'!P469","v":0},{"$f":"'mnt Data'!Q469","v":0},{"$f":"'mnt Data'!R469","v":0},{"$f":"'mnt Data'!S469","v":0},{"$f":"'mnt Data'!T469","v":0},{"$f":"'mnt Data'!U469","v":0},{"$f":"'mnt Data'!V469","v":0},{"$f":"'mnt Data'!W469","v":0},{"$f":"'mnt Data'!X469","v":0},{"$f":"'mnt Data'!Y469","v":0},{"$f":"'mnt Data'!Z469","v":0},{"$f":"'mnt Data'!AA469","v":0},{"$f":"'mnt Data'!AB469","v":0},{"$f":"'mnt Data'!AC469","v":0},{"$f":"'mnt Data'!AD469","v":0},{"$f":"'mnt Data'!AE469","v":0},{"$f":"'mnt Data'!AF469","v":0},{"$f":"'mnt Data'!AG469","v":0},{"$f":"'mnt Data'!AH469","v":0},{"$f":"'mnt Data'!AI469","v":0},{"$f":"'mnt Data'!AJ469","v":0},{"$f":"'mnt Data'!AK469","v":0}]
[466,0,0,"No Gs",0,"No Gs","No Gs","Gs is needed","Gs is needed","Gs is needed","Need Max and Min","Need Max and Min","Fail",null,{"$f":"'mnt Data'!A470","v":0},{"$f":"'mnt Data'!B470","v":0},{"$f":"'mnt Data'!C470","v":0},{"$f":"'mnt Data'!D470","v":0},{"$f":"'mnt Data'!E470","v":0},{"$f":"'mnt Data'!F470","v":0},{"$f":"'mnt Data'!G470","v":0},{"$f":"'mnt Data'!H470","v":0},{"$f":"'mnt Data'!I470","v":0},{"$f":"'mnt Data'!J470","v":0},{"$f":"'mnt Data'!K470","v":0},{"$f":"'mnt Data'!L470","v":0},{"$f":"'mnt Data'!M470","v":0},{"$f":"'mnt Data'!N470","v":0},{"$f":"'mnt Data'!O470","v":0},{"$f":"'mnt Data'!P470","v":0},{"$f":"'mnt Data'!Q470","v":0},{"$f":"'mnt Data'!R470","v":0},{"$f":"'mnt Data'!S470","v":0},{"$f":"'mnt Data'!T470","v":0},{"$f":"'mnt Data'!U470","v":0},{"$f":"'mnt Data'!V470","v":0},{"$f":"'mnt Data'!W470","v":0},{"$f":"'mnt Data'!X470","v":0},{"$f":"'mnt Data'!Y470","v":0},{"$f":"'mnt Data'!Z470","v":0},{"$f":"'mnt Data'!AA470","v":0},{"$f":"'mnt Data'!AB470","v":0},{"$f":"'mnt Data'!AC470","v":0},{"$f":"'mnt Data'!AD470","v":0},{"$f":"'mnt Data'!AE470","v":0},{"$f":"'mnt Data'!AF470","v":0},{"$f":"'mnt Data'!AG470","v":0},{"$f":"'mnt Data'!AH470","v":0},{"$f":"'mnt Data'!AI470","v":0},{"$f":"'mnt Data'!AJ470","v":0},{"$f":"'mnt Data'!AK470","v":0}]
[467,0,0,"No Gs",0,"No Gs","No Gs","Gs is needed","Gs is needed","Gs is needed","Need Max and Min","Need Max and Min","Fail",null,{"$f":"'mnt Data'!A471","v":0},{"$f":"'mnt Data'!B471","v":0},{"$f":"'mnt Data'!C471","v":0},{"$f":"'mnt Data'!D471","v":0},{"$f":"'mnt Data'!E471","v":0},{"$f":"'mnt Data'!F471","v":0},{"$f":"'mnt Data'!G471","v":0},{"$f":"'mnt Data'!H471","v":0},{"$f":"'mnt Data'!I471","v":0},{"$f":"'mnt Data'!J471","v":0},{"$f":"'mnt Data'!K471","v":0},{"$f":"'mnt Data'!L471","v":0},{"$f":"'mnt Data'!M471","v":0},{"$f":"'mnt Data'!N471","v":0},{"$f":"'mnt Data'!O471","v":0},{"$f":"'mnt Data'!P471","v":0},{"$f":"'mnt Data'!Q471","v":0},{"$f":"'mnt Data'!R471","v":0},{"$f":"'mnt Data'!S471","v":0},{"$f":"'mnt Data'!T471","v":0},{"$f":"'mnt Data'!U471","v":0},{"$f":"'mnt Data'!V471","v":0},{"$f":"'mnt Data'!W471","v":0},{"$f":"'mnt Data'!X471","v":0},{"$f":"'mnt Data'!Y471","v":0},{"$f":"'mnt Data'!Z471","v":0},{"$f":"'mnt Data'!AA471","v":0},{"$f":"'mnt Data'!AB471","v":0},{"$f":"'mnt Data'!AC471","v":0},{"$f":"'mnt Data'!AD471","v":0},{"$f":"'mnt Data'!AE471","v":0},{"$f":"'mnt Data'!AF471","v":0},{"$f":"'mnt Data'!AG471","v":0},{"$f":"'mnt Data'!AH471","v":0},{"$f":"'mnt Data'!AI471","v":0},{"$f":"'mnt Data'!AJ471","v":0},{"$f":"'mnt Data'!AK471","v":0}]
[468,0,0,"No Gs",0,"No Gs","No Gs","Gs is needed","Gs is needed","Gs is needed","Need Max and Min","Need Max and Min","Fail",null,{"$f":"'mnt Data'!A472","v":0},{"$f":"'mnt Data'!B472","v":0},{"$f":"'mnt Data'!C472","v":0},{"$f":"'mnt Data'!D472","v":0},{"$f":"'mnt Data'!E472","v":0},{"$f":"'mnt Data'!F472","v":0},{"$f":"'mnt Data'!G472","v":0},{"$f":"'mnt Data'!H472","v":0},{"$f":"'mnt Data'!I472","v":0},{"$f":"'mnt Data'!J472","v":0},{"$f":"'mnt Data'!K472","v":0},{"$f":"'mnt Data'!L472","v":0},{"$f":"'mnt Data'!M472","v":0},{"$f":"'mnt Data'!N472","v":0},{"$f":"'mnt Data'!O472","v":0},{"$f":"'mnt Data'!P472","v":0},{"$f":"'mnt Data'!Q472","v":0},{"$f":"'mnt Data'!R472","v":0},{"$f":"'mnt Data'!S472","v":0},{"$f":"'mnt Data'!T472","v":0},{"$f":"'mnt Data'!U472","v":0},{"$f":"'mnt Data'!V472","v":0},{"$f":"'mnt Data'!W472","v":0},{"$f":"'mnt Data'!X472","v":0},{"$f":"'mnt Data'!Y472","v":0},{"$f":"'mnt Data'!Z472","v":0},{"$f":"'mnt Data'!AA472","v":0},{"$f":"'mnt Data'!AB472","v":0},{"$f":"'mnt Data'!AC472","v":0},{"$f":"'mnt Data'!AD472","v":0},{"$f":"'mnt Data'!AE472","v":0},{"$f":"'mnt Data'!AF472","v":0},{"$f":"'mnt Data'!AG472","v":0},{"$f":"'mnt Data'!AH472","v":0},{"$f":"'mnt Data'!AI472","v":0},{"$f":"'mnt Data'!AJ472","v":0},{"$f":"'mnt Data'!AK472","v":0}]
[469,0,0,"No Gs",0,"No Gs","No Gs","Gs is needed","Gs is needed","Gs is needed","Need Max and Min","Need Max and Min","Fail",null,{"$f":"'mnt Data'!A473","v":0},{"$f":"'mnt Data'!B473","v":0},{"$f":"'mnt Data'!C473","v":0},{"$f":"'mnt Data'!D473","v":0},{"$f":"'mnt Data'!E473","v":0},{"$f":"'mnt Data'!F473","v":0},{"$f":"'mnt Data'!G473","v":0},{"$f":"'mnt Data'!H473","v":0},{"$f":"'mnt Data'!I473","v":0},{"$f":"'mnt Data'!J473","v":0},{"$f":"'mnt Data'!K473","v":0},{"$f":"'mnt Data'!L473","v":0},{"$f":"'mnt Data'!M473","v":0},{"$f":"'mnt Data'!N473","v":0},{"$f":"'mnt Data'!O473","v":0},{"$f":"'mnt Data'!P473","v":0},{"$f":"'mnt Data'!Q473","v":0},{"$f":"'mnt Data'!R473","v":0},{"$f":"'mnt Data'!S473","v":0},{"$f":"'mnt Data'!T473","v":0},{"$f":"'mnt Data'!U473","v":0},{"$f":"'mnt Data'!V473","v":0},{"$f":"'mnt Data'!W473","v":0},{"$f":"'mnt Data'!X473","v":0},{"$f":"'mnt Data'!Y473","v":0},{"$f":"'mnt Data'!Z473","v":0},{"$f":"'mnt Data'!AA473","v":0},{"$f":"'mnt Data'!AB473","v":0},{"$f":"'mnt Data'!AC473","v":0},{"$f":"'mnt Data'!AD473","v":0},{"$f":"'mnt Data'!AE473","v":0},{"$f":"'mnt Data'!AF473","v":0},{"$f":"'mnt Data'!AG473","v":0},{"$f":"'mnt Data'!AH473","v":0},{"$f":"'mnt Data'!AI473","v":0},{"$f":"'mnt Data'!AJ473","v":0},{"$f":"'mnt Data'!AK473","v":0}]
[470,0,0,"No Gs",0,"No Gs","No Gs","Gs is needed","Gs is needed","Gs is needed","Need Max and Min","Need Max and Min","Fail",null,{"$f":"'mnt Data'!A474","v":0},{"$f":"'mnt Data'!B474","v":0},{"$f":"'mnt Data'!C474","v":0},{"$f":"'mnt Data'!D474","v":0},{"$f":"'mnt Data'!E474","v":0},{"$f":"'mnt Data'!F474","v":0},{"$f":"'mnt Data'!G474","v":0},{"$f":"'mnt Data'!H474","v":0},{"$f":"'mnt Data'!I474","v":0},{"$f":"'mnt Data'!J474","v":0},{"$f":"'mnt Data'!K474","v":0},{"$f":"'mnt Data'!L474","v":0},{"$f":"'mnt Data'!M474","v":0},{"$f":"'mnt Data'!N474","v":0},{"$f":"'mnt Data'!O474","v":0},{"$f":"'mnt Data'!P474","v":0},{"$f":"'mnt Data'!Q474","v":0},{"$f":"'mnt Data'!R474","v":0},{"$f":"'mnt Data'!S474","v":0},{"$f":"'mnt Data'!T474","v":0},{"$f":"'mnt Data'!U474","v":0},{"$f":"'mnt Data'!V474","v":0},{"$f":"'mnt Data'!W474","v":0},{"$f":"'mnt Data'!X474","v":0},{"$f":"'mnt Data'!Y474","v":0},{"$f":"'mnt Data'!Z474","v":0},{"$f":"'mnt Data'!AA474","v":0},{"$f":"'mnt Data'!AB474","v":0},{"$f":"'mnt Data'!AC474","v":0},{"$f":"'mnt Data'!AD474","v":0},{"$f":"'mnt Data'!AE474","v":0},{"$f":"'mnt Data'!AF474","v":0},{"$f":"'mnt Data'!AG474","v":0},{"$f":"'mnt Data'!AH474","v":0},{"$f":"'mnt Data'!AI474","v":0},{"$f":"'mnt Data'!AJ474","v":0},{"$f":"'mnt Data'!AK474","v":0}]
[471,0,0,"No Gs",0,"No Gs","No Gs","Gs is needed","Gs is needed","Gs is needed","Need Max and Min","Need Max and Min","Fail",null,{"$f":"'mnt Data'!A475","v":0},{"$f":"'mnt Data'!B475","v":0},{"$f":"'mnt Data'!C475","v":0},{"$f":"'mnt Data'!D475","v":0},{"$f":"'mnt Data'!E475","v":0},{"$f":"'mnt Data'!F475","v":0},{"$f":"'mnt Data'!G475","v":0},{"$f":"'mnt Data'!H475","v":0},{"$f":"'mnt Data'!I475","v":0},{"$f":"'mnt Data'!J475","v":0},{"$f":"'mnt Data'!K475","v":0},{"$f":"'mnt Data'!L475","v":0},{"$f":"'mnt Data'!M475","v":0},{"$f":"'mnt Data'!N475","v":0},{"$f":"'mnt Data'!O475","v":0},{"$f":"'mnt Data'!P475","v":0},{"$f":"'mnt Data'!Q475","v":0},{"$f":"'mnt Data'!R475","v":0},{"$f":"'mnt Data'!S475","v":0},{"$f":"'mnt Data'!T475","v":0},{"$f":"'mnt Data'!U475","v":0},{"$f":"'mnt Data'!V475","v":0},{"$f":"'mnt Data'!W475","v":0},{"$f":"'mnt Data'!X475","v":0},{"$f":"'mnt Data'!Y475","v":0},{"$f":"'mnt Data'!Z475","v":0},{"$f":"'mnt Data'!AA475","v":0},{"$f":"'mnt Data'!AB475","v":0},{"$f":"'mnt Data'!AC475","v":0},{"$f":"'mnt Data'!AD475","v":0},{"$f":"'mnt Data'!AE475","v":0},{"$f":"'mnt Data'!AF475","v":0},{"$f":"'mnt Data'!AG475","v":0},{"$f":"'mnt Data'!AH475","v":0},{"$f":"'mnt Data'!AI475","v":0},{"$f":"'mnt Data'!AJ475","v":0},{"$f":"'mnt Data'!AK475","v":0}]
[472,0,0,"No Gs",0,"No Gs","No Gs","Gs is needed","Gs is needed","Gs is needed","Need Max and Min","Need Max and Min","Fail",null,{"$f":"'mnt Data'!A476","v":0},{"$f":"'mnt Data'!B476","v":0},{"$f":"'mnt Data'!C476","v":0},{"$f":"'mnt Data'!D476","v":0},{"$f":"'mnt Data'!E476","v":0},{"$f":"'mnt Data'!F476","v":0},{"$f":"'mnt Data'!G476","v":0},{"$f":"'mnt Data'!H476","v":0},{"$f":"'mnt Data'!I476","v":0},{"$f":"'mnt Data'!J476","v":0},{"$f":"'mnt Data'!K476","v":0},{"$f":"'mnt Data'!L476","v":0},{"$f":"'mnt Data'!M476","v":0},{"$f":"'mnt Data'!N476","v":0},{"$f":"'mnt Data'!O476","v":0},{"$f":"'mnt Data'!P476","v":0},{"$f":"'mnt Data'!Q476","v":0},{"$f":"'mnt Data'!R476","v":0},{"$f":"'mnt Data'!S476","v":0},{"$f":"'mnt Data'!T476","v":0},{"$f":"'mnt Data'!U476","v":0},{"$f":"'mnt Data'!V476","v":0},{"$f":"'mnt Data'!W476","v":0},{"$f":"'mnt Data'!X476","v":0},{"$f":"'mnt Data'!Y476","v":0},{"$f":"'mnt Data'!Z476","v":0},{"$f":"'mnt Data'!AA476","v":0},{"$f":"'mnt Data'!AB476","v":0},{"$f":"'mnt Data'!AC476","v":0},{"$f":"'mnt Data'!AD476","v":0},{"$f":"'mnt Data'!AE476","v":0},{"$f":"'mnt Data'!AF476","v":0},{"$f":"'mnt Data'!AG476","v":0},{"$f":"'mnt Data'!AH476","v":0},{"$f":"'mnt Data'!AI476","v":0},{"$f":"'mnt Data'!AJ476","v":0},{"$f":"'mnt Data'!AK476","v":0}]
[473,0,0,"No Gs",0,"No Gs","No Gs","Gs is needed","Gs is needed","Gs is needed","Need Max and Min","Need Max and Min","Fail",null,{"$f":"'mnt Data'!A477","v":0},{"$f":"'mnt Data'!B477","v":0},{"$f":"'mnt Data'!C477","v":0},{"$f":"'mnt Data'!D477","v":0},{"$f":"'mnt Data'!E477","v":0},{"$f":"'mnt Data'!F477","v":0},{"$f":"'mnt Data'!G477","v":0},{"$f":"'mnt Data'!H477","v":0},{"$f":"'mnt Data'!I477","v":0},{"$f":"'mnt Data'!J477","v":0},{"$f":"'mnt Data'!K477","v":0},{"$f":"'mnt Data'!L477","v":0},{"$f":"'mnt Data'!M477","v":0},{"$f":"'mnt Data'!N477","v":0},{"$f":"'mnt Data'!O477","v":0},{"$f":"'mnt Data'!P477","v":0},{"$f":"'mnt Data'!Q477","v":0},{"$f":"'mnt Data'!R477","v":0},{"$f":"'mnt Data'!S477","v":0},{"$f":"'mnt Data'!T477","v":0},{"$f":"'mnt Data'!U477","v":0},{"$f":"'mnt Data'!V477","v":0},{"$f":"'mnt Data'!W477","v":0},{"$f":"'mnt Data'!X477","v":0},{"$f":"'mnt Data'!Y477","v":0},{"$f":"'mnt Data'!Z477","v":0},{"$f":"'mnt Data'!AA477","v":0},{"$f":"'mnt Data'!AB477","v":0},{"$f":"'mnt Data'!AC477","v":0},{"$f":"'mnt Data'!AD477","v":0},{"$f":"'mnt Data'!AE477","v":0},{"$f":"'mnt Data'!AF477","v":0},{"$f":"'mnt Data'!AG477","v":0},{"$f":"'mnt Data'!AH477","v":0},{"$f":"'mnt Data'!AI477","v":0},{"$f":"'mnt Data'!AJ477","v":0},{"$f":"'mnt Data'!AK477","v":0}]
[474,0,0,"No Gs",0,"No Gs","No Gs","Gs is needed","Gs is needed","Gs is needed","Need Max and Min","Need Max and Min","Fail",null,{"$f":"'mnt Data'!A478","v":0},{"$f":"'mnt Data'!B478","v":0},{"$f":"'mnt Data'!C478","v":0},{"$f":"'mnt Data'!D478","v":0},{"$f":"'mnt Data'!E478","v":0},{"$f":"'mnt Data'!F478","v":0},{"$f":"'mnt Data'!G478","v":0},{"$f":"'mnt Data'!H478","v":0},{"$f":"'mnt Data'!I478","v":0},{"$f":"'mnt Data'!J478","v":0},{"$f":"'mnt Data'!K478","v":0},{"$f":"'mnt Data'!L478","v":0},{"$f":"'mnt Data'!M478","v":0},{"$f":"'mnt Data'!N478","v":0},{"$f":"'mnt Data'!O478","v":0},{"$f":"'mnt Data'!P478","v":0},{"$f":"'mnt Data'!Q478","v":0},{"$f":"'mnt Data'!R478","v":0},{"$f":"'mnt Data'!S478","v":0},{"$f":"'mnt Data'!T478","v":0},{"$f":"'mnt Data'!U478","v":0},{"$f":"'mnt Data'!V478","v":0},{"$f":"'mnt Data'!W478","v":0},{"$f":"'mnt Data'!X478","v":0},{"$f":"'mnt Data'!Y478","v":0},{"$f":"'mnt Data'!Z478","v":0},{"$f":"'mnt Data'!AA478","v":0},{"$f":"'mnt Data'!AB478","v":0},{"$f":"'mnt Data'!AC478","v":0},{"$f":"'mnt Data'!AD478","v":0},{"$f":"'mnt Data'!AE478","v":0},{"$f":"'mnt Data'!AF478","v":0},{"$f":"'mnt Data'!AG478","v":0},{"$f":"'mnt Data'!AH478","v":0},{"$f":"'mnt Data'!AI478","v":0},{"$f":"'mnt Data'!AJ478","v":0},{"$f":"'mnt Data'!AK478","v":0}]
[475,0,0,"No Gs",0,"No Gs","No Gs","Gs is needed","Gs is needed","Gs is needed","Need Max and Min","Need Max and Min","Fail",null,{"$f":"'mnt Data'!A479","v":0},{"$f":"'mnt Data'!B479","v":0},{"$f":"'mnt Data'!C479","v":0},{"$f":"'mnt Data'!D479","v":0},{"$f":"'mnt Data'!E479","v":0},{"$f":"'mnt Data'!F479","v":0},{"$f":"'mnt Data'!G479","v":0},{"$f":"'mnt Data'!H479","v":0},{"$f":"'mnt Data'!I479","v":0},{"$f":"'mnt Data'!J479","v":0},{"$f":"'mnt Data'!K479","v":0},{"$f":"'mnt Data'!L479","v":0},{"$f":"'mnt Data'!M479","v":0},{"$f":"'mnt Data'!N479","v":0},{"$f":"'mnt Data'!O479","v":0},{"$f":"'mnt Data'!P479","v":0},{"$f":"'mnt Data'!Q479","v":0},{"$f":"'mnt Data'!R479","v":0},{"$f":"'mnt Data'!S479","v":0},{"$f":"'mnt Data'!T479","v":0},{"$f":"'mnt Data'!U479","v":0},{"$f":"'mnt Data'!V479","v":0},{"$f":"'mnt Data'!W479","v":0},{"$f":"'mnt Data'!X479","v":0},{"$f":"'mnt Data'!Y479","v":0},{"$f":"'mnt Data'!Z479","v":0},{"$f":"'mnt Data'!AA479","v":0},{"$f":"'mnt Data'!AB479","v":0},{"$f":"'mnt Data'!AC479","v":0},{"$f":"'mnt Data'!AD479","v":0},{"$f":"'mnt Data'!AE479","v":0},{"$f":"'mnt Data'!AF479","v":0},{"$f":"'mnt Data'!AG479","v":0},{"$f":"'mnt Data'!AH479","v":0},{"$f":"'mnt Data'!AI479","v":0},{"$f":"'mnt Data'!AJ479","v":0},{"$f":"'mnt Data'!AK479","v":0}]
[476,0,0,"No Gs",0,"No Gs","No Gs","Gs is needed","Gs is needed","Gs is needed","Need Max and Min","Need Max and Min","Fail",null,{"$f":"'mnt Data'!A480","v":0},{"$f":"'mnt Data'!B480","v":0},{"$f":"'mnt Data'!C480","v":0},{"$f":"'mnt Data'!D480","v":0},{"$f":"'mnt Data'!E480","v":0},{"$f":"'mnt Data'!F480","v":0},{"$f":"'mnt Data'!G480","v":0},{"$f":"'mnt Data'!H480","v":0},{"$f":"'mnt Data'!I480","v":0},{"$f":"'mnt Data'!J480","v":0},{"$f":"'mnt Data'!K480","v":0},{"$f":"'mnt Data'!L480","v":0},{"$f":"'mnt Data'!M480","v":0},{"$f":"'mnt Data'!N480","v":0},{"$f":"'mnt Data'!O480","v":0},{"$f":"'mnt Data'!P480","v":0},{"$f":"'mnt Data'!Q480","v":0},{"$f":"'mnt Data'!R480","v":0},{"$f":"'mnt Data'!S480","v":0},{"$f":"'mnt Data'!T480","v":0},{"$f":"'mnt Data'!U480","v":0},{"$f":"'mnt Data'!V480","v":0},{"$f":"'mnt Data'!W480","v":0},{"$f":"'mnt Data'!X480","v":0},{"$f":"'mnt Data'!Y480","v":0},{"$f":"'mnt Data'!Z480","v":0},{"$f":"'mnt Data'!AA480","v":0},{"$f":"'mnt Data'!AB480","v":0},{"$f":"'mnt Data'!AC480","v":0},{"$f":"'mnt Data'!AD480","v":0},{"$f":"'mnt Data'!AE480","v":0},{"$f":"'mnt Data'!AF480","v":0},{"$f":"'mnt Data'!AG480","v":0},{"$f":"'mnt Data'!AH480","v":0},{"$f":"'mnt Data'!AI480","v":0},{"$f":"'mnt Data'!AJ480","v":0},{"$f":"'mnt Data'!AK480","v":0}]
[477,0,0,"No Gs",0,"No Gs","No Gs","Gs is needed","Gs is needed","Gs is needed","Need Max and Min","Need Max and Min","Fail",null,{"$f":"'mnt Data'!A481","v":0},{"$f":"'mnt Data'!B481","v":0},{"$f":"'mnt Data'!C481","v":0},{"$f":"'mnt Data'!D481","v":0},{"$f":"'mnt Data'!E481","v":0},{"$f":"'mnt Data'!F481","v":0},{"$f":"'mnt Data'!G481","v":0},{"$f":"'mnt Data'!H481","v":0},{"$f":"'mnt Data'!I481","v":0},{"$f":"'mnt Data'!J481","v":0},{"$f":"'mnt Data'!K481","v":0},{"$f":"'mnt Data'!L481","v":0},{"$f":"'mnt Data'!M481","v":0},{"$f":"'mnt Data'!N481","v":0},{"$f":"'mnt Data'!O481","v":0},{"$f":"'mnt Data'!P481","v":0},{"$f":"'mnt Data'!Q481","v":0},{"$f":"'mnt Data'!R481","v":0},{"$f":"'mnt Data'!S481","v":0},{"$f":"'mnt Data'!T481","v":0},{"$f":"'mnt Data'!U481","v":0},{"$f":"'mnt Data'!V481","v":0},{"$f":"'mnt Data'!W481","v":0},{"$f":"'mnt Data'!X481","v":0},{"$f":"'mnt Data'!Y481","v":0},{"$f":"'mnt Data'!Z481","v":0},{"$f":"'mnt Data'!AA481","v":0},{"$f":"'mnt Data'!AB481","v":0},{"$f":"'mnt Data'!AC481","v":0},{"$f":"'mnt Data'!AD481","v":0},{"$f":"'mnt Data'!AE481","v":0},{"$f":"'mnt Data'!AF481","v":0},{"$f":"'mnt Data'!AG481","v":0},{"$f":"'mnt Data'!AH481","v":0},{"$f":"'mnt Data'!AI481","v":0},{"$f":"'mnt Data'!AJ481","v":0},{"$f":"'mnt Data'!AK481","v":0}]
[478,0,0,"No Gs",0,"No Gs","No Gs","Gs is needed","Gs is needed","Gs is needed","Need Max and Min","Need Max and Min","Fail",null,{"$f":"'mnt Data'!A482","v":0},{"$f":"'mnt Data'!B482","v":0},{"$f":"'mnt Data'!C482","v":0},{"$f":"'mnt Data'!D482","v":0},{"$f":"'mnt Data'!E482","v":0},{"$f":"'mnt Data'!F482","v":0},{"$f":"'mnt Data'!G482","v":0},{"$f":"'mnt Data'!H482","v":0},{"$f":"'mnt Data'!I482","v":0},{"$f":"'mnt Data'!J482","v":0},{"$f":"'mnt Data'!K482","v":0},{"$f":"'mnt Data'!L482","v":0},{"$f":"'mnt Data'!M482","v":0},{"$f":"'mnt Data'!N482","v":0},{"$f":"'mnt Data'!O482","v":0},{"$f":"'mnt Data'!P482","v":0},{"$f":"'mnt Data'!Q482","v":0},{"$f":"'mnt Data'!R482","v":0},{"$f":"'mnt Data'!S482","v":0},{"$f":"'mnt Data'!T482","v":0},{"$f":"'mnt Data'!U482","v":0},{"$f":"'mnt Data'!V482","v":0},{"$f":"'mnt Data'!W482","v":0},{"$f":"'mnt Data'!X482","v":0},{"$f":"'mnt Data'!Y482","v":0},{"$f":"'mnt Data'!Z482","v":0},{"$f":"'mnt Data'!AA482","v":0},{"$f":"'mnt Data'!AB482","v":0},{"$f":"'mnt Data'!AC482","v":0},{"$f":"'mnt Data'!AD482","v":0},{"$f":"'mnt Data'!AE482","v":0},{"$f":"'mnt Data'!AF482","v":0},{"$f":"'mnt Data'!AG482","v":0},{"$f":"'mnt Data'!AH482","v":0},{"$f":"'mnt Data'!AI482","v":0},{"$f":"'mnt Data'!AJ482","v":0},{"$f":"'mnt Data'!AK482","v":0}]
[479,0,0,"No Gs",0,"No Gs","No Gs","Gs is needed","Gs is needed","Gs is needed","Need Max and Min","Need Max and Min","Fail",null,{"$f":"'mnt Data'!A483","v":0},{"$f":"'mnt Data'!B483","v":0},{"$f":"'mnt Data'!C483","v":0},{"$f":"'mnt Data'!D483","v":0},{"$f":"'mnt Data'!E483","v":0},{"$f":"'mnt Data'!F483","v":0},{"$f":"'mnt Data'!G483","v":0},{"$f":"'mnt Data'!H483","v":0},{"$f":"'mnt Data'!I483","v":0},{"$f":"'mnt Data'!J483","v":0},{"$f":"'mnt Data'!K483","v":0},{"$f":"'mnt Data'!L483","v":0},{"$f":"'mnt Data'!M483","v":0},{"$f":"'mnt Data'!N483","v":0},{"$f":"'mnt Data'!O483","v":0},{"$f":"'mnt Data'!P483","v":0},{"$f":"'mnt Data'!Q483","v":0},{"$f":"'mnt Data'!R483","v":0},{"$f":"'mnt Data'!S483","v":0},{"$f":"'mnt Data'!T483","v":0},{"$f":"'mnt Data'!U483","v":0},{"$f":"'mnt Data'!V483","v":0},{"$f":"'mnt Data'!W483","v":0},{"$f":"'mnt Data'!X483","v":0},{"$f":"'mnt Data'!Y483","v":0},{"$f":"'mnt Data'!Z483","v":0},{"$f":"'mnt Data'!AA483","v":0},{"$f":"'mnt Data'!AB483","v":0},{"$f":"'mnt Data'!AC483","v":0},{"$f":"'mnt Data'!AD483","v":0},{"$f":"'mnt Data'!AE483","v":0},{"$f":"'mnt Data'!AF483","v":0},{"$f":"'mnt Data'!AG483","v":0},{"$f":"'mnt Data'!AH483","v":0},{"$f":"'mnt Data'!AI483","v":0},{"$f":"'mnt Data'!AJ483","v":0},{"$f":"'mnt Data'!AK483","v":0}]
[480,0,0,"No Gs",0,"No Gs","No Gs","Gs is needed","Gs is needed","Gs is needed","Need Max and Min","Need Max and Min","Fail",null,{"$f":"'mnt Data'!A484","v":0},{"$f":"'mnt Data'!B484","v":0},{"$f":"'mnt Data'!C484","v":0},{"$f":"'mnt Data'!D484","v":0},{"$f":"'mnt Data'!E484","v":0},{"$f":"'mnt Data'!F484","v":0},{"$f":"'mnt Data'!G484","v":0},{"$f":"'mnt Data'!H484","v":0},{"$f":"'mnt Data'!I484","v":0},{"$f":"'mnt Data'!J484","v":0},{"$f":"'mnt Data'!K484","v":0},{"$f":"'mnt Data'!L484","v":0},{"$f":"'mnt Data'!M484","v":0},{"$f":"'mnt Data'!N484","v":0},{"$f":"'mnt Data'!O484","v":0},{"$f":"'mnt Data'!P484","v":0},{"$f":"'mnt Data'!Q484","v":0},{"$f":"'mnt Data'!R484","v":0},{"$f":"'mnt Data'!S484","v":0},{"$f":"'mnt Data'!T484","v":0},{"$f":"'mnt Data'!U484","v":0},{"$f":"'mnt Data'!V484","v":0},{"$f":"'mnt Data'!W484","v":0},{"$f":"'mnt Data'!X484","v":0},{"$f":"'mnt Data'!Y484","v":0},{"$f":"'mnt Data'!Z484","v":0},{"$f":"'mnt Data'!AA484","v":0},{"$f":"'mnt Data'!AB484","v":0},{"$f":"'mnt Data'!AC484","v":0},{"$f":"'mnt Data'!AD484","v":0},{"$f":"'mnt Data'!AE484","v":0},{"$f":"'mnt Data'!AF484","v":0},{"$f":"'mnt Data'!AG484","v":0},{"$f":"'mnt Data'!AH484","v":0},{"$f":"'mnt Data'!AI484","v":0},{"$f":"'mnt Data'!AJ484","v":0},{"$f":"'mnt Data'!AK484","v":0}]
[481,0,0,"No Gs",0,"No Gs","No Gs","Gs is needed","Gs is needed","Gs is needed","Need Max and Min","Need Max and Min","Fail",null,{"$f":"'mnt Data'!A485","v":0},{"$f":"'mnt Data'!B485","v":0},{"$f":"'mnt Data'!C485","v":0},{"$f":"'mnt Data'!D485","v":0},{"$f":"'mnt Data'!E485","v":0},{"$f":"'mnt Data'!F485","v":0},{"$f":"'mnt Data'!G485","v":0},{"$f":"'mnt Data'!H485","v":0},{"$f":"'mnt Data'!I485","v":0},{"$f":"'mnt Data'!J485","v":0},{"$f":"'mnt Data'!K485","v":0},{"$f":"'mnt Data'!L485","v":0},{"$f":"'mnt Data'!M485","v":0},{"$f":"'mnt Data'!N485","v":0},{"$f":"'mnt Data'!O485","v":0},{"$f":"'mnt Data'!P485","v":0},{"$f":"'mnt Data'!Q485","v":0},{"$f":"'mnt Data'!R485","v":0},{"$f":"'mnt Data'!S485","v":0},{"$f":"'mnt Data'!T485","v":0},{"$f":"'mnt Data'!U485","v":0},{"$f":"'mnt Data'!V485","v":0},{"$f":"'mnt Data'!W485","v":0},{"$f":"'mnt Data'!X485","v":0},{"$f":"'mnt Data'!Y485","v":0},{"$f":"'mnt Data'!Z485","v":0},{"$f":"'mnt Data'!AA485","v":0},{"$f":"'mnt Data'!AB485","v":0},{"$f":"'mnt Data'!AC485","v":0},{"$f":"'mnt Data'!AD485","v":0},{"$f":"'mnt Data'!AE485","v":0},{"$f":"'mnt Data'!AF485","v":0},{"$f":"'mnt Data'!AG485","v":0},{"$f":"'mnt Data'!AH485","v":0},{"$f":"'mnt Data'!AI485","v":0},{"$f":"'mnt Data'!AJ485","v":0},{"$f":"'mnt Data'!AK485","v":0}]
[482,0,0,"No Gs",0,"No Gs","No Gs","Gs is needed","Gs is needed","Gs is needed","Need Max and Min","Need Max and Min","Fail",null,{"$f":"'mnt Data'!A486","v":0},{"$f":"'mnt Data'!B486","v":0},{"$f":"'mnt Data'!C486","v":0},{"$f":"'mnt Data'!D486","v":0},{"$f":"'mnt Data'!E486","v":0},{"$f":"'mnt Data'!F486","v":0},{"$f":"'mnt Data'!G486","v":0},{"$f":"'mnt Data'!H486","v":0},{"$f":"'mnt Data'!I486","v":0},{"$f":"'mnt Data'!J486","v":0},{"$f":"'mnt Data'!K486","v":0},{"$f":"'mnt Data'!L486","v":0},{"$f":"'mnt Data'!M486","v":0},{"$f":"'mnt Data'!N486","v":0},{"$f":"'mnt Data'!O486","v":0},{"$f":"'mnt Data'!P486","v":0},{"$f":"'mnt Data'!Q486","v":0},{"$f":"'mnt Data'!R486","v":0},{"$f":"'mnt Data'!S486","v":0},{"$f":"'mnt Data'!T486","v":0},{"$f":"'mnt Data'!U486","v":0},{"$f":"'mnt Data'!V486","v":0},{"$f":"'mnt Data'!W486","v":0},{"$f":"'mnt Data'!X486","v":0},{"$f":"'mnt Data'!Y486","v":0},{"$f":"'mnt Data'!Z486","v":0},{"$f":"'mnt Data'!AA486","v":0},{"$f":"'mnt Data'!AB486","v":0},{"$f":"'mnt Data'!AC486","v":0},{"$f":"'mnt Data'!AD486","v":0},{"$f":"'mnt Data'!AE486","v":0},{"$f":"'mnt Data'!AF486","v":0},{"$f":"'mnt Data'!AG486","v":0},{"$f":"'mnt Data'!AH486","v":0},{"$f":"'mnt Data'!AI486","v":0},{"$f":"'mnt Data'!AJ486","v":0},{"$f":"'mnt Data'!AK486","v":0}]
[483,0,0,"No Gs",0,"No Gs","No Gs","Gs is needed","Gs is needed","Gs is needed","Need Max and Min","Need Max and Min","Fail",null,{"$f":"'mnt Data'!A487","v":0},{"$f":"'mnt Data'!B487","v":0},{"$f":"'mnt Data'!C487","v":0},{"$f":"'mnt Data'!D487","v":0},{"$f":"'mnt Data'!E487","v":0},{"$f":"'mnt Data'!F487","v":0},{"$f":"'mnt Data'!G487","v":0},{"$f":"'mnt Data'!H487","v":0},{"$f":"'mnt Data'!I487","v":0},{"$f":"'mnt Data'!J487","v":0},{"$f":"'mnt Data'!K487","v":0},{"$f":"'mnt Data'!L487","v":0},{"$f":"'mnt Data'!M487","v":0},{"$f":"'mnt Data'!N487","v":0},{"$f":"'mnt Data'!O487","v":0},{"$f":"'mnt Data'!P487","v":0},{"$f":"'mnt Data'!Q487","v":0},{"$f":"'mnt Data'!R487","v":0},{"$f":"'mnt Data'!S487","v":0},{"$f":"'mnt Data'!T487","v":0},{"$f":"'mnt Data'!U487","v":0},{"$f":"'mnt Data'!V487","v":0},{"$f":"'mnt Data'!W487","v":0},{"$f":"'mnt Data'!X487","v":0},{"$f":"'mnt Data'!Y487","v":0},{"$f":"'mnt Data'!Z487","v":0},{"$f":"'mnt Data'!AA487","v":0},{"$f":"'mnt Data'!AB487","v":0},{"$f":"'mnt Data'!AC487","v":0},{"$f":"'mnt Data'!AD487","v":0},{"$f":"'mnt Data'!AE487","v":0},{"$f":"'mnt Data'!AF487","v":0},{"$f":"'mnt Data'!AG487","v":0},{"$f":"'mnt Data'!AH487","v":0},{"$f":"'mnt Data'!AI487","v":0},{"$f":"'mnt Data'!AJ487","v":0},{"$f":"'mnt Data'!AK487","v":0}]
[484,0,0,"No Gs",0,"No Gs","No Gs","Gs is needed","Gs is needed","Gs is needed","Need Max and Min","Need Max and Min","Fail",null,{"$f":"'mnt Data'!A488","v":0},{"$f":"'mnt Data'!B488","v":0},{"$f":"'mnt Data'!C488","v":0},{"$f":"'mnt Data'!D488","v":0},{"$f":"'mnt Data'!E488","v":0},{"$f":"'mnt Data'!F488","v":0},{"$f":"'mnt Data'!G488","v":0},{"$f":"'mnt Data'!H488","v":0},{"$f":"'mnt Data'!I488","v":0},{"$f":"'mnt Data'!J488","v":0},{"$f":"'mnt Data'!K488","v":0},{"$f":"'mnt Data'!L488","v":0},{"$f":"'mnt Data'!M488","v":0},{"$f":"'mnt Data'!N488","v":0},{"$f":"'mnt Data'!O488","v":0},{"$f":"'mnt Data'!P488","v":0},{"$f":"'mnt Data'!Q488","v":0},{"$f":"'mnt Data'!R488","v":0},{"$f":"'mnt Data'!S488","v":0},{"$f":"'mnt Data'!T488","v":0},{"$f":"'mnt Data'!U488","v":0},{"$f":"'mnt Data'!V488","v":0},{"$f":"'mnt Data'!W488","v":0},{"$f":"'mnt Data'!X488","v":0},{"$f":"'mnt Data'!Y488","v":0},{"$f":"'mnt Data'!Z488","v":0},{"$f":"'mnt Data'!AA488","v":0},{"$f":"'mnt Data'!AB488","v":0},{"$f":"'mnt Data'!AC488","v":0},{"$f":"'mnt Data'!AD488","v":0},{"$f":"'mnt Data'!AE488","v":0},{"$f":"'mnt Data'!AF488","v":0},{"$f":"'mnt Data'!AG488","v":0},{"$f":"'mnt Data'!AH488","v":0},{"$f":"'mnt Data'!AI488","v":0},{"$f":"'mnt Data'!AJ488","v":0},{"$f":"'mnt Data'!AK488","v":0}]
[485,0,0,"No Gs",0,"No Gs","No Gs","Gs is needed","Gs is needed","Gs is needed","Need Max and Min","Need Max and Min","Fail",null,{"$f":"'mnt Data'!A489","v":0},{"$f":"'mnt Data'!B489","v":0},{"$f":"'mnt Data'!C489","v":0},{"$f":"'mnt Data'!D489","v":0},{"$f":"'mnt Data'!E489","v":0},{"$f":"'mnt Data'!F489","v":0},{"$f":"'mnt Data'!G489","v":0},{"$f":"'mnt Data'!H489","v":0},{"$f":"'mnt Data'!I489","v":0},{"$f":"'mnt Data'!J489","v":0},{"$f":"'mnt Data'!K489","v":0},{"$f":"'mnt Data'!L489","v":0},{"$f":"'mnt Data'!M489","v":0},{"$f":"'mnt Data'!N489","v":0},{"$f":"'mnt Data'!O489","v":0},{"$f":"'mnt Data'!P489","v":0},{"$f":"'mnt Data'!Q489","v":0},{"$f":"'mnt Data'!R489","v":0},{"$f":"'mnt Data'!S489","v":0},{"$f":"'mnt Data'!T489","v":0},{"$f":"'mnt Data'!U489","v":0},{"$f":"'mnt Data'!V489","v":0},{"$f":"'mnt Data'!W489","v":0},{"$f":"'mnt Data'!X489","v":0},{"$f":"'mnt Data'!Y489","v":0},{"$f":"'mnt Data'!Z489","v":0},{"$f":"'mnt Data'!AA489","v":0},{"$f":"'mnt Data'!AB489","v":0},{"$f":"'mnt Data'!AC489","v":0},{"$f":"'mnt Data'!AD489","v":0},{"$f":"'mnt Data'!AE489","v":0},{"$f":"'mnt Data'!AF489","v":0},{"$f":"'mnt Data'!AG489","v":0},{"$f":"'mnt Data'!AH489","v":0},{"$f":"'mnt Data'!AI489","v":0},{"$f":"'mnt Data'!AJ489","v":0},{"$f":"'mnt Data'!AK489","v":0}]
[486,0,0,"No Gs",0,"No Gs","No Gs","Gs is needed","Gs is needed","Gs is needed","Need Max and Min","Need Max and Min","Fail",null,{"$f":"'mnt Data'!A490","v":0},{"$f":"'mnt Data'!B490","v":0},{"$f":"'mnt Data'!C490","v":0},{"$f":"'mnt Data'!D490","v":0},{"$f":"'mnt Data'!E490","v":0},{"$f":"'mnt Data'!F490","v":0},{"$f":"'mnt Data'!G490","v":0},{"$f":"'mnt Data'!H490","v":0},{"$f":"'mnt Data'!I490","v":0},{"$f":"'mnt Data'!J490","v":0},{"$f":"'mnt Data'!K490","v":0},{"$f":"'mnt Data'!L490","v":0},{"$f":"'mnt Data'!M490","v":0},{"$f":"'mnt Data'!N490","v":0},{"$f":"'mnt Data'!O490","v":0},{"$f":"'mnt Data'!P490","v":0},{"$f":"'mnt Data'!Q490","v":0},{"$f":"'mnt Data'!R490","v":0},{"$f":"'mnt Data'!S490","v":0},{"$f":"'mnt Data'!T490","v":0},{"$f":"'mnt Data'!U490","v":0},{"$f":"'mnt Data'!V490","v":0},{"$f":"'mnt Data'!W490","v":0},{"$f":"'mnt Data'!X490","v":0},{"$f":"'mnt Data'!Y490","v":0},{"$f":"'mnt Data'!Z490","v":0},{"$f":"'mnt Data'!AA490","v":0},{"$f":"'mnt Data'!AB490","v":0},{"$f":"'mnt Data'!AC490","v":0},{"$f":"'mnt Data'!AD490","v":0},{"$f":"'mnt Data'!AE490","v":0},{"$f":"'mnt Data'!AF490","v":0},{"$f":"'mnt Data'!AG490","v":0},{"$f":"'mnt Data'!AH490","v":0},{"$f":"'mnt Data'!AI490","v":0},{"$f":"'mnt Data'!AJ490","v":0},{"$f":"'mnt Data'!AK490","v":0}]
[487,0,0,"No Gs",0,"No Gs","No Gs","Gs is needed","Gs is needed","Gs is needed","Need Max and Min","Need Max and Min","Fail",null,{"$f":"'mnt Data'!A491","v":0},{"$f":"'mnt Data'!B491","v":0},{"$f":"'mnt Data'!C491","v":0},{"$f":"'mnt Data'!D491","v":0},{"$f":"'mnt Data'!E491","v":0},{"$f":"'mnt Data'!F491","v":0},{"$f":"'mnt Data'!G491","v":0},{"$f":"'mnt Data'!H491","v":0},{"$f":"'mnt Data'!I491","v":0},{"$f":"'mnt Data'!J491","v":0},{"$f":"'mnt Data'!K491","v":0},{"$f":"'mnt Data'!L491","v":0},{"$f":"'mnt Data'!M491","v":0},{"$f":"'mnt Data'!N491","v":0},{"$f":"'mnt Data'!O491","v":0},{"$f":"'mnt Data'!P491","v":0},{"$f":"'mnt Data'!Q491","v":0},{"$f":"'mnt Data'!R491","v":0},{"$f":"'mnt Data'!S491","v":0},{"$f":"'mnt Data'!T491","v":0},{"$f":"'mnt Data'!U491","v":0},{"$f":"'mnt Data'!V491","v":0},{"$f":"'mnt Data'!W491","v":0},{"$f":"'mnt Data'!X491","v":0},{"$f":"'mnt Data'!Y491","v":0},{"$f":"'mnt Data'!Z491","v":0},{"$f":"'mnt Data'!AA491","v":0},{"$f":"'mnt Data'!AB491","v":0},{"$f":"'mnt Data'!AC491","v":0},{"$f":"'mnt Data'!AD491","v":0},{"$f":"'mnt Data'!AE491","v":0},{"$f":"'mnt Data'!AF491","v":0},{"$f":"'mnt Data'!AG491","v":0},{"$f":"'mnt Data'!AH491","v":0},{"$f":"'mnt Data'!AI491","v":0},{"$f":"'mnt Data'!AJ491","v":0},{"$f":"'mnt Data'!AK491","v":0}]
[488,{"$f":"O489","v":0},{"$f":"O489*(Q489/100)","v":0},"No Gs",0,"No Gs","No Gs",{"$f":"IFERROR(E489/G489,\"Gs is needed\")","v":"Gs is needed"},{"$f":"IFERROR(G489/1,\"Gs is needed\")","v":"Gs is needed"},{"$f":"IFERROR(G489/D489,\"Gs is needed\")","v":"Gs is needed"},"Need Max and Min","Need Max and Min","Fail",null,{"$f":"'mnt Data'!A492","v":0},{"$f":"'mnt Data'!B492","v":0},{"$f":"'mnt Data'!C492","v":0},{"$f":"'mnt Data'!D492","v":0},{"$f":"'mnt Data'!E492","v":0},{"$f":"'mnt Data'!F492","v":0},{"$f":"'mnt Data'!G492","v":0},{"$f":"'mnt Data'!H492","v":0},{"$f":"'mnt Data'!I492","v":0},{"$f":"'mnt Data'!J492","v":0},{"$f":"'mnt Data'!K492","v":0},{"$f":"'mnt Data'!L492","v":0},{"$f":"'mnt Data'!M492","v":0},{"$f":"'mnt Data'!N492","v":0},{"$f":"'mnt Data'!O492","v":0},{"$f":"'mnt Data'!P492","v":0},{"$f":"'mnt Data'!Q492","v":0},{"$f":"'mnt Data'!R492","v":0},{"$f":"'mnt Data'!S492","v":0},{"$f":"'mnt Data'!T492","v":0},{"$f":"'mnt Data'!U492","v":0},{"$f":"'mnt Data'!V492","v":0},{"$f":"'mnt Data'!W492","v":0},{"$f":"'mnt Data'!X492","v":0},{"$f":"'mnt Data'!Y492","v":0},{"$f":"'mnt Data'!Z492","v":0},{"$f":"'mnt Data'!AA492","v":0},{"$f":"'mnt Data'!AB492","v":0},{"$f":"'mnt Data'!AC492","v":0},{"$f":"'mnt Data'!AD492","v":0},{"$f":"'mnt Data'!AE492","v":0},{"$f":"'mnt Data'!AF492","v":0},{"$f":"'mnt Data'!AG492","v":0},{"$f":"'mnt Data'!AH492","v":0},{"$f":"'mnt Data'!AI492","v":0},{"$f":"'mnt Data'!AJ492","v":0},{"$f":"'mnt Data'!AK492","v":0}]
[489,0,0,"No Gs",0,"No Gs","No Gs","Gs is needed","Gs is needed","Gs is needed","Need Max and Min","Need Max and Min","Fail",null,{"$f":"'mnt Data'!A493","v":0},{"$f":"'mnt Data'!B493","v":0},{"$f":"'mnt Data'!C493","v":0},{"$f":"'mnt Data'!D493","v":0},{"$f":"'mnt Data'!E493","v":0},{"$f":"'mnt Data'!F493","v":0},{"$f":"'mnt Data'!G493","v":0},{"$f":"'mnt Data'!H493","v":0},{"$f":"'mnt Data'!I493","v":0},{"$f":"'mnt Data'!J493","v":0},{"$f":"'mnt Data'!K493","v":0},{"$f":"'mnt Data'!L493","v":0},{"$f":"'mnt Data'!M493","v":0},{"$f":"'mnt Data'!N493","v":0},{"$f":"'mnt Data'!O493","v":0},{"$f":"'mnt Data'!P493","v":0},{"$f":"'mnt Data'!Q493","v":0},{"$f":"'mnt Data'!R493","v":0},{"$f":"'mnt Data'!S493","v":0},{"$f":"'mnt Data'!T493","v":0},{"$f":"'mnt Data'!U493","v":0},{"$f":"'mnt Data'!V493","v":0},{"$f":"'mnt Data'!W493","v":0},{"$f":"'mnt Data'!X493","v":0},{"$f":"'mnt Data'!Y493","v":0},{"$f":"'mnt Data'!Z493","v":0},{"$f":"'mnt Data'!AA493","v":0},{"$f":"'mnt Data'!AB493","v":0},{"$f":"'mnt Data'!AC493","v":0},{"$f":"'mnt Data'!AD493","v":0},{"$f":"'mnt Data'!AE493","v":0},{"$f":"'mnt Data'!AF493","v":0},{"$f":"'mnt Data'!AG493","v":0},{"$f":"'mnt Data'!AH493","v":0},{"$f":"'mnt Data'!AI493","v":0},{"$f":"'mnt Data'!AJ493","v":0},{"$f":"'mnt Data'!AK493","v":0}]
[490,0,0,"No Gs",0,"No Gs","No Gs","Gs is needed","Gs is needed","Gs is needed","Need Max and Min","Need Max and Min","Fail",null,{"$f":"'mnt Data'!A494","v":0},{"$f":"'mnt Data'!B494","v":0},{"$f":"'mnt Data'!C494","v":0},{"$f":"'mnt Data'!D494","v":0},{"$f":"'mnt Data'!E494","v":0},{"$f":"'mnt Data'!F494","v":0},{"$f":"'mnt Data'!G494","v":0},{"$f":"'mnt Data'!H494","v":0},{"$f":"'mnt Data'!I494","v":0},{"$f":"'mnt Data'!J494","v":0},{"$f":"'mnt Data'!K494","v":0},{"$f":"'mnt Data'!L494","v":0},{"$f":"'mnt Data'!M494","v":0},{"$f":"'mnt Data'!N494","v":0},{"$f":"'mnt Data'!O494","v":0},{"$f":"'mnt Data'!P494","v":0},{"$f":"'mnt Data'!Q494","v":0},{"$f":"'mnt Data'!R494","v":0},{"$f":"'mnt Data'!S494","v":0},{"$f":"'mnt Data'!T494","v":0},{"$f":"'mnt Data'!U494","v":0},{"$f":"'mnt Data'!V494","v":0},{"$f":"'mnt Data'!W494","v":0},{"$f":"'mnt Data'!X494","v":0},{"$f":"'mnt Data'!Y494","v":0},{"$f":"'mnt Data'!Z494","v":0},{"$f":"'mnt Data'!AA494","v":0},{"$f":"'mnt Data'!AB494","v":0},{"$f":"'mnt Data'!AC494","v":0},{"$f":"'mnt Data'!AD494","v":0},{"$f":"'mnt Data'!AE494","v":0},{"$f":"'mnt Data'!AF494","v":0},{"$f":"'mnt Data'!AG494","v":0},{"$f":"'mnt Data'!AH494","v":0},{"$f":"'mnt Data'!AI494","v":0},{"$f":"'mnt Data'!AJ494","v":0},{"$f":"'mnt Data'!AK494","v":0}]
[491,0,0,"No Gs",0,"No Gs","No Gs","Gs is needed","Gs is needed","Gs is needed","Need Max and Min","Need Max and Min","Fail",null,{"$f":"'mnt Data'!A495","v":0},{"$f":"'mnt Data'!B495","v":0},{"$f":"'mnt Data'!C495","v":0},{"$f":"'mnt Data'!D495","v":0},{"$f":"'mnt Data'!E495","v":0},{"$f":"'mnt Data'!F495","v":0},{"$f":"'mnt Data'!G495","v":0},{"$f":"'mnt Data'!H495","v":0},{"$f":"'mnt Data'!I495","v":0},{"$f":"'mnt Data'!J495","v":0},{"$f":"'mnt Data'!K495","v":0},{"$f":"'mnt Data'!L495","v":0},{"$f":"'mnt Data'!M495","v":0},{"$f":"'mnt Data'!N495","v":0},{"$f":"'mnt Data'!O495","v":0},{"$f":"'mnt Data'!P495","v":0},{"$f":"'mnt Data'!Q495","v":0},{"$f":"'mnt Data'!R495","v":0},{"$f":"'mnt Data'!S495","v":0},{"$f":"'mnt Data'!T495","v":0},{"$f":"'mnt Data'!U495","v":0},{"$f":"'mnt Data'!V495","v":0},{"$f":"'mnt Data'!W495","v":0},{"$f":"'mnt Data'!X495","v":0},{"$f":"'mnt Data'!Y495","v":0},{"$f":"'mnt Data'!Z495","v":0},{"$f":"'mnt Data'!AA495","v":0},{"$f":"'mnt Data'!AB495","v":0},{"$f":"'mnt Data'!AC495","v":0},{"$f":"'mnt Data'!AD495","v":0},{"$f":"'mnt Data'!AE495","v":0},{"$f":"'mnt Data'!AF495","v":0},{"$f":"'mnt Data'!AG495","v":0},{"$f":"'mnt Data'!AH495","v":0},{"$f":"'mnt Data'!AI495","v":0},{"$f":"'mnt Data'!AJ495","v":0},{"$f":"'mnt Data'!AK495","v":0}]
[492,0,0,"No Gs",0,"No Gs","No Gs","Gs is needed","Gs is needed","Gs is needed","Need Max and Min","Need Max and Min","Fail",null,{"$f":"'mnt Data'!A496","v":0},{"$f":"'mnt Data'!B496","v":0},{"$f":"'mnt Data'!C496","v":0},{"$f":"'mnt Data'!D496","v":0},{"$f":"'mnt Data'!E496","v":0},{"$f":"'mnt Data'!F496","v":0},{"$f":"'mnt Data'!G496","v":0},{"$f":"'mnt Data'!H496","v":0},{"$f":"'mnt Data'!I496","v":0},{"$f":"'mnt Data'!J496","v":0},{"$f":"'mnt Data'!K496","v":0},{"$f":"'mnt Data'!L496","v":0},{"$f":"'mnt Data'!M496","v":0},{"$f":"'mnt Data'!N496","v":0},{"$f":"'mnt Data'!O496","v":0},{"$f":"'mnt Data'!P496","v":0},{"$f":"'mnt Data'!Q496","v":0},{"$f":"'mnt Data'!R496","v":0},{"$f":"'mnt Data'!S496","v":0},{"$f":"'mnt Data'!T496","v":0},{"$f":"'mnt Data'!U496","v":0},{"$f":"'mnt Data'!V496","v":0},{"$f":"'mnt Data'!W496","v":0},{"$f":"'mnt Data'!X496","v":0},{"$f":"'mnt Data'!Y496","v":0},{"$f":"'mnt Data'!Z496","v":0},{"$f":"'mnt Data'!AA496","v":0},{"$f":"'mnt Data'!AB496","v":0},{"$f":"'mnt Data'!AC496","v":0},{"$f":"'mnt Data'!AD496","v":0},{"$f":"'mnt Data'!AE496","v":0},{"$f":"'mnt Data'!AF496","v":0},{"$f":"'mnt Data'!AG496","v":0},{"$f":"'mnt Data'!AH496","v":0},{"$f":"'mnt Data'!AI496","v":0},{"$f":"'mnt Data'!AJ496","v":0},{"$f":"'mnt Data'!AK496","v":0}]
[493,0,0,"No Gs",0,"No Gs","No Gs","Gs is needed","Gs is needed","Gs is needed","Need Max and Min","Need Max and Min","Fail",null,{"$f":"'mnt Data'!A497","v":0},{"$f":"'mnt Data'!B497","v":0},{"$f":"'mnt Data'!C497","v":0},{"$f":"'mnt Data'!D497","v":0},{"$f":"'mnt Data'!E497","v":0},{"$f":"'mnt Data'!F497","v":0},{"$f":"'mnt Data'!G497","v":0},{"$f":"'mnt Data'!H497","v":0},{"$f":"'mnt Data'!I497","v":0},{"$f":"'mnt Data'!J497","v":0},{"$f":"'mnt Data'!K497","v":0},{"$f":"'mnt Data'!L497","v":0},{"$f":"'mnt Data'!M497","v":0},{"$f":"'mnt Data'!N497","v":0},{"$f":"'mnt Data'!O497","v":0},{"$f":"'mnt Data'!P497","v":0},{"$f":"'mnt Data'!Q497","v":0},{"$f":"'mnt Data'!R497","v":0},{"$f":"'mnt Data'!S497","v":0},{"$f":"'mnt Data'!T497","v":0},{"$f":"'mnt Data'!U497","v":0},{"$f":"'mnt Data'!V497","v":0},{"$f":"'mnt Data'!W497","v":0},{"$f":"'mnt Data'!X497","v":0},{"$f":"'mnt Data'!Y497","v":0},{"$f":"'mnt Data'!Z497","v":0},{"$f":"'mnt Data'!AA497","v":0},{"$f":"'mnt Data'!AB497","v":0},{"$f":"'mnt Data'!AC497","v":0},{"$f":"'mnt Data'!AD497","v":0},{"$f":"'mnt Data'!AE497","v":0},{"$f":"'mnt Data'!AF497","v":0},{"$f":"'mnt Data'!AG497","v":0},{"$f":"'mnt Data'!AH497","v":0},{"$f":"'mnt Data'!AI497","v":0},{"$f":"'mnt Data'!AJ497","v":0},{"$f":"'mnt Data'!AK497","v":0}]
[494,0,0,"No Gs",0,"No Gs","No Gs","Gs is needed","Gs is needed","Gs is needed","Need Max and Min","Need Max and Min","Fail",null,{"$f":"'mnt Data'!A498","v":0},{"$f":"'mnt Data'!B498","v":0},{"$f":"'mnt Data'!C498","v":0},{"$f":"'mnt Data'!D498","v":0},{"$f":"'mnt Data'!E498","v":0},{"$f":"'mnt Data'!F498","v":0},{"$f":"'mnt Data'!G498","v":0},{"$f":"'mnt Data'!H498","v":0},{"$f":"'mnt Data'!I498","v":0},{"$f":"'mnt Data'!J498","v":0},{"$f":"'mnt Data'!K498","v":0},{"$f":"'mnt Data'!L498","v":0},{"$f":"'mnt Data'!M498","v":0},{"$f":"'mnt Data'!N498","v":0},{"$f":"'mnt Data'!O498","v":0},{"$f":"'mnt Data'!P498","v":0},{"$f":"'mnt Data'!Q498","v":0},{"$f":"'mnt Data'!R498","v":0},{"$f":"'mnt Data'!S498","v":0},{"$f":"'mnt Data'!T498","v":0},{"$f":"'mnt Data'!U498","v":0},{"$f":"'mnt Data'!V498","v":0},{"$f":"'mnt Data'!W498","v":0},{"$f":"'mnt Data'!X498","v":0},{"$f":"'mnt Data'!Y498","v":0},{"$f":"'mnt Data'!Z498","v":0},{"$f":"'mnt Data'!AA498","v":0},{"$f":"'mnt Data'!AB498","v":0},{"$f":"'mnt Data'!AC498","v":0},{"$f":"'mnt Data'!AD498","v":0},{"$f":"'mnt Data'!AE498","v":0},{"$f":"'mnt Data'!AF498","v":0},{"$f":"'mnt Data'!AG498","v":0},{"$f":"'mnt Data'!AH498","v":0},{"$f":"'mnt Data'!AI498","v":0},{"$f":"'mnt Data'!AJ498","v":0},{"$f":"'mnt Data'!AK498","v":0}]
[495,0,0,"No Gs",0,"No Gs","No Gs","Gs is needed","Gs is needed","Gs is needed","Need Max and Min","Need Max and Min","Fail",null,{"$f":"'mnt Data'!A499","v":0},{"$f":"'mnt Data'!B499","v":0},{"$f":"'mnt Data'!C499","v":0},{"$f":"'mnt Data'!D499","v":0},{"$f":"'mnt Data'!E499","v":0},{"$f":"'mnt Data'!F499","v":0},{"$f":"'mnt Data'!G499","v":0},{"$f":"'mnt Data'!H499","v":0},{"$f":"'mnt Data'!I499","v":0},{"$f":"'mnt Data'!J499","v":0},{"$f":"'mnt Data'!K499","v":0},{"$f":"'mnt Data'!L499","v":0},{"$f":"'mnt Data'!M499","v":0},{"$f":"'mnt Data'!N499","v":0},{"$f":"'mnt Data'!O499","v":0},{"$f":"'mnt Data'!P499","v":0},{"$f":"'mnt Data'!Q499","v":0},{"$f":"'mnt Data'!R499","v":0},{"$f":"'mnt Data'!S499","v":0},{"$f":"'mnt Data'!T499","v":0},{"$f":"'mnt Data'!U499","v":0},{"$f":"'mnt Data'!V499","v":0},{"$f":"'mnt Data'!W499","v":0},{"$f":"'mnt Data'!X499","v":0},{"$f":"'mnt Data'!Y499","v":0},{"$f":"'mnt Data'!Z499","v":0},{"$f":"'mnt Data'!AA499","v":0},{"$f":"'mnt Data'!AB499","v":0},{"$f":"'mnt Data'!AC499","v":0},{"$f":"'mnt Data'!AD499","v":0},{"$f":"'mnt Data'!AE499","v":0},{"$f":"'mnt Data'!AF499","v":0},{"$f":"'mnt Data'!AG499","v":0},{"$f":"'mnt Data'!AH499","v":0},{"$f":"'mnt Data'!AI499","v":0},{"$f":"'mnt Data'!AJ499","v":0},{"$f":"'mnt Data'!AK499","v":0}]
[496,0,0,"No Gs",0,"No Gs","No Gs","Gs is needed","Gs is needed","Gs is needed","Need Max and Min","Need Max and Min","Fail",null,{"$f":"'mnt Data'!A500","v":0},{"$f":"'mnt Data'!B500","v":0},{"$f":"'mnt Data'!C500","v":0},{"$f":"'mnt Data'!D500","v":0},{"$f":"'mnt Data'!E500","v":0},{"$f":"'mnt Data'!F500","v":0},{"$f":"'mnt Data'!G500","v":0},{"$f":"'mnt Data'!H500","v":0},{"$f":"'mnt Data'!I500","v":0},{"$f":"'mnt Data'!J500","v":0},{"$f":"'mnt Data'!K500","v":0},{"$f":"'mnt Data'!L500","v":0},{"$f":"'mnt Data'!M500","v":0},{"$f":"'mnt Data'!N500","v":0},{"$f":"'mnt Data'!O500","v":0},{"$f":"'mnt Data'!P500","v":0},{"$f":"'mnt Data'!Q500","v":0},{"$f":"'mnt Data'!R500","v":0},{"$f":"'mnt Data'!S500","v":0},{"$f":"'mnt Data'!T500","v":0},{"$f":"'mnt Data'!U500","v":0},{"$f":"'mnt Data'!V500","v":0},{"$f":"'mnt Data'!W500","v":0},{"$f":"'mnt Data'!X500","v":0},{"$f":"'mnt Data'!Y500","v":0},{"$f":"'mnt Data'!Z500","v":0},{"$f":"'mnt Data'!AA500","v":0},{"$f":"'mnt Data'!AB500","v":0},{"$f":"'mnt Data'!AC500","v":0},{"$f":"'mnt Data'!AD500","v":0},{"$f":"'mnt Data'!AE500","v":0},{"$f":"'mnt Data'!AF500","v":0},{"$f":"'mnt Data'!AG500","v":0},{"$f":"'mnt Data'!AH500","v":0},{"$f":"'mnt Data'!AI500","v":0},{"$f":"'mnt Data'!AJ500","v":0},{"$f":"'mnt Data'!AK500","v":0}]
[497,0,0,"No Gs",0,"No Gs","No Gs","Gs is needed","Gs is needed","Gs is needed","Need Max and Min","Need Max and Min","Fail",null,{"$f":"'mnt Data'!A501","v":0},{"$f":"'mnt Data'!B501","v":0},{"$f":"'mnt Data'!C501","v":0},{"$f":"'mnt Data'!D501","v":0},{"$f":"'mnt Data'!E501","v":0},{"$f":"'mnt Data'!F501","v":0},{"$f":"'mnt Data'!G501","v":0},{"$f":"'mnt Data'!H501","v":0},{"$f":"'mnt Data'!I501","v":0},{"$f":"'mnt Data'!J501","v":0},{"$f":"'mnt Data'!K501","v":0},{"$f":"'mnt Data'!L501","v":0},{"$f":"'mnt Data'!M501","v":0},{"$f":"'mnt Data'!N501","v":0},{"$f":"'mnt Data'!O501","v":0},{"$f":"'mnt Data'!P501","v":0},{"$f":"'mnt Data'!Q501","v":0},{"$f":"'mnt Data'!R501","v":0},{"$f":"'mnt Data'!S501","v":0},{"$f":"'mnt Data'!T501","v":0},{"$f":"'mnt Data'!U501","v":0},{"$f":"'mnt Data'!V501","v":0},{"$f":"'mnt Data'!W501","v":0},{"$f":"'mnt Data'!X501","v":0},{"$f":"'mnt Data'!Y501","v":0},{"$f":"'mnt Data'!Z501","v":0},{"$f":"'mnt Data'!AA501","v":0},{"$f":"'mnt Data'!AB501","v":0},{"$f":"'mnt Data'!AC501","v":0},{"$f":"'mnt Data'!AD501","v":0},{"$f":"'mnt Data'!AE501","v":0},{"$f":"'mnt Data'!AF501","v":0},{"$f":"'mnt Data'!AG501","v":0},{"$f":"'mnt Data'!AH501","v":0},{"$f":"'mnt Data'!AI501","v":0},{"$f":"'mnt Data'!AJ501","v":0},{"$f":"'mnt Data'!AK501","v":0}]
[498,0,0,"No Gs",0,"No Gs","No Gs","Gs is needed","Gs is needed","Gs is needed","Need Max and Min","Need Max and Min","Fail",null,{"$f":"'mnt Data'!A502","v":0},{"$f":"'mnt Data'!B502","v":0},{"$f":"'mnt Data'!C502","v":0},{"$f":"'mnt Data'!D502","v":0},{"$f":"'mnt Data'!E502","v":0},{"$f":"'mnt Data'!F502","v":0},{"$f":"'mnt Data'!G502","v":0},{"$f":"'mnt Data'!H502","v":0},{"$f":"'mnt Data'!I502","v":0},{"$f":"'mnt Data'!J502","v":0},{"$f":"'mnt Data'!K502","v":0},{"$f":"'mnt Data'!L502","v":0},{"$f":"'mnt Data'!M502","v":0},{"$f":"'mnt Data'!N502","v":0},{"$f":"'mnt Data'!O502","v":0},{"$f":"'mnt Data'!P502","v":0},{"$f":"'mnt Data'!Q502","v":0},{"$f":"'mnt Data'!R502","v":0},{"$f":"'mnt Data'!S502","v":0},{"$f":"'mnt Data'!T502","v":0},{"$f":"'mnt Data'!U502","v":0},{"$f":"'mnt Data'!V502","v":0},{"$f":"'mnt Data'!W502","v":0},{"$f":"'mnt Data'!X502","v":0},{"$f":"'mnt Data'!Y502","v":0},{"$f":"'mnt Data'!Z502","v":0},{"$f":"'mnt Data'!AA502","v":0},{"$f":"'mnt Data'!AB502","v":0},{"$f":"'mnt Data'!AC502","v":0},{"$f":"'mnt Data'!AD502","v":0},{"$f":"'mnt Data'!AE502","v":0},{"$f":"'mnt Data'!AF502","v":0},{"$f":"'mnt Data'!AG502","v":0},{"$f":"'mnt Data'!AH502","v":0},{"$f":"'mnt Data'!AI502","v":0},{"$f":"'mnt Data'!AJ502","v":0},{"$f":"'mnt Data'!AK502","v":0}]
[499,0,0,"No Gs",0,"No Gs","No Gs","Gs is needed","Gs is needed","Gs is needed","Need Max and Min","Need Max and Min","Fail",null,{"$f":"'mnt Data'!A503","v":0},{"$f":"'mnt Data'!B503","v":0},{"$f":"'mnt Data'!C503","v":0},{"$f":"'mnt Data'!D503","v":0},{"$f":"'mnt Data'!E503","v":0},{"$f":"'mnt Data'!F503","v":0},{"$f":"'mnt Data'!G503","v":0},{"$f":"'mnt Data'!H503","v":0},{"$f":"'mnt Data'!I503","v":0},{"$f":"'mnt Data'!J503","v":0},{"$f":"'mnt Data'!K503","v":0},{"$f":"'mnt Data'!L503","v":0},{"$f":"'mnt Data'!M503","v":0},{"$f":"'mnt Data'!N503","v":0},{"$f":"'mnt Data'!O503","v":0},{"$f":"'mnt Data'!P503","v":0},{"$f":"'mnt Data'!Q503","v":0},{"$f":"'mnt Data'!R503","v":0},{"$f":"'mnt Data'!S503","v":0},{"$f":"'mnt Data'!T503","v":0},{"$f":"'mnt Data'!U503","v":0},{"$f":"'mnt Data'!V503","v":0},{"$f":"'mnt Data'!W503","v":0},{"$f":"'mnt Data'!X503","v":0},{"$f":"'mnt Data'!Y503","v":0},{"$f":"'mnt Data'!Z503","v":0},{"$f":"'mnt Data'!AA503","v":0},{"$f":"'mnt Data'!AB503","v":0},{"$f":"'mnt Data'!AC503","v":0},{"$f":"'mnt Data'!AD503","v":0},{"$f":"'mnt Data'!AE503","v":0},{"$f":"'mnt Data'!AF503","v":0},{"$f":"'mnt Data'!AG503","v":0},{"$f":"'mnt Data'!AH503","v":0},{"$f":"'mnt Data'!AI503","v":0},{"$f":"'mnt Data'!AJ503","v":0},{"$f":"'mnt Data'!AK503","v":0}]
[500,0,0,"No Gs",0,"No Gs","No Gs","Gs is needed","Gs is needed","Gs is needed","Need Max and Min","Need Max and Min","Fail",null,{"$f":"'mnt Data'!A504","v":0},{"$f":"'mnt Data'!B504","v":0},{"$f":"'mnt Data'!C504","v":0},{"$f":"'mnt Data'!D504","v":0},{"$f":"'mnt Data'!E504","v":0},{"$f":"'mnt Data'!F504","v":0},{"$f":"'mnt Data'!G504","v":0},{"$f":"'mnt Data'!H504","v":0},{"$f":"'mnt Data'!I504","v":0},{"$f":"'mnt Data'!J504","v":0},{"$f":"'mnt Data'!K504","v":0},{"$f":"'mnt Data'!L504","v":0},{"$f":"'mnt Data'!M504","v":0},{"$f":"'mnt Data'!N504","v":0},{"$f":"'mnt Data'!O504","v":0},{"$f":"'mnt Data'!P504","v":0},{"$f":"'mnt Data'!Q504","v":0},{"$f":"'mnt Data'!R504","v":0},{"$f":"'mnt Data'!S504","v":0},{"$f":"'mnt Data'!T504","v":0},{"$f":"'mnt Data'!U504","v":0},{"$f":"'mnt Data'!V504","v":0},{"$f":"'mnt Data'!W504","v":0},{"$f":"'mnt Data'!X504","v":0},{"$f":"'mnt Data'!Y504","v":0},{"$f":"'mnt Data'!Z504","v":0},{"$f":"'mnt Data'!AA504","v":0},{"$f":"'mnt Data'!AB504","v":0},{"$f":"'mnt Data'!AC504","v":0},{"$f":"'mnt Data'!AD504","v":0},{"$f":"'mnt Data'!AE504","v":0},{"$f":"'mnt Data'!AF504","v":0},{"$f":"'mnt Data'!AG504","v":0},{"$f":"'mnt Data'!AH504","v":0},{"$f":"'mnt Data'!AI504","v":0},{"$f":"'mnt Data'!AJ504","v":0},{"$f":"'mnt Data'!AK504","v":0}]
[501,0,0,"No Gs",0,"No Gs","No Gs","Gs is needed","Gs is needed","Gs is needed","Need Max and Min","Need Max and Min","Fail",null,{"$f":"'mnt Data'!A505","v":0},{"$f":"'mnt Data'!B505","v":0},{"$f":"'mnt Data'!C505","v":0},{"$f":"'mnt Data'!D505","v":0},{"$f":"'mnt Data'!E505","v":0},{"$f":"'mnt Data'!F505","v":0},{"$f":"'mnt Data'!G505","v":0},{"$f":"'mnt Data'!H505","v":0},{"$f":"'mnt Data'!I505","v":0},{"$f":"'mnt Data'!J505","v":0},{"$f":"'mnt Data'!K505","v":0},{"$f":"'mnt Data'!L505","v":0},{"$f":"'mnt Data'!M505","v":0},{"$f":"'mnt Data'!N505","v":0},{"$f":"'mnt Data'!O505","v":0},{"$f":"'mnt Data'!P505","v":0},{"$f":"'mnt Data'!Q505","v":0},{"$f":"'mnt Data'!R505","v":0},{"$f":"'mnt Data'!S505","v":0},{"$f":"'mnt Data'!T505","v":0},{"$f":"'mnt Data'!U505","v":0},{"$f":"'mnt Data'!V505","v":0},{"$f":"'mnt Data'!W505","v":0},{"$f":"'mnt Data'!X505","v":0},{"$f":"'mnt Data'!Y505","v":0},{"$f":"'mnt Data'!Z505","v":0},{"$f":"'mnt Data'!AA505","v":0},{"$f":"'mnt Data'!AB505","v":0},{"$f":"'mnt Data'!AC505","v":0},{"$f":"'mnt Data'!AD505","v":0},{"$f":"'mnt Data'!AE505","v":0},{"$f":"'mnt Data'!AF505","v":0},{"$f":"'mnt Data'!AG505","v":0},{"$f":"'mnt Data'!AH505","v":0},{"$f":"'mnt Data'!AI505","v":0},{"$f":"'mnt Data'!AJ505","v":0},{"$f":"'mnt Data'!AK505","v":0}]